{"text_format":"1","workbook":"xlsx","n_sheets":4,"sheets":["BEP","Dźwignie","SD","MC"],"not_rendered":{"charts":13,"images":6,"macros":1,"external_links":1,"defined_names":10,"comments":0,"pivot_tables":0},"unopened":[],"bounds":{"document_bytes":16777216,"sheet_cells":100000,"rows_first":2000,"rows_last":500,"rows_between":2000,"halvings":0,"cell_chars":16384,"cell_head_chars":4096},"cells_cut":0,"cells_raw":0,"read":"whole","date_system":"1900"}

{"sheet":"BEP","index":0,"n_rows":39,"n_cols":34,"rows_kept":39,"cut":false,"hidden":false,"merged":[[1,28,1,30],[1,31,1,33],[30,5,30,6],[30,7,30,8]]}
[]
[null,"Produkcja kapitałochłonna","A.",null,null,null,null,null,null,null,null,null,null,"Produkcja pracochłonna","B.",null,null,null,null,null,null,null,null,null,null,null,null,null,"A",null,null,"B"]
[null,null,null,null,null,null,null,null,null,null,null,null,null,null,null,null,null,null,null,null,null,null,null,null,null,null,"q","s","ks","kz","KC","ks","kz","KC"]
[null,"C j",{"$f":"D4/10","v":1.5},15,null,null,null,null,null,null,null,null,null,"C j",{"$f":"C4","v":1.5},9,null,null,null,null,null,null,null,null,null,null,0,{"$f":"AA4*$C$4","v":0},{"$f":"C$8","v":15000},{"$f":"AA4*$C$6","v":0},{"$f":"AC4+AD4","v":15000},{"$f":"$O$8","v":2000},{"$f":"$O$6*AA4","v":0},{"$f":"AF4+AG4","v":2000}]
[null,null,null,null,null,null,null,null,null,null,null,null,null,null,null,null,null,null,null,null,null,null,null,null,null,null,1000,1500,15000,200,15200,2000,1000,3000]
[null,"Kz j",{"$f":"D6/10","v":0.2},2,null,null,null,null,null,null,null,null,null,"Kz j",{"$f":"P6/10","v":1},10,null,null,null,null,null,null,null,null,null,null,2000,3000,15000,400,15400,2000,2000,4000]
[null,null,null,null,null,null,null,null,null,null,null,null,null,null,null,null,null,null,null,null,null,null,null,null,null,null,3000,4500,15000,600,15600,2000,3000,5000]
[null,"KS",{"$f":"D8*100","v":15000},150,null,null,null,null,null,null,null,null,null,"KS",{"$f":"P8*100","v":2000},20,null,null,null,null,null,null,null,null,null,null,4000,6000,15000,800,15800,2000,4000,6000]
[null,null,null,null,null,null,null,null,null,null,null,null,null,null,null,null,null,null,null,null,null,null,null,null,null,null,5000,7500,15000,1000,16000,2000,5000,7000]
[null,"BEP",{"$f":"C8/(C4-C6)","v":11538.461538461537},null,null,null,null,null,null,null,null,null,null,"BEP",{"$f":"O8/(O4-O6)","v":4000},null,null,null,null,null,null,null,null,null,null,null,6000,9000,15000,1200,16200,2000,6000,8000]
[null,"BEP '",{"$f":"C10*C4","v":17307.692307692305},null,null,null,null,null,null,null,null,null,null,"BEP '",{"$f":"O10*O4","v":6000},null,null,null,null,null,null,null,null,null,null,null,7000,10500,15000,1400,16400,2000,7000,9000]
[null,null,null,null,null,null,null,null,null,null,null,null,null,null,null,null,null,null,null,null,null,null,null,null,null,null,8000,12000,15000,1600,16600,2000,8000,10000]
[null,"DOL",{"$f":"C27/C29","v":2.1926627388307134},null,null,null,null,null,null,null,null,null,null,"DOL",{"$f":"O27/O29","v":1.2323825015976297},null,null,null,null,null,null,null,null,null,null,null,9000,13500,15000,1800,16800,2000,9000,11000]
[null,null,null,null,null,null,null,null,null,null,null,null,null,null,null,null,null,null,null,null,null,null,null,null,null,null,10000,15000,15000,2000,17000,2000,10000,12000]
[null,"% KS",{"$f":"C8/(C8+(H31*C6))","v":0.77952043902591128},null,null,null,null,null,null,null,null,null,null,"% KS",{"$f":"O8/(O8+(H31*O6))","v":8.6158618015767033E-2},null,null,null,null,null,null,null,null,null,null,null,11000,16500,15000,2200,17200,2000,11000,13000]
[null,"% KZ",{"$f":"(H31*C6)/(C8+(H31*C6))","v":0.22047956097408877},null,null,null,null,null,null,null,null,null,null,"% KZ",{"$f":"(O6*H31)/(O8+(O6*H31))","v":0.91384138198423293},null,null,null,null,null,null,null,null,null,null,null,12000,18000,15000,2400,17400,2000,12000,14000]
[null,null,null,null,null,null,null,null,null,null,null,null,null,null,null,null,null,null,null,null,null,null,null,null,null,null,13000,19500,15000,2600,17600,2000,13000,15000]
[null,"Margines bezp.",{"$f":"IFERROR((H31-C10)/H31,\"-\")","v":0.45606649043220965},null,null,null,null,null,null,null,null,null,null,"Margines bezp.",{"$f":"IFERROR((H31-O10)/H31,\"-\")","v":0.8114363833498327},null,null,null,null,null,null,null,null,null,null,null,14000,21000,15000,2800,17800,2000,14000,16000]
[null,null,null,null,null,null,null,null,null,null,null,null,null,null,null,null,null,null,null,null,null,null,null,null,null,null,15000,22500,15000,3000,18000,2000,15000,17000]
[null,"Nowy popyt",20000,null,null,null,null,null,null,null,null,null,null,"Nowy popyt",{"$f":"C20","v":20000},null,null,null,null,null,null,null,null,null,null,null,16000,24000,15000,3200,18200,2000,16000,18000]
[null,"Nowy WO",{"$f":"IFERROR(C29*(1+(C13*((C20-H31)/H31))),\"-\")","v":11000.000000000002},null,null,null,null,null,null,null,null,null,null,"Nowy WO",{"$f":"IFERROR(O29*(1+(O13*((O20-H31)/H31))),\"-\")","v":8000},null,null,null,null,null,null,null,null,null,null,null,17000,25500,15000,3400,18400,2000,17000,19000]
[null,"% ZM S",{"$f":"D22/100","v":1},100,null,null,null,null,null,null,null,null,null,"% ZM S",{"$f":"C22","v":1},100,null,null,null,null,null,null,null,null,null,null,18000,27000,15000,3600,18600,2000,18000,20000]
[null,"% ZM WO",{"$f":"C22*C13","v":2.1926627388307134},null,null,null,null,null,null,null,null,null,null,"% ZM WO",{"$f":"O22*O13","v":1.2323825015976297},null,null,null,null,null,null,null,null,null,null,null,19000,28500,15000,3800,18800,2000,19000,21000]
[null,null,null,null,null,null,null,null,null,null,null,null,null,null,null,null,null,null,null,null,null,null,null,null,null,null,20000,30000,15000,4000,19000,2000,20000,22000]
[null,"Przychody",{"$f":"H31*C4","v":31819.5},null,null,null,null,null,null,null,null,null,null,"Przychody",{"$f":"H31*O4","v":31819.5},null,null,null,null,null,null,null,null,null,null,null,21000,31500,15000,4200,19200,2000,21000,23000]
[null,"Koszty zmienne",{"$f":"H31*C6","v":4242.6000000000004},null,null,null,null,null,null,null,null,null,null,"Koszty zmienne",{"$f":"H31*O6","v":21213},null,null,null,null,null,null,null,null,null,null,null,22000,33000,15000,4400,19400,2000,22000,24000]
[null,"MB",{"$f":"H31*(C4-C6)","v":27576.9},null,null,null,null,null,null,null,null,null,null,"MB",{"$f":"H31*(O4-O6)","v":10606.5},null,null,null,null,null,null,null,null,null,null,null,23000,34500,15000,4600,19600,2000,23000,25000]
[null,"Koszty stałe",{"$f":"C8","v":15000},null,null,null,null,null,null,null,null,null,null,"Koszty stałe",{"$f":"O8","v":2000},null,null,null,null,null,null,null,null,null,null,null,24000,36000,15000,4800,19800,2000,24000,26000]
[null,"Wynik operacyjny",{"$f":"C27-C8","v":12576.900000000001},null,null,null,null,null,null,null,null,null,null,"Wynik operacyjny",{"$f":"O27-O8","v":8606.5},null,null,null,null,null,null,null,null,null,null,null,25000,37500,15000,5000,20000,2000,25000,27000]
[null,null,null,null,null,null,null,null,null,null,null,null,null,null,null,null,null,null,null,null,null,null,null,null,null,null,26000,39000,15000,5200,20200,2000,26000,28000]
[null,"Koszty całkowite",{"$f":"H31*C6+C8","v":19242.599999999999},null,null,"Popyt na wyroby",null,21213,null,null,null,null,null,"Koszty całkowite",{"$f":"H31*O6+O8","v":23213},null,null,null,null,null,null,null,null,null,null,null,27000,40500,15000,5400,20400,2000,27000,29000]
[null,null,null,null,null,null,null,null,null,null,null,null,null,null,null,null,null,null,null,null,null,null,null,null,null,null,28000,42000,15000,5600,20600,2000,28000,30000]
[null,null,null,null,null,null,null,null,null,null,null,null,null,null,null,null,null,null,null,null,null,null,null,null,null,null,29000,43500,15000,5800,20800,2000,29000,31000]
[null,null,null,null,null,null,null,null,null,null,null,null,null,null,null,null,null,null,null,null,null,null,null,null,null,null,30000,45000,15000,6000,21000,2000,30000,32000]
[]
[]
[]
[null,null,null,null,null,null,null,null,null,null,null,null,null,null,null,null,null,null,null,null,null,null,null,null,null,null,null,{"$f":"H31","v":21213},{"$f":"C31","v":19242.599999999999},null,{"$f":"H31","v":21213},{"$f":"O31","v":23213}]
[null,null,null,null,null,null,null,null,null,null,null,null,null,null,null,null,null,null,null,null,null,null,null,null,null,null,null,{"$f":"H31","v":21213},{"$f":"C25","v":31819.5},null,{"$f":"H31","v":21213},{"$f":"O25","v":31819.5}]

{"sheet":"Dźwignie","index":1,"n_rows":71,"n_cols":41,"rows_kept":71,"cut":false,"hidden":false,"merged":[]}
[]
[null,"KAPITAŁ CAŁKOWITY =",null,200000,{"$f":"\"% udział kapitału własnego = \" & TEXT(  $D$3/$D$2,\"0%\")","v":"% udział kapitału własnego = 50%"}]
[null,{"$f":"\"KAPITAŁ WŁASNY (\" & TEXT(  $D$3/$D$2,\"0%\") & \") =\"","v":"KAPITAŁ WŁASNY (50%) ="},null,{"$f":"$D$2*$AF$12/100","v":100000}]
[null,{"$f":"\"KAPITAŁ OBCY (\" & TEXT(  $D$4/$D$2,\"0%\") & \") =\"","v":"KAPITAŁ OBCY (50%) ="},null,{"$f":"$D$2-$D$3","v":100000},"TECHNOLOGIA A"]
[null,"akcje w szt. =",null,{"$f":"D3/$D$7","v":10000},"Koszt zmienny jedn. =",null,{"$f":"AI12/100","v":1}]
[null,"odsetki =",null,{"$f":"D4*$D$8","v":20000},"Koszty stałe =",null,{"$f":"AI13*1000","v":50000}]
[null,"cena 1 akcji (zł) =",null,10,"TECHNOLOGIA B",null,null,null,null,"Cena jednostkowa =",null,{"$f":"1+AF15/100","v":1.5}]
[null,"oprocentowanie =",null,0.2,"Koszt zmienny jedn. =",null,{"$f":"AI14/100","v":0.5},null,null,"Przeciętny popyt E(Q) =",null,{"$f":"AF13*1000","v":350000}]
[null,"stopa podatku =",null,0.19,"Koszty stałe =",null,{"$f":"AI15*1000","v":150000},null,null,"Zmienność popytu S(Q) =",null,{"$f":"AF14*500","v":50000}]
[]
[null,null,"E (EBIT)","S (EBIT)","cv (EBIT)","MIN (EBIT)","MAX (EBIT)",null,"E (EBIT)","S (EBIT)","cv (EBIT)","MIN (EBIT)","MAX (EBIT)"]
[null,"EBIT A ->",{"$f":"MC!I7","v":125186.25209947795},{"$f":"MC!I8","v":24038.173211207617},{"$f":"MC!I9","v":0.19201927374665656},{"$f":"MC!I5","v":49793.872222332109},{"$f":"MC!I4","v":208332.7902518246},"EBIT B ->",{"$f":"MC!V7","v":200372.5041989559},{"$f":"MC!V8","v":48076.346422414339},{"$f":"MC!V9","v":0.23993484841951113},{"$f":"MC!V5","v":49587.744444664218},{"$f":"MC!V4","v":366665.58050364919},null,null,null,null,null,null,null,null,null,null,null,null,null,null,null,null,null,"KW",50,null,"kzjA",100]
[null,null,null,null,null,null,null,null,null,null,null,null,null,null,null,null,null,null,null,null,null,null,null,null,null,null,null,null,null,null,"E(Q)",350,null,"ksA",50]
[null,null,null,null,null,null,null,null,null,null,null,null,null,null,null,null,null,null,null,null,null,null,null,null,null,null,null,null,null,null,"S(Q)",100,null,"kzjB",50]
[null,null,null,null,null,null,null,null,null,null,null,null,null,null,null,null,null,null,null,null,null,null,null,null,null,null,null,null,null,null,"cj",50,null,"ksB",150]
[]
[]
[]
[null,null,null,null,null,null,null,null,null,null,null,null,null,null,null,null,null,null,null,null,null,null,null,null,null,null,null,null,null,null,-50000,{"$f":"FREQUENCY(popyt,AE19:AE35)","v":0},null,{"$f":"AI19/1000","v":-250},-250000,{"$f":"FREQUENCY(EBIT_A,$AI$19:$AI$54)","v":0},{"$f":"FREQUENCY(EBIT_B,$AI$19:$AI$54)","v":0},null,-15,{"$f":"FREQUENCY(EPS_A,$AM$19:$AM$59)","v":0},{"$f":"FREQUENCY(EPS_B,$AM$19:$AM$59)","v":0}]
[null,null,"E (EPS)","S (EPS)","cv (EPS)","MIN (EPS)","MAX (EPS)",null,"E (EPS)","S (EPS)","cv (EPS)","MIN (EPS)","MAX (EPS)",null,null,null,null,null,null,null,null,null,null,null,null,null,null,null,null,null,0,0,null,{"$f":"AI20/1000","v":-232.85714285714286},{"$f":"AI19+($AI$54-$AI$19)/35","v":-232857.14285714287},0,0,null,-14,0,0]
[null,"EPS A ->",{"$f":"MC!L7","v":8.5200864200577104},{"$f":"MC!L8","v":1.9470920301077943},{"$f":"MC!L9","v":0.22852961039503233},{"$f":"MC!L5","v":2.4133036500089009},{"$f":"MC!L4","v":15.254956010397795},"EPS B ->",{"$f":"MC!Y7","v":14.610172840115426},{"$f":"MC!Y8","v":3.8941840602155589},{"$f":"MC!Y9","v":0.26653921913389172},{"$f":"MC!Y5","v":2.3966073000178016},{"$f":"MC!Y4","v":28.079912020795589},null,null,null,null,null,null,null,null,null,null,null,null,null,null,null,null,null,50000,0,null,-215.71428571428575,-215714.28571428574,0,0,null,-13,0,0]
[null,null,null,null,null,null,null,null,null,null,null,null,null,null,null,null,null,null,null,null,null,null,null,null,null,null,null,null,null,null,100000,0,null,-198.57142857142861,-198571.42857142861,0,0,null,-12,0,0]
[null,null,null,null,null,null,null,null,null,null,null,null,null,null,null,null,null,null,null,null,null,null,null,null,null,null,null,null,null,null,150000,0,null,-181.42857142857147,-181428.57142857148,0,0,null,-11,0,0]
[null,null,null,null,null,null,null,null,null,null,null,null,null,null,null,null,null,null,null,null,null,null,null,null,null,null,null,null,null,null,200000,1,null,-164.28571428571433,-164285.71428571435,0,0,null,-10,0,0]
[null,null,null,null,null,null,null,null,null,null,null,null,null,null,null,null,null,null,null,null,null,null,null,null,null,null,null,null,null,null,250000,16,null,-147.14285714285722,-147142.85714285722,0,0,null,-9,0,0]
[null,null,null,null,null,null,null,null,null,null,null,null,null,null,null,null,null,null,null,null,null,null,null,null,null,null,null,null,null,null,300000,122,null,-130.00000000000009,-130000.00000000007,0,0,null,-8,0,0]
[null,null,null,null,null,null,null,null,null,null,null,null,null,null,null,null,null,null,null,null,null,null,null,null,null,null,null,null,null,null,350000,363,null,-112.85714285714293,-112857.14285714293,0,0,null,-7,0,0]
[null,null,null,null,null,null,null,null,null,null,null,null,null,null,null,null,null,null,null,null,null,null,null,null,null,null,null,null,null,null,400000,353,null,-95.714285714285779,-95714.285714285783,0,0,null,-6,0,0]
[null,null,null,null,null,null,null,null,null,null,null,null,null,null,null,null,null,null,null,null,null,null,null,null,null,null,null,null,null,null,450000,122,null,-78.57142857142864,-78571.428571428638,0,0,null,-5,0,0]
[null,null,null,null,null,null,null,null,null,null,null,null,null,null,null,null,null,null,null,null,null,null,null,null,null,null,null,null,null,null,500000,19,null,-61.428571428571495,-61428.571428571493,0,0,null,-4,0,0]
[null,null,null,null,null,null,null,null,null,null,null,null,null,null,null,null,null,null,null,null,null,null,null,null,null,null,null,null,null,null,550000,4,null,-44.285714285714349,-44285.714285714348,0,0,null,-3,0,0]
[null,null,null,null,null,null,null,null,null,null,null,null,null,null,null,null,null,null,null,null,null,null,null,null,null,null,null,null,null,null,600000,0,null,-27.142857142857206,-27142.857142857207,0,0,null,-2,0,0]
[null,null,null,null,null,null,null,null,null,null,null,null,null,null,null,null,null,null,null,null,null,null,null,null,null,null,null,null,null,null,650000,0,null,-10.000000000000066,-10000.000000000065,0,0,null,-1,0,0]
[null,null,null,null,null,null,null,null,null,null,null,null,null,null,null,null,null,null,null,null,null,null,null,null,null,null,null,null,null,null,700000,0,null,7.1428571428570757,7142.8571428570758,0,0,null,0,0,0]
[null,null,null,null,null,null,null,null,null,null,null,null,null,null,null,null,null,null,null,null,null,null,null,null,null,null,null,null,null,null,750000,0,null,24.285714285714217,24285.714285714217,0,0,null,1,0,0]
[null,null,null,null,null,null,null,null,null,null,null,null,null,null,null,null,null,null,null,null,null,null,null,null,null,null,null,null,null,null,null,null,null,41.42857142857136,41428.571428571362,0,0,null,2,0,0]
[null,null,null,null,null,null,null,null,null,null,null,null,null,null,null,null,null,null,null,null,null,null,null,null,null,null,null,null,null,null,"x","y",null,58.571428571428505,58571.428571428507,3,2,null,3,3,2]
[null,null,null,null,null,null,null,null,null,null,null,null,null,null,null,null,null,null,null,null,null,null,null,null,null,null,null,null,null,null,1,{"$f":"MC!$C$7+MC!$C$8","v":398448.85062136885},null,75.714285714285651,75714.285714285652,15,1,null,4,8,1]
[null,null,null,null,null,null,null,null,null,null,null,null,null,null,null,null,null,null,null,null,null,null,null,null,null,null,null,null,null,null,1000,{"$f":"AF38","v":398448.85062136885},null,92.85714285714279,92857.142857142797,65,11,null,5,25,3]
[null,null,null,null,null,null,null,null,null,null,null,null,null,null,null,null,null,null,null,null,null,null,null,null,null,null,null,null,null,null,null,null,null,109.99999999999994,109999.99999999994,171,16,null,6,59,9]
[null,null,null,null,null,null,null,null,null,null,null,null,null,null,null,null,null,null,null,null,null,null,null,null,null,null,null,null,null,null,"x","y",null,127.14285714285708,127142.85714285709,292,31,null,7,110,11]
[null,null,null,null,null,null,null,null,null,null,null,null,null,null,null,null,null,null,null,null,null,null,null,null,null,null,null,null,null,null,1,{"$f":"MC!$C$7","v":350372.50419895636},null,144.28571428571422,144285.71428571423,255,59,null,8,191,18]
[null,null,null,null,null,null,null,null,null,null,null,null,null,null,null,null,null,null,null,null,null,null,null,null,null,null,null,null,null,null,1000,{"$f":"AF42","v":350372.50419895636},null,161.42857142857136,161428.57142857136,123,77,null,9,216,25]
[null,null,null,null,null,null,null,null,null,null,null,null,null,null,null,null,null,null,null,null,null,null,null,null,null,null,null,null,null,null,null,null,null,178.5714285714285,178571.42857142849,58,124,null,10,175,46]
[null,null,null,null,null,null,null,null,null,null,null,null,null,null,null,null,null,null,null,null,null,null,null,null,null,null,null,null,null,null,"x","y",null,195.71428571428561,195714.28571428562,14,145,null,11,108,51]
[null,null,null,null,null,null,null,null,null,null,null,null,null,null,null,null,null,null,null,null,null,null,null,null,null,null,null,null,null,null,1,{"$f":"MC!$C$7-MC!$C$8","v":302296.15777654387},null,212.85714285714275,212857.14285714275,4,141,null,12,63,76]
[null,null,null,null,null,null,null,null,null,null,null,null,null,null,null,null,null,null,null,null,null,null,null,null,null,null,null,null,null,null,1000,{"$f":"AF46","v":302296.15777654387},null,229.99999999999989,229999.99999999988,0,120,null,13,30,94]
[null,null,null,null,null,null,null,null,null,null,null,null,null,null,null,null,null,null,null,null,null,null,null,null,null,null,null,null,null,null,null,null,null,247.14285714285703,247142.85714285701,0,107,null,14,8,109]
[null,null,null,null,null,null,null,null,null,null,null,null,null,null,null,null,null,null,null,null,null,null,null,null,null,null,null,null,null,null,null,null,null,264.28571428571416,264285.71428571414,0,56,null,15,3,111]
[null,null,null,null,null,null,null,null,null,null,null,null,null,null,null,null,null,null,null,null,null,null,null,null,null,null,null,null,null,null,null,null,null,281.42857142857133,281428.5714285713,0,44,null,16,1,103]
[null,null,null,null,null,null,null,null,null,null,null,null,null,null,null,null,null,null,null,null,null,null,null,null,null,null,null,null,null,null,null,null,null,298.57142857142844,298571.42857142846,0,30,null,17,0,77]
[null,null,null,null,null,null,null,null,null,null,null,null,null,null,null,null,null,null,null,null,null,null,null,null,null,null,null,null,null,null,null,null,null,315.71428571428561,315714.28571428562,0,16,null,18,0,80]
[null,null,null,null,null,null,null,null,null,null,null,null,null,null,null,null,null,null,null,null,null,null,null,null,null,null,null,null,null,null,null,null,null,332.85714285714278,332857.14285714278,0,3,null,19,0,58]
[null,null,null,null,null,null,null,null,null,null,null,null,null,null,null,null,null,null,null,null,null,null,null,null,null,null,null,null,null,null,null,null,null,350,350000,0,1,null,20,0,36]
[null,null,null,null,null,null,null,null,null,null,null,null,null,null,null,null,null,null,null,null,null,null,null,null,null,null,null,null,null,null,null,null,null,null,null,null,null,null,21,0,33]
[null,null,null,null,null,null,null,null,null,null,null,null,null,null,null,null,null,null,null,null,null,null,null,null,null,null,null,null,null,null,null,null,null,null,"x","y","y",null,22,0,22]
[null,null,null,null,null,null,null,null,null,null,null,null,null,null,null,null,null,null,null,null,null,null,null,null,null,null,null,null,null,null,null,null,null,null,1,{"$f":"MC!$I$7+MC!$I$8","v":149224.42531068556},{"$f":"MC!$V$7+MC!$V$8","v":248448.85062137025},null,23,0,15]
[null,null,null,null,null,null,null,null,null,null,null,null,null,null,null,null,null,null,null,null,null,null,null,null,null,null,null,null,null,null,null,null,null,null,1000,{"$f":"AJ57","v":149224.42531068556},{"$f":"AK57","v":248448.85062137025},null,24,0,12]
[null,null,null,null,null,null,null,null,null,null,null,null,null,null,null,null,null,null,null,null,null,null,null,null,null,null,null,null,null,null,null,null,null,null,null,null,null,null,25,0,1]
[null,null,null,null,null,null,null,null,null,null,null,null,null,null,null,null,null,null,null,null,null,null,null,null,null,null,null,null,null,null,null,null,null,null,"x","y","y"]
[null,null,null,null,null,null,null,null,null,null,null,null,null,null,null,null,null,null,null,null,null,null,null,null,null,null,null,null,null,null,null,null,null,null,1,{"$f":"MC!$I$7","v":125186.25209947795},{"$f":"MC!$V$7","v":200372.5041989559},null,"x","y","y"]
[null,null,null,null,null,null,null,null,null,null,null,null,null,null,null,null,null,null,null,null,null,null,null,null,null,null,null,null,null,null,null,null,null,null,1000,{"$f":"AJ61","v":125186.25209947795},{"$f":"AK61","v":200372.5041989559},null,1,{"$f":"MC!$L$7+MC!$L$8","v":10.467178450165505},{"$f":"MC!$Y$7+MC!$Y$8","v":18.504356900330986}]
[null,null,null,null,null,null,null,null,null,null,null,null,null,null,null,null,null,null,null,null,null,null,null,null,null,null,null,null,null,null,null,null,null,null,null,null,null,null,1000,{"$f":"AN62","v":10.467178450165505},{"$f":"AO62","v":18.504356900330986}]
[null,null,null,null,null,null,null,null,null,null,null,null,null,null,null,null,null,null,null,null,null,null,null,null,null,null,null,null,null,null,null,null,null,null,"x","y","y"]
[null,null,null,null,null,null,null,null,null,null,null,null,null,null,null,null,null,null,null,null,null,null,null,null,null,null,null,null,null,null,null,null,null,null,1,{"$f":"MC!$I$7-MC!$I$8","v":101148.07888827033},{"$f":"MC!$V$7-MC!$V$8","v":152296.15777654154},null,"x","y","y"]
[null,null,null,null,null,null,null,null,null,null,null,null,null,null,null,null,null,null,null,null,null,null,null,null,null,null,null,null,null,null,null,null,null,null,1000,{"$f":"AJ65","v":101148.07888827033},{"$f":"AK65","v":152296.15777654154},null,1,{"$f":"MC!$L$7","v":8.5200864200577104},{"$f":"MC!$Y$7","v":14.610172840115426}]
[null,null,null,null,null,null,null,null,null,null,null,null,null,null,null,null,null,null,null,null,null,null,null,null,null,null,null,null,null,null,null,null,null,null,null,null,null,null,1000,{"$f":"AN66","v":8.5200864200577104},{"$f":"AO66","v":14.610172840115426}]
[]
[null,null,null,null,null,null,null,null,null,null,null,null,null,null,null,null,null,null,null,null,null,null,null,null,null,null,null,null,null,null,null,null,null,null,null,null,null,null,"x","y","y"]
[null,null,null,null,null,null,null,null,null,null,null,null,null,null,null,null,null,null,null,null,null,null,null,null,null,null,null,null,null,null,null,null,null,null,null,null,null,null,1,{"$f":"MC!$L$7-MC!$L$8","v":6.5729943899499164},{"$f":"MC!$Y$7-MC!$Y$8","v":10.715988779899867}]
[null,null,null,null,null,null,null,null,null,null,null,null,null,null,null,null,null,null,null,null,null,null,null,null,null,null,null,null,null,null,null,null,null,null,null,null,null,null,1000,{"$f":"AN70","v":6.5729943899499164},{"$f":"AO70","v":10.715988779899867}]

{"sheet":"SD","index":2,"n_rows":15,"n_cols":11,"rows_kept":15,"cut":false,"hidden":false,"merged":[[1,2,1,5],[1,7,1,10],[4,9,6,9],[4,10,12,10],[8,9,12,9],[13,9,14,9],[13,10,14,10],[4,4,6,4],[8,4,12,4],[4,5,12,5],[13,4,14,4],[13,5,14,5]]}
[]
[null,null,"Technologia A",null,null,null,null,"Technologia B"]
[]
[null,"Przychody ze sprzedaży",{"$f":"MC!D7","v":525558.75629843352},null,0.22,{"$f":"E4","v":0.22},null,{"$f":"C4","v":525558.75629843352},null,-0.2,{"$f":"J4","v":-0.2}]
[null,"- Koszty zmienne",{"$f":"-MC!F7","v":-350372.50419895636},null,{"$f":"C6/C8","v":1.3994048800204382},{"$f":"E5*E9","v":1.6654862075872738},null,{"$f":"-MC!S7","v":-175186.25209947818},null,{"$f":"H6/H8","v":1.7486057061554756},{"$f":"J5*J9","v":1.9424939835202693}]
[null,"= Marża",{"$f":"C4+C5","v":175186.25209947716},null,null,null,null,{"$f":"H4+H5","v":350372.50419895537}]
[null,"- Koszty stałe",{"$f":"-MC!H7","v":-50000},null,null,null,null,{"$f":"-MC!U7","v":-150000}]
[null,"= Wynik operacyjny",{"$f":"C6+C7","v":125186.25209947716},null,{"$f":"E4*E5","v":0.30786907360449639},null,null,{"$f":"H6+H7","v":200372.50419895537},null,{"$f":"J4*J5","v":-0.34972114123109516}]
[null,"- Odsetki",{"$f":"-Dźwignie!D6","v":-20000},null,{"$f":"C8/C10","v":1.1901389164535068},null,null,{"$f":"-Dźwignie!D6","v":-20000},null,{"$f":"H8/H10","v":1.1108816451200316}]
[null,"= Wynki brutto",{"$f":"C8+C9","v":105186.25209947716},null,null,null,null,{"$f":"H8+H9","v":180372.50419895537}]
[null,"- Podatek dochodowy",{"$f":"-C10*Dźwignie!D9","v":-19985.387898900663},null,null,null,null,{"$f":"-H10*Dźwignie!D9","v":-34270.775797801522}]
[null,"= Wynik netto",{"$f":"C10+C11","v":85200.8642005765},null,null,null,null,{"$f":"H10+H11","v":146101.72840115384}]
[null,"liczba akcji",{"$f":"Dźwignie!D5","v":10000},null,null,null,null,{"$f":"Dźwignie!D5","v":10000}]
[null,"EPS",{"$f":"C12/C13","v":8.52008642005765},null,{"$f":"E8*E9","v":0.36640696566920028},{"$f":"F4*F5","v":0.36640696566920022},null,{"$f":"H12/H13","v":14.610172840115384},null,{"$f":"J8*J9","v":-0.38849879670405391},{"$f":"K4*K5","v":-0.38849879670405385}]
[null,"ROE",{"$f":"C12/Dźwignie!D3","v":0.85200864200576498},null,null,null,null,{"$f":"H12/Dźwignie!D3","v":1.4610172840115385}]

{"sheet":"MC","index":3,"n_rows":1012,"n_cols":30,"rows_kept":1012,"cut":false,"hidden":false,"merged":[]}
[]
[null,null,null,null,null,null,null,"TECHNOLOGIA - A",null,null,null,null,null,null,null,null,null,null,null,null,"TECHNOLOGIA - B"]
[]
["MAX(x)",null,{"$f":"MAX(kolumna)","v":516665.58050364914},{"$f":"MAX(kolumna)","v":774998.37075547373},"MAX(x)",{"$f":"MAX(kolumna)","v":516665.58050364914},258332.7902518246,50000,208332.7902518246,188332.7902518246,152549.56010397794,15.254956010397795,null,null,null,null,null,"MAX(x)",{"$f":"MAX(kolumna)","v":258332.79025182457},516665.58050364919,150000,366665.58050364919,346665.58050364919,280799.12020795589,28.079912020795589]
["MIN(x)",null,{"$f":"MIN(kolumna)","v":199587.74444466422},{"$f":"MIN(kolumna)","v":299381.61666699633},"MIN(x)",{"$f":"MIN(kolumna)","v":199587.74444466422},99793.872222332109,50000,49793.872222332109,29793.872222332109,24133.036500089009,2.4133036500089009,null,null,null,null,null,"MIN(x)",{"$f":"MIN(kolumna)","v":99793.872222332109},199587.74444466422,150000,49587.744444664218,29587.744444664218,23966.073000178018,2.3966073000178016]
[]
["E(x)",null,{"$f":"AVERAGE(kolumna)","v":350372.50419895636},{"$f":"AVERAGE(kolumna)","v":525558.75629843352},"E(x)",{"$f":"AVERAGE(kolumna)","v":350372.50419895636},175186.25209947818,50000,125186.25209947795,105186.25209947789,85200.864200577053,8.5200864200577104,null,null,null,null,null,"E(x)",{"$f":"AVERAGE(kolumna)","v":175186.25209947818},350372.50419895636,150000,200372.5041989559,180372.50419895578,146101.72840115419,14.610172840115426]
["s(x)",null,{"$f":"STDEV(kolumna)","v":48076.346422412469},{"$f":"STDEV(kolumna)","v":72114.519633624368},"s(x)",{"$f":"STDEV(kolumna)","v":48076.346422412469},24038.173211206315,0,24038.173211207617,24038.173211207453,19470.920301078128,1.9470920301077943,null,null,null,null,null,"s(x)",{"$f":"STDEV(kolumna)","v":24038.173211206235},48076.346422412629,0,48076.346422414339,48076.346422414499,38941.840602156008,3.8941840602155589]
["cv(x)",null,{"$f":"C8/C7","v":0.13721495221871829},{"$f":"D8/D7","v":0.13721495221872934},"cv(x)",{"$f":"F8/F7","v":0.13721495221871829},0.13721495221871874,0,0.19201927374665656,0.22852961039503347,0.22852961039503464,0.22852961039503233,null,null,null,null,null,"cv(x)",{"$f":"S8/S7","v":0.13721495221871829},0.13721495221871874,0,0.23993484841951113,0.26653921913389295,0.26653921913389472,0.26653921913389172]
[]
[null,null,"S (szt)","S",null,"KZ","MC","KS","EBIT","EBT","NI","EPS","ROA","ROE","DOL","DFL","DTL",null,"KZ","MC","KS","EBIT","EBT","NI","EPS","ROA","ROE","DOL","DFL","DTL"]
[null,"los<0;1>"]
[1,0.18268102407455444,{"$f":"NORMINV(B13,Dźwignie!$L$8,Dźwignie!$L$9)","v":304740.24602282344},{"$f":"Dźwignie!$L$7*C13","v":457110.36903423513},null,{"$f":"C13*Dźwignie!$G$5","v":304740.24602282344},{"$f":"$D13-F13","v":152370.12301141169},{"$f":"Dźwignie!$G$6","v":50000},{"$f":"G13-H13","v":102370.12301141169},{"$f":"I13-Dźwignie!$D$6","v":82370.123011411692},{"$f":"IF(J13>0,J13*(1-Dźwignie!$D$9),J13)","v":66719.799639243472},{"$f":"K13/Dźwignie!$D$5","v":6.6719799639243469},{"$f":"I13/Dźwignie!$D$2","v":0.51185061505705842},{"$f":"K13/Dźwignie!$D$3","v":0.66719799639243471},{"$f":"IF(I13<>0,G13/I13,\"N   \")","v":1.4884237561620031},{"$f":"IF(J13<>0,I13/J13,\"N   \")","v":1.2428064845457274},{"$f":"IF(ISTEXT(O13),O13,IF(ISTEXT(P13),P13,O13*P13))","v":1.8498226959100459},null,{"$f":"C13*Dźwignie!$G$8","v":152370.12301141172},{"$f":"$D13-S13","v":304740.24602282338},{"$f":"Dźwignie!$G$9","v":150000},{"$f":"T13-U13","v":154740.24602282338},{"$f":"V13-Dźwignie!$D$6","v":134740.24602282338},{"$f":"IF(W13>0,W13*(1-Dźwignie!$D$9),W13)","v":109139.59927848694},{"$f":"X13/Dźwignie!$D$5","v":10.913959927848694},{"$f":"V13/Dźwignie!$D$2","v":0.77370123011411696},{"$f":"X13/Dźwignie!$D$3","v":1.0913959927848695},{"$f":"IF(V13<>0,T13/V13,\"N   \")","v":1.9693664308758807},{"$f":"IF(W13<>0,V13/W13,\"N   \")","v":1.148433750051282},{"$f":"IF(ISTEXT(AB13),AB13,IF(ISTEXT(AC13),AC13,AB13*AC13))","v":2.2616868754358967}]
[2,0.77658402919769287,{"$f":"NORMINV(B14,Dźwignie!$L$8,Dźwignie!$L$9)","v":388035.36265776202},{"$f":"Dźwignie!$L$7*C14","v":582053.04398664297},null,{"$f":"C14*Dźwignie!$G$5","v":388035.36265776202},194017.68132888095,{"$f":"Dźwignie!$G$6","v":50000},144017.68132888095,{"$f":"I14-Dźwignie!$D$6","v":124017.68132888095},{"$f":"IF(J14>0,J14*(1-Dźwignie!$D$9),J14)","v":100454.32187639357},{"$f":"K14/Dźwignie!$D$5","v":10.045432187639356},{"$f":"I14/Dźwignie!$D$2","v":0.72008840664440477},{"$f":"K14/Dźwignie!$D$3","v":1.0045432187639358},1.3471795930794028,1.1612673272528153,1.5644356453848536,null,{"$f":"C14*Dźwignie!$G$8","v":194017.68132888101},388035.36265776196,{"$f":"Dźwignie!$G$9","v":150000},238035.36265776196,{"$f":"V14-Dźwignie!$D$6","v":218035.36265776196},{"$f":"IF(W14>0,W14*(1-Dźwignie!$D$9),W14)","v":176608.6437527872},{"$f":"X14/Dźwignie!$D$5","v":17.66086437527872},{"$f":"V14/Dźwignie!$D$2","v":1.1901768132888098},{"$f":"X14/Dźwignie!$D$3","v":1.766086437527872},1.6301584702591614,1.0917282396589625,1.7796900371011815]
[3,0.57635694742202759,{"$f":"NORMINV(B15,Dźwignie!$L$8,Dźwignie!$L$9)","v":359629.11518064776},{"$f":"Dźwignie!$L$7*C15","v":539443.67277097167},null,{"$f":"C15*Dźwignie!$G$5","v":359629.11518064776},179814.55759032391,{"$f":"Dźwignie!$G$6","v":50000},129814.55759032391,{"$f":"I15-Dźwignie!$D$6","v":109814.55759032391},{"$f":"IF(J15>0,J15*(1-Dźwignie!$D$9),J15)","v":88949.791648162369},{"$f":"K15/Dźwignie!$D$5","v":8.8949791648162364},{"$f":"I15/Dźwignie!$D$2","v":0.64907278795161949},{"$f":"K15/Dźwignie!$D$3","v":0.88949791648162368},1.3851648145487105,1.1821252158080202,1.6374382553280709,null,{"$f":"C15*Dźwignie!$G$8","v":179814.55759032388},359629.11518064782,{"$f":"Dźwignie!$G$9","v":150000},209629.11518064782,{"$f":"V15-Dźwignie!$D$6","v":189629.11518064782},{"$f":"IF(W15>0,W15*(1-Dźwignie!$D$9),W15)","v":153599.58329632474},{"$f":"X15/Dźwignie!$D$5","v":15.359958329632473},{"$f":"V15/Dźwignie!$D$2","v":1.048145575903239},{"$f":"X15/Dźwignie!$D$3","v":1.5359958329632473},1.7155494591995848,1.1054690361284829,1.896486807092105]
[4,0.87009239196777344,{"$f":"NORMINV(B16,Dźwignie!$L$8,Dźwignie!$L$9)","v":406341.39924107579},{"$f":"Dźwignie!$L$7*C16","v":609512.09886161366},null,{"$f":"C16*Dźwignie!$G$5","v":406341.39924107579},203170.69962053787,{"$f":"Dźwignie!$G$6","v":50000},153170.69962053787,{"$f":"I16-Dźwignie!$D$6","v":133170.69962053787},{"$f":"IF(J16>0,J16*(1-Dźwignie!$D$9),J16)","v":107868.26669263568},{"$f":"K16/Dźwignie!$D$5","v":10.786826669263567},{"$f":"I16/Dźwignie!$D$2","v":0.76585349810268932},{"$f":"K16/Dźwignie!$D$3","v":1.0786826669263567},1.3264331894015569,1.1501831863689898,1.5256411522914644,null,{"$f":"C16*Dźwignie!$G$8","v":203170.6996205379},406341.39924107573,{"$f":"Dźwignie!$G$9","v":150000},256341.39924107573,{"$f":"V16-Dźwignie!$D$6","v":236341.39924107573},{"$f":"IF(W16>0,W16*(1-Dźwignie!$D$9),W16)","v":191436.53338527135},{"$f":"X16/Dźwignie!$D$5","v":19.143653338527134},{"$f":"V16/Dźwignie!$D$2","v":1.2817069962053786},{"$f":"X16/Dźwignie!$D$3","v":1.9143653338527136},1.5851571398302808,1.0846233459911074,1.719298440924413]
[5,0.59722346067428589,{"$f":"NORMINV(B17,Dźwignie!$L$8,Dźwignie!$L$9)","v":362308.34232485248},{"$f":"Dźwignie!$L$7*C17","v":543462.51348727872},null,{"$f":"C17*Dźwignie!$G$5","v":362308.34232485248},181154.17116242624,{"$f":"Dźwignie!$G$6","v":50000},131154.17116242624,{"$f":"I17-Dźwignie!$D$6","v":111154.17116242624},{"$f":"IF(J17>0,J17*(1-Dźwignie!$D$9),J17)","v":90034.878641565258},{"$f":"K17/Dźwignie!$D$5","v":9.0034878641565257},{"$f":"I17/Dźwignie!$D$2","v":0.65577085581213124},{"$f":"K17/Dźwignie!$D$3","v":0.90034878641565252},1.3812307268373349,1.1799302697401666,1.6297559440905829,null,{"$f":"C17*Dźwignie!$G$8","v":181154.17116242624},362308.34232485248,{"$f":"Dźwignie!$G$9","v":150000},212308.34232485248,{"$f":"V17-Dźwignie!$D$6","v":192308.34232485248},{"$f":"IF(W17>0,W17*(1-Dźwignie!$D$9),W17)","v":155769.75728313052},{"$f":"X17/Dźwignie!$D$5","v":15.576975728313052},{"$f":"V17/Dźwignie!$D$2","v":1.0615417116242625},{"$f":"X17/Dźwignie!$D$3","v":1.5576975728313052},1.7065195759970908,1.1039996484719079,1.8839970120112175]
[6,0.52831804752349854,{"$f":"NORMINV(B18,Dźwignie!$L$8,Dźwignie!$L$9)","v":353552.1266245814},{"$f":"Dźwignie!$L$7*C18","v":530328.18993687211},null,{"$f":"C18*Dźwignie!$G$5","v":353552.1266245814},176776.0633122907,{"$f":"Dźwignie!$G$6","v":50000},126776.0633122907,{"$f":"I18-Dźwignie!$D$6","v":106776.0633122907},{"$f":"IF(J18>0,J18*(1-Dźwignie!$D$9),J18)","v":86488.611282955477},{"$f":"K18/Dźwignie!$D$5","v":8.6488611282955485},{"$f":"I18/Dźwignie!$D$2","v":0.63388031656145349},{"$f":"K18/Dźwignie!$D$3","v":0.86488611282955474},1.3943962187627938,1.1873078982272036,1.6555776437952128,null,{"$f":"C18*Dźwignie!$G$8","v":176776.0633122907},353552.1266245814,{"$f":"Dźwignie!$G$9","v":150000},203552.1266245814,{"$f":"V18-Dźwignie!$D$6","v":183552.1266245814},{"$f":"IF(W18>0,W18*(1-Dźwignie!$D$9),W18)","v":148677.22256591095},{"$f":"X18/Dźwignie!$D$5","v":14.867722256591096},{"$f":"V18/Dźwignie!$D$2","v":1.017760633122907},{"$f":"X18/Dźwignie!$D$3","v":1.4867722256591096},1.7369119767372927,1.1089608732287037,1.926167422443982]
[7,0.5850709080696106,{"$f":"NORMINV(B19,Dźwignie!$L$8,Dźwignie!$L$9)","v":360744.17279623973},{"$f":"Dźwignie!$L$7*C19","v":541116.25919435965},null,{"$f":"C19*Dźwignie!$G$5","v":360744.17279623973},180372.08639811992,{"$f":"Dźwignie!$G$6","v":50000},130372.08639811992,{"$f":"I19-Dźwignie!$D$6","v":110372.08639811992},{"$f":"IF(J19>0,J19*(1-Dźwignie!$D$9),J19)","v":89401.389982477136},{"$f":"K19/Dźwignie!$D$5","v":8.9401389982477131},{"$f":"I19/Dźwignie!$D$2","v":0.65186043199059962},{"$f":"K19/Dźwignie!$D$3","v":0.89401389982477131},1.3835176791396433,1.181205236329941,1.6342183271547939,null,{"$f":"C19*Dźwignie!$G$8","v":180372.08639811986},360744.17279623979,{"$f":"Dźwignie!$G$9","v":150000},210744.17279623979,{"$f":"V19-Dźwignie!$D$6","v":190744.17279623979},{"$f":"IF(W19>0,W19*(1-Dźwignie!$D$9),W19)","v":154502.77996495424},{"$f":"X19/Dźwignie!$D$5","v":15.450277996495425},{"$f":"V19/Dźwignie!$D$2","v":1.053720863981199},{"$f":"X19/Dźwignie!$D$3","v":1.5450277996495425},1.7117634523875025,1.1048524822897985,1.8912460994632874]
[8,0.30220246315002441,{"$f":"NORMINV(B20,Dźwignie!$L$8,Dźwignie!$L$9)","v":324096.17719587666},{"$f":"Dźwignie!$L$7*C20","v":486144.26579381502},null,{"$f":"C20*Dźwignie!$G$5","v":324096.17719587666},162048.08859793836,{"$f":"Dźwignie!$G$6","v":50000},112048.08859793836,{"$f":"I20-Dźwignie!$D$6","v":92048.08859793836},{"$f":"IF(J20>0,J20*(1-Dźwignie!$D$9),J20)","v":74558.951764330079},{"$f":"K20/Dźwignie!$D$5","v":7.4558951764330077},{"$f":"I20/Dźwignie!$D$2","v":0.56024044298969178},{"$f":"K20/Dźwignie!$D$3","v":0.74558951764330084},1.4462369740140304,1.2172777328094126,1.7604720648329444,null,{"$f":"C20*Dźwignie!$G$8","v":162048.08859793833},324096.17719587672,{"$f":"Dźwignie!$G$9","v":150000},174096.17719587672,{"$f":"V20-Dźwignie!$D$6","v":154096.17719587672},{"$f":"IF(W20>0,W20*(1-Dźwignie!$D$9),W20)","v":124817.90352866016},{"$f":"X20/Dźwignie!$D$5","v":12.481790352866016},{"$f":"V20/Dźwignie!$D$2","v":0.87048088597938356},{"$f":"X20/Dźwignie!$D$3","v":1.2481790352866016},1.8615927265952201,1.1297890730577784,2.1032071209911161]
[9,0.17613738775253296,{"$f":"NORMINV(B21,Dźwignie!$L$8,Dźwignie!$L$9)","v":303490.69867179904},{"$f":"Dźwignie!$L$7*C21","v":455236.04800769856},null,{"$f":"C21*Dźwignie!$G$5","v":303490.69867179904},151745.34933589952,{"$f":"Dźwignie!$G$6","v":50000},101745.34933589952,{"$f":"I21-Dźwignie!$D$6","v":81745.349335899518},{"$f":"IF(J21>0,J21*(1-Dźwignie!$D$9),J21)","v":66213.732962078619},{"$f":"K21/Dźwignie!$D$5","v":6.621373296207862},{"$f":"I21/Dźwignie!$D$2","v":0.50872674667949758},{"$f":"K21/Dźwignie!$D$3","v":0.6621373296207862},1.4914229527575877,1.2446622365979265,1.8563178280927428,null,{"$f":"C21*Dźwignie!$G$8","v":151745.34933589952},303490.69867179904,{"$f":"Dźwignie!$G$9","v":150000},153490.69867179904,{"$f":"V21-Dźwignie!$D$6","v":133490.69867179904},{"$f":"IF(W21>0,W21*(1-Dźwignie!$D$9),W21)","v":108127.46592415722},{"$f":"X21/Dźwignie!$D$5","v":10.812746592415722},{"$f":"V21/Dźwignie!$D$2","v":0.76745349335899515},{"$f":"X21/Dźwignie!$D$3","v":1.0812746592415723},1.977257913984332,1.1498231726928938,2.2734969678895975]
[10,0.41584384441375732,{"$f":"NORMINV(B22,Dźwignie!$L$8,Dźwignie!$L$9)","v":339373.12266793934},{"$f":"Dźwignie!$L$7*C22","v":509059.68400190899},null,{"$f":"C22*Dźwignie!$G$5","v":339373.12266793934},169686.56133396964,{"$f":"Dźwignie!$G$6","v":50000},119686.56133396964,{"$f":"I22-Dźwignie!$D$6","v":99686.561333969643},{"$f":"IF(J22>0,J22*(1-Dźwignie!$D$9),J22)","v":80746.114680515413},{"$f":"K22/Dźwignie!$D$5","v":8.0746114680515415},{"$f":"I22/Dźwignie!$D$2","v":0.59843280666984822},{"$f":"K22/Dźwignie!$D$3","v":0.80746114680515413},1.4177578455151834,1.2006288483860532,1.7022009693511866,null,{"$f":"C22*Dźwignie!$G$8","v":169686.56133396967},339373.12266793929,{"$f":"Dźwignie!$G$9","v":150000},189373.12266793929,{"$f":"V22-Dźwignie!$D$6","v":169373.12266793929},{"$f":"IF(W22>0,W22*(1-Dźwignie!$D$9),W22)","v":137192.22936103083},{"$f":"X22/Dźwignie!$D$5","v":13.719222936103083},{"$f":"V22/Dźwignie!$D$2","v":0.94686561333969643},{"$f":"X22/Dźwignie!$D$3","v":1.3719222936103082},1.7920870601210974,1.1180824896238735,2.0037011618029248]
[11,0.29969078302383423,{"$f":"NORMINV(B23,Dźwignie!$L$8,Dźwignie!$L$9)","v":323735.49698262662},{"$f":"Dźwignie!$L$7*C23","v":485603.24547393993},null,{"$f":"C23*Dźwignie!$G$5","v":323735.49698262662},161867.74849131331,{"$f":"Dźwignie!$G$6","v":50000},111867.74849131331,{"$f":"I23-Dźwignie!$D$6","v":91867.748491313308},{"$f":"IF(J23>0,J23*(1-Dźwignie!$D$9),J23)","v":74412.876277963791},{"$f":"K23/Dźwignie!$D$5","v":7.4412876277963793},{"$f":"I23/Dźwignie!$D$2","v":0.55933874245656656},{"$f":"K23/Dźwignie!$D$3","v":0.74412876277963791},1.446956345097824,1.2177042577884787,1.7619649022596755,null,{"$f":"C23*Dźwignie!$G$8","v":161867.74849131331},323735.49698262662,{"$f":"Dźwignie!$G$9","v":150000},173735.49698262662,{"$f":"V23-Dźwignie!$D$6","v":153735.49698262662},{"$f":"IF(W23>0,W23*(1-Dźwignie!$D$9),W23)","v":124525.75255592757},{"$f":"X23/Dźwignie!$D$5","v":12.452575255592757},{"$f":"V23/Dźwignie!$D$2","v":0.86867748491313312},{"$f":"X23/Dźwignie!$D$3","v":1.2452575255592757},1.8633814194861966,1.1300935723534309,2.105795365004163]
[12,0.27675104141235352,{"$f":"NORMINV(B24,Dźwignie!$L$8,Dźwignie!$L$9)","v":320373.97391235264},{"$f":"Dźwignie!$L$7*C24","v":480560.96086852893},null,{"$f":"C24*Dźwignie!$G$5","v":320373.97391235264},160186.98695617629,{"$f":"Dźwignie!$G$6","v":50000},110186.98695617629,{"$f":"I24-Dźwignie!$D$6","v":90186.98695617629},{"$f":"IF(J24>0,J24*(1-Dźwignie!$D$9),J24)","v":73051.459434502802},{"$f":"K24/Dźwignie!$D$5","v":7.3051459434502801},{"$f":"I24/Dźwignie!$D$2","v":0.5509349347808814},{"$f":"K24/Dźwignie!$D$3","v":0.73051459434502797},1.4537740923970093,1.2217614832804915,1.7761651914817203,null,{"$f":"C24*Dźwignie!$G$8","v":160186.98695617632},320373.97391235258,{"$f":"Dźwignie!$G$9","v":150000},170373.97391235258,{"$f":"V24-Dźwignie!$D$6","v":150373.97391235258},{"$f":"IF(W24>0,W24*(1-Dźwignie!$D$9),W24)","v":121802.9188690056},{"$f":"X24/Dźwignie!$D$5","v":12.180291886900561},{"$f":"V24/Dźwignie!$D$2","v":0.85186986956176292},{"$f":"X24/Dźwignie!$D$3","v":1.2180291886900561},1.8804161607286698,1.1330017387959519,2.130514779765591]
[13,0.14726704359054565,{"$f":"NORMINV(B25,Dźwignie!$L$8,Dźwignie!$L$9)","v":297588.65581192373},{"$f":"Dźwignie!$L$7*C25","v":446382.98371788557},null,{"$f":"C25*Dźwignie!$G$5","v":297588.65581192373},148794.32790596184,{"$f":"Dźwignie!$G$6","v":50000},98794.327905961836,{"$f":"I25-Dźwignie!$D$6","v":78794.327905961836},{"$f":"IF(J25>0,J25*(1-Dźwignie!$D$9),J25)","v":63823.405603829095},{"$f":"K25/Dźwignie!$D$5","v":6.3823405603829091},{"$f":"I25/Dźwignie!$D$2","v":0.49397163952980916},{"$f":"K25/Dźwignie!$D$3","v":0.63823405603829098},1.5061019297341938,1.2538253771752361,1.8883888201133265,null,{"$f":"C25*Dźwignie!$G$8","v":148794.32790596187},297588.65581192367,{"$f":"Dźwignie!$G$9","v":150000},147588.65581192367,{"$f":"V25-Dźwignie!$D$6","v":127588.65581192367},{"$f":"IF(W25>0,W25*(1-Dźwignie!$D$9),W25)","v":103346.81120765817},{"$f":"X25/Dźwignie!$D$5","v":10.334681120765817},{"$f":"V25/Dźwignie!$D$2","v":0.73794327905961832},{"$f":"X25/Dźwignie!$D$3","v":1.0334681120765818},2.0163382759657975,1.1567537479937218,2.3324068579466357]
[14,6.8128705024719238E-2,{"$f":"NORMINV(B26,Dźwignie!$L$8,Dźwignie!$L$9)","v":275506.3077877902},{"$f":"Dźwignie!$L$7*C26","v":413259.46168168529},null,{"$f":"C26*Dźwignie!$G$5","v":275506.3077877902},137753.1538938951,{"$f":"Dźwignie!$G$6","v":50000},87753.153893895098,{"$f":"I26-Dźwignie!$D$6","v":67753.153893895098},{"$f":"IF(J26>0,J26*(1-Dźwignie!$D$9),J26)","v":54880.054654055035},{"$f":"K26/Dźwignie!$D$5","v":5.4880054654055037},{"$f":"I26/Dźwignie!$D$2","v":0.43876576946947549},{"$f":"K26/Dźwignie!$D$3","v":0.54880054654055033},1.5697800908723629,1.295189210399283,2.0331622363974904,null,{"$f":"C26*Dźwignie!$G$8","v":137753.1538938951},275506.3077877902,{"$f":"Dźwignie!$G$9","v":150000},125506.3077877902,{"$f":"V26-Dźwignie!$D$6","v":105506.3077877902},{"$f":"IF(W26>0,W26*(1-Dźwignie!$D$9),W26)","v":85460.10930811007},{"$f":"X26/Dźwignie!$D$5","v":8.5460109308110077},{"$f":"V26/Dźwignie!$D$2","v":0.62753153893895097},{"$f":"X26/Dźwignie!$D$3","v":0.85460109308110066},2.1951590533092924,1.1895621258989268,2.6112780701408775]
[15,0.89581471681594849,{"$f":"NORMINV(B27,Dźwignie!$L$8,Dźwignie!$L$9)","v":412902.92970477062},{"$f":"Dźwignie!$L$7*C27","v":619354.3945571559},null,{"$f":"C27*Dźwignie!$G$5","v":412902.92970477062},206451.46485238528,{"$f":"Dźwignie!$G$6","v":50000},156451.46485238528,{"$f":"I27-Dźwignie!$D$6","v":136451.46485238528},{"$f":"IF(J27>0,J27*(1-Dźwignie!$D$9),J27)","v":110525.68653043208},{"$f":"K27/Dźwignie!$D$5","v":11.052568653043208},{"$f":"I27/Dźwignie!$D$2","v":0.7822573242619264},{"$f":"K27/Dźwignie!$D$3","v":1.1052568653043209},1.3195879312934262,1.1465722630507209,1.5130029206775228,null,{"$f":"C27*Dźwignie!$G$8","v":206451.46485238531},412902.92970477056,{"$f":"Dźwignie!$G$9","v":150000},262902.92970477056,{"$f":"V27-Dźwignie!$D$6","v":242902.92970477056},{"$f":"IF(W27>0,W27*(1-Dźwignie!$D$9),W27)","v":196751.37306086416},{"$f":"X27/Dźwignie!$D$5","v":19.675137306086416},{"$f":"V27/Dźwignie!$D$2","v":1.3145146485238528},{"$f":"X27/Dźwignie!$D$3","v":1.9675137306086417},1.5705527898393676,1.0823374177672884,1.6998680510219519]
[16,7.9443693161010742E-2,{"$f":"NORMINV(B28,Dźwignie!$L$8,Dźwignie!$L$9)","v":279558.82868476614},{"$f":"Dźwignie!$L$7*C28","v":419338.24302714923},null,{"$f":"C28*Dźwignie!$G$5","v":279558.82868476614},139779.4143423831,{"$f":"Dźwignie!$G$6","v":50000},89779.414342383097,{"$f":"I28-Dźwignie!$D$6","v":69779.414342383097},{"$f":"IF(J28>0,J28*(1-Dźwignie!$D$9),J28)","v":56521.325617330316},{"$f":"K28/Dźwignie!$D$5","v":5.6521325617330316},{"$f":"I28/Dźwignie!$D$2","v":0.44889707171191551},{"$f":"K28/Dźwignie!$D$3","v":0.5652132561733032},1.5569205409306839,1.2866174815091886,2.0031611852821603,null,{"$f":"C28*Dźwignie!$G$8","v":139779.41434238307},279558.82868476619,{"$f":"Dźwignie!$G$9","v":150000},129558.82868476619,{"$f":"V28-Dźwignie!$D$6","v":109558.82868476619},{"$f":"IF(W28>0,W28*(1-Dźwignie!$D$9),W28)","v":88742.651234660618},{"$f":"X28/Dźwignie!$D$5","v":8.8742651234660617},{"$f":"V28/Dźwignie!$D$2","v":0.64779414342383101},{"$f":"X28/Dźwignie!$D$3","v":0.88742651234660619},2.1577752093218585,1.1825503269804576,2.5516777793338892]
[17,0.21599572896957397,{"$f":"NORMINV(B29,Dźwignie!$L$8,Dźwignie!$L$9)","v":310710.57951933629},{"$f":"Dźwignie!$L$7*C29","v":466065.8692790044},null,{"$f":"C29*Dźwignie!$G$5","v":310710.57951933629},155355.28975966811,{"$f":"Dźwignie!$G$6","v":50000},105355.28975966811,{"$f":"I29-Dźwignie!$D$6","v":85355.289759668114},{"$f":"IF(J29>0,J29*(1-Dźwignie!$D$9),J29)","v":69137.784705331171},{"$f":"K29/Dźwignie!$D$5","v":6.9137784705331171},{"$f":"I29/Dźwignie!$D$2","v":0.52677644879834062},{"$f":"K29/Dźwignie!$D$3","v":0.69137784705331173},1.4745846185232636,1.2343147103865888,1.8201014863530607,null,{"$f":"C29*Dźwignie!$G$8","v":155355.28975966814},310710.57951933623,{"$f":"Dźwignie!$G$9","v":150000},160710.57951933623,{"$f":"V29-Dźwignie!$D$6","v":140710.57951933623},{"$f":"IF(W29>0,W29*(1-Dźwignie!$D$9),W29)","v":113975.56941066236},{"$f":"X29/Dźwignie!$D$5","v":11.397556941066236},{"$f":"V29/Dźwignie!$D$2","v":0.80355289759668114},{"$f":"X29/Dźwignie!$D$3","v":1.1397556941066236},1.9333548572136936,1.1421357233288321,2.208153648295073]
[18,0.68152272701263428,{"$f":"NORMINV(B30,Dźwignie!$L$8,Dźwignie!$L$9)","v":373598.05561866687},{"$f":"Dźwignie!$L$7*C30","v":560397.08342800033},null,{"$f":"C30*Dźwignie!$G$5","v":373598.05561866687},186799.02780933346,{"$f":"Dźwignie!$G$6","v":50000},136799.02780933346,{"$f":"I30-Dźwignie!$D$6","v":116799.02780933346},{"$f":"IF(J30>0,J30*(1-Dźwignie!$D$9),J30)","v":94607.212525560113},{"$f":"K30/Dźwignie!$D$5","v":9.4607212525560112},{"$f":"I30/Dźwignie!$D$2","v":0.68399513904666731},{"$f":"K30/Dźwignie!$D$3","v":0.94607212525560114},1.3654996735041756,1.1712343019896421,1.5993200569637471,null,{"$f":"C30*Dźwignie!$G$8","v":186799.02780933343},373598.05561866693,{"$f":"Dźwignie!$G$9","v":150000},223598.05561866693,{"$f":"V30-Dźwignie!$D$6","v":203598.05561866693},{"$f":"IF(W30>0,W30*(1-Dźwignie!$D$9),W30)","v":164914.42505112023},{"$f":"X30/Dźwignie!$D$5","v":16.491442505112023},{"$f":"V30/Dźwignie!$D$2","v":1.1179902780933346},{"$f":"X30/Dźwignie!$D$3","v":1.6491442505112022},1.6708466206692603,1.0982327652355355,1.8349785045020515]
[19,0.84689241647720337,{"$f":"NORMINV(B31,Dźwignie!$L$8,Dźwignie!$L$9)","v":401159.80177292769},{"$f":"Dźwignie!$L$7*C31","v":601739.70265939157},null,{"$f":"C31*Dźwignie!$G$5","v":401159.80177292769},200579.90088646387,{"$f":"Dźwignie!$G$6","v":50000},150579.90088646387,{"$f":"I31-Dźwignie!$D$6","v":130579.90088646387},{"$f":"IF(J31>0,J31*(1-Dźwignie!$D$9),J31)","v":105769.71971803575},{"$f":"K31/Dźwignie!$D$5","v":10.576971971803575},{"$f":"I31/Dźwignie!$D$2","v":0.75289950443231934},{"$f":"K31/Dźwignie!$D$3","v":1.0576971971803575},1.3320496275110423,1.1531629283237819,1.5360702491332363,null,{"$f":"C31*Dźwignie!$G$8","v":200579.90088646385},401159.80177292775,{"$f":"Dźwignie!$G$9","v":150000},251159.80177292775,{"$f":"V31-Dźwignie!$D$6","v":231159.80177292775},{"$f":"IF(W31>0,W31*(1-Dźwignie!$D$9),W31)","v":187239.43943607149},{"$f":"X31/Dźwignie!$D$5","v":18.72394394360715},{"$f":"V31/Dźwignie!$D$2","v":1.2557990088646387},{"$f":"X31/Dźwignie!$D$3","v":1.8723943943607149},1.5972293294593942,1.0865202333909525,1.7354219838230955]
[20,0.10243129730224609,{"$f":"NORMINV(B32,Dźwignie!$L$8,Dźwignie!$L$9)","v":286609.04988678807},{"$f":"Dźwignie!$L$7*C32","v":429913.57483018213},null,{"$f":"C32*Dźwignie!$G$5","v":286609.04988678807},143304.52494339406,{"$f":"Dźwignie!$G$6","v":50000},93304.524943394063,{"$f":"I32-Dźwignie!$D$6","v":73304.524943394063},{"$f":"IF(J32>0,J32*(1-Dźwignie!$D$9),J32)","v":59376.665204149198},{"$f":"K32/Dźwignie!$D$5","v":5.9376665204149202},{"$f":"I32/Dźwignie!$D$2","v":0.46652262471697031},{"$f":"K32/Dźwignie!$D$3","v":0.59376665204149193},1.5358796910475025,1.2728344534726068,1.9549205871541242,null,{"$f":"C32*Dźwignie!$G$8","v":143304.52494339403},286609.04988678813,{"$f":"Dźwignie!$G$9","v":150000},136609.04988678813,{"$f":"V32-Dźwignie!$D$6","v":116609.04988678813},{"$f":"IF(W32>0,W32*(1-Dźwignie!$D$9),W32)","v":94453.330408298381},{"$f":"X32/Dźwignie!$D$5","v":9.4453330408298388},{"$f":"V32/Dźwignie!$D$2","v":0.68304524943394063},{"$f":"X32/Dźwignie!$D$3","v":0.94453330408298386},2.0980238873215891,1.1715132746507868,2.4578628345316882]
[21,0.76837080717086792,{"$f":"NORMINV(B33,Dźwignie!$L$8,Dźwignie!$L$9)","v":386674.60161758802},{"$f":"Dźwignie!$L$7*C33","v":580011.90242638206},null,{"$f":"C33*Dźwignie!$G$5","v":386674.60161758802},193337.30080879404,{"$f":"Dźwignie!$G$6","v":50000},143337.30080879404,{"$f":"I33-Dźwignie!$D$6","v":123337.30080879404},{"$f":"IF(J33>0,J33*(1-Dźwignie!$D$9),J33)","v":99903.213655123182},{"$f":"K33/Dźwignie!$D$5","v":9.9903213655123189},{"$f":"I33/Dźwignie!$D$2","v":0.71668650404397016},{"$f":"K33/Dźwignie!$D$3","v":0.9990321365512318},1.3488275537342362,1.1621569457807852,1.567549310232748,null,{"$f":"C33*Dźwignie!$G$8","v":193337.30080879401},386674.60161758808,{"$f":"Dźwignie!$G$9","v":150000},236674.60161758808,{"$f":"V33-Dźwignie!$D$6","v":216674.60161758808},{"$f":"IF(W33>0,W33*(1-Dźwignie!$D$9),W33)","v":175506.42731024636},{"$f":"X33/Dźwignie!$D$5","v":17.550642731024638},{"$f":"V33/Dźwignie!$D$2","v":1.1833730080879403},{"$f":"X33/Dźwignie!$D$3","v":1.7550642731024637},1.6337815674973255,1.0923043118606872,1.784586650815841]
[22,0.41038382053375244,{"$f":"NORMINV(B34,Dźwignie!$L$8,Dźwignie!$L$9)","v":338672.11201515415},{"$f":"Dźwignie!$L$7*C34","v":508008.1680227312},null,{"$f":"C34*Dźwignie!$G$5","v":338672.11201515415},169336.05600757705,{"$f":"Dźwignie!$G$6","v":50000},119336.05600757705,{"$f":"I34-Dźwignie!$D$6","v":99336.056007577048},{"$f":"IF(J34>0,J34*(1-Dźwignie!$D$9),J34)","v":80462.205366137408},{"$f":"K34/Dźwignie!$D$5","v":8.04622053661374},{"$f":"I34/Dźwignie!$D$2","v":0.5966802800378852},{"$f":"K34/Dźwignie!$D$3","v":0.80462205366137407},1.4189848539725942,1.2013367633447665,1.7046786717066824,null,{"$f":"C34*Dźwignie!$G$8","v":169336.05600757708},338672.1120151541,{"$f":"Dźwignie!$G$9","v":150000},188672.1120151541,{"$f":"V34-Dźwignie!$D$6","v":168672.1120151541},{"$f":"IF(W34>0,W34*(1-Dźwignie!$D$9),W34)","v":136624.41073227482},{"$f":"X34/Dźwignie!$D$5","v":13.662441073227482},{"$f":"V34/Dźwignie!$D$2","v":0.94336056007577052},{"$f":"X34/Dźwignie!$D$3","v":1.3662441073227483},1.7950300571604989,1.1185732470000918,2.0078725995007796]
[23,0.75235015153884888,{"$f":"NORMINV(B35,Dźwignie!$L$8,Dźwignie!$L$9)","v":384095.19676067785},{"$f":"Dźwignie!$L$7*C35","v":576142.79514101683},null,{"$f":"C35*Dźwignie!$G$5","v":384095.19676067785},192047.59838033898,{"$f":"Dźwignie!$G$6","v":50000},142047.59838033898,{"$f":"I35-Dźwignie!$D$6","v":122047.59838033898},{"$f":"IF(J35>0,J35*(1-Dźwignie!$D$9),J35)","v":98858.554688074582},{"$f":"K35/Dźwignie!$D$5","v":9.885855468807458},{"$f":"I35/Dźwignie!$D$2","v":0.7102379919016949},{"$f":"K35/Dźwignie!$D$3","v":0.98858554688074585},1.3519946874858293,1.1638704920491239,1.5735467221719335,null,{"$f":"C35*Dźwignie!$G$8","v":192047.59838033892},384095.19676067791,{"$f":"Dźwignie!$G$9","v":150000},234095.19676067791,{"$f":"V35-Dźwignie!$D$6","v":214095.19676067791},{"$f":"IF(W35>0,W35*(1-Dźwignie!$D$9),W35)","v":173417.10937614911},{"$f":"X35/Dźwignie!$D$5","v":17.341710937614909},{"$f":"V35/Dźwignie!$D$2","v":1.1704759838033896},{"$f":"X35/Dźwignie!$D$3","v":1.7341710937614911},1.6407649626119805,1.0934163881423113,1.7940392992096461]
[24,0.35993504524230957,{"$f":"NORMINV(B36,Dźwignie!$L$8,Dźwignie!$L$9)","v":332068.37900756177},{"$f":"Dźwignie!$L$7*C36","v":498102.56851134263},null,{"$f":"C36*Dźwignie!$G$5","v":332068.37900756177},166034.18950378086,{"$f":"Dźwignie!$G$6","v":50000},116034.18950378086,{"$f":"I36-Dźwignie!$D$6","v":96034.189503780857},{"$f":"IF(J36>0,J36*(1-Dźwignie!$D$9),J36)","v":77787.693498062494},{"$f":"K36/Dźwignie!$D$5","v":7.7787693498062493},{"$f":"I36/Dźwignie!$D$2","v":0.5801709475189043},{"$f":"K36/Dźwignie!$D$3","v":0.77787693498062493},1.4309074783374154,1.208259163776382,1.7289070732173368,null,{"$f":"C36*Dźwignie!$G$8","v":166034.18950378089},332068.37900756171,{"$f":"Dźwignie!$G$9","v":150000},182068.37900756171,{"$f":"V36-Dźwignie!$D$6","v":162068.37900756171},{"$f":"IF(W36>0,W36*(1-Dźwignie!$D$9),W36)","v":131275.38699612499},{"$f":"X36/Dźwignie!$D$5","v":13.127538699612499},{"$f":"V36/Dźwignie!$D$2","v":0.9103418950378086},{"$f":"X36/Dźwignie!$D$3","v":1.3127538699612498},1.8238662903335354,1.1234047019071305,2.0489399662106091]
[25,0.32422870397567749,{"$f":"NORMINV(B37,Dźwignie!$L$8,Dźwignie!$L$9)","v":327204.68840203795},{"$f":"Dźwignie!$L$7*C37","v":490807.03260305693},null,{"$f":"C37*Dźwignie!$G$5","v":327204.68840203795},163602.34420101898,{"$f":"Dźwignie!$G$6","v":50000},113602.34420101898,{"$f":"I37-Dźwignie!$D$6","v":93602.344201018976},{"$f":"IF(J37>0,J37*(1-Dźwignie!$D$9),J37)","v":75817.898802825381},{"$f":"K37/Dźwignie!$D$5","v":7.5817898802825381},{"$f":"I37/Dźwignie!$D$2","v":0.56801172100509489},{"$f":"K37/Dźwignie!$D$3","v":0.75817898802825379},1.4401317626995898,1.2136698623385789,1.747844518185026,null,{"$f":"C37*Dźwignie!$G$8","v":163602.34420101898},327204.68840203795,{"$f":"Dźwignie!$G$9","v":150000},177204.68840203795,{"$f":"V37-Dźwignie!$D$6","v":157204.68840203795},{"$f":"IF(W37>0,W37*(1-Dźwignie!$D$9),W37)","v":127335.79760565075},{"$f":"X37/Dźwignie!$D$5","v":12.733579760565075},{"$f":"V37/Dźwignie!$D$2","v":0.88602344201018979},{"$f":"X37/Dźwignie!$D$3","v":1.2733579760565075},1.8464787323215932,1.127222668759418,2.0813926844550532]
[26,7.7027082443237305E-3,{"$f":"NORMINV(B38,Dźwignie!$L$8,Dźwignie!$L$9)","v":228864.73284774146},{"$f":"Dźwignie!$L$7*C38","v":343297.09927161218},null,{"$f":"C38*Dźwignie!$G$5","v":228864.73284774146},114432.36642387073,{"$f":"Dźwignie!$G$6","v":50000},64432.366423870728,{"$f":"I38-Dźwignie!$D$6","v":44432.366423870728},{"$f":"IF(J38>0,J38*(1-Dźwignie!$D$9),J38)","v":35990.216803335294},{"$f":"K38/Dźwignie!$D$5","v":3.5990216803335295},{"$f":"I38/Dźwignie!$D$2","v":0.32216183211935362},{"$f":"K38/Dźwignie!$D$3","v":0.35990216803335295},1.7760075063993945,1.4501223232003069,2.5754281312010741,null,{"$f":"C38*Dźwignie!$G$8","v":114432.36642387073},228864.73284774146,{"$f":"Dźwignie!$G$9","v":150000},78864.732847741456,{"$f":"V38-Dźwignie!$D$6","v":58864.732847741456},{"$f":"IF(W38>0,W38*(1-Dźwignie!$D$9),W38)","v":47680.43360667058},{"$f":"X38/Dźwignie!$D$5","v":4.7680433606670576},{"$f":"V38/Dźwignie!$D$2","v":0.39432366423870729},{"$f":"X38/Dźwignie!$D$3","v":0.4768043360667058},2.9019908466512447,1.3397620108415622,3.8879770921532795]
[27,0.41571575403213501,{"$f":"NORMINV(B39,Dźwignie!$L$8,Dźwignie!$L$9)","v":339356.70162852359},{"$f":"Dźwignie!$L$7*C39","v":509035.05244278535},null,{"$f":"C39*Dźwignie!$G$5","v":339356.70162852359},169678.35081426176,{"$f":"Dźwignie!$G$6","v":50000},119678.35081426176,{"$f":"I39-Dźwignie!$D$6","v":99678.350814261765},{"$f":"IF(J39>0,J39*(1-Dźwignie!$D$9),J39)","v":80739.464159552037},{"$f":"K39/Dźwignie!$D$5","v":8.0739464159552039},{"$f":"I39/Dźwignie!$D$2","v":0.59839175407130885},{"$f":"K39/Dźwignie!$D$3","v":0.80739464159552032},1.4177865057448771,1.2006453742123755,1.7022588097433142,null,{"$f":"C39*Dźwignie!$G$8","v":169678.35081426179},339356.70162852353,{"$f":"Dźwignie!$G$9","v":150000},189356.70162852353,{"$f":"V39-Dźwignie!$D$6","v":169356.70162852353},{"$f":"IF(W39>0,W39*(1-Dźwignie!$D$9),W39)","v":137178.92831910407},{"$f":"X39/Dźwignie!$D$5","v":13.717892831910408},{"$f":"V39/Dźwignie!$D$2","v":0.94678350814261769},{"$f":"X39/Dźwignie!$D$3","v":1.3717892831910408},1.7921557500207583,1.1180939390510163,2.0037984819336381]
[28,0.25387144088745117,{"$f":"NORMINV(B40,Dźwignie!$L$8,Dźwignie!$L$9)","v":316882.18333207036},{"$f":"Dźwignie!$L$7*C40","v":475323.27499810554},null,{"$f":"C40*Dźwignie!$G$5","v":316882.18333207036},158441.09166603518,{"$f":"Dźwignie!$G$6","v":50000},108441.09166603518,{"$f":"I40-Dźwignie!$D$6","v":88441.09166603518},{"$f":"IF(J40>0,J40*(1-Dźwignie!$D$9),J40)","v":71637.284249488497},{"$f":"K40/Dźwignie!$D$5","v":7.1637284249488493},{"$f":"I40/Dźwignie!$D$2","v":0.54220545833017586},{"$f":"K40/Dźwignie!$D$3","v":0.71637284249488498},1.4610798289820288,1.2261392258196286,1.7914872903687002,null,{"$f":"C40*Dźwignie!$G$8","v":158441.09166603518},316882.18333207036,{"$f":"Dźwignie!$G$9","v":150000},166882.18333207036,{"$f":"V40-Dźwignie!$D$6","v":146882.18333207036},{"$f":"IF(W40>0,W40*(1-Dźwignie!$D$9),W40)","v":118974.56849897699},{"$f":"X40/Dźwignie!$D$5","v":11.897456849897699},{"$f":"V40/Dźwignie!$D$2","v":0.83441091666035183},{"$f":"X40/Dźwignie!$D$3","v":1.1897456849897698},1.8988377129601823,1.1361635533071028,2.1573902031103733]
[29,0.24031990766525269,{"$f":"NORMINV(B41,Dźwignie!$L$8,Dźwignie!$L$9)","v":314736.30625724857},{"$f":"Dźwignie!$L$7*C41","v":472104.45938587282},null,{"$f":"C41*Dźwignie!$G$5","v":314736.30625724857},157368.15312862425,{"$f":"Dźwignie!$G$6","v":50000},107368.15312862425,{"$f":"I41-Dźwignie!$D$6","v":87368.153128624253},{"$f":"IF(J41>0,J41*(1-Dźwignie!$D$9),J41)","v":70768.204034185648},{"$f":"K41/Dźwignie!$D$5","v":7.0768204034185649},{"$f":"I41/Dźwignie!$D$2","v":0.53684076564312122},{"$f":"K41/Dźwignie!$D$3","v":0.70768204034185644},1.4656874365725683,1.2289163646455454,1.8012072762594091,null,{"$f":"C41*Dźwignie!$G$8","v":157368.15312862428},314736.30625724851,{"$f":"Dźwignie!$G$9","v":150000},164736.30625724851,{"$f":"V41-Dźwignie!$D$6","v":144736.30625724851},{"$f":"IF(W41>0,W41*(1-Dźwignie!$D$9),W41)","v":117236.4080683713},{"$f":"X41/Dźwignie!$D$5","v":11.72364080683713},{"$f":"V41/Dźwignie!$D$2","v":0.82368153128624255},{"$f":"X41/Dźwignie!$D$3","v":1.172364080683713},1.9105460927706086,1.1381823297635687,2.1745498029903345]
[30,0.71572792530059814,{"$f":"NORMINV(B42,Dźwignie!$L$8,Dźwignie!$L$9)","v":378509.8456660611},{"$f":"Dźwignie!$L$7*C42","v":567764.76849909162},null,{"$f":"C42*Dźwignie!$G$5","v":378509.8456660611},189254.92283303052,{"$f":"Dźwignie!$G$6","v":50000},139254.92283303052,{"$f":"I42-Dźwignie!$D$6","v":119254.92283303052},{"$f":"IF(J42>0,J42*(1-Dźwignie!$D$9),J42)","v":96596.487494754721},{"$f":"K42/Dźwignie!$D$5","v":9.6596487494754726},{"$f":"I42/Dźwignie!$D$2","v":0.69627461416515257},{"$f":"K42/Dźwignie!$D$3","v":0.96596487494754724},1.3590537338486124,1.1677079614398989,1.586977865039646,null,{"$f":"C42*Dźwignie!$G$8","v":189254.92283303055},378509.84566606104,{"$f":"Dźwignie!$G$9","v":150000},228509.84566606104,{"$f":"V42-Dźwignie!$D$6","v":208509.84566606104},{"$f":"IF(W42>0,W42*(1-Dźwignie!$D$9),W42)","v":168892.97498950944},{"$f":"X42/Dźwignie!$D$5","v":16.889297498950945},{"$f":"V42/Dźwignie!$D$2","v":1.1425492283303051},{"$f":"X42/Dźwignie!$D$3","v":1.6889297498950944},1.6564268579446966,1.0959187319721631,1.8153092217633862]
[31,0.17274361848831177,{"$f":"NORMINV(B43,Dźwignie!$L$8,Dźwignie!$L$9)","v":302831.06528705161},{"$f":"Dźwignie!$L$7*C43","v":454246.59793057741},null,{"$f":"C43*Dźwignie!$G$5","v":302831.06528705161},151415.5326435258,{"$f":"Dźwignie!$G$6","v":50000},101415.5326435258,{"$f":"I43-Dźwignie!$D$6","v":81415.532643525803},{"$f":"IF(J43>0,J43*(1-Dźwignie!$D$9),J43)","v":65946.581441255898},{"$f":"K43/Dźwignie!$D$5","v":6.5946581441255896},{"$f":"I43/Dźwignie!$D$2","v":0.50707766321762904},{"$f":"K43/Dźwignie!$D$3","v":0.65946581441255903},1.4930211250356422,1.2456533704393864,1.8597867965378523,null,{"$f":"C43*Dźwignie!$G$8","v":151415.5326435258},302831.06528705161,{"$f":"Dźwignie!$G$9","v":150000},152831.06528705161,{"$f":"V43-Dźwignie!$D$6","v":132831.06528705161},{"$f":"IF(W43>0,W43*(1-Dźwignie!$D$9),W43)","v":107593.16288251181},{"$f":"X43/Dźwignie!$D$5","v":10.759316288251181},{"$f":"V43/Dźwignie!$D$2","v":0.76415532643525808},{"$f":"X43/Dźwignie!$D$3","v":1.0759316288251182},1.9814758519039686,1.1505671881557182,2.2798210993236054]
[32,0.5894773006439209,{"$f":"NORMINV(B44,Dźwignie!$L$8,Dźwignie!$L$9)","v":361310.03033814533},{"$f":"Dźwignie!$L$7*C44","v":541965.04550721799},null,{"$f":"C44*Dźwignie!$G$5","v":361310.03033814533},180655.01516907266,{"$f":"Dźwignie!$G$6","v":50000},130655.01516907266,{"$f":"I44-Dźwignie!$D$6","v":110655.01516907266},{"$f":"IF(J44>0,J44*(1-Dźwignie!$D$9),J44)","v":89630.562286948858},{"$f":"K44/Dźwignie!$D$5","v":8.9630562286948852},{"$f":"I44/Dźwignie!$D$2","v":0.65327507584536326},{"$f":"K44/Dźwignie!$D$3","v":0.89630562286948856},1.3826871852970821,1.1807419209101502,1.6325967231855254,null,{"$f":"C44*Dźwignie!$G$8","v":180655.01516907266},361310.03033814533,{"$f":"Dźwignie!$G$9","v":150000},211310.03033814533,{"$f":"V44-Dźwignie!$D$6","v":191310.03033814533},{"$f":"IF(W44>0,W44*(1-Dźwignie!$D$9),W44)","v":154961.12457389772},{"$f":"X44/Dźwignie!$D$5","v":15.496112457389772},{"$f":"V44/Dźwignie!$D$2","v":1.0565501516907265},{"$f":"X44/Dźwignie!$D$3","v":1.5496112457389772},1.7098574533351067,1.1045423492152999,1.8886099683300488]
[33,0.66343396902084351,{"$f":"NORMINV(B45,Dźwignie!$L$8,Dźwignie!$L$9)","v":371092.66751216463},{"$f":"Dźwignie!$L$7*C45","v":556639.00126824691},null,{"$f":"C45*Dźwignie!$G$5","v":371092.66751216463},185546.33375608228,{"$f":"Dźwignie!$G$6","v":50000},135546.33375608228,{"$f":"I45-Dźwignie!$D$6","v":115546.33375608228},{"$f":"IF(J45>0,J45*(1-Dźwignie!$D$9),J45)","v":93592.53034242666},{"$f":"K45/Dźwignie!$D$5","v":9.3592530342426663},{"$f":"I45/Dźwignie!$D$2","v":0.67773166878041147},{"$f":"K45/Dźwignie!$D$3","v":0.93592530342426661},1.3688775536339903,1.1730907364159204,1.6058175774557213,null,{"$f":"C45*Dźwignie!$G$8","v":185546.33375608231},371092.66751216457,{"$f":"Dźwignie!$G$9","v":150000},221092.66751216457,{"$f":"V45-Dźwignie!$D$6","v":201092.66751216457},{"$f":"IF(W45>0,W45*(1-Dźwignie!$D$9),W45)","v":162885.06068485332},{"$f":"X45/Dźwignie!$D$5","v":16.288506068485333},{"$f":"V45/Dźwignie!$D$2","v":1.1054633375608229},{"$f":"X45/Dźwignie!$D$3","v":1.6288506068485331},1.6784485514054732,1.0994566348312533,1.8453813960656535]
[34,0.40659081935882568,{"$f":"NORMINV(B46,Dźwignie!$L$8,Dźwignie!$L$9)","v":338183.8240830361},{"$f":"Dźwignie!$L$7*C46","v":507275.73612455418},null,{"$f":"C46*Dźwignie!$G$5","v":338183.8240830361},169091.91204151808,{"$f":"Dźwignie!$G$6","v":50000},119091.91204151808,{"$f":"I46-Dźwignie!$D$6","v":99091.912041518081},{"$f":"IF(J46>0,J46*(1-Dźwignie!$D$9),J46)","v":80264.448753629651},{"$f":"K46/Dźwignie!$D$5","v":8.0264448753629658},{"$f":"I46/Dźwignie!$D$2","v":0.59545956020759039},{"$f":"K46/Dźwignie!$D$3","v":0.80264448753629647},1.4198437924362899,1.2018328195304202,1.706414868356471,null,{"$f":"C46*Dźwignie!$G$8","v":169091.91204151805},338183.82408303616,{"$f":"Dźwignie!$G$9","v":150000},188183.82408303616,{"$f":"V46-Dźwignie!$D$6","v":168183.82408303616},{"$f":"IF(W46>0,W46*(1-Dźwignie!$D$9),W46)","v":136228.8975072593},{"$f":"X46/Dźwignie!$D$5","v":13.62288975072593},{"$f":"V46/Dźwignie!$D$2","v":0.94091912041518078},{"$f":"X46/Dźwignie!$D$3","v":1.3622889750725931},1.7970929527599167,1.118917500592242,2.0107987550340582]
[35,0.46953970193862915,{"$f":"NORMINV(B47,Dźwignie!$L$8,Dźwignie!$L$9)","v":346178.65090188984},{"$f":"Dźwignie!$L$7*C47","v":519267.97635283472},null,{"$f":"C47*Dźwignie!$G$5","v":346178.65090188984},173089.32545094489,{"$f":"Dźwignie!$G$6","v":50000},123089.32545094489,{"$f":"I47-Dźwignie!$D$6","v":103089.32545094489},{"$f":"IF(J47>0,J47*(1-Dźwignie!$D$9),J47)","v":83502.353615265369},{"$f":"K47/Dźwignie!$D$5","v":8.3502353615265363},{"$f":"I47/Dźwignie!$D$2","v":0.61544662725472443},{"$f":"K47/Dźwignie!$D$3","v":0.83502353615265368},1.4062090666012028,1.1940065075846966,1.6790227765464383,null,{"$f":"C47*Dźwignie!$G$8","v":173089.32545094492},346178.65090188978,{"$f":"Dźwignie!$G$9","v":150000},196178.65090188978,{"$f":"V47-Dźwignie!$D$6","v":176178.65090188978},{"$f":"IF(W47>0,W47*(1-Dźwignie!$D$9),W47)","v":142704.70723053074},{"$f":"X47/Dźwignie!$D$5","v":14.270470723053073},{"$f":"V47/Dźwignie!$D$2","v":0.98089325450944886},{"$f":"X47/Dźwignie!$D$3","v":1.4270470723053075},1.7646091932552639,1.1135211326549299,1.9649296275669035]
[36,0.84093475341796875,{"$f":"NORMINV(B48,Dźwignie!$L$8,Dźwignie!$L$9)","v":399915.35217840335},{"$f":"Dźwignie!$L$7*C48","v":599873.028267605},null,{"$f":"C48*Dźwignie!$G$5","v":399915.35217840335},199957.67608920165,{"$f":"Dźwignie!$G$6","v":50000},149957.67608920165,{"$f":"I48-Dźwignie!$D$6","v":129957.67608920165},{"$f":"IF(J48>0,J48*(1-Dźwignie!$D$9),J48)","v":105265.71763225333},{"$f":"K48/Dźwignie!$D$5","v":10.526571763225334},{"$f":"I48/Dźwignie!$D$2","v":0.74978838044600826},{"$f":"K48/Dźwignie!$D$3","v":1.0526571763225334},1.3334274130139074,1.1538962576267693,1.5386369016936923,null,{"$f":"C48*Dźwignie!$G$8","v":199957.67608920168},399915.35217840329,{"$f":"Dźwignie!$G$9","v":150000},249915.35217840329,{"$f":"V48-Dźwignie!$D$6","v":229915.35217840329},{"$f":"IF(W48>0,W48*(1-Dźwignie!$D$9),W48)","v":186231.43526450667},{"$f":"X48/Dźwignie!$D$5","v":18.623143526450665},{"$f":"V48/Dźwignie!$D$2","v":1.2495767608920165},{"$f":"X48/Dźwignie!$D$3","v":1.8623143526450667},1.600203223581566,1.0869885364787688,1.7394025600695344]
[37,0.73352450132369995,{"$f":"NORMINV(B49,Dźwignie!$L$8,Dźwignie!$L$9)","v":381175.38092808885},{"$f":"Dźwignie!$L$7*C49","v":571763.07139213325},null,{"$f":"C49*Dźwignie!$G$5","v":381175.38092808885},190587.6904640444,{"$f":"Dźwignie!$G$6","v":50000},140587.6904640444,{"$f":"I49-Dźwignie!$D$6","v":120587.6904640444},{"$f":"IF(J49>0,J49*(1-Dźwignie!$D$9),J49)","v":97676.029275875975},{"$f":"K49/Dźwignie!$D$5","v":9.767602927587598},{"$f":"I49/Dźwignie!$D$2","v":0.70293845232022201},{"$f":"K49/Dźwignie!$D$3","v":0.97676029275875975},1.3556499138364295,1.1658544078838908,1.5804904275936182,null,{"$f":"C49*Dźwignie!$G$8","v":190587.69046404443},381175.38092808879,{"$f":"Dźwignie!$G$9","v":150000},231175.38092808879,{"$f":"V49-Dźwignie!$D$6","v":211175.38092808879},{"$f":"IF(W49>0,W49*(1-Dźwignie!$D$9),W49)","v":171052.05855175192},{"$f":"X49/Dźwignie!$D$5","v":17.105205855175193},{"$f":"V49/Dźwignie!$D$2","v":1.155876904640444},{"$f":"X49/Dźwignie!$D$3","v":1.7105205855175192},1.6488580202519929,1.0947080095800115,1.8050180814300973]
[38,0.97293055057525635,{"$f":"NORMINV(B50,Dźwignie!$L$8,Dźwignie!$L$9)","v":446286.17864715843},{"$f":"Dźwignie!$L$7*C50","v":669429.26797073765},null,{"$f":"C50*Dźwignie!$G$5","v":446286.17864715843},223143.08932357922,{"$f":"Dźwignie!$G$6","v":50000},173143.08932357922,{"$f":"I50-Dźwignie!$D$6","v":153143.08932357922},{"$f":"IF(J50>0,J50*(1-Dźwignie!$D$9),J50)","v":124045.90235209918},{"$f":"K50/Dźwignie!$D$5","v":12.404590235209918},{"$f":"I50/Dźwignie!$D$2","v":0.86571544661789612},{"$f":"K50/Dźwignie!$D$3","v":1.2404590235209918},1.288778490642253,1.1305968169268257,1.45708885924389,null,{"$f":"C50*Dźwignie!$G$8","v":223143.08932357922},446286.17864715843,{"$f":"Dźwignie!$G$9","v":150000},296286.17864715843,{"$f":"V50-Dźwignie!$D$6","v":276286.17864715843},{"$f":"IF(W50>0,W50*(1-Dźwignie!$D$9),W50)","v":223791.80470419835},{"$f":"X50/Dźwignie!$D$5","v":22.379180470419836},{"$f":"V50/Dźwignie!$D$2","v":1.4814308932357922},{"$f":"X50/Dźwignie!$D$3","v":2.2379180470419837},1.5062672875424006,1.0723887097716231,1.6153040330587976]
[39,0.69068652391433716,{"$f":"NORMINV(B51,Dźwignie!$L$8,Dźwignie!$L$9)","v":374889.86266069254},{"$f":"Dźwignie!$L$7*C51","v":562334.79399103881},null,{"$f":"C51*Dźwignie!$G$5","v":374889.86266069254},187444.93133034627,{"$f":"Dźwignie!$G$6","v":50000},137444.93133034627,{"$f":"I51-Dźwignie!$D$6","v":117444.93133034627},{"$f":"IF(J51>0,J51*(1-Dźwignie!$D$9),J51)","v":95130.39437758048},{"$f":"K51/Dźwignie!$D$5","v":9.5130394377580476},{"$f":"I51/Dźwignie!$D$2","v":0.68722465665173138},{"$f":"K51/Dźwignie!$D$3","v":0.95130394377580485},1.3637820581380768,1.1702925768992489,1.5960240191473714,null,{"$f":"C51*Dźwignie!$G$8","v":187444.93133034627},374889.86266069254,{"$f":"Dźwignie!$G$9","v":150000},224889.86266069254,{"$f":"V51-Dźwignie!$D$6","v":204889.86266069254},{"$f":"IF(W51>0,W51*(1-Dźwignie!$D$9),W51)","v":165960.78875516096},{"$f":"X51/Dźwignie!$D$5","v":16.596078875516096},{"$f":"V51/Dźwignie!$D$2","v":1.1244493133034628},{"$f":"X51/Dźwignie!$D$3","v":1.6596078875516096},1.6669931593418053,1.0976134189377684,1.829714060971031]
[40,0.66699624061584473,{"$f":"NORMINV(B52,Dźwignie!$L$8,Dźwignie!$L$9)","v":371581.69479857932},{"$f":"Dźwignie!$L$7*C52","v":557372.54219786893},null,{"$f":"C52*Dźwignie!$G$5","v":371581.69479857932},185790.8473992896,{"$f":"Dźwignie!$G$6","v":50000},135790.8473992896,{"$f":"I52-Dźwignie!$D$6","v":115790.8473992896},{"$f":"IF(J52>0,J52*(1-Dźwignie!$D$9),J52)","v":93790.586393424586},{"$f":"K52/Dźwignie!$D$5","v":9.3790586393424586},{"$f":"I52/Dźwignie!$D$2","v":0.67895423699644797},{"$f":"K52/Dźwignie!$D$3","v":0.93790586393424591},1.3682133292310654,1.1727252235319827,1.6045382823619394,null,{"$f":"C52*Dźwignie!$G$8","v":185790.84739928966},371581.69479857926,{"$f":"Dźwignie!$G$9","v":150000},221581.69479857926,{"$f":"V52-Dźwignie!$D$6","v":201581.69479857926},{"$f":"IF(W52>0,W52*(1-Dźwignie!$D$9),W52)","v":163281.1727868492},{"$f":"X52/Dźwignie!$D$5","v":16.328117278684921},{"$f":"V52/Dźwignie!$D$2","v":1.1079084739928964},{"$f":"X52/Dźwignie!$D$3","v":1.6328117278684919},1.6769512262118584,1.0992153579221766,1.8433305423385009]
[41,3.6834180355072021E-2,{"$f":"NORMINV(B53,Dźwignie!$L$8,Dźwignie!$L$9)","v":260566.61901609381},{"$f":"Dźwignie!$L$7*C53","v":390849.92852414073},null,{"$f":"C53*Dźwignie!$G$5","v":260566.61901609381},130283.30950804692,{"$f":"Dźwignie!$G$6","v":50000},80283.309508046921,{"$f":"I53-Dźwignie!$D$6","v":60283.309508046921},{"$f":"IF(J53>0,J53*(1-Dźwignie!$D$9),J53)","v":48829.480701518012},{"$f":"K53/Dźwignie!$D$5","v":4.8829480701518015},{"$f":"I53/Dźwignie!$D$2","v":0.40141654754023459},{"$f":"K53/Dźwignie!$D$3","v":0.48829480701518013},1.6227944551163329,1.3317667885723874,2.1611837600033561,null,{"$f":"C53*Dźwignie!$G$8","v":130283.30950804691},260566.61901609384,{"$f":"Dźwignie!$G$9","v":150000},110566.61901609384,{"$f":"V53-Dźwignie!$D$6","v":90566.619016093842},{"$f":"IF(W53>0,W53*(1-Dźwignie!$D$9),W53)","v":73358.96140303601},{"$f":"X53/Dźwignie!$D$5","v":7.3358961403036007},{"$f":"V53/Dźwignie!$D$2","v":0.55283309508046918},{"$f":"X53/Dźwignie!$D$3","v":0.73358961403036005},2.3566481577786722,1.2208319159672503,2.8770712857216272]
[42,0.96851909160614014,{"$f":"NORMINV(B54,Dźwignie!$L$8,Dźwignie!$L$9)","v":442973.05196046806},{"$f":"Dźwignie!$L$7*C54","v":664459.57794070209},null,{"$f":"C54*Dźwignie!$G$5","v":442973.05196046806},221486.52598023403,{"$f":"Dźwignie!$G$6","v":50000},171486.52598023403,{"$f":"I54-Dźwignie!$D$6","v":151486.52598023403},{"$f":"IF(J54>0,J54*(1-Dźwignie!$D$9),J54)","v":122704.08604398958},{"$f":"K54/Dźwignie!$D$5","v":12.270408604398957},{"$f":"I54/Dźwignie!$D$2","v":0.8574326299011702},{"$f":"K54/Dźwignie!$D$3","v":1.2270408604398957},1.2915680967597603,1.132024943278517,1.4620873014748097,null,{"$f":"C54*Dźwignie!$G$8","v":221486.52598023403},442973.05196046806,{"$f":"Dźwignie!$G$9","v":150000},292973.05196046806,{"$f":"V54-Dźwignie!$D$6","v":272973.05196046806},{"$f":"IF(W54>0,W54*(1-Dźwignie!$D$9),W54)","v":221108.17208797915},{"$f":"X54/Dźwignie!$D$5","v":22.110817208797915},{"$f":"V54/Dźwignie!$D$2","v":1.4648652598023404},{"$f":"X54/Dźwignie!$D$3","v":2.2110817208797915},1.5119924818895631,1.0732673055320361,1.6227720970223074]
[43,0.23736816644668579,{"$f":"NORMINV(B55,Dźwignie!$L$8,Dźwignie!$L$9)","v":314260.29916536185},{"$f":"Dźwignie!$L$7*C55","v":471390.44874804281},null,{"$f":"C55*Dźwignie!$G$5","v":314260.29916536185},157130.14958268096,{"$f":"Dźwignie!$G$6","v":50000},107130.14958268096,{"$f":"I55-Dźwignie!$D$6","v":87130.149582680955},{"$f":"IF(J55>0,J55*(1-Dźwignie!$D$9),J55)","v":70575.421161971579},{"$f":"K55/Dźwignie!$D$5","v":7.0575421161971583},{"$f":"I55/Dźwignie!$D$2","v":0.53565074791340472},{"$f":"K55/Dźwignie!$D$3","v":0.70575421161971574},1.4667220217163142,1.2295416695115537,1.8033958432904382,null,{"$f":"C55*Dźwignie!$G$8","v":157130.14958268093},314260.29916536191,{"$f":"Dźwignie!$G$9","v":150000},164260.29916536191,{"$f":"V55-Dźwignie!$D$6","v":144260.29916536191},{"$f":"IF(W55>0,W55*(1-Dźwignie!$D$9),W55)","v":116850.84232394316},{"$f":"X55/Dźwignie!$D$5","v":11.685084232394315},{"$f":"V55/Dźwignie!$D$2","v":0.82130149582680956},{"$f":"X55/Dźwignie!$D$3","v":1.1685084232394316},1.9131847486104603,1.1386382817428828,2.1784253948145036]
[44,0.67660951614379883,{"$f":"NORMINV(B56,Dźwignie!$L$8,Dźwignie!$L$9)","v":372911.9343978556},{"$f":"Dźwignie!$L$7*C56","v":559367.90159678343},null,{"$f":"C56*Dźwignie!$G$5","v":372911.9343978556},186455.96719892783,{"$f":"Dźwignie!$G$6","v":50000},136455.96719892783,{"$f":"I56-Dźwignie!$D$6","v":116455.96719892783},{"$f":"IF(J56>0,J56*(1-Dźwignie!$D$9),J56)","v":94329.333431131541},{"$f":"K56/Dźwignie!$D$5","v":9.4329333431131541},{"$f":"I56/Dźwignie!$D$2","v":0.68227983599463915},{"$f":"K56/Dźwignie!$D$3","v":0.94329333431131546},1.3664185672958453,1.1717387307928704,1.6010855577750462,null,{"$f":"C56*Dźwignie!$G$8","v":186455.9671989278},372911.93439785566,{"$f":"Dźwignie!$G$9","v":150000},222911.93439785566,{"$f":"V56-Dźwignie!$D$6","v":202911.93439785566},{"$f":"IF(W56>0,W56*(1-Dźwignie!$D$9),W56)","v":164358.66686226308},{"$f":"X56/Dźwignie!$D$5","v":16.435866686226309},{"$f":"V56/Dźwignie!$D$2","v":1.1145596719892783},{"$f":"X56/Dźwignie!$D$3","v":1.6435866686226308},1.6729114814116608,1.09856492699333,1.8378018794433046]
[45,0.30901974439620972,{"$f":"NORMINV(B57,Dźwignie!$L$8,Dźwignie!$L$9)","v":325068.45899701893},{"$f":"Dźwignie!$L$7*C57","v":487602.68849552842},null,{"$f":"C57*Dźwignie!$G$5","v":325068.45899701893},162534.22949850949,{"$f":"Dźwignie!$G$6","v":50000},112534.22949850949,{"$f":"I57-Dźwignie!$D$6","v":92534.229498509492},{"$f":"IF(J57>0,J57*(1-Dźwignie!$D$9),J57)","v":74952.725893792696},{"$f":"K57/Dźwignie!$D$5","v":7.4952725893792698},{"$f":"I57/Dźwignie!$D$2","v":0.56267114749254743},{"$f":"K57/Dźwignie!$D$3","v":0.74952725893792693},1.44430925792816,1.216136235297903,1.7564768235426604,null,{"$f":"C57*Dźwignie!$G$8","v":162534.22949850946},325068.45899701898,{"$f":"Dźwignie!$G$9","v":150000},175068.45899701898,{"$f":"V57-Dźwignie!$D$6","v":155068.45899701898},{"$f":"IF(W57>0,W57*(1-Dźwignie!$D$9),W57)","v":125605.45178758539},{"$f":"X57/Dźwignie!$D$5","v":12.56054517875854},{"$f":"V57/Dźwignie!$D$2","v":0.87534229498509497},{"$f":"X57/Dźwignie!$D$3","v":1.256054517875854},1.8568076788895147,1.1289752934243351,2.0962899941068485]
[46,0.49888622760772705,{"$f":"NORMINV(B58,Dźwignie!$L$8,Dźwignie!$L$9)","v":349860.40915016731},{"$f":"Dźwignie!$L$7*C58","v":524790.61372525094},null,{"$f":"C58*Dźwignie!$G$5","v":349860.40915016731},174930.20457508363,{"$f":"Dźwignie!$G$6","v":50000},124930.20457508363,{"$f":"I58-Dźwignie!$D$6","v":104930.20457508363},{"$f":"IF(J58>0,J58*(1-Dźwignie!$D$9),J58)","v":84993.46570581774},{"$f":"K58/Dźwignie!$D$5","v":8.4993465705817748},{"$f":"I58/Dźwignie!$D$2","v":0.62465102287541818},{"$f":"K58/Dźwignie!$D$3","v":0.84993465705817739},1.400223470137278,1.1906028877098858,1.6671101069846002,null,{"$f":"C58*Dźwignie!$G$8","v":174930.20457508366},349860.40915016725,{"$f":"Dźwignie!$G$9","v":150000},199860.40915016725,{"$f":"V58-Dźwignie!$D$6","v":179860.40915016725},{"$f":"IF(W58>0,W58*(1-Dźwignie!$D$9),W58)","v":145686.93141163548},{"$f":"X58/Dźwignie!$D$5","v":14.568693141163548},{"$f":"V58/Dźwignie!$D$2","v":0.99930204575083625},{"$f":"X58/Dźwignie!$D$3","v":1.4568693141163549},1.7505238312971525,1.1111973451772914,1.9451774340069765]
[47,0.85549527406692505,{"$f":"NORMINV(B59,Dźwignie!$L$8,Dźwignie!$L$9)","v":403014.8556913982},{"$f":"Dźwignie!$L$7*C59","v":604522.28353709728},null,{"$f":"C59*Dźwignie!$G$5","v":403014.8556913982},201507.42784569907,{"$f":"Dźwignie!$G$6","v":50000},151507.42784569907,{"$f":"I59-Dźwignie!$D$6","v":131507.42784569907},{"$f":"IF(J59>0,J59*(1-Dźwignie!$D$9),J59)","v":106521.01655501625},{"$f":"K59/Dźwignie!$D$5","v":10.652101655501625},{"$f":"I59/Dźwignie!$D$2","v":0.75753713922849542},{"$f":"K59/Dźwignie!$D$3","v":1.0652101655501625},1.3300168230096407,1.1520826642846858,1.5322893249964002,null,{"$f":"C59*Dźwignie!$G$8","v":201507.4278456991},403014.85569139814,{"$f":"Dźwignie!$G$9","v":150000},253014.85569139814,{"$f":"V59-Dźwignie!$D$6","v":233014.85569139814},{"$f":"IF(W59>0,W59*(1-Dźwignie!$D$9),W59)","v":188742.0331100325},{"$f":"X59/Dźwignie!$D$5","v":18.874203311003249},{"$f":"V59/Dźwignie!$D$2","v":1.2650742784569908},{"$f":"X59/Dźwignie!$D$3","v":1.887420331100325},1.5928505644069959,1.0858314374019471,1.7295672179165511]
[48,0.44454264640808105,{"$f":"NORMINV(B60,Dźwignie!$L$8,Dźwignie!$L$9)","v":343026.91333690775},{"$f":"Dźwignie!$L$7*C60","v":514540.37000536162},null,{"$f":"C60*Dźwignie!$G$5","v":343026.91333690775},171513.45666845387,{"$f":"Dźwignie!$G$6","v":50000},121513.45666845387,{"$f":"I60-Dźwignie!$D$6","v":101513.45666845387},{"$f":"IF(J60>0,J60*(1-Dźwignie!$D$9),J60)","v":82225.899901447643},{"$f":"K60/Dźwignie!$D$5","v":8.2225899901447637},{"$f":"I60/Dźwignie!$D$2","v":0.60756728334226939},{"$f":"K60/Dźwignie!$D$3","v":0.82225899901447641},1.4114770608198861,1.1970182146916799,1.6895637514208797,null,{"$f":"C60*Dźwignie!$G$8","v":171513.45666845387},343026.91333690775,{"$f":"Dźwignie!$G$9","v":150000},193026.91333690775,{"$f":"V60-Dźwignie!$D$6","v":173026.91333690775},{"$f":"IF(W60>0,W60*(1-Dźwignie!$D$9),W60)","v":140151.79980289529},{"$f":"X60/Dźwignie!$D$5","v":14.015179980289529},{"$f":"V60/Dźwignie!$D$2","v":0.96513456668453879},{"$f":"X60/Dźwignie!$D$3","v":1.4015179980289529},1.7770937088870664,1.1155889544250102,1.9825061126125858]
[49,0.38827699422836304,{"$f":"NORMINV(B61,Dźwignie!$L$8,Dźwignie!$L$9)","v":335809.3693764488},{"$f":"Dźwignie!$L$7*C61","v":503714.0540646732},null,{"$f":"C61*Dźwignie!$G$5","v":335809.3693764488},167904.6846882244,{"$f":"Dźwignie!$G$6","v":50000},117904.6846882244,{"$f":"I61-Dźwignie!$D$6","v":97904.684688224399},{"$f":"IF(J61>0,J61*(1-Dźwignie!$D$9),J61)","v":79302.794597461761},{"$f":"K61/Dźwignie!$D$5","v":7.9302794597461759},{"$f":"I61/Dźwignie!$D$2","v":0.58952342344112196},{"$f":"K61/Dźwignie!$D$3","v":0.79302794597461757},1.4240713601178367,1.2042803167559306,1.7149811086457574,null,{"$f":"C61*Dźwignie!$G$8","v":167904.6846882244},335809.3693764488,{"$f":"Dźwignie!$G$9","v":150000},185809.3693764488,{"$f":"V61-Dźwignie!$D$6","v":165809.3693764488},{"$f":"IF(W61>0,W61*(1-Dźwignie!$D$9),W61)","v":134305.58919492352},{"$f":"X61/Dźwignie!$D$5","v":13.430558919492352},{"$f":"V61/Dźwignie!$D$2","v":0.92904684688224404},{"$f":"X61/Dźwignie!$D$3","v":1.3430558919492352},1.8072789897698904,1.120620445486362,2.0252737866340769]
[50,0.36194455623626709,{"$f":"NORMINV(B62,Dźwignie!$L$8,Dźwignie!$L$9)","v":332336.70533875603},{"$f":"Dźwignie!$L$7*C62","v":498505.05800813402},null,{"$f":"C62*Dźwignie!$G$5","v":332336.70533875603},166168.35266937799,{"$f":"Dźwignie!$G$6","v":50000},116168.35266937799,{"$f":"I62-Dźwignie!$D$6","v":96168.352669377986},{"$f":"IF(J62>0,J62*(1-Dźwignie!$D$9),J62)","v":77896.365662196171},{"$f":"K62/Dźwignie!$D$5","v":7.7896365662196168},{"$f":"I62/Dźwignie!$D$2","v":0.58084176334688997},{"$f":"K62/Dźwignie!$D$3","v":0.77896365662196176},1.4304098220476877,1.2079686242391923,1.7278901848371733,null,{"$f":"C62*Dźwignie!$G$8","v":166168.35266937801},332336.70533875597,{"$f":"Dźwignie!$G$9","v":150000},182336.70533875597,{"$f":"V62-Dźwignie!$D$6","v":162336.70533875597},{"$f":"IF(W62>0,W62*(1-Dźwignie!$D$9),W62)","v":131492.73132439234},{"$f":"X62/Dźwignie!$D$5","v":13.149273132439234},{"$f":"V62/Dźwignie!$D$2","v":0.91168352669377983},{"$f":"X62/Dźwignie!$D$3","v":1.3149273132439234},1.8226538903470977,1.1232007262822354,2.0472061733990019]
[51,0.21383005380630493,{"$f":"NORMINV(B63,Dźwignie!$L$8,Dźwignie!$L$9)","v":310339.8970083585},{"$f":"Dźwignie!$L$7*C63","v":465509.84551253775},null,{"$f":"C63*Dźwignie!$G$5","v":310339.8970083585},155169.94850417925,{"$f":"Dźwignie!$G$6","v":50000},105169.94850417925,{"$f":"I63-Dźwignie!$D$6","v":85169.94850417925},{"$f":"IF(J63>0,J63*(1-Dźwignie!$D$9),J63)","v":68987.658288385195},{"$f":"K63/Dźwignie!$D$5","v":6.8987658288385196},{"$f":"I63/Dźwignie!$D$2","v":0.52584974252089622},{"$f":"K63/Dźwignie!$D$3","v":0.6898765828838519},1.4754209801482703,1.2348246106902203,1.8218861374157711,null,{"$f":"C63*Dźwignie!$G$8","v":155169.94850417925},310339.8970083585,{"$f":"Dźwignie!$G$9","v":150000},160339.8970083585,{"$f":"V63-Dźwignie!$D$6","v":140339.8970083585},{"$f":"IF(W63>0,W63*(1-Dźwignie!$D$9),W63)","v":113675.31657677039},{"$f":"X63/Dźwignie!$D$5","v":11.36753165767704},{"$f":"V63/Dźwignie!$D$2","v":0.80169948504179256},{"$f":"X63/Dźwignie!$D$3","v":1.1367531657677039},1.9355126378319958,1.1425111491909448,2.2113447681230305]
[52,0.77700901031494141,{"$f":"NORMINV(B64,Dźwignie!$L$8,Dźwignie!$L$9)","v":388106.53686366969},{"$f":"Dźwignie!$L$7*C64","v":582159.80529550451},null,{"$f":"C64*Dźwignie!$G$5","v":388106.53686366969},194053.26843183482,{"$f":"Dźwignie!$G$6","v":50000},144053.26843183482,{"$f":"I64-Dźwignie!$D$6","v":124053.26843183482},{"$f":"IF(J64>0,J64*(1-Dźwignie!$D$9),J64)","v":100483.14742978622},{"$f":"K64/Dźwignie!$D$5","v":10.048314742978622},{"$f":"I64/Dźwignie!$D$2","v":0.72026634215917407},{"$f":"K64/Dźwignie!$D$3","v":1.0048314742978621},1.3470938253904299,1.1612210645702548,1.5642737259958919,null,{"$f":"C64*Dźwignie!$G$8","v":194053.26843183485},388106.53686366964,{"$f":"Dźwignie!$G$9","v":150000},238106.53686366964,{"$f":"V64-Dźwignie!$D$6","v":218106.53686366964},{"$f":"IF(W64>0,W64*(1-Dźwignie!$D$9),W64)","v":176666.29485957243},{"$f":"X64/Dźwignie!$D$5","v":17.666629485957245},{"$f":"V64/Dźwignie!$D$2","v":1.1905326843183481},{"$f":"X64/Dźwignie!$D$3","v":1.7666629485957244},1.629970104877398,1.09169830619291,1.7794356026397353]
[53,0.41846579313278198,{"$f":"NORMINV(B65,Dźwignie!$L$8,Dźwignie!$L$9)","v":339709.00437453674},{"$f":"Dźwignie!$L$7*C65","v":509563.50656180514},null,{"$f":"C65*Dźwignie!$G$5","v":339709.00437453674},169854.5021872684,{"$f":"Dźwignie!$G$6","v":50000},119854.5021872684,{"$f":"I65-Dźwignie!$D$6","v":99854.502187268401},{"$f":"IF(J65>0,J65*(1-Dźwignie!$D$9),J65)","v":80882.146771687403},{"$f":"K65/Dźwignie!$D$5","v":8.0882146771687395},{"$f":"I65/Dźwignie!$D$2","v":0.59927251093634204},{"$f":"K65/Dźwignie!$D$3","v":0.80882146771687402},1.4171724806956085,1.2002914196346575,1.7010199687213012,null,{"$f":"C65*Dźwignie!$G$8","v":169854.50218726837},339709.0043745368,{"$f":"Dźwignie!$G$9","v":150000},189709.0043745368,{"$f":"V65-Dźwignie!$D$6","v":169709.0043745368},{"$f":"IF(W65>0,W65*(1-Dźwignie!$D$9),W65)","v":137464.29354337481},{"$f":"X65/Dźwignie!$D$5","v":13.746429354337481},{"$f":"V65/Dźwignie!$D$2","v":0.94854502187268397},{"$f":"X65/Dźwignie!$D$3","v":1.3746429354337482},1.7906846619882075,1.1178487851820831,2.0017146740477068]
[54,0.43861448764801025,{"$f":"NORMINV(B66,Dźwignie!$L$8,Dźwignie!$L$9)","v":342275.85386520682},{"$f":"Dźwignie!$L$7*C66","v":513413.78079781024},null,{"$f":"C66*Dźwignie!$G$5","v":342275.85386520682},171137.92693260341,{"$f":"Dźwignie!$G$6","v":50000},121137.92693260341,{"$f":"I66-Dźwignie!$D$6","v":101137.92693260341},{"$f":"IF(J66>0,J66*(1-Dźwignie!$D$9),J66)","v":81921.720815408771},{"$f":"K66/Dźwignie!$D$5","v":8.1921720815408765},{"$f":"I66/Dźwignie!$D$2","v":0.60568963466301706},{"$f":"K66/Dźwignie!$D$3","v":0.81921720815408772},1.4127526470534544,1.1977497523093157,1.6921241330826051,null,{"$f":"C66*Dźwignie!$G$8","v":171137.92693260341},342275.85386520682,{"$f":"Dźwignie!$G$9","v":150000},192275.85386520682,{"$f":"V66-Dźwignie!$D$6","v":172275.85386520682},{"$f":"IF(W66>0,W66*(1-Dźwignie!$D$9),W66)","v":139543.44163081754},{"$f":"X66/Dźwignie!$D$5","v":13.954344163081755},{"$f":"V66/Dźwignie!$D$2","v":0.96137926932603412},{"$f":"X66/Dźwignie!$D$3","v":1.3954344163081753},1.7801291581061245,1.1160928798277705,1.9867894785360491]
[55,0.73211127519607544,{"$f":"NORMINV(B67,Dźwignie!$L$8,Dźwignie!$L$9)","v":380960.54367227672},{"$f":"Dźwignie!$L$7*C67","v":571440.81550841511},null,{"$f":"C67*Dźwignie!$G$5","v":380960.54367227672},190480.27183613839,{"$f":"Dźwignie!$G$6","v":50000},140480.27183613839,{"$f":"I67-Dźwignie!$D$6","v":120480.27183613839},{"$f":"IF(J67>0,J67*(1-Dźwignie!$D$9),J67)","v":97589.020187272108},{"$f":"K67/Dźwignie!$D$5","v":9.7589020187272109},{"$f":"I67/Dźwignie!$D$2","v":0.70240135918069191},{"$f":"K67/Dźwignie!$D$3","v":0.97589020187272113},1.3559218625254508,1.1660022814955249,1.5810079852343371,null,{"$f":"C67*Dźwignie!$G$8","v":190480.27183613836},380960.54367227678,{"$f":"Dźwignie!$G$9","v":150000},230960.54367227678,{"$f":"V67-Dźwignie!$D$6","v":210960.54367227678},{"$f":"IF(W67>0,W67*(1-Dźwignie!$D$9),W67)","v":170878.04037454419},{"$f":"X67/Dźwignie!$D$5","v":17.087804037454418},{"$f":"V67/Dźwignie!$D$2","v":1.1548027183613838},{"$f":"X67/Dźwignie!$D$3","v":1.7087804037454419},1.6494615816840283,1.0948044579894032,1.8058378929099264]
[56,0.22729229927062988,{"$f":"NORMINV(B68,Dźwignie!$L$8,Dźwignie!$L$9)","v":312610.31465427129},{"$f":"Dźwignie!$L$7*C68","v":468915.47198140691},null,{"$f":"C68*Dźwignie!$G$5","v":312610.31465427129},156305.15732713562,{"$f":"Dźwignie!$G$6","v":50000},106305.15732713562,{"$f":"I68-Dźwignie!$D$6","v":86305.157327135617},{"$f":"IF(J68>0,J68*(1-Dźwignie!$D$9),J68)","v":69907.177434979851},{"$f":"K68/Dźwignie!$D$5","v":6.990717743497985},{"$f":"I68/Dźwignie!$D$2","v":0.53152578663567807},{"$f":"K68/Dźwignie!$D$3","v":0.6990717743497985},1.4703440666207164,1.2317358616726801,1.8110755158543808,null,{"$f":"C68*Dźwignie!$G$8","v":156305.15732713565},312610.31465427123,{"$f":"Dźwignie!$G$9","v":150000},162610.31465427123,{"$f":"V68-Dźwignie!$D$6","v":142610.31465427123},{"$f":"IF(W68>0,W68*(1-Dźwignie!$D$9),W68)","v":115514.3548699597},{"$f":"X68/Dźwignie!$D$5","v":11.55143548699597},{"$f":"V68/Dźwignie!$D$2","v":0.81305157327135613},{"$f":"X68/Dźwignie!$D$3","v":1.1551435486995971},1.9224507087322089,1.1402423103019288,2.1920596375663943]
[57,0.30223506689071655,{"$f":"NORMINV(B69,Dźwignie!$L$8,Dźwignie!$L$9)","v":324100.85023990338},{"$f":"Dźwignie!$L$7*C69","v":486151.27535985503},null,{"$f":"C69*Dźwignie!$G$5","v":324100.85023990338},162050.42511995166,{"$f":"Dźwignie!$G$6","v":50000},112050.42511995166,{"$f":"I69-Dźwignie!$D$6","v":92050.425119951658},{"$f":"IF(J69>0,J69*(1-Dźwignie!$D$9),J69)","v":74560.844347160848},{"$f":"K69/Dźwignie!$D$5","v":7.4560844347160851},{"$f":"I69/Dźwignie!$D$2","v":0.56025212559975834},{"$f":"K69/Dźwignie!$D$3","v":0.74560844347160848},1.4462276688952698,1.2172722176343873,1.7604527617203554,null,{"$f":"C69*Dźwignie!$G$8","v":162050.42511995169},324100.85023990332,{"$f":"Dźwignie!$G$9","v":150000},174100.85023990332,{"$f":"V69-Dźwignie!$D$6","v":154100.85023990332},{"$f":"IF(W69>0,W69*(1-Dźwignie!$D$9),W69)","v":124821.6886943217},{"$f":"X69/Dźwignie!$D$5","v":12.48216886943217},{"$f":"V69/Dźwignie!$D$2","v":0.87050425119951658},{"$f":"X69/Dźwignie!$D$3","v":1.2482168869432169},1.861569600569478,1.1297851372582572,2.1031736666951866]
[58,0.33344924449920654,{"$f":"NORMINV(B70,Dźwignie!$L$8,Dźwignie!$L$9)","v":328479.57333039684},{"$f":"Dźwignie!$L$7*C70","v":492719.3599955953},null,{"$f":"C70*Dźwignie!$G$5","v":328479.57333039684},164239.78666519845,{"$f":"Dźwignie!$G$6","v":50000},114239.78666519845,{"$f":"I70-Dźwignie!$D$6","v":94239.786665198451},{"$f":"IF(J70>0,J70*(1-Dźwignie!$D$9),J70)","v":76334.227198810753},{"$f":"K70/Dźwignie!$D$5","v":7.6334227198810751},{"$f":"I70/Dźwignie!$D$2","v":0.57119893332599225},{"$f":"K70/Dźwignie!$D$3","v":0.76334227198810756},1.4376758873555546,1.2122245890799086,1.7427860617796802,null,{"$f":"C70*Dźwignie!$G$8","v":164239.78666519842},328479.5733303969,{"$f":"Dźwignie!$G$9","v":150000},178479.5733303969,{"$f":"V70-Dźwignie!$D$6","v":158479.5733303969},{"$f":"IF(W70>0,W70*(1-Dźwignie!$D$9),W70)","v":128368.45439762151},{"$f":"X70/Dźwignie!$D$5","v":12.836845439762151},{"$f":"V70/Dźwignie!$D$2","v":0.89239786665198451},{"$f":"X70/Dźwignie!$D$3","v":1.283684543976215},1.8404323094291792,1.1261992292110994,2.0726934482943453]
[59,0.65917927026748657,{"$f":"NORMINV(B71,Dźwignie!$L$8,Dźwignie!$L$9)","v":370511.21209560137},{"$f":"Dźwignie!$L$7*C71","v":555766.81814340199},null,{"$f":"C71*Dźwignie!$G$5","v":370511.21209560137},185255.60604780063,{"$f":"Dźwignie!$G$6","v":50000},135255.60604780063,{"$f":"I71-Dźwignie!$D$6","v":115255.60604780063},{"$f":"IF(J71>0,J71*(1-Dźwignie!$D$9),J71)","v":93357.040898718507},{"$f":"K71/Dźwignie!$D$5","v":9.3357040898718502},{"$f":"I71/Dźwignie!$D$2","v":0.67627803023900313},{"$f":"K71/Dźwignie!$D$3","v":0.93357040898718502},1.3696704444348837,1.1735273509533695,1.6073457283367933,null,{"$f":"C71*Dźwignie!$G$8","v":185255.60604780068},370511.21209560131,{"$f":"Dźwignie!$G$9","v":150000},220511.21209560131,{"$f":"V71-Dźwignie!$D$6","v":200511.21209560131},{"$f":"IF(W71>0,W71*(1-Dźwignie!$D$9),W71)","v":162414.08179743707},{"$f":"X71/Dźwignie!$D$5","v":16.241408179743708},{"$f":"V71/Dźwignie!$D$2","v":1.1025560604780065},{"$f":"X71/Dźwignie!$D$3","v":1.6241408179743708},1.680237519781844,1.0997450456309856,1.8478328878633781]
[60,0.86137151718139648,{"$f":"NORMINV(B72,Dźwignie!$L$8,Dźwignie!$L$9)","v":404325.09897265275},{"$f":"Dźwignie!$L$7*C72","v":606487.64845897909},null,{"$f":"C72*Dźwignie!$G$5","v":404325.09897265275},202162.54948632634,{"$f":"Dźwignie!$G$6","v":50000},152162.54948632634,{"$f":"I72-Dźwignie!$D$6","v":132162.54948632634},{"$f":"IF(J72>0,J72*(1-Dźwignie!$D$9),J72)","v":107051.66508392435},{"$f":"K72/Dźwignie!$D$5","v":10.705166508392436},{"$f":"I72/Dźwignie!$D$2","v":0.76081274743163174},{"$f":"K72/Dźwignie!$D$3","v":1.0705166508392434},1.328595966410862,1.1513287998584594,1.5296507995046078,null,{"$f":"C72*Dźwignie!$G$8","v":202162.54948632637},404325.09897265269,{"$f":"Dźwignie!$G$9","v":150000},254325.09897265269,{"$f":"V72-Dźwignie!$D$6","v":234325.09897265269},{"$f":"IF(W72>0,W72*(1-Dźwignie!$D$9),W72)","v":189803.3301678487},{"$f":"X72/Dźwignie!$D$5","v":18.980333016784872},{"$f":"V72/Dźwignie!$D$2","v":1.2716254948632635},{"$f":"X72/Dźwignie!$D$3","v":1.8980333016784869},1.5897962906764831,1.0853515056120135,1.7254877977021152]
[61,0.40414780378341675,{"$f":"NORMINV(B73,Dźwignie!$L$8,Dźwignie!$L$9)","v":337868.7303140664},{"$f":"Dźwignie!$L$7*C73","v":506803.0954710996},null,{"$f":"C73*Dźwignie!$G$5","v":337868.7303140664},168934.3651570332,{"$f":"Dźwignie!$G$6","v":50000},118934.3651570332,{"$f":"I73-Dźwignie!$D$6","v":98934.3651570332},{"$f":"IF(J73>0,J73*(1-Dźwignie!$D$9),J73)","v":80136.835777196902},{"$f":"K73/Dźwignie!$D$5","v":8.0136835777196911},{"$f":"I73/Dźwignie!$D$2","v":0.59467182578516598},{"$f":"K73/Dźwignie!$D$3","v":0.80136835777196902},1.4203999402021716,1.2021542258673725,1.7075397905358038,null,{"$f":"C73*Dźwignie!$G$8","v":168934.3651570332},337868.7303140664,{"$f":"Dźwignie!$G$9","v":150000},187868.7303140664,{"$f":"V73-Dźwignie!$D$6","v":167868.7303140664},{"$f":"IF(W73>0,W73*(1-Dźwignie!$D$9),W73)","v":135973.6715543938},{"$f":"X73/Dźwignie!$D$5","v":13.597367155439381},{"$f":"V73/Dźwignie!$D$2","v":0.93934365157033195},{"$f":"X73/Dźwignie!$D$3","v":1.3597367155439379},1.7984298384794533,1.1191407116893177,2.0126960493591999]
[62,0.26525986194610596,{"$f":"NORMINV(B74,Dźwignie!$L$8,Dźwignie!$L$9)","v":318639.35771016724},{"$f":"Dźwignie!$L$7*C74","v":477959.03656525083},null,{"$f":"C74*Dźwignie!$G$5","v":318639.35771016724},159319.67885508359,{"$f":"Dźwignie!$G$6","v":50000},109319.67885508359,{"$f":"I74-Dźwignie!$D$6","v":89319.678855083592},{"$f":"IF(J74>0,J74*(1-Dźwignie!$D$9),J74)","v":72348.939872617717},{"$f":"K74/Dźwignie!$D$5","v":7.2348939872617715},{"$f":"I74/Dźwignie!$D$2","v":0.54659839427541801},{"$f":"K74/Dźwignie!$D$3","v":0.72348939872617712},1.4573741939571652,1.2239148220903138,1.7837018773160982,null,{"$f":"C74*Dźwignie!$G$8","v":159319.67885508362},318639.35771016718,{"$f":"Dźwignie!$G$9","v":150000},168639.35771016718,{"$f":"V74-Dźwignie!$D$6","v":148639.35771016718},{"$f":"IF(W74>0,W74*(1-Dźwignie!$D$9),W74)","v":120397.87974523543},{"$f":"X74/Dźwignie!$D$5","v":12.039787974523543},{"$f":"V74/Dźwignie!$D$2","v":0.84319678855083591},{"$f":"X74/Dźwignie!$D$3","v":1.2039787974523544},1.8894720783851549,1.1345538645221955,2.143707848438662]
[63,0.40110093355178833,{"$f":"NORMINV(B75,Dźwignie!$L$8,Dźwignie!$L$9)","v":337475.07516456314},{"$f":"Dźwignie!$L$7*C75","v":506212.61274684471},null,{"$f":"C75*Dźwignie!$G$5","v":337475.07516456314},168737.53758228157,{"$f":"Dźwignie!$G$6","v":50000},118737.53758228157,{"$f":"I75-Dźwignie!$D$6","v":98737.537582281569},{"$f":"IF(J75>0,J75*(1-Dźwignie!$D$9),J75)","v":79977.405441648079},{"$f":"K75/Dźwignie!$D$5","v":7.9977405441648077},{"$f":"I75/Dźwignie!$D$2","v":0.5936876879114078},{"$f":"K75/Dźwignie!$D$3","v":0.79977405441648075},1.4210968242907303,1.2025572086333758,1.7089502302168156,null,{"$f":"C75*Dźwignie!$G$8","v":168737.53758228157},337475.07516456314,{"$f":"Dźwignie!$G$9","v":150000},187475.07516456314,{"$f":"V75-Dźwignie!$D$6","v":167475.07516456314},{"$f":"IF(W75>0,W75*(1-Dźwignie!$D$9),W75)","v":135654.81088329616},{"$f":"X75/Dźwignie!$D$5","v":13.565481088329616},{"$f":"V75/Dźwignie!$D$2","v":0.93737537582281572},{"$f":"X75/Dźwignie!$D$3","v":1.3565481088329616},1.8001063601032403,1.119420755478675,2.0150764215687373]
[64,0.27354598045349121,{"$f":"NORMINV(B76,Dźwignie!$L$8,Dźwignie!$L$9)","v":319893.82710781845},{"$f":"Dźwignie!$L$7*C76","v":479840.74066172767},null,{"$f":"C76*Dźwignie!$G$5","v":319893.82710781845},159946.91355390922,{"$f":"Dźwignie!$G$6","v":50000},109946.91355390922,{"$f":"I76-Dźwignie!$D$6","v":89946.913553909224},{"$f":"IF(J76>0,J76*(1-Dźwignie!$D$9),J76)","v":72856.99997866647},{"$f":"K76/Dźwignie!$D$5","v":7.2856999978666472},{"$f":"I76/Dźwignie!$D$2","v":0.5497345677695461},{"$f":"K76/Dźwignie!$D$3","v":0.7285699997866647},1.4547649259429549,1.2223533772285928,1.7782368203000747,null,{"$f":"C76*Dźwignie!$G$8","v":159946.91355390922},319893.82710781845,{"$f":"Dźwignie!$G$9","v":150000},169893.82710781845,{"$f":"V76-Dźwignie!$D$6","v":149893.82710781845},{"$f":"IF(W76>0,W76*(1-Dźwignie!$D$9),W76)","v":121413.99995733296},{"$f":"X76/Dźwignie!$D$5","v":12.141399995733295},{"$f":"V76/Dźwignie!$D$2","v":0.8494691355390922},{"$f":"X76/Dźwignie!$D$3","v":1.2141399995733295},1.8829043559352314,1.133427776085896,2.1341360967301157]
[65,0.50380605459213257,{"$f":"NORMINV(B77,Dźwignie!$L$8,Dźwignie!$L$9)","v":350477.02543925255},{"$f":"Dźwignie!$L$7*C77","v":525715.5381588788},null,{"$f":"C77*Dźwignie!$G$5","v":350477.02543925255},{"$f":"$D77-F77","v":175238.51271962625},{"$f":"Dźwignie!$G$6","v":50000},{"$f":"G77-H77","v":125238.51271962625},{"$f":"I77-Dźwignie!$D$6","v":105238.51271962625},{"$f":"IF(J77>0,J77*(1-Dźwignie!$D$9),J77)","v":85243.195302897264},{"$f":"K77/Dźwignie!$D$5","v":8.524319530289727},{"$f":"I77/Dźwignie!$D$2","v":0.62619256359813125},{"$f":"K77/Dźwignie!$D$3","v":0.85243195302897268},{"$f":"IF(I77<>0,G77/I77,\"N   \")","v":1.3992382128645675},{"$f":"IF(J77<>0,I77/J77,\"N   \")","v":1.1900444949586422},{"$f":"IF(ISTEXT(O77),O77,IF(ISTEXT(P77),P77,O77*P77))","v":1.6651557323552473},null,{"$f":"C77*Dźwignie!$G$8","v":175238.51271962628},{"$f":"$D77-S77","v":350477.02543925249},{"$f":"Dźwignie!$G$9","v":150000},{"$f":"T77-U77","v":200477.02543925249},{"$f":"V77-Dźwignie!$D$6","v":180477.02543925249},{"$f":"IF(W77>0,W77*(1-Dźwignie!$D$9),W77)","v":146186.39060579453},{"$f":"X77/Dźwignie!$D$5","v":14.618639060579453},{"$f":"V77/Dźwignie!$D$2","v":1.0023851271962625},{"$f":"X77/Dźwignie!$D$3","v":1.4618639060579453},{"$f":"IF(V77<>0,T77/V77,\"N   \")","v":1.7482154110743837},{"$f":"IF(W77<>0,V77/W77,\"N   \")","v":1.1108174292618307},{"$f":"IF(ISTEXT(AB77),AB77,IF(ISTEXT(AC77),AC77,AB77*AC77))","v":1.9419481487255614}]
[66,0.2077401876449585,{"$f":"NORMINV(B78,Dźwignie!$L$8,Dźwignie!$L$9)","v":309285.63428418513},{"$f":"Dźwignie!$L$7*C78","v":463928.45142627769},null,{"$f":"C78*Dźwignie!$G$5","v":309285.63428418513},154642.81714209256,{"$f":"Dźwignie!$G$6","v":50000},104642.81714209256,{"$f":"I78-Dźwignie!$D$6","v":84642.817142092565},{"$f":"IF(J78>0,J78*(1-Dźwignie!$D$9),J78)","v":68560.681885094978},{"$f":"K78/Dźwignie!$D$5","v":6.8560681885094983},{"$f":"I78/Dźwignie!$D$2","v":0.5232140857104628},{"$f":"K78/Dźwignie!$D$3","v":0.68560681885094976},1.4778158823085383,1.2362870314964278,1.8270046102374973,null,{"$f":"C78*Dźwignie!$G$8","v":154642.81714209256},309285.63428418513,{"$f":"Dźwignie!$G$9","v":150000},159285.63428418513,{"$f":"V78-Dźwignie!$D$6","v":139285.63428418513},{"$f":"IF(W78>0,W78*(1-Dźwignie!$D$9),W78)","v":112821.36377018996},{"$f":"X78/Dźwignie!$D$5","v":11.282136377018995},{"$f":"V78/Dźwignie!$D$2","v":0.7964281714209257},{"$f":"X78/Dźwignie!$D$3","v":1.1282136377018996},1.9417045088471794,1.1435898260634252,2.2205135215391141]
[67,9.9294722080230713E-2,{"$f":"NORMINV(B79,Dźwignie!$L$8,Dźwignie!$L$9)","v":285720.96617453767},{"$f":"Dźwignie!$L$7*C79","v":428581.4492618065},null,{"$f":"C79*Dźwignie!$G$5","v":285720.96617453767},142860.48308726883,{"$f":"Dźwignie!$G$6","v":50000},92860.483087268833,{"$f":"I79-Dźwignie!$D$6","v":72860.483087268833},{"$f":"IF(J79>0,J79*(1-Dźwignie!$D$9),J79)","v":59016.991300687761},{"$f":"K79/Dźwignie!$D$5","v":5.901699130068776},{"$f":"I79/Dźwignie!$D$2","v":0.46430241543634415},{"$f":"K79/Dźwignie!$D$3","v":0.5901699130068776},1.5384421697764676,1.2744972192408461,1.9607402673429617,null,{"$f":"C79*Dźwignie!$G$8","v":142860.48308726883},285720.96617453767,{"$f":"Dźwignie!$G$9","v":150000},135720.96617453767,{"$f":"V79-Dźwignie!$D$6","v":115720.96617453767},{"$f":"IF(W79>0,W79*(1-Dźwignie!$D$9),W79)","v":93733.982601375508},{"$f":"X79/Dźwignie!$D$5","v":9.3733982601375505},{"$f":"V79/Dźwignie!$D$2","v":0.6786048308726883},{"$f":"X79/Dźwignie!$D$3","v":0.9373398260137551},2.1052087546083298,1.1728295283141237,2.4690509906700511]
[68,0.85206031799316406,{"$f":"NORMINV(B80,Dźwignie!$L$8,Dźwignie!$L$9)","v":402265.53823848942},{"$f":"Dźwignie!$L$7*C80","v":603398.30735773407},null,{"$f":"C80*Dźwignie!$G$5","v":402265.53823848942},201132.76911924465,{"$f":"Dźwignie!$G$6","v":50000},151132.76911924465,{"$f":"I80-Dźwignie!$D$6","v":131132.76911924465},{"$f":"IF(J80>0,J80*(1-Dźwignie!$D$9),J80)","v":106217.54298658817},{"$f":"K80/Dźwignie!$D$5","v":10.621754298658818},{"$f":"I80/Dźwignie!$D$2","v":0.75566384559622324},{"$f":"K80/Dźwignie!$D$3","v":1.0621754298658816},1.3308349360061662,1.1525171788434754,1.5338101259521637,null,{"$f":"C80*Dźwignie!$G$8","v":201132.76911924471},402265.53823848936,{"$f":"Dźwignie!$G$9","v":150000},252265.53823848936,{"$f":"V80-Dźwignie!$D$6","v":232265.53823848936},{"$f":"IF(W80>0,W80*(1-Dźwignie!$D$9),W80)","v":188135.08597317641},{"$f":"X80/Dźwignie!$D$5","v":18.813508597317639},{"$f":"V80/Dźwignie!$D$2","v":1.2613276911924467},{"$f":"X80/Dźwignie!$D$3","v":1.8813508597317641},1.5946115392828308,1.0861083402715734,1.7319208923083744]
[69,0.99897593259811401,{"$f":"NORMINV(B81,Dźwignie!$L$8,Dźwignie!$L$9)","v":504158.11060535931},{"$f":"Dźwignie!$L$7*C81","v":756237.16590803897},null,{"$f":"C81*Dźwignie!$G$5","v":504158.11060535931},252079.05530267966,{"$f":"Dźwignie!$G$6","v":50000},202079.05530267966,{"$f":"I81-Dźwignie!$D$6","v":182079.05530267966},{"$f":"IF(J81>0,J81*(1-Dźwignie!$D$9),J81)","v":147484.03479517053},{"$f":"K81/Dźwignie!$D$5","v":14.748403479517053},{"$f":"I81/Dźwignie!$D$2","v":1.0103952765133983},{"$f":"K81/Dźwignie!$D$3","v":1.4748403479517054},1.2474279183713948,1.1098423976703577,1.384448391846252,null,{"$f":"C81*Dźwignie!$G$8","v":252079.05530267966},504158.11060535931,{"$f":"Dźwignie!$G$9","v":150000},354158.11060535931,{"$f":"V81-Dźwignie!$D$6","v":334158.11060535931},{"$f":"IF(W81>0,W81*(1-Dźwignie!$D$9),W81)","v":270668.06959034107},{"$f":"X81/Dźwignie!$D$5","v":27.066806959034107},{"$f":"V81/Dźwignie!$D$2","v":1.7707905530267964},{"$f":"X81/Dźwignie!$D$3","v":2.7066806959034109},1.4235396437585641,1.0598519065234362,1.5087412054492073]
[70,0.28009188175201416,{"$f":"NORMINV(B82,Dźwignie!$L$8,Dźwignie!$L$9)","v":320871.57111204794},{"$f":"Dźwignie!$L$7*C82","v":481307.35666807194},null,{"$f":"C82*Dźwignie!$G$5","v":320871.57111204794},160435.785556024,{"$f":"Dźwignie!$G$6","v":50000},110435.785556024,{"$f":"I82-Dźwignie!$D$6","v":90435.785556023999},{"$f":"IF(J82>0,J82*(1-Dźwignie!$D$9),J82)","v":73252.986300379445},{"$f":"K82/Dźwignie!$D$5","v":7.3252986300379446},{"$f":"I82/Dźwignie!$D$2","v":0.55217892778012001},{"$f":"K82/Dźwignie!$D$3","v":0.73252986300379441},1.4527517937076206,1.2211513935223155,1.7740298773281045,null,{"$f":"C82*Dźwignie!$G$8","v":160435.78555602397},320871.571112048,{"$f":"Dźwignie!$G$9","v":150000},170871.571112048,{"$f":"V82-Dźwignie!$D$6","v":150871.571112048},{"$f":"IF(W82>0,W82*(1-Dźwignie!$D$9),W82)","v":122205.97260075889},{"$f":"X82/Dźwignie!$D$5","v":12.220597260075889},{"$f":"V82/Dźwignie!$D$2","v":0.85435785556024002},{"$f":"X82/Dźwignie!$D$3","v":1.2220597260075889},1.8778522900198442,1.1325630789988035,2.1267861714898291]
[71,0.45865565538406372,{"$f":"NORMINV(B83,Dźwignie!$L$8,Dźwignie!$L$9)","v":344808.94431902585},{"$f":"Dźwignie!$L$7*C83","v":517213.41647853877},null,{"$f":"C83*Dźwignie!$G$5","v":344808.94431902585},172404.47215951292,{"$f":"Dźwignie!$G$6","v":50000},122404.47215951292,{"$f":"I83-Dźwignie!$D$6","v":102404.47215951292},{"$f":"IF(J83>0,J83*(1-Dźwignie!$D$9),J83)","v":82947.622449205475},{"$f":"K83/Dźwignie!$D$5","v":8.2947622449205483},{"$f":"I83/Dźwignie!$D$2","v":0.61202236079756467},{"$f":"K83/Dźwignie!$D$3","v":0.82947622449205471},1.4084818072238559,1.195303970405184,1.6835638964181439,null,{"$f":"C83*Dźwignie!$G$8","v":172404.47215951292},344808.94431902585,{"$f":"Dźwignie!$G$9","v":150000},194808.94431902585,{"$f":"V83-Dźwignie!$D$6","v":174808.94431902585},{"$f":"IF(W83>0,W83*(1-Dźwignie!$D$9),W83)","v":141595.24489841095},{"$f":"X83/Dźwignie!$D$5","v":14.159524489841095},{"$f":"V83/Dźwignie!$D$2","v":0.97404472159512923},{"$f":"X83/Dźwignie!$D$3","v":1.4159524489841095},1.7699851797069175,1.1144106217099512,1.9724902845345855]
[72,0.29472947120666504,{"$f":"NORMINV(B84,Dźwignie!$L$8,Dźwignie!$L$9)","v":323018.98705508391},{"$f":"Dźwignie!$L$7*C84","v":484528.48058262584},null,{"$f":"C84*Dźwignie!$G$5","v":323018.98705508391},161509.49352754193,{"$f":"Dźwignie!$G$6","v":50000},111509.49352754193,{"$f":"I84-Dźwignie!$D$6","v":91509.493527541927},{"$f":"IF(J84>0,J84*(1-Dźwignie!$D$9),J84)","v":74122.689757308966},{"$f":"K84/Dźwignie!$D$5","v":7.412268975730897},{"$f":"I84/Dźwignie!$D$2","v":0.55754746763770968},{"$f":"K84/Dźwignie!$D$3","v":0.74122689757308968},1.4483923154726768,1.2185565587681952,1.7649479556886833,null,{"$f":"C84*Dźwignie!$G$8","v":161509.49352754196},323018.98705508385,{"$f":"Dźwignie!$G$9","v":150000},173018.98705508385,{"$f":"V84-Dźwignie!$D$6","v":153018.98705508385},{"$f":"IF(W84>0,W84*(1-Dźwignie!$D$9),W84)","v":123945.37951461793},{"$f":"X84/Dźwignie!$D$5","v":12.394537951461793},{"$f":"V84/Dźwignie!$D$2","v":0.86509493527541925},{"$f":"X84/Dźwignie!$D$3","v":1.2394537951461793},1.8669568730756971,1.1307027342482694,2.1109732411102899]
[73,0.35871261358261108,{"$f":"NORMINV(B85,Dźwignie!$L$8,Dźwignie!$L$9)","v":331904.89744685194},{"$f":"Dźwignie!$L$7*C85","v":497857.34617027792},null,{"$f":"C85*Dźwignie!$G$5","v":331904.89744685194},165952.44872342597,{"$f":"Dźwignie!$G$6","v":50000},115952.44872342597,{"$f":"I85-Dźwignie!$D$6","v":95952.448723425972},{"$f":"IF(J85>0,J85*(1-Dźwignie!$D$9),J85)","v":77721.483465975049},{"$f":"K85/Dźwignie!$D$5","v":7.772148346597505},{"$f":"I85/Dźwignie!$D$2","v":0.57976224361712991},{"$f":"K85/Dźwignie!$D$3","v":0.7772148346597505},1.4312112469419411,1.2084365773472665,1.7295280207154329,null,{"$f":"C85*Dźwignie!$G$8","v":165952.44872342597},331904.89744685194,{"$f":"Dźwignie!$G$9","v":150000},181904.89744685194,{"$f":"V85-Dźwignie!$D$6","v":161904.89744685194},{"$f":"IF(W85>0,W85*(1-Dźwignie!$D$9),W85)","v":131142.9669319501},{"$f":"X85/Dźwignie!$D$5","v":13.11429669319501},{"$f":"V85/Dźwignie!$D$2","v":0.90952448723425972},{"$f":"X85/Dźwignie!$D$3","v":1.3114296693195009},1.8246067154064736,1.1235293083494609,2.0499991209704169]
[74,0.38764941692352295,{"$f":"NORMINV(B86,Dźwignie!$L$8,Dźwignie!$L$9)","v":335727.46267459152},{"$f":"Dźwignie!$L$7*C86","v":503591.1940118873},null,{"$f":"C86*Dźwignie!$G$5","v":335727.46267459152},167863.73133729579,{"$f":"Dźwignie!$G$6","v":50000},117863.73133729579,{"$f":"I86-Dźwignie!$D$6","v":97863.731337295787},{"$f":"IF(J86>0,J86*(1-Dźwignie!$D$9),J86)","v":79269.622383209586},{"$f":"K86/Dźwignie!$D$5","v":7.9269622383209581},{"$f":"I86/Dźwignie!$D$2","v":0.58931865668647898},{"$f":"K86/Dźwignie!$D$3","v":0.79269622383209581},1.4242187094595946,1.2043658025981892,1.7152803090936619,null,{"$f":"C86*Dźwignie!$G$8","v":167863.73133729576},335727.46267459157,{"$f":"Dźwignie!$G$9","v":150000},185727.46267459157,{"$f":"V86-Dźwignie!$D$6","v":165727.46267459157},{"$f":"IF(W86>0,W86*(1-Dźwignie!$D$9),W86)","v":134239.24476641917},{"$f":"X86/Dźwignie!$D$5","v":13.423924476641917},{"$f":"V86/Dźwignie!$D$2","v":0.92863731337295785},{"$f":"X86/Dźwignie!$D$3","v":1.3423924476641917},1.8076350036763882,1.1206800591599613,2.0257805028596714]
[75,0.82568031549453735,{"$f":"NORMINV(B87,Dźwignie!$L$8,Dźwignie!$L$9)","v":396861.58674589597},{"$f":"Dźwignie!$L$7*C87","v":595292.38011884398},null,{"$f":"C87*Dźwignie!$G$5","v":396861.58674589597},198430.79337294801,{"$f":"Dźwignie!$G$6","v":50000},148430.79337294801,{"$f":"I87-Dźwignie!$D$6","v":128430.79337294801},{"$f":"IF(J87>0,J87*(1-Dźwignie!$D$9),J87)","v":104028.9426320879},{"$f":"K87/Dźwignie!$D$5","v":10.40289426320879},{"$f":"I87/Dźwignie!$D$2","v":0.74215396686474011},{"$f":"K87/Dźwignie!$D$3","v":1.0402894263208791},1.3368573249781783,1.1557258931035514,1.5450406258624299,null,{"$f":"C87*Dźwignie!$G$8","v":198430.79337294798},396861.58674589603,{"$f":"Dźwignie!$G$9","v":150000},246861.58674589603,{"$f":"V87-Dźwignie!$D$6","v":226861.58674589603},{"$f":"IF(W87>0,W87*(1-Dźwignie!$D$9),W87)","v":183757.8852641758},{"$f":"X87/Dźwignie!$D$5","v":18.37578852641758},{"$f":"V87/Dźwignie!$D$2","v":1.2343079337294802},{"$f":"X87/Dźwignie!$D$3","v":1.837578852641758},1.6076279504530637,1.088159482118062,1.7493555980035274]
[76,0.37456369400024414,{"$f":"NORMINV(B88,Dźwignie!$L$8,Dźwignie!$L$9)","v":334010.49071893783},{"$f":"Dźwignie!$L$7*C88","v":501015.73607840674},null,{"$f":"C88*Dźwignie!$G$5","v":334010.49071893783},167005.24535946891,{"$f":"Dźwignie!$G$6","v":50000},117005.24535946891,{"$f":"I88-Dźwignie!$D$6","v":97005.245359468914},{"$f":"IF(J88>0,J88*(1-Dźwignie!$D$9),J88)","v":78574.248741169824},{"$f":"K88/Dźwignie!$D$5","v":7.8574248741169823},{"$f":"I88/Dźwignie!$D$2","v":0.58502622679734462},{"$f":"K88/Dźwignie!$D$3","v":0.78574248741169828},1.4273312691784688,1.2061744179491192,1.7216104628219171,null,{"$f":"C88*Dźwignie!$G$8","v":167005.24535946891},334010.49071893783,{"$f":"Dźwignie!$G$9","v":150000},184010.49071893783,{"$f":"V88-Dźwignie!$D$6","v":164010.49071893783},{"$f":"IF(W88>0,W88*(1-Dźwignie!$D$9),W88)","v":132848.49748233965},{"$f":"X88/Dźwignie!$D$5","v":13.284849748233965},{"$f":"V88/Dźwignie!$D$2","v":0.92005245359468912},{"$f":"X88/Dźwignie!$D$3","v":1.3284849748233964},1.8151709145165735,1.1219434190601483,2.0365190620112608]
[77,0.82648533582687378,{"$f":"NORMINV(B89,Dźwignie!$L$8,Dźwignie!$L$9)","v":397018.35145023471},{"$f":"Dźwignie!$L$7*C89","v":595527.52717535209},null,{"$f":"C89*Dźwignie!$G$5","v":397018.35145023471},198509.17572511738,{"$f":"Dźwignie!$G$6","v":50000},148509.17572511738,{"$f":"I89-Dźwignie!$D$6","v":128509.17572511738},{"$f":"IF(J89>0,J89*(1-Dźwignie!$D$9),J89)","v":104092.43233734509},{"$f":"K89/Dźwignie!$D$5","v":10.409243233734509},{"$f":"I89/Dźwignie!$D$2","v":0.74254587862558696},{"$f":"K89/Dźwignie!$D$3","v":1.0409243233734509},1.3366795334757453,1.1556309102999791,1.544708186049927,null,{"$f":"C89*Dźwignie!$G$8","v":198509.17572511735},397018.35145023477,{"$f":"Dźwignie!$G$9","v":150000},247018.35145023477,{"$f":"V89-Dźwignie!$D$6","v":227018.35145023477},{"$f":"IF(W89>0,W89*(1-Dźwignie!$D$9),W89)","v":183884.86467469018},{"$f":"X89/Dźwignie!$D$5","v":18.388486467469018},{"$f":"V89/Dźwignie!$D$2","v":1.2350917572511739},{"$f":"X89/Dźwignie!$D$3","v":1.8388486467469018},1.6072423328848082,1.0880986046821164,1.7488381397979895]
[78,0.11250507831573486,{"$f":"NORMINV(B90,Dźwignie!$L$8,Dźwignie!$L$9)","v":289334.34766233375},{"$f":"Dźwignie!$L$7*C90","v":434001.52149350062},null,{"$f":"C90*Dźwignie!$G$5","v":289334.34766233375},144667.17383116687,{"$f":"Dźwignie!$G$6","v":50000},94667.173831166874,{"$f":"I90-Dźwignie!$D$6","v":74667.173831166874},{"$f":"IF(J90>0,J90*(1-Dźwignie!$D$9),J90)","v":60480.41080324517},{"$f":"K90/Dźwignie!$D$5","v":6.0480410803245173},{"$f":"I90/Dźwignie!$D$2","v":0.47333586915583437},{"$f":"K90/Dźwignie!$D$3","v":0.60480410803245166},1.5281661845020529,1.2678553234815455,1.9374936321854095,null,{"$f":"C90*Dźwignie!$G$8","v":144667.17383116687},289334.34766233375,{"$f":"Dźwignie!$G$9","v":150000},139334.34766233375,{"$f":"V90-Dźwignie!$D$6","v":119334.34766233375},{"$f":"IF(W90>0,W90*(1-Dźwignie!$D$9),W90)","v":96660.821606490339},{"$f":"X90/Dźwignie!$D$5","v":9.666082160649033},{"$f":"V90/Dźwignie!$D$2","v":0.69667173831166873},{"$f":"X90/Dźwignie!$D$3","v":0.96660821606490344},2.076547186796422,1.1675963408003169,2.4245688968026946]
[79,0.51659184694290161,{"$f":"NORMINV(B91,Dźwignie!$L$8,Dźwignie!$L$9)","v":352080.0794742789},{"$f":"Dźwignie!$L$7*C91","v":528120.11921141832},null,{"$f":"C91*Dźwignie!$G$5","v":352080.0794742789},176040.03973713942,{"$f":"Dźwignie!$G$6","v":50000},126040.03973713942,{"$f":"I91-Dźwignie!$D$6","v":106040.03973713942},{"$f":"IF(J91>0,J91*(1-Dźwignie!$D$9),J91)","v":85892.43218708293},{"$f":"K91/Dźwignie!$D$5","v":8.5892432187082921},{"$f":"I91/Dźwignie!$D$2","v":0.6302001986856971},{"$f":"K91/Dźwignie!$D$3","v":0.85892432187082934},1.3966993354197335,1.1886080017470533,1.6601280061146868,null,{"$f":"C91*Dźwignie!$G$8","v":176040.03973713945},352080.07947427884,{"$f":"Dźwignie!$G$9","v":150000},202080.07947427884,{"$f":"V91-Dźwignie!$D$6","v":182080.07947427884},{"$f":"IF(W91>0,W91*(1-Dźwignie!$D$9),W91)","v":147484.86437416586},{"$f":"X91/Dźwignie!$D$5","v":14.748486437416586},{"$f":"V91/Dźwignie!$D$2","v":1.0104003973713942},{"$f":"X91/Dźwignie!$D$3","v":1.4748486437416586},1.7422799931108117,1.1098417798242737,1.9336551285063266]
[80,0.95539355278015137,{"$f":"NORMINV(B92,Dźwignie!$L$8,Dźwignie!$L$9)","v":434978.21919674764},{"$f":"Dźwignie!$L$7*C92","v":652467.32879512152},null,{"$f":"C92*Dźwignie!$G$5","v":434978.21919674764},217489.10959837388,{"$f":"Dźwignie!$G$6","v":50000},167489.10959837388,{"$f":"I92-Dźwignie!$D$6","v":147489.10959837388},{"$f":"IF(J92>0,J92*(1-Dźwignie!$D$9),J92)","v":119466.17877468285},{"$f":"K92/Dźwignie!$D$5","v":11.946617877468285},{"$f":"I92/Dźwignie!$D$2","v":0.83744554799186943},{"$f":"K92/Dźwignie!$D$3","v":1.1946617877468284},1.298526872104677,1.1356032323638119,1.4746113132733414,null,{"$f":"C92*Dźwignie!$G$8","v":217489.10959837382},434978.2191967477,{"$f":"Dźwignie!$G$9","v":150000},284978.2191967477,{"$f":"V92-Dźwignie!$D$6","v":264978.2191967477},{"$f":"IF(W92>0,W92*(1-Dźwignie!$D$9),W92)","v":214632.35754936564},{"$f":"X92/Dźwignie!$D$5","v":21.463235754936562},{"$f":"V92/Dźwignie!$D$2","v":1.4248910959837384},{"$f":"X92/Dźwignie!$D$3","v":2.1463235754936565},1.5263560156379554,1.0754779017710505,1.6415621650539292]
[81,0.3733024001121521,{"$f":"NORMINV(B93,Dźwignie!$L$8,Dźwignie!$L$9)","v":333844.0287883897},{"$f":"Dźwignie!$L$7*C93","v":500766.04318258457},null,{"$f":"C93*Dźwignie!$G$5","v":333844.0287883897},166922.01439419488,{"$f":"Dźwignie!$G$6","v":50000},116922.01439419488,{"$f":"I93-Dźwignie!$D$6","v":96922.014394194877},{"$f":"IF(J93>0,J93*(1-Dźwignie!$D$9),J93)","v":78506.831659297852},{"$f":"K93/Dźwignie!$D$5","v":7.8506831659297855},{"$f":"I93/Dźwignie!$D$2","v":0.58461007197097437},{"$f":"K93/Dźwignie!$D$3","v":0.78506831659297849},1.427635465049621,1.2063514684977275,1.7222301397420463,null,{"$f":"C93*Dźwignie!$G$8","v":166922.01439419485},333844.02878838975,{"$f":"Dźwignie!$G$9","v":150000},183844.02878838975,{"$f":"V93-Dźwignie!$D$6","v":163844.02878838975},{"$f":"IF(W93>0,W93*(1-Dźwignie!$D$9),W93)","v":132713.6633185957},{"$f":"X93/Dźwignie!$D$5","v":13.27136633185957},{"$f":"V93/Dźwignie!$D$2","v":0.91922014394194873},{"$f":"X93/Dźwignie!$D$3","v":1.3271366331859571},1.8159090125937933,1.1220673108925483,2.0375721425866602]
[82,0.8541339635848999,{"$f":"NORMINV(B94,Dźwignie!$L$8,Dźwignie!$L$9)","v":402716.47656318784},{"$f":"Dźwignie!$L$7*C94","v":604074.71484478179},null,{"$f":"C94*Dźwignie!$G$5","v":402716.47656318784},201358.23828159395,{"$f":"Dźwignie!$G$6","v":50000},151358.23828159395,{"$f":"I94-Dźwignie!$D$6","v":131358.23828159395},{"$f":"IF(J94>0,J94*(1-Dźwignie!$D$9),J94)","v":106400.17300809111},{"$f":"K94/Dźwignie!$D$5","v":10.640017300809111},{"$f":"I94/Dźwignie!$D$2","v":0.7567911914079698},{"$f":"K94/Dźwignie!$D$3","v":1.064001730080911},1.3303421113225278,1.1522553915280578,1.5328938703482022,null,{"$f":"C94*Dźwignie!$G$8","v":201358.23828159392},402716.4765631879,{"$f":"Dźwignie!$G$9","v":150000},252716.4765631879,{"$f":"V94-Dźwignie!$D$6","v":232716.4765631879},{"$f":"IF(W94>0,W94*(1-Dźwignie!$D$9),W94)","v":188500.34601618221},{"$f":"X94/Dźwignie!$D$5","v":18.850034601618223},{"$f":"V94/Dźwignie!$D$2","v":1.2635823828159396},{"$f":"X94/Dźwignie!$D$3","v":1.8850034601618222},1.5935505355247179,1.0859414868055959,1.7305026378475656]
[83,0.39546495676040649,{"$f":"NORMINV(B95,Dźwignie!$L$8,Dźwignie!$L$9)","v":336744.83683598315},{"$f":"Dźwignie!$L$7*C95","v":505117.2552539747},null,{"$f":"C95*Dźwignie!$G$5","v":336744.83683598315},168372.41841799155,{"$f":"Dźwignie!$G$6","v":50000},118372.41841799155,{"$f":"I95-Dźwignie!$D$6","v":98372.418417991546},{"$f":"IF(J95>0,J95*(1-Dźwignie!$D$9),J95)","v":79681.658918573157},{"$f":"K95/Dźwignie!$D$5","v":7.9681658918573159},{"$f":"I95/Dźwignie!$D$2","v":0.59186209208995777},{"$f":"K95/Dźwignie!$D$3","v":0.79681658918573162},1.4223956954519774,1.2033090201667966,1.7115815705837882,null,{"$f":"C95*Dźwignie!$G$8","v":168372.41841799158},336744.83683598309,{"$f":"Dźwignie!$G$9","v":150000},186744.83683598309,{"$f":"V95-Dźwignie!$D$6","v":166744.83683598309},{"$f":"IF(W95>0,W95*(1-Dźwignie!$D$9),W95)","v":135063.31783714631},{"$f":"X95/Dźwignie!$D$5","v":13.506331783714632},{"$f":"V95/Dźwignie!$D$2","v":0.93372418417991543},{"$f":"X95/Dźwignie!$D$3","v":1.3506331783714631},1.8032350588184889,1.1199437438634026,2.0195218228389216]
[84,0.25749492645263672,{"$f":"NORMINV(B96,Dźwignie!$L$8,Dźwignie!$L$9)","v":317445.61321189976},{"$f":"Dźwignie!$L$7*C96","v":476168.41981784964},null,{"$f":"C96*Dźwignie!$G$5","v":317445.61321189976},158722.80660594988,{"$f":"Dźwignie!$G$6","v":50000},108722.80660594988,{"$f":"I96-Dźwignie!$D$6","v":88722.806605949881},{"$f":"IF(J96>0,J96*(1-Dźwignie!$D$9),J96)","v":71865.473350819404},{"$f":"K96/Dźwignie!$D$5","v":7.18654733508194},{"$f":"I96/Dźwignie!$D$2","v":0.54361403302974942},{"$f":"K96/Dźwignie!$D$3","v":0.71865473350819409},1.4598851111452429,1.2254211827273143,1.7889741395456003,null,{"$f":"C96*Dźwignie!$G$8","v":158722.80660594988},317445.61321189976,{"$f":"Dźwignie!$G$9","v":150000},167445.61321189976,{"$f":"V96-Dźwignie!$D$6","v":147445.61321189976},{"$f":"IF(W96>0,W96*(1-Dźwignie!$D$9),W96)","v":119430.94670163882},{"$f":"X96/Dźwignie!$D$5","v":11.943094670163882},{"$f":"V96/Dźwignie!$D$2","v":0.83722806605949884},{"$f":"X96/Dźwignie!$D$3","v":1.1943094670163883},1.8958132561536705,1.1356432352535115,2.1529674996548485]
[85,0.90083616971969604,{"$f":"NORMINV(B97,Dźwignie!$L$8,Dźwignie!$L$9)","v":414316.53672720445},{"$f":"Dźwignie!$L$7*C97","v":621474.80509080668},null,{"$f":"C97*Dźwignie!$G$5","v":414316.53672720445},207158.26836360223,{"$f":"Dźwignie!$G$6","v":50000},157158.26836360223,{"$f":"I97-Dźwignie!$D$6","v":137158.26836360223},{"$f":"IF(J97>0,J97*(1-Dźwignie!$D$9),J97)","v":111098.19737451781},{"$f":"K97/Dźwignie!$D$5","v":11.109819737451781},{"$f":"I97/Dźwignie!$D$2","v":0.78579134181801114},{"$f":"K97/Dźwignie!$D$3","v":1.110981973745178},1.3181506167039188,1.1458169473748432,1.5103593158119513,null,{"$f":"C97*Dźwignie!$G$8","v":207158.26836360223},414316.53672720445,{"$f":"Dźwignie!$G$9","v":150000},264316.53672720445,{"$f":"V97-Dźwignie!$D$6","v":244316.53672720445},{"$f":"IF(W97>0,W97*(1-Dźwignie!$D$9),W97)","v":197896.39474903562},{"$f":"X97/Dźwignie!$D$5","v":19.789639474903563},{"$f":"V97/Dźwignie!$D$2","v":1.3215826836360223},{"$f":"X97/Dźwignie!$D$3","v":1.9789639474903562},1.5675013824610295,1.0818610163188884,1.6958186387105521]
[86,0.22001898288726807,{"$f":"NORMINV(B98,Dźwignie!$L$8,Dźwignie!$L$9)","v":311393.54476654564},{"$f":"Dźwignie!$L$7*C98","v":467090.31714981847},null,{"$f":"C98*Dźwignie!$G$5","v":311393.54476654564},155696.77238327282,{"$f":"Dźwignie!$G$6","v":50000},105696.77238327282,{"$f":"I98-Dźwignie!$D$6","v":85696.772383272822},{"$f":"IF(J98>0,J98*(1-Dźwignie!$D$9),J98)","v":69414.385630450997},{"$f":"K98/Dźwignie!$D$5","v":6.9414385630451001},{"$f":"I98/Dźwignie!$D$2","v":0.52848386191636409},{"$f":"K98/Dźwignie!$D$3","v":0.69414385630450992},1.4730513418015478,1.2333810182552898,1.816833563893514,null,{"$f":"C98*Dźwignie!$G$8","v":155696.77238327282},311393.54476654564,{"$f":"Dźwignie!$G$9","v":150000},161393.54476654564,{"$f":"V98-Dźwignie!$D$6","v":141393.54476654564},{"$f":"IF(W98>0,W98*(1-Dźwignie!$D$9),W98)","v":114528.77126090198},{"$f":"X98/Dźwignie!$D$5","v":11.452877126090199},{"$f":"V98/Dźwignie!$D$2","v":0.80696772383272819},{"$f":"X98/Dźwignie!$D$3","v":1.1452877126090197},1.9294052015337646,1.1414491731784639,2.2023179720169432]
[87,0.702350914478302,{"$f":"NORMINV(B99,Dźwignie!$L$8,Dźwignie!$L$9)","v":376558.70269208075},{"$f":"Dźwignie!$L$7*C99","v":564838.05403812113},null,{"$f":"C99*Dźwignie!$G$5","v":376558.70269208075},188279.35134604038,{"$f":"Dźwignie!$G$6","v":50000},138279.35134604038,{"$f":"I99-Dźwignie!$D$6","v":118279.35134604038},{"$f":"IF(J99>0,J99*(1-Dźwignie!$D$9),J99)","v":95806.274590292713},{"$f":"K99/Dźwignie!$D$5","v":9.5806274590292713},{"$f":"I99/Dźwignie!$D$2","v":0.69139675673020184},{"$f":"K99/Dźwignie!$D$3","v":0.95806274590292717},1.361586885628906,1.1690912215225768,1.5918192753290188,null,{"$f":"C99*Dźwignie!$G$8","v":188279.35134604038},376558.70269208075,{"$f":"Dźwignie!$G$9","v":150000},226558.70269208075,{"$f":"V99-Dźwignie!$D$6","v":206558.70269208075},{"$f":"IF(W99>0,W99*(1-Dźwignie!$D$9),W99)","v":167312.54918058543},{"$f":"X99/Dźwignie!$D$5","v":16.731254918058543},{"$f":"V99/Dźwignie!$D$2","v":1.1327935134604037},{"$f":"X99/Dźwignie!$D$3","v":1.6731254918058542},1.6620800623309853,1.0968247754238378,1.8230105911026213]
[88,0.3732140064239502,{"$f":"NORMINV(B100,Dźwignie!$L$8,Dźwignie!$L$9)","v":333832.35614849371},{"$f":"Dźwignie!$L$7*C100","v":500748.53422274056},null,{"$f":"C100*Dźwignie!$G$5","v":333832.35614849371},166916.17807424685,{"$f":"Dźwignie!$G$6","v":50000},116916.17807424685,{"$f":"I100-Dźwignie!$D$6","v":96916.178074246855},{"$f":"IF(J100>0,J100*(1-Dźwignie!$D$9),J100)","v":78502.104240139961},{"$f":"K100/Dźwignie!$D$5","v":7.850210424013996},{"$f":"I100/Dźwignie!$D$2","v":0.58458089037123429},{"$f":"K100/Dźwignie!$D$3","v":0.78502104240139958},1.4276568121158375,1.206363895042148,1.7222736326475179,null,{"$f":"C100*Dźwignie!$G$8","v":166916.17807424685},333832.35614849371,{"$f":"Dźwignie!$G$9","v":150000},183832.35614849371,{"$f":"V100-Dźwignie!$D$6","v":163832.35614849371},{"$f":"IF(W100>0,W100*(1-Dźwignie!$D$9),W100)","v":132704.20848027992},{"$f":"X100/Dźwignie!$D$5","v":13.270420848027992},{"$f":"V100/Dźwignie!$D$2","v":0.91916178074246857},{"$f":"X100/Dźwignie!$D$3","v":1.3270420848027993},1.8159608196439312,1.1220760078788861,2.0376460669705323]
[89,0.69454807043075562,{"$f":"NORMINV(B101,Dźwignie!$L$8,Dźwignie!$L$9)","v":375439.18405961239},{"$f":"Dźwignie!$L$7*C101","v":563158.77608941856},null,{"$f":"C101*Dźwignie!$G$5","v":375439.18405961239},187719.59202980617,{"$f":"Dźwignie!$G$6","v":50000},137719.59202980617,{"$f":"I101-Dźwignie!$D$6","v":117719.59202980617},{"$f":"IF(J101>0,J101*(1-Dźwignie!$D$9),J101)","v":95352.869544143003},{"$f":"K101/Dźwignie!$D$5","v":9.5352869544142997},{"$f":"I101/Dźwignie!$D$2","v":0.68859796014903085},{"$f":"K101/Dźwignie!$D$3","v":0.95352869544143004},1.3630565503648797,1.1698952540961582,1.5946333893365539,null,{"$f":"C101*Dźwignie!$G$8","v":187719.5920298062},375439.18405961234,{"$f":"Dźwignie!$G$9","v":150000},225439.18405961234,{"$f":"V101-Dźwignie!$D$6","v":205439.18405961234},{"$f":"IF(W101>0,W101*(1-Dźwignie!$D$9),W101)","v":166405.73908828601},{"$f":"X101/Dźwignie!$D$5","v":16.6405739088286},{"$f":"V101/Dźwignie!$D$2","v":1.1271959202980617},{"$f":"X101/Dźwignie!$D$3","v":1.66405739088286},1.6653679156341157,1.0973524115740092,1.8274954983790779]
[90,0.66627585887908936,{"$f":"NORMINV(B102,Dźwignie!$L$8,Dźwignie!$L$9)","v":371482.63591239066},{"$f":"Dźwignie!$L$7*C102","v":557223.95386858599},null,{"$f":"C102*Dźwignie!$G$5","v":371482.63591239066},185741.31795619533,{"$f":"Dźwignie!$G$6","v":50000},135741.31795619533,{"$f":"I102-Dźwignie!$D$6","v":115741.31795619533},{"$f":"IF(J102>0,J102*(1-Dźwignie!$D$9),J102)","v":93750.467544518222},{"$f":"K102/Dźwignie!$D$5","v":9.375046754451823},{"$f":"I102/Dźwignie!$D$2","v":0.67870658978097664},{"$f":"K102/Dźwignie!$D$3","v":0.93750467544518223},1.3683476833202353,1.1727991382262417,1.6047969837918463,null,{"$f":"C102*Dźwignie!$G$8","v":185741.31795619533},371482.63591239066,{"$f":"Dźwignie!$G$9","v":150000},221482.63591239066,{"$f":"V102-Dźwignie!$D$6","v":201482.63591239066},{"$f":"IF(W102>0,W102*(1-Dźwignie!$D$9),W102)","v":163200.93508903644},{"$f":"X102/Dźwignie!$D$5","v":16.320093508903643},{"$f":"V102/Dźwignie!$D$2","v":1.1074131795619533},{"$f":"X102/Dźwignie!$D$3","v":1.6320093508903644},1.6772539950234915,1.0992641371274121,1.8437451655830031]
[91,0.13140255212783813,{"$f":"NORMINV(B103,Dźwignie!$L$8,Dźwignie!$L$9)","v":294010.71614658559},{"$f":"Dźwignie!$L$7*C103","v":441016.07421987841},null,{"$f":"C103*Dźwignie!$G$5","v":294010.71614658559},147005.35807329282,{"$f":"Dźwignie!$G$6","v":50000},97005.358073292824,{"$f":"I103-Dźwignie!$D$6","v":77005.358073292824},{"$f":"IF(J103>0,J103*(1-Dźwignie!$D$9),J103)","v":62374.340039367191},{"$f":"K103/Dźwignie!$D$5","v":6.2374340039367189},{"$f":"I103/Dźwignie!$D$2","v":0.48502679036646412},{"$f":"K103/Dźwignie!$D$3","v":0.62374340039367193},1.5154354459701316,1.2597221868764539,1.9090276540675883,null,{"$f":"C103*Dźwignie!$G$8","v":147005.35807329279},294010.71614658565,{"$f":"Dźwignie!$G$9","v":150000},144010.71614658565,{"$f":"V103-Dźwignie!$D$6","v":124010.71614658565},{"$f":"IF(W103>0,W103*(1-Dźwignie!$D$9),W103)","v":100448.68007873438},{"$f":"X103/Dźwignie!$D$5","v":10.044868007873438},{"$f":"V103/Dźwignie!$D$2","v":0.72005358073292824},{"$f":"X103/Dźwignie!$D$3","v":1.0044868007873438},2.0415891540134972,1.1612763849888521,2.370849272405243]
[92,3.2592296600341797E-2,{"$f":"NORMINV(B104,Dźwignie!$L$8,Dźwignie!$L$9)","v":257800.49850725604},{"$f":"Dźwignie!$L$7*C104","v":386700.74776088406},null,{"$f":"C104*Dźwignie!$G$5","v":257800.49850725604},128900.24925362802,{"$f":"Dźwignie!$G$6","v":50000},78900.249253628019,{"$f":"I104-Dźwignie!$D$6","v":58900.249253628019},{"$f":"IF(J104>0,J104*(1-Dźwignie!$D$9),J104)","v":47709.201895438695},{"$f":"K104/Dźwignie!$D$5","v":4.7709201895438698},{"$f":"I104/Dźwignie!$D$2","v":0.39450124626814009},{"$f":"K104/Dźwignie!$D$3","v":0.47709201895438696},1.6337115595069034,1.3395571369125927,2.1884499791940741,null,{"$f":"C104*Dźwignie!$G$8","v":128900.24925362802},257800.49850725604,{"$f":"Dźwignie!$G$9","v":150000},107800.49850725604,{"$f":"V104-Dźwignie!$D$6","v":87800.498507256038},{"$f":"IF(W104>0,W104*(1-Dźwignie!$D$9),W104)","v":71118.40379087739},{"$f":"X104/Dźwignie!$D$5","v":7.1118403790877389},{"$f":"V104/Dźwignie!$D$2","v":0.53900249253628019},{"$f":"X104/Dźwignie!$D$3","v":0.71118403790877394},2.3914592425553907,1.2277891394699445,2.9362076854945283]
[93,0.12681359052658081,{"$f":"NORMINV(B105,Dźwignie!$L$8,Dźwignie!$L$9)","v":292920.82443849533},{"$f":"Dźwignie!$L$7*C105","v":439381.23665774299},null,{"$f":"C105*Dźwignie!$G$5","v":292920.82443849533},146460.41221924766,{"$f":"Dźwignie!$G$6","v":50000},96460.412219247664,{"$f":"I105-Dźwignie!$D$6","v":76460.412219247664},{"$f":"IF(J105>0,J105*(1-Dźwignie!$D$9),J105)","v":61932.933897590614},{"$f":"K105/Dźwignie!$D$5","v":6.1932933897590612},{"$f":"I105/Dźwignie!$D$2","v":0.4823020610962383},{"$f":"K105/Dźwignie!$D$3","v":0.61932933897590614},1.5183473598096757,1.2615732693495121,1.9155064427232926,null,{"$f":"C105*Dźwignie!$G$8","v":146460.41221924766},292920.82443849533,{"$f":"Dźwignie!$G$9","v":150000},142920.82443849533,{"$f":"V105-Dźwignie!$D$6","v":122920.82443849533},{"$f":"IF(W105>0,W105*(1-Dźwignie!$D$9),W105)","v":99565.867795181228},{"$f":"X105/Dźwignie!$D$5","v":9.9565867795181227},{"$f":"V105/Dźwignie!$D$2","v":0.7146041221924766},{"$f":"X105/Dźwignie!$D$3","v":0.99565867795181229},2.0495321489315304,1.1627063607111356,2.383004066044653]
[94,0.38827812671661377,{"$f":"NORMINV(B106,Dźwignie!$L$8,Dźwignie!$L$9)","v":335809.51714587421},{"$f":"Dźwignie!$L$7*C106","v":503714.27571881132},null,{"$f":"C106*Dźwignie!$G$5","v":335809.51714587421},167904.75857293711,{"$f":"Dźwignie!$G$6","v":50000},117904.75857293711,{"$f":"I106-Dźwignie!$D$6","v":97904.758572937106},{"$f":"IF(J106>0,J106*(1-Dźwignie!$D$9),J106)","v":79302.854444079057},{"$f":"K106/Dźwignie!$D$5","v":7.9302854444079056},{"$f":"I106/Dźwignie!$D$2","v":0.58952379286468548},{"$f":"K106/Dźwignie!$D$3","v":0.79302854444079063},1.4240710943746133,1.2042801625939397,1.7149805690787889,null,{"$f":"C106*Dźwignie!$G$8","v":167904.75857293711},335809.51714587421,{"$f":"Dźwignie!$G$9","v":150000},185809.51714587421,{"$f":"V106-Dźwignie!$D$6","v":165809.51714587421},{"$f":"IF(W106>0,W106*(1-Dźwignie!$D$9),W106)","v":134305.70888815811},{"$f":"X106/Dźwignie!$D$5","v":13.430570888815812},{"$f":"V106/Dźwignie!$D$2","v":0.92904758572937107},{"$f":"X106/Dźwignie!$D$3","v":1.3430570888815812},1.8072783477621273,1.1206203379894328,2.025272872910179]
[95,0.15899926424026489,{"$f":"NORMINV(B107,Dźwignie!$L$8,Dźwignie!$L$9)","v":300071.0346502692},{"$f":"Dźwignie!$L$7*C107","v":450106.5519754038},null,{"$f":"C107*Dźwignie!$G$5","v":300071.0346502692},150035.5173251346,{"$f":"Dźwignie!$G$6","v":50000},100035.5173251346,{"$f":"I107-Dźwignie!$D$6","v":80035.517325134599},{"$f":"IF(J107>0,J107*(1-Dźwignie!$D$9),J107)","v":64828.769033359029},{"$f":"K107/Dźwignie!$D$5","v":6.4828769033359031},{"$f":"I107/Dźwignie!$D$2","v":0.50017758662567302},{"$f":"K107/Dźwignie!$D$3","v":0.64828769033359024},1.499822476425952,1.2498890576136645,1.8746117016478256,null,{"$f":"C107*Dźwignie!$G$8","v":150035.5173251346},300071.0346502692,{"$f":"Dźwignie!$G$9","v":150000},150071.0346502692,{"$f":"V107-Dźwignie!$D$6","v":130071.0346502692},{"$f":"IF(W107>0,W107*(1-Dźwignie!$D$9),W107)","v":105357.53806671806},{"$f":"X107/Dźwignie!$D$5","v":10.535753806671806},{"$f":"V107/Dźwignie!$D$2","v":0.75035517325134604},{"$f":"X107/Dźwignie!$D$3","v":1.0535753806671806},1.9995266598218988,1.1537621350808454,2.3069781481871852]
[96,0.61899161338806152,{"$f":"NORMINV(B108,Dźwignie!$L$8,Dźwignie!$L$9)","v":365141.67361538927},{"$f":"Dźwignie!$L$7*C108","v":547712.51042308391},null,{"$f":"C108*Dźwignie!$G$5","v":365141.67361538927},182570.83680769464,{"$f":"Dźwignie!$G$6","v":50000},132570.83680769464,{"$f":"I108-Dźwignie!$D$6","v":112570.83680769464},{"$f":"IF(J108>0,J108*(1-Dźwignie!$D$9),J108)","v":91182.377814232663},{"$f":"K108/Dźwignie!$D$5","v":9.1182377814232662},{"$f":"I108/Dźwignie!$D$2","v":0.66285418403847318},{"$f":"K108/Dźwignie!$D$3","v":0.91182377814232662},1.3771568559420748,1.1776659085706727,1.6218306799973545,null,{"$f":"C108*Dźwignie!$G$8","v":182570.83680769464},365141.67361538927,{"$f":"Dźwignie!$G$9","v":150000},215141.67361538927,{"$f":"V108-Dźwignie!$D$6","v":195141.67361538927},{"$f":"IF(W108>0,W108*(1-Dźwignie!$D$9),W108)","v":158064.75562846533},{"$f":"X108/Dźwignie!$D$5","v":15.806475562846533},{"$f":"V108/Dźwignie!$D$2","v":1.0757083680769464},{"$f":"X108/Dźwignie!$D$3","v":1.5806475562846534},1.6972149908443883,1.1024896406260132,1.8711619453211119]
[97,0.61004728078842163,{"$f":"NORMINV(B109,Dźwignie!$L$8,Dźwignie!$L$9)","v":363972.11332606123},{"$f":"Dźwignie!$L$7*C109","v":545958.16998909181},null,{"$f":"C109*Dźwignie!$G$5","v":363972.11332606123},181986.05666303058,{"$f":"Dźwignie!$G$6","v":50000},131986.05666303058,{"$f":"I109-Dźwignie!$D$6","v":111986.05666303058},{"$f":"IF(J109>0,J109*(1-Dźwignie!$D$9),J109)","v":90708.705897054781},{"$f":"K109/Dźwignie!$D$5","v":9.0708705897054784},{"$f":"I109/Dźwignie!$D$2","v":0.65993028331515291},{"$f":"K109/Dźwignie!$D$3","v":0.90708705897054775},1.3788278948863015,1.178593662425141,1.6250778184879935,null,{"$f":"C109*Dźwignie!$G$8","v":181986.05666303061},363972.11332606117,{"$f":"Dźwignie!$G$9","v":150000},213972.11332606117,{"$f":"V109-Dźwignie!$D$6","v":193972.11332606117},{"$f":"IF(W109>0,W109*(1-Dźwignie!$D$9),W109)","v":157117.41179410956},{"$f":"X109/Dźwignie!$D$5","v":15.711741179410955},{"$f":"V109/Dźwignie!$D$2","v":1.0698605666303058},{"$f":"X109/Dźwignie!$D$3","v":1.5711741179410956},1.7010259312222742,1.1031076047843054,1.8764146406665954]
[98,0.46128213405609131,{"$f":"NORMINV(B110,Dźwignie!$L$8,Dźwignie!$L$9)","v":345139.79222806334},{"$f":"Dźwignie!$L$7*C110","v":517709.688342095},null,{"$f":"C110*Dźwignie!$G$5","v":345139.79222806334},172569.89611403167,{"$f":"Dźwignie!$G$6","v":50000},122569.89611403167,{"$f":"I110-Dźwignie!$D$6","v":102569.89611403167},{"$f":"IF(J110>0,J110*(1-Dźwignie!$D$9),J110)","v":83081.615852365663},{"$f":"K110/Dźwignie!$D$5","v":8.3081615852365669},{"$f":"I110/Dźwignie!$D$2","v":0.61284948057015831},{"$f":"K110/Dźwignie!$D$3","v":0.83081615852365664},1.4079305081035804,1.194988985635367,1.6824614497237844,null,{"$f":"C110*Dźwignie!$G$8","v":172569.89611403167},345139.79222806334,{"$f":"Dźwignie!$G$9","v":150000},195139.79222806334,{"$f":"V110-Dźwignie!$D$6","v":175139.79222806334},{"$f":"IF(W110>0,W110*(1-Dźwignie!$D$9),W110)","v":141863.2317047313},{"$f":"X110/Dźwignie!$D$5","v":14.186323170473131},{"$f":"V110/Dźwignie!$D$2","v":0.97569896114031662},{"$f":"X110/Dźwignie!$D$3","v":1.418632317047313},1.7686797156404284,1.1141944942697912,1.9706532012932252]
[99,0.62187200784683228,{"$f":"NORMINV(B111,Dźwignie!$L$8,Dźwignie!$L$9)","v":365520.05325334484},{"$f":"Dźwignie!$L$7*C111","v":548280.07988001732},null,{"$f":"C111*Dźwignie!$G$5","v":365520.05325334484},182760.02662667248,{"$f":"Dźwignie!$G$6","v":50000},132760.02662667248,{"$f":"I111-Dźwignie!$D$6","v":112760.02662667248},{"$f":"IF(J111>0,J111*(1-Dźwignie!$D$9),J111)","v":91335.621567604714},{"$f":"K111/Dźwignie!$D$5","v":9.1335621567604708},{"$f":"I111/Dźwignie!$D$2","v":0.66380013313336239},{"$f":"K111/Dźwignie!$D$3","v":0.91335621567604719},1.3766193881581719,1.1773678190607058,1.6207873667124699,null,{"$f":"C111*Dźwignie!$G$8","v":182760.02662667242},365520.0532533449,{"$f":"Dźwignie!$G$9","v":150000},215520.0532533449,{"$f":"V111-Dźwignie!$D$6","v":195520.0532533449},{"$f":"IF(W111>0,W111*(1-Dźwignie!$D$9),W111)","v":158371.24313520937},{"$f":"X111/Dźwignie!$D$5","v":15.837124313520937},{"$f":"V111/Dźwignie!$D$2","v":1.0776002662667246},{"$f":"X111/Dźwignie!$D$3","v":1.5837124313520936},1.695990919339994,1.102291297834729,1.8694760315951973]
[100,0.43471908569335938,{"$f":"NORMINV(B112,Dźwignie!$L$8,Dźwignie!$L$9)","v":341781.39154384536},{"$f":"Dźwignie!$L$7*C112","v":512672.087315768},null,{"$f":"C112*Dźwignie!$G$5","v":341781.39154384536},170890.69577192265,{"$f":"Dźwignie!$G$6","v":50000},120890.69577192265,{"$f":"I112-Dźwignie!$D$6","v":100890.69577192265},{"$f":"IF(J112>0,J112*(1-Dźwignie!$D$9),J112)","v":81721.463575257352},{"$f":"K112/Dźwignie!$D$5","v":8.1721463575257349},{"$f":"I112/Dźwignie!$D$2","v":0.6044534788596132},{"$f":"K112/Dźwignie!$D$3","v":0.81721463575257347},1.41359675929347,1.1982343351582465,1.6938201730538629,null,{"$f":"C112*Dźwignie!$G$8","v":170890.69577192268},341781.3915438453,{"$f":"Dźwignie!$G$9","v":150000},191781.3915438453,{"$f":"V112-Dźwignie!$D$6","v":171781.3915438453},{"$f":"IF(W112>0,W112*(1-Dźwignie!$D$9),W112)","v":139142.9271505147},{"$f":"X112/Dźwignie!$D$5","v":13.91429271505147},{"$f":"V112/Dźwignie!$D$2","v":0.95890695771922652},{"$f":"X112/Dźwignie!$D$3","v":1.3914292715051471},1.7821405340345902,1.1164270461442574,1.9896298922261868]
[101,0.79982775449752808,{"$f":"NORMINV(B113,Dźwignie!$L$8,Dźwignie!$L$9)","v":392050.30732931499},{"$f":"Dźwignie!$L$7*C113","v":588075.46099397249},null,{"$f":"C113*Dźwignie!$G$5","v":392050.30732931499},196025.1536646575,{"$f":"Dźwignie!$G$6","v":50000},146025.1536646575,{"$f":"I113-Dźwignie!$D$6","v":126025.1536646575},{"$f":"IF(J113>0,J113*(1-Dźwignie!$D$9),J113)","v":102080.37446837258},{"$f":"K113/Dźwignie!$D$5","v":10.208037446837258},{"$f":"I113/Dźwignie!$D$2","v":0.73012576832328746},{"$f":"K113/Dźwignie!$D$3","v":1.0208037446837259},1.3424067617475244,1.158698477394587,1.5554446708810545,null,{"$f":"C113*Dźwignie!$G$8","v":196025.1536646575},392050.30732931499,{"$f":"Dźwignie!$G$9","v":150000},242050.30732931499,{"$f":"V113-Dźwignie!$D$6","v":222050.30732931499},{"$f":"IF(W113>0,W113*(1-Dźwignie!$D$9),W113)","v":179860.74893674516},{"$f":"X113/Dźwignie!$D$5","v":17.986074893674516},{"$f":"V113/Dźwignie!$D$2","v":1.2102515366465749},{"$f":"X113/Dźwignie!$D$3","v":1.7986074893674517},1.6197058853386275,1.0900696794368256,1.7655922752130175]
[102,0.23105204105377197,{"$f":"NORMINV(B114,Dźwignie!$L$8,Dźwignie!$L$9)","v":313230.6701428286},{"$f":"Dźwignie!$L$7*C114","v":469846.0052142429},null,{"$f":"C114*Dźwignie!$G$5","v":313230.6701428286},156615.3350714143,{"$f":"Dźwignie!$G$6","v":50000},106615.3350714143,{"$f":"I114-Dźwignie!$D$6","v":86615.335071414302},{"$f":"IF(J114>0,J114*(1-Dźwignie!$D$9),J114)","v":70158.421407845584},{"$f":"K114/Dźwignie!$D$5","v":7.0158421407845584},{"$f":"I114/Dźwignie!$D$2","v":0.53307667535707148},{"$f":"K114/Dźwignie!$D$3","v":0.70158421407845584},1.4689756869075956,1.2309059935346323,1.8081709773712129,null,{"$f":"C114*Dźwignie!$G$8","v":156615.3350714143},313230.6701428286,{"$f":"Dźwignie!$G$9","v":150000},163230.6701428286,{"$f":"V114-Dźwignie!$D$6","v":143230.6701428286},{"$f":"IF(W114>0,W114*(1-Dźwignie!$D$9),W114)","v":116016.84281569118},{"$f":"X114/Dźwignie!$D$5","v":11.601684281569119},{"$f":"V114/Dźwignie!$D$2","v":0.81615335071414297},{"$f":"X114/Dźwignie!$D$3","v":1.1601684281569118},1.9189449499211659,1.139634897889231,2.1868966320584633]
[103,0.54522830247879028,{"$f":"NORMINV(B115,Dźwignie!$L$8,Dźwignie!$L$9)","v":355680.72483622987},{"$f":"Dźwignie!$L$7*C115","v":533521.08725434483},null,{"$f":"C115*Dźwignie!$G$5","v":355680.72483622987},177840.36241811496,{"$f":"Dźwignie!$G$6","v":50000},127840.36241811496,{"$f":"I115-Dźwignie!$D$6","v":107840.36241811496},{"$f":"IF(J115>0,J115*(1-Dźwignie!$D$9),J115)","v":87350.693558673127},{"$f":"K115/Dźwignie!$D$5","v":8.7350693558673118},{"$f":"I115/Dźwignie!$D$2","v":0.63920181209057481},{"$f":"K115/Dźwignie!$D$3","v":0.87350693558673131},1.3911127835860626,1.1854593173793007,1.6491076108275526,null,{"$f":"C115*Dźwignie!$G$8","v":177840.36241811494},355680.72483622993,{"$f":"Dźwignie!$G$9","v":150000},205680.72483622993,{"$f":"V115-Dźwignie!$D$6","v":185680.72483622993},{"$f":"IF(W115>0,W115*(1-Dźwignie!$D$9),W115)","v":150401.38711734625},{"$f":"X115/Dźwignie!$D$5","v":15.040138711734626},{"$f":"V115/Dźwignie!$D$2","v":1.0284036241811496},{"$f":"X115/Dźwignie!$D$3","v":1.5040138711734625},1.7292856446292435,1.1077117725474195,1.9155500666530663]
[104,0.21665215492248535,{"$f":"NORMINV(B116,Dźwignie!$L$8,Dźwignie!$L$9)","v":310822.5090011619},{"$f":"Dźwignie!$L$7*C116","v":466233.76350174285},null,{"$f":"C116*Dźwignie!$G$5","v":310822.5090011619},155411.25450058095,{"$f":"Dźwignie!$G$6","v":50000},105411.25450058095,{"$f":"I116-Dźwignie!$D$6","v":85411.254500580952},{"$f":"IF(J116>0,J116*(1-Dźwignie!$D$9),J116)","v":69183.116145470573},{"$f":"K116/Dźwignie!$D$5","v":6.9183116145470569},{"$f":"I116/Dźwignie!$D$2","v":0.52705627250290477},{"$f":"K116/Dźwignie!$D$3","v":0.69183116145470569},1.4743326529685161,1.2341611783709834,1.8195641242984419,null,{"$f":"C116*Dźwignie!$G$8","v":155411.25450058095},310822.5090011619,{"$f":"Dźwignie!$G$9","v":150000},160822.5090011619,{"$f":"V116-Dźwignie!$D$6","v":140822.5090011619},{"$f":"IF(W116>0,W116*(1-Dźwignie!$D$9),W116)","v":114066.23229094115},{"$f":"X116/Dźwignie!$D$5","v":11.406623229094114},{"$f":"V116/Dźwignie!$D$2","v":0.80411254500580953},{"$f":"X116/Dźwignie!$D$3","v":1.1406623229094115},1.9327052595536629,1.1420227500692732,2.2071933755888224]
[105,4.8022687435150146E-2,{"$f":"NORMINV(B117,Dźwignie!$L$8,Dźwignie!$L$9)","v":266783.21824345365},{"$f":"Dźwignie!$L$7*C117","v":400174.82736518048},null,{"$f":"C117*Dźwignie!$G$5","v":266783.21824345365},133391.60912172683,{"$f":"Dźwignie!$G$6","v":50000},83391.609121726826,{"$f":"I117-Dźwignie!$D$6","v":63391.609121726826},{"$f":"IF(J117>0,J117*(1-Dźwignie!$D$9),J117)","v":51347.203388598733},{"$f":"K117/Dźwignie!$D$5","v":5.1347203388598732},{"$f":"I117/Dźwignie!$D$2","v":0.41695804560863414},{"$f":"K117/Dźwignie!$D$3","v":0.51347203388598728},1.5995807075387518,1.3154991690082403,2.1042470915288409,null,{"$f":"C117*Dźwignie!$G$8","v":133391.60912172683},266783.21824345365,{"$f":"Dźwignie!$G$9","v":150000},116783.21824345365,{"$f":"V117-Dźwignie!$D$6","v":96783.218243453652},{"$f":"IF(W117>0,W117*(1-Dźwignie!$D$9),W117)","v":78394.406777197466},{"$f":"X117/Dźwignie!$D$5","v":7.8394406777197467},{"$f":"V117/Dźwignie!$D$2","v":0.58391609121726828},{"$f":"X117/Dźwignie!$D$3","v":0.78394406777197467},2.2844311216642494,1.2066473957260953,2.7565028636718094]
[106,0.95448482036590576,{"$f":"NORMINV(B118,Dźwignie!$L$8,Dźwignie!$L$9)","v":434499.37155548617},{"$f":"Dźwignie!$L$7*C118","v":651749.05733322923},null,{"$f":"C118*Dźwignie!$G$5","v":434499.37155548617},217249.68577774306,{"$f":"Dźwignie!$G$6","v":50000},167249.68577774306,{"$f":"I118-Dźwignie!$D$6","v":147249.68577774306},{"$f":"IF(J118>0,J118*(1-Dźwignie!$D$9),J118)","v":119272.24547997188},{"$f":"K118/Dźwignie!$D$5","v":11.927224547997188},{"$f":"I118/Dźwignie!$D$2","v":0.83624842888871531},{"$f":"K118/Dźwignie!$D$3","v":1.1927224547997188},1.2989542238449683,1.1358237193808873,1.4753830178331055,null,{"$f":"C118*Dźwignie!$G$8","v":217249.68577774309},434499.37155548611,{"$f":"Dźwignie!$G$9","v":150000},284499.37155548611,{"$f":"V118-Dźwignie!$D$6","v":264499.37155548611},{"$f":"IF(W118>0,W118*(1-Dźwignie!$D$9),W118)","v":214244.49095994377},{"$f":"X118/Dźwignie!$D$5","v":21.424449095994376},{"$f":"V118/Dźwignie!$D$2","v":1.4224968577774306},{"$f":"X118/Dźwignie!$D$3","v":2.1424449095994378},1.5272419379342825,1.0756145463877007,1.6427236442954563]
[107,0.22087723016738892,{"$f":"NORMINV(B119,Dźwignie!$L$8,Dźwignie!$L$9)","v":311538.30425420788},{"$f":"Dźwignie!$L$7*C119","v":467307.45638131181},null,{"$f":"C119*Dźwignie!$G$5","v":311538.30425420788},155769.15212710394,{"$f":"Dźwignie!$G$6","v":50000},105769.15212710394,{"$f":"I119-Dźwignie!$D$6","v":85769.152127103938},{"$f":"IF(J119>0,J119*(1-Dźwignie!$D$9),J119)","v":69473.013222954192},{"$f":"K119/Dźwignie!$D$5","v":6.9473013222954192},{"$f":"I119/Dźwignie!$D$2","v":0.52884576063551969},{"$f":"K119/Dźwignie!$D$3","v":0.69473013222954194},1.4727276242123455,1.2331840703095838,1.8161442460835433,null,{"$f":"C119*Dźwignie!$G$8","v":155769.15212710394},311538.30425420788,{"$f":"Dźwignie!$G$9","v":150000},161538.30425420788,{"$f":"V119-Dźwignie!$D$6","v":141538.30425420788},{"$f":"IF(W119>0,W119*(1-Dźwignie!$D$9),W119)","v":114646.02644590838},{"$f":"X119/Dźwignie!$D$5","v":11.464602644590839},{"$f":"V119/Dźwignie!$D$2","v":0.80769152127103938},{"$f":"X119/Dźwignie!$D$3","v":1.1464602644590838},1.9285723326892772,1.1413045048503569,2.2010882912280332]
[108,0.90186357498168945,{"$f":"NORMINV(B120,Dźwignie!$L$8,Dźwignie!$L$9)","v":414612.17233335256},{"$f":"Dźwignie!$L$7*C120","v":621918.25850002887},null,{"$f":"C120*Dźwignie!$G$5","v":414612.17233335256},207306.08616667631,{"$f":"Dźwignie!$G$6","v":50000},157306.08616667631,{"$f":"I120-Dźwignie!$D$6","v":137306.08616667631},{"$f":"IF(J120>0,J120*(1-Dźwignie!$D$9),J120)","v":111217.92979500782},{"$f":"K120/Dźwignie!$D$5","v":11.121792979500782},{"$f":"I120/Dźwignie!$D$2","v":0.78653043083338159},{"$f":"K120/Dźwignie!$D$3","v":1.1121792979500782},1.3178516560829163,1.1456599671461172,1.5098098850114101,null,{"$f":"C120*Dźwignie!$G$8","v":207306.08616667628},414612.17233335262,{"$f":"Dźwignie!$G$9","v":150000},264612.17233335262,{"$f":"V120-Dźwignie!$D$6","v":244612.17233335262},{"$f":"IF(W120>0,W120*(1-Dźwignie!$D$9),W120)","v":198135.85959001564},{"$f":"X120/Dźwignie!$D$5","v":19.813585959001564},{"$f":"V120/Dźwignie!$D$2","v":1.3230608616667632},{"$f":"X120/Dźwignie!$D$3","v":1.9813585959001563},1.5668673465672369,1.0817620799865364,1.6949776798855594]
[109,0.10591381788253784,{"$f":"NORMINV(B121,Dźwignie!$L$8,Dźwignie!$L$9)","v":287572.21662890218},{"$f":"Dźwignie!$L$7*C121","v":431358.32494335331},null,{"$f":"C121*Dźwignie!$G$5","v":287572.21662890218},143786.10831445112,{"$f":"Dźwignie!$G$6","v":50000},93786.108314451121,{"$f":"I121-Dźwignie!$D$6","v":73786.108314451121},{"$f":"IF(J121>0,J121*(1-Dźwignie!$D$9),J121)","v":59766.747734705415},{"$f":"K121/Dźwignie!$D$5","v":5.9766747734705419},{"$f":"I121/Dźwignie!$D$2","v":0.46893054157225561},{"$f":"K121/Dźwignie!$D$3","v":0.59766747734705417},1.5331279962311402,1.2710537316152635,1.9486880606534223,null,{"$f":"C121*Dźwignie!$G$8","v":143786.10831445109},287572.21662890224,{"$f":"Dźwignie!$G$9","v":150000},137572.21662890224,{"$f":"V121-Dźwignie!$D$6","v":117572.21662890224},{"$f":"IF(W121>0,W121*(1-Dźwignie!$D$9),W121)","v":95233.495469410816},{"$f":"X121/Dźwignie!$D$5","v":9.5233495469410823},{"$f":"V121/Dźwignie!$D$2","v":0.68786108314451122},{"$f":"X121/Dźwignie!$D$3","v":0.95233495469410812},2.0903364332975851,1.1701082158136626,2.4459198344161326]
[110,0.69023525714874268,{"$f":"NORMINV(B122,Dźwignie!$L$8,Dźwignie!$L$9)","v":374825.8649282495},{"$f":"Dźwignie!$L$7*C122","v":562238.79739237425},null,{"$f":"C122*Dźwignie!$G$5","v":374825.8649282495},187412.93246412475,{"$f":"Dźwignie!$G$6","v":50000},137412.93246412475,{"$f":"I122-Dźwignie!$D$6","v":117412.93246412475},{"$f":"IF(J122>0,J122*(1-Dźwignie!$D$9),J122)","v":95104.475295941054},{"$f":"K122/Dźwignie!$D$5","v":9.5104475295941047},{"$f":"I122/Dźwignie!$D$2","v":0.6870646623206238},{"$f":"K122/Dźwignie!$D$3","v":0.95104475295941049},1.3638667707863219,1.1703389871989693,1.5961864551963929,null,{"$f":"C122*Dźwignie!$G$8","v":187412.93246412475},374825.8649282495,{"$f":"Dźwignie!$G$9","v":150000},224825.8649282495,{"$f":"V122-Dźwignie!$D$6","v":204825.8649282495},{"$f":"IF(W122>0,W122*(1-Dźwignie!$D$9),W122)","v":165908.95059188211},{"$f":"X122/Dźwignie!$D$5","v":16.59089505918821},{"$f":"V122/Dźwignie!$D$2","v":1.1241293246412476},{"$f":"X122/Dźwignie!$D$3","v":1.6590895059188211},1.6671830220596313,1.097643918198544,1.8299733046876234]
[111,0.53535443544387817,{"$f":"NORMINV(B123,Dźwignie!$L$8,Dźwignie!$L$9)","v":354436.83726957324},{"$f":"Dźwignie!$L$7*C123","v":531655.25590435986},null,{"$f":"C123*Dźwignie!$G$5","v":354436.83726957324},177218.41863478662,{"$f":"Dźwignie!$G$6","v":50000},127218.41863478662,{"$f":"I123-Dźwignie!$D$6","v":107218.41863478662},{"$f":"IF(J123>0,J123*(1-Dźwignie!$D$9),J123)","v":86846.919094177167},{"$f":"K123/Dźwignie!$D$5","v":8.6846919094177171},{"$f":"I123/Dźwignie!$D$2","v":0.63609209317393312},{"$f":"K123/Dźwignie!$D$3","v":0.86846919094177166},1.3930248507768197,1.1865351145321881,1.6528729008626579,null,{"$f":"C123*Dźwignie!$G$8","v":177218.41863478662},354436.83726957324,{"$f":"Dźwignie!$G$9","v":150000},204436.83726957324,{"$f":"V123-Dźwignie!$D$6","v":184436.83726957324},{"$f":"IF(W123>0,W123*(1-Dźwignie!$D$9),W123)","v":149393.83818835433},{"$f":"X123/Dźwignie!$D$5","v":14.939383818835433},{"$f":"V123/Dźwignie!$D$2","v":1.0221841863478662},{"$f":"X123/Dźwignie!$D$3","v":1.4939383818835434},1.7337229532768008,1.108438207334731,1.9217247623452127]
[112,0.64324641227722168,{"$f":"NORMINV(B124,Dźwignie!$L$8,Dźwignie!$L$9)","v":368357.49715229362},{"$f":"Dźwignie!$L$7*C124","v":552536.24572844047},null,{"$f":"C124*Dźwignie!$G$5","v":368357.49715229362},184178.74857614684,{"$f":"Dźwignie!$G$6","v":50000},134178.74857614684,{"$f":"I124-Dźwignie!$D$6","v":114178.74857614684},{"$f":"IF(J124>0,J124*(1-Dźwignie!$D$9),J124)","v":92484.786346678942},{"$f":"K124/Dźwignie!$D$5","v":9.2484786346678938},{"$f":"I124/Dźwignie!$D$2","v":0.67089374288073422},{"$f":"K124/Dźwignie!$D$3","v":0.92484786346678938},1.3726372509103024,1.1751639446867981,1.6130738064037933,null,{"$f":"C124*Dźwignie!$G$8","v":184178.74857614681},368357.49715229368,{"$f":"Dźwignie!$G$9","v":150000},218357.49715229368,{"$f":"V124-Dźwignie!$D$6","v":198357.49715229368},{"$f":"IF(W124>0,W124*(1-Dźwignie!$D$9),W124)","v":160669.57269335788},{"$f":"X124/Dźwignie!$D$5","v":16.066957269335788},{"$f":"V124/Dźwignie!$D$2","v":1.0917874857614684},{"$f":"X124/Dźwignie!$D$3","v":1.6066957269335789},1.6869468736188267,1.1008280518111424,1.8570384403947104]
[113,7.7321946620941162E-2,{"$f":"NORMINV(B125,Dźwignie!$L$8,Dźwignie!$L$9)","v":278834.08308271656},{"$f":"Dźwignie!$L$7*C125","v":418251.12462407484},null,{"$f":"C125*Dźwignie!$G$5","v":278834.08308271656},139417.04154135828,{"$f":"Dźwignie!$G$6","v":50000},89417.041541358281,{"$f":"I125-Dźwignie!$D$6","v":69417.041541358281},{"$f":"IF(J125>0,J125*(1-Dźwignie!$D$9),J125)","v":56227.803648500209},{"$f":"K125/Dźwignie!$D$5","v":5.622780364850021},{"$f":"I125/Dźwignie!$D$2","v":0.44708520770679139},{"$f":"K125/Dźwignie!$D$3","v":0.56227803648500208},1.5591775252022109,1.2881136901820298,2.0083979156371048,null,{"$f":"C125*Dźwignie!$G$8","v":139417.04154135828},278834.08308271656,{"$f":"Dźwignie!$G$9","v":150000},128834.08308271656,{"$f":"V125-Dźwignie!$D$6","v":108834.08308271656},{"$f":"IF(W125>0,W125*(1-Dźwignie!$D$9),W125)","v":88155.607297000417},{"$f":"X125/Dźwignie!$D$5","v":8.8155607297000422},{"$f":"V125/Dźwignie!$D$2","v":0.64417041541358278},{"$f":"X125/Dźwignie!$D$3","v":0.88155607297000416},2.1642881791124644,1.1837659622197534,2.5620106788679045]
[114,0.43934094905853271,{"$f":"NORMINV(B126,Dźwignie!$L$8,Dźwignie!$L$9)","v":342367.98218180938},{"$f":"Dźwignie!$L$7*C126","v":513551.97327271407},null,{"$f":"C126*Dźwignie!$G$5","v":342367.98218180938},171183.99109090469,{"$f":"Dźwignie!$G$6","v":50000},121183.99109090469,{"$f":"I126-Dźwignie!$D$6","v":101183.99109090469},{"$f":"IF(J126>0,J126*(1-Dźwignie!$D$9),J126)","v":81959.032783632807},{"$f":"K126/Dźwignie!$D$5","v":8.1959032783632804},{"$f":"I126/Dźwignie!$D$2","v":0.60591995545452348},{"$f":"K126/Dźwignie!$D$3","v":0.81959032783632801},1.4125957525403923,1.1976597264485427,1.6918090425698995,null,{"$f":"C126*Dźwignie!$G$8","v":171183.99109090469},342367.98218180938,{"$f":"Dźwignie!$G$9","v":150000},192367.98218180938,{"$f":"V126-Dźwignie!$D$6","v":172367.98218180938},{"$f":"IF(W126>0,W126*(1-Dźwignie!$D$9),W126)","v":139618.06556726561},{"$f":"X126/Dźwignie!$D$5","v":13.961806556726561},{"$f":"V126/Dźwignie!$D$2","v":0.96183991090904686},{"$f":"X126/Dźwignie!$D$3","v":1.3961806556726561},1.7797555409103014,1.1160308297796542,1.9862620531270609]
[115,0.54804712533950806,{"$f":"NORMINV(B127,Dźwignie!$L$8,Dźwignie!$L$9)","v":356036.44614934706},{"$f":"Dźwignie!$L$7*C127","v":534054.66922402056},null,{"$f":"C127*Dźwignie!$G$5","v":356036.44614934706},178018.2230746735,{"$f":"Dźwignie!$G$6","v":50000},128018.2230746735,{"$f":"I127-Dźwignie!$D$6","v":108018.2230746735},{"$f":"IF(J127>0,J127*(1-Dźwignie!$D$9),J127)","v":87494.760690485535},{"$f":"K127/Dźwignie!$D$5","v":8.7494760690485531},{"$f":"I127/Dźwignie!$D$2","v":0.64009111537336749},{"$f":"K127/Dźwignie!$D$3","v":0.8749476069048554},1.3905693955057852,1.1851539437579335,1.6480388031527669,null,{"$f":"C127*Dźwignie!$G$8","v":178018.22307467353},356036.446149347,{"$f":"Dźwignie!$G$9","v":150000},206036.446149347,{"$f":"V127-Dźwignie!$D$6","v":186036.446149347},{"$f":"IF(W127>0,W127*(1-Dźwignie!$D$9),W127)","v":150689.52138097107},{"$f":"X127/Dźwignie!$D$5","v":15.068952138097107},{"$f":"V127/Dźwignie!$D$2","v":1.030182230746735},{"$f":"X127/Dźwignie!$D$3","v":1.5068952138097107},1.7280265351270494,1.1075058162740021,1.9137994383290184]
[116,7.5139045715332031E-2,{"$f":"NORMINV(B128,Dźwignie!$L$8,Dźwignie!$L$9)","v":278072.50529510377},{"$f":"Dźwignie!$L$7*C128","v":417108.75794265565},null,{"$f":"C128*Dźwignie!$G$5","v":278072.50529510377},139036.25264755188,{"$f":"Dźwignie!$G$6","v":50000},89036.252647551883,{"$f":"I128-Dźwignie!$D$6","v":69036.252647551883},{"$f":"IF(J128>0,J128*(1-Dźwignie!$D$9),J128)","v":55919.364644517031},{"$f":"K128/Dźwignie!$D$5","v":5.5919364644517033},{"$f":"I128/Dźwignie!$D$2","v":0.44518126323775942},{"$f":"K128/Dźwignie!$D$3","v":0.55919364644517033},1.5615690071540178,1.2897028623802227,2.0139600183307791,null,{"$f":"C128*Dźwignie!$G$8","v":139036.25264755188},278072.50529510377,{"$f":"Dźwignie!$G$9","v":150000},128072.50529510377,{"$f":"V128-Dźwignie!$D$6","v":108072.50529510377},{"$f":"IF(W128>0,W128*(1-Dźwignie!$D$9),W128)","v":87538.729289034061},{"$f":"X128/Dźwignie!$D$5","v":8.753872928903407},{"$f":"V128/Dźwignie!$D$2","v":0.64036252647551883},{"$f":"X128/Dźwignie!$D$3","v":0.87538729289034056},2.1712115699960037,1.1850609453846546,2.5730180357695644]
[117,0.62173193693161011,{"$f":"NORMINV(B129,Dźwignie!$L$8,Dźwignie!$L$9)","v":365501.63260282617},{"$f":"Dźwignie!$L$7*C129","v":548252.44890423922},null,{"$f":"C129*Dźwignie!$G$5","v":365501.63260282617},182750.81630141306,{"$f":"Dźwignie!$G$6","v":50000},132750.81630141306,{"$f":"I129-Dźwignie!$D$6","v":112750.81630141306},{"$f":"IF(J129>0,J129*(1-Dźwignie!$D$9),J129)","v":91328.161204144577},{"$f":"K129/Dźwignie!$D$5","v":9.1328161204144571},{"$f":"I129/Dźwignie!$D$2","v":0.66375408150706527},{"$f":"K129/Dźwignie!$D$3","v":0.91328161204144576},1.3766455182201978,1.1773823077833392,1.6208380772416873,null,{"$f":"C129*Dźwignie!$G$8","v":182750.81630141308},365501.63260282611,{"$f":"Dźwignie!$G$9","v":150000},215501.63260282611,{"$f":"V129-Dźwignie!$D$6","v":195501.63260282611},{"$f":"IF(W129>0,W129*(1-Dźwignie!$D$9),W129)","v":158356.32240828915},{"$f":"X129/Dźwignie!$D$5","v":15.835632240828915},{"$f":"V129/Dźwignie!$D$2","v":1.0775081630141305},{"$f":"X129/Dźwignie!$D$3","v":1.5835632240828916},1.6960504112581507,1.1023009359754619,1.8695579557914266]
[118,0.53584730625152588,{"$f":"NORMINV(B130,Dźwignie!$L$8,Dźwignie!$L$9)","v":354498.8565766305},{"$f":"Dźwignie!$L$7*C130","v":531748.2848649458},null,{"$f":"C130*Dźwignie!$G$5","v":354498.8565766305},177249.42828831531,{"$f":"Dźwignie!$G$6","v":50000},127249.42828831531,{"$f":"I130-Dźwignie!$D$6","v":107249.42828831531},{"$f":"IF(J130>0,J130*(1-Dźwignie!$D$9),J130)","v":86872.036913535398},{"$f":"K130/Dźwignie!$D$5","v":8.68720369135354},{"$f":"I130/Dźwignie!$D$2","v":0.63624714144157657},{"$f":"K130/Dźwignie!$D$3","v":0.868720369135354},1.3929290738085875,1.1864811805451738,1.6526841319081085,null,{"$f":"C130*Dźwignie!$G$8","v":177249.42828831525},354498.85657663055,{"$f":"Dźwignie!$G$9","v":150000},204498.85657663055,{"$f":"V130-Dźwignie!$D$6","v":184498.85657663055},{"$f":"IF(W130>0,W130*(1-Dźwignie!$D$9),W130)","v":149444.07382707077},{"$f":"X130/Dźwignie!$D$5","v":14.944407382707077},{"$f":"V130/Dźwignie!$D$2","v":1.0224942828831527},{"$f":"X130/Dźwignie!$D$3","v":1.4944407382707077},1.7335004337483493,1.108401755821685,1.9214149244843228]
[119,0.31931906938552856,{"$f":"NORMINV(B131,Dźwignie!$L$8,Dźwignie!$L$9)","v":326519.81206474372},{"$f":"Dźwignie!$L$7*C131","v":489779.71809711558},null,{"$f":"C131*Dźwignie!$G$5","v":326519.81206474372},163259.90603237186,{"$f":"Dźwignie!$G$6","v":50000},113259.90603237186,{"$f":"I131-Dźwignie!$D$6","v":93259.906032371859},{"$f":"IF(J131>0,J131*(1-Dźwignie!$D$9),J131)","v":75540.523886221214},{"$f":"K131/Dźwignie!$D$5","v":7.5540523886221216},{"$f":"I131/Dźwignie!$D$2","v":0.5662995301618593},{"$f":"K131/Dźwignie!$D$3","v":0.75540523886221211},1.4414624888149654,1.2144544301069498,1.7505905053743243,null,{"$f":"C131*Dźwignie!$G$8","v":163259.90603237186},326519.81206474372,{"$f":"Dźwignie!$G$9","v":150000},176519.81206474372,{"$f":"V131-Dźwignie!$D$6","v":156519.81206474372},{"$f":"IF(W131>0,W131*(1-Dźwignie!$D$9),W131)","v":126781.04777244241},{"$f":"X131/Dźwignie!$D$5","v":12.678104777244242},{"$f":"V131/Dźwignie!$D$2","v":0.8825990603237186},{"$f":"X131/Dźwignie!$D$3","v":1.2678104777244241},1.8497629713370825,1.1277793509726877,2.0861244832678452]
[120,0.82895016670227051,{"$f":"NORMINV(B132,Dźwignie!$L$8,Dźwignie!$L$9)","v":397501.23850825935},{"$f":"Dźwignie!$L$7*C132","v":596251.857762389},null,{"$f":"C132*Dźwignie!$G$5","v":397501.23850825935},198750.61925412965,{"$f":"Dźwignie!$G$6","v":50000},148750.61925412965,{"$f":"I132-Dźwignie!$D$6","v":128750.61925412965},{"$f":"IF(J132>0,J132*(1-Dźwignie!$D$9),J132)","v":104288.00159584502},{"$f":"K132/Dźwignie!$D$5","v":10.428800159584503},{"$f":"I132/Dźwignie!$D$2","v":0.74375309627064823},{"$f":"K132/Dźwignie!$D$3","v":1.0428800159584501},1.3361330544418011,1.1553390586846324,1.5436867053962131,null,{"$f":"C132*Dźwignie!$G$8","v":198750.61925412968},397501.2385082593,{"$f":"Dźwignie!$G$9","v":150000},247501.2385082593,{"$f":"V132-Dźwignie!$D$6","v":227501.2385082593},{"$f":"IF(W132>0,W132*(1-Dźwignie!$D$9),W132)","v":184276.00319169005},{"$f":"X132/Dźwignie!$D$5","v":18.427600319169006},{"$f":"V132/Dźwignie!$D$2","v":1.2375061925412965},{"$f":"X132/Dźwignie!$D$3","v":1.8427600319169004},1.6060575733037974,1.0879116093219594,1.7472486792366551]
[121,0.40741771459579468,{"$f":"NORMINV(B133,Dźwignie!$L$8,Dźwignie!$L$9)","v":338290.36803865281},{"$f":"Dźwignie!$L$7*C133","v":507435.55205797922},null,{"$f":"C133*Dźwignie!$G$5","v":338290.36803865281},169145.18401932641,{"$f":"Dźwignie!$G$6","v":50000},119145.18401932641,{"$f":"I133-Dźwignie!$D$6","v":99145.184019326407},{"$f":"IF(J133>0,J133*(1-Dźwignie!$D$9),J133)","v":80307.599055654398},{"$f":"K133/Dźwignie!$D$5","v":8.0307599055654393},{"$f":"I133/Dźwignie!$D$2","v":0.59572592009663206},{"$f":"K133/Dźwignie!$D$3","v":0.80307599055654399},1.4196560726440235,1.2017243721702247,1.706035302595786,null,{"$f":"C133*Dźwignie!$G$8","v":169145.18401932641},338290.36803865281,{"$f":"Dźwignie!$G$9","v":150000},188290.36803865281,{"$f":"V133-Dźwignie!$D$6","v":168290.36803865281},{"$f":"IF(W133>0,W133*(1-Dźwignie!$D$9),W133)","v":136315.1981113088},{"$f":"X133/Dźwignie!$D$5","v":13.631519811130879},{"$f":"V133/Dźwignie!$D$2","v":0.94145184019326411},{"$f":"X133/Dźwignie!$D$3","v":1.3631519811130879},1.7966419183439459,1.1188422144005676,2.0101588224048244]
[122,0.28743255138397217,{"$f":"NORMINV(B134,Dźwignie!$L$8,Dźwignie!$L$9)","v":321954.95546255377},{"$f":"Dźwignie!$L$7*C134","v":482932.43319383066},null,{"$f":"C134*Dźwignie!$G$5","v":321954.95546255377},160977.47773127689,{"$f":"Dźwignie!$G$6","v":50000},110977.47773127689,{"$f":"I134-Dźwignie!$D$6","v":90977.477731276886},{"$f":"IF(J134>0,J134*(1-Dźwignie!$D$9),J134)","v":73691.756962334286},{"$f":"K134/Dźwignie!$D$5","v":7.3691756962334285},{"$f":"I134/Dźwignie!$D$2","v":0.55488738865638443},{"$f":"K134/Dźwignie!$D$3","v":0.73691756962334287},1.4505418668918661,1.2198346282920114,1.7694211990220399,null,{"$f":"C134*Dźwignie!$G$8","v":160977.47773127689},321954.95546255377,{"$f":"Dźwignie!$G$9","v":150000},171954.95546255377,{"$f":"V134-Dźwignie!$D$6","v":151954.95546255377},{"$f":"IF(W134>0,W134*(1-Dźwignie!$D$9),W134)","v":123083.51392466856},{"$f":"X134/Dźwignie!$D$5","v":12.308351392466856},{"$f":"V134/Dźwignie!$D$2","v":0.85977477731276886},{"$f":"X134/Dźwignie!$D$3","v":1.2308351392466856},1.8723214727746835,1.1316179517747191,2.118752590085113]
[123,0.9886355996131897,{"$f":"NORMINV(B135,Dźwignie!$L$8,Dźwignie!$L$9)","v":463898.13437711593},{"$f":"Dźwignie!$L$7*C135","v":695847.20156567392},null,{"$f":"C135*Dźwignie!$G$5","v":463898.13437711593},231949.06718855799,{"$f":"Dźwignie!$G$6","v":50000},181949.06718855799,{"$f":"I135-Dźwignie!$D$6","v":161949.06718855799},{"$f":"IF(J135>0,J135*(1-Dźwignie!$D$9),J135)","v":131178.74442273198},{"$f":"K135/Dźwignie!$D$5","v":13.117874442273198},{"$f":"I135/Dźwignie!$D$2","v":0.90974533594278995},{"$f":"K135/Dźwignie!$D$3","v":1.3117874442273199},1.2748021782831338,1.1234956171542125,1.432234660039744,null,{"$f":"C135*Dźwignie!$G$8","v":231949.06718855796},463898.13437711599,{"$f":"Dźwignie!$G$9","v":150000},313898.13437711599,{"$f":"V135-Dźwignie!$D$6","v":293898.13437711599},{"$f":"IF(W135>0,W135*(1-Dźwignie!$D$9),W135)","v":238057.48884546396},{"$f":"X135/Dźwignie!$D$5","v":23.805748884546396},{"$f":"V135/Dźwignie!$D$2","v":1.5694906718855799},{"$f":"X135/Dźwignie!$D$3","v":2.3805748884546394},1.4778620309345025,1.0680507892382092,1.5784317085247781]
[124,0.29878377914428711,{"$f":"NORMINV(B136,Dźwignie!$L$8,Dźwignie!$L$9)","v":323604.91453557636},{"$f":"Dźwignie!$L$7*C136","v":485407.37180336454},null,{"$f":"C136*Dźwignie!$G$5","v":323604.91453557636},161802.45726778818,{"$f":"Dźwignie!$G$6","v":50000},111802.45726778818,{"$f":"I136-Dźwignie!$D$6","v":91802.457267788181},{"$f":"IF(J136>0,J136*(1-Dźwignie!$D$9),J136)","v":74359.990386908437},{"$f":"K136/Dźwignie!$D$5","v":7.4359990386908441},{"$f":"I136/Dźwignie!$D$2","v":0.55901228633894096},{"$f":"K136/Dźwignie!$D$3","v":0.74359990386908437},1.4472173619604842,1.2178590921772379,1.7625068226203324,null,{"$f":"C136*Dźwignie!$G$8","v":161802.45726778818},323604.91453557636,{"$f":"Dźwignie!$G$9","v":150000},173604.91453557636,{"$f":"V136-Dźwignie!$D$6","v":153604.91453557636},{"$f":"IF(W136>0,W136*(1-Dźwignie!$D$9),W136)","v":124419.98077381686},{"$f":"X136/Dźwignie!$D$5","v":12.441998077381687},{"$f":"V136/Dźwignie!$D$2","v":0.8680245726778818},{"$f":"X136/Dźwignie!$D$3","v":1.2441998077381686},1.8640308392263913,1.1302041673631986,2.1067354225871879]
[125,0.81456726789474487,{"$f":"NORMINV(B137,Dźwignie!$L$8,Dźwignie!$L$9)","v":394742.66962469957},{"$f":"Dźwignie!$L$7*C137","v":592114.00443704939},null,{"$f":"C137*Dźwignie!$G$5","v":394742.66962469957},197371.33481234981,{"$f":"Dźwignie!$G$6","v":50000},147371.33481234981,{"$f":"I137-Dźwignie!$D$6","v":127371.33481234981},{"$f":"IF(J137>0,J137*(1-Dźwignie!$D$9),J137)","v":103170.78119800336},{"$f":"K137/Dźwignie!$D$5","v":10.317078119800335},{"$f":"I137/Dźwignie!$D$2","v":0.73685667406174904},{"$f":"K137/Dźwignie!$D$3","v":1.0317078119800336},1.3392790060812421,1.157021201273152,1.5495742044560317,null,{"$f":"C137*Dźwignie!$G$8","v":197371.33481234979},394742.66962469963,{"$f":"Dźwignie!$G$9","v":150000},244742.66962469963,{"$f":"V137-Dźwignie!$D$6","v":224742.66962469963},{"$f":"IF(W137>0,W137*(1-Dźwignie!$D$9),W137)","v":182041.56239600672},{"$f":"X137/Dźwignie!$D$5","v":18.204156239600671},{"$f":"V137/Dźwignie!$D$2","v":1.2237133481234981},{"$f":"X137/Dźwignie!$D$3","v":1.8204156239600671},1.6128886320886233,1.0889906666740155,1.7564206667291307]
[126,0.86603271961212158,{"$f":"NORMINV(B138,Dźwignie!$L$8,Dźwignie!$L$9)","v":405391.57876705728},{"$f":"Dźwignie!$L$7*C138","v":608087.36815058591},null,{"$f":"C138*Dźwignie!$G$5","v":405391.57876705728},202695.78938352864,{"$f":"Dźwignie!$G$6","v":50000},152695.78938352864,{"$f":"I138-Dźwignie!$D$6","v":132695.78938352864},{"$f":"IF(J138>0,J138*(1-Dźwignie!$D$9),J138)","v":107483.58940065821},{"$f":"K138/Dźwignie!$D$5","v":10.74835894006582},{"$f":"I138/Dźwignie!$D$2","v":0.76347894691764318},{"$f":"K138/Dźwignie!$D$3","v":1.0748358940065821},1.3274484529132244,1.1507206829464218,1.5275223903124766,null,{"$f":"C138*Dźwignie!$G$8","v":202695.78938352864},405391.57876705728,{"$f":"Dźwignie!$G$9","v":150000},255391.57876705728,{"$f":"V138-Dźwignie!$D$6","v":235391.57876705728},{"$f":"IF(W138>0,W138*(1-Dźwignie!$D$9),W138)","v":190667.17880131642},{"$f":"X138/Dźwignie!$D$5","v":19.066717880131641},{"$f":"V138/Dźwignie!$D$2","v":1.2769578938352864},{"$f":"X138/Dźwignie!$D$3","v":1.9066717880131643},1.5873333832076548,1.0849648067477891,1.7222008573562073]
[127,0.10268861055374146,{"$f":"NORMINV(B139,Dźwignie!$L$8,Dźwignie!$L$9)","v":286681.02142432495},{"$f":"Dźwignie!$L$7*C139","v":430021.53213648743},null,{"$f":"C139*Dźwignie!$G$5","v":286681.02142432495},143340.51071216248,{"$f":"Dźwignie!$G$6","v":50000},93340.510712162475,{"$f":"I139-Dźwignie!$D$6","v":73340.510712162475},{"$f":"IF(J139>0,J139*(1-Dźwignie!$D$9),J139)","v":59405.813676851605},{"$f":"K139/Dźwignie!$D$5","v":5.9405813676851604},{"$f":"I139/Dźwignie!$D$2","v":0.46670255356081236},{"$f":"K139/Dźwignie!$D$3","v":0.59405813676851604},1.5356730921923796,1.2727005826083413,1.9544520391291944,null,{"$f":"C139*Dźwignie!$G$8","v":143340.51071216248},286681.02142432495,{"$f":"Dźwignie!$G$9","v":150000},136681.02142432495,{"$f":"V139-Dźwignie!$D$6","v":116681.02142432495},{"$f":"IF(W139>0,W139*(1-Dźwignie!$D$9),W139)","v":94511.62735370321},{"$f":"X139/Dźwignie!$D$5","v":9.4511627353703211},{"$f":"V139/Dźwignie!$D$2","v":0.68340510712162472},{"$f":"X139/Dźwignie!$D$3","v":0.94511627353703209},2.0974457056062406,1.1714074813183846,2.4569635912062679]
[128,0.65706419944763184,{"$f":"NORMINV(B140,Dźwignie!$L$8,Dźwignie!$L$9)","v":370223.19622371392},{"$f":"Dźwignie!$L$7*C140","v":555334.79433557088},null,{"$f":"C140*Dźwignie!$G$5","v":370223.19622371392},185111.59811185696,{"$f":"Dźwignie!$G$6","v":50000},135111.59811185696,{"$f":"I140-Dźwignie!$D$6","v":115111.59811185696},{"$f":"IF(J140>0,J140*(1-Dźwignie!$D$9),J140)","v":93240.394470604151},{"$f":"K140/Dźwignie!$D$5","v":9.3240394470604144},{"$f":"I140/Dźwignie!$D$2","v":0.67555799055928478},{"$f":"K140/Dźwignie!$D$3","v":0.93240394470604149},1.3700644555962229,1.1737444386843232,1.6081055353951315,null,{"$f":"C140*Dźwignie!$G$8","v":185111.59811185696},370223.19622371392,{"$f":"Dźwignie!$G$9","v":150000},220223.19622371392,{"$f":"V140-Dźwignie!$D$6","v":200223.19622371392},{"$f":"IF(W140>0,W140*(1-Dźwignie!$D$9),W140)","v":162180.7889412083},{"$f":"X140/Dźwignie!$D$5","v":16.218078894120829},{"$f":"V140/Dźwignie!$D$2","v":1.1011159811185696},{"$f":"X140/Dźwignie!$D$3","v":1.6218078894120831},1.6811271590465082,1.0998885262906979,1.8490524734709317]
[129,0.88840764760971069,{"$f":"NORMINV(B141,Dźwignie!$L$8,Dźwignie!$L$9)","v":410905.16700412263},{"$f":"Dźwignie!$L$7*C141","v":616357.75050618395},null,{"$f":"C141*Dźwignie!$G$5","v":410905.16700412263},{"$f":"$D141-F141","v":205452.58350206132},{"$f":"Dźwignie!$G$6","v":50000},{"$f":"G141-H141","v":155452.58350206132},{"$f":"I141-Dźwignie!$D$6","v":135452.58350206132},{"$f":"IF(J141>0,J141*(1-Dźwignie!$D$9),J141)","v":109716.59263666967},{"$f":"K141/Dźwignie!$D$5","v":10.971659263666966},{"$f":"I141/Dźwignie!$D$2","v":0.77726291751030663},{"$f":"K141/Dźwignie!$D$3","v":1.0971659263666966},{"$f":"IF(I141<>0,G141/I141,\"N   \")","v":1.3216414862563992},{"$f":"IF(J141<>0,I141/J141,\"N   \")","v":1.1476531453510124},{"$f":"IF(ISTEXT(O141),O141,IF(ISTEXT(P141),P141,O141*P141))","v":1.5167860087285434},null,{"$f":"C141*Dźwignie!$G$8","v":205452.58350206132},{"$f":"$D141-S141","v":410905.16700412263},{"$f":"Dźwignie!$G$9","v":150000},{"$f":"T141-U141","v":260905.16700412263},{"$f":"V141-Dźwignie!$D$6","v":240905.16700412263},{"$f":"IF(W141>0,W141*(1-Dźwignie!$D$9),W141)","v":195133.18527333933},{"$f":"X141/Dźwignie!$D$5","v":19.513318527333933},{"$f":"V141/Dźwignie!$D$2","v":1.3045258350206133},{"$f":"X141/Dźwignie!$D$3","v":1.9513318527333934},{"$f":"IF(V141<>0,T141/V141,\"N   \")","v":1.5749215384363384},{"$f":"IF(W141<>0,V141/W141,\"N   \")","v":1.0830202201501877},{"$f":"IF(ISTEXT(AB141),AB141,IF(ISTEXT(AC141),AC141,AB141*AC141))","v":1.7056718712765955}]
[130,0.44846665859222412,{"$f":"NORMINV(B142,Dźwignie!$L$8,Dźwignie!$L$9)","v":343523.18585499073},{"$f":"Dźwignie!$L$7*C142","v":515284.7787824861},null,{"$f":"C142*Dźwignie!$G$5","v":343523.18585499073},171761.59292749537,{"$f":"Dźwignie!$G$6","v":50000},121761.59292749537,{"$f":"I142-Dźwignie!$D$6","v":101761.59292749537},{"$f":"IF(J142>0,J142*(1-Dźwignie!$D$9),J142)","v":82426.890271271259},{"$f":"K142/Dźwignie!$D$5","v":8.2426890271271258},{"$f":"I142/Dźwignie!$D$2","v":0.60880796463747688},{"$f":"K142/Dźwignie!$D$3","v":0.82426890271271258},1.4106385174327769,1.1965378039458354,1.687882313810424,null,{"$f":"C142*Dźwignie!$G$8","v":171761.59292749537},343523.18585499073,{"$f":"Dźwignie!$G$9","v":150000},193523.18585499073,{"$f":"V142-Dźwignie!$D$6","v":173523.18585499073},{"$f":"IF(W142>0,W142*(1-Dźwignie!$D$9),W142)","v":140553.78054254252},{"$f":"X142/Dźwignie!$D$5","v":14.055378054254252},{"$f":"V142/Dźwignie!$D$2","v":0.96761592927495366},{"$f":"X142/Dźwignie!$D$3","v":1.4055378054254253},1.7751009231131447,1.1152583725422927,1.9796961666094872]
[131,0.19352155923843384,{"$f":"NORMINV(B143,Dźwignie!$L$8,Dźwignie!$L$9)","v":306750.3944211987},{"$f":"Dźwignie!$L$7*C143","v":460125.59163179807},null,{"$f":"C143*Dźwignie!$G$5","v":306750.3944211987},153375.19721059938,{"$f":"Dźwignie!$G$6","v":50000},103375.19721059938,{"$f":"I143-Dźwignie!$D$6","v":83375.197210599377},{"$f":"IF(J143>0,J143*(1-Dźwignie!$D$9),J143)","v":67533.909740585499},{"$f":"K143/Dźwignie!$D$5","v":6.7533909740585498},{"$f":"I143/Dźwignie!$D$2","v":0.51687598605299689},{"$f":"K143/Dźwignie!$D$3","v":0.67533909740585496},1.483675014405422,1.2398794925723717,1.839578224003301,null,{"$f":"C143*Dźwignie!$G$8","v":153375.19721059935},306750.39442119875,{"$f":"Dźwignie!$G$9","v":150000},156750.39442119875,{"$f":"V143-Dźwignie!$D$6","v":136750.39442119875},{"$f":"IF(W143>0,W143*(1-Dźwignie!$D$9),W143)","v":110767.819481171},{"$f":"X143/Dźwignie!$D$5","v":11.0767819481171},{"$f":"V143/Dźwignie!$D$2","v":0.78375197210599379},{"$f":"X143/Dźwignie!$D$3","v":1.10767819481171},1.9569353911604204,1.1462518633650072,2.2431408386025611]
[132,0.12016105651855469,{"$f":"NORMINV(B144,Dźwignie!$L$8,Dźwignie!$L$9)","v":291290.8973529248},{"$f":"Dźwignie!$L$7*C144","v":436936.3460293872},null,{"$f":"C144*Dźwignie!$G$5","v":291290.8973529248},145645.4486764624,{"$f":"Dźwignie!$G$6","v":50000},95645.448676462402,{"$f":"I144-Dźwignie!$D$6","v":75645.448676462402},{"$f":"IF(J144>0,J144*(1-Dźwignie!$D$9),J144)","v":61272.813427934547},{"$f":"K144/Dźwignie!$D$5","v":6.1272813427934549},{"$f":"I144/Dźwignie!$D$2","v":0.47822724338231198},{"$f":"K144/Dźwignie!$D$3","v":0.61272813427934547},1.5227640278957111,1.2643913196356404,1.9253696187247413,null,{"$f":"C144*Dźwignie!$G$8","v":145645.4486764624},291290.8973529248,{"$f":"Dźwignie!$G$9","v":150000},141290.8973529248,{"$f":"V144-Dźwignie!$D$6","v":121290.8973529248},{"$f":"IF(W144>0,W144*(1-Dźwignie!$D$9),W144)","v":98245.626855869094},{"$f":"X144/Dźwignie!$D$5","v":9.8245626855869101},{"$f":"V144/Dźwignie!$D$2","v":0.70645448676462397},{"$f":"X144/Dźwignie!$D$3","v":0.98245626855869095},2.0616395168424835,1.1648928356247974,2.4015891028107776]
[133,0.54232996702194214,{"$f":"NORMINV(B145,Dźwignie!$L$8,Dźwignie!$L$9)","v":355315.26882365375},{"$f":"Dźwignie!$L$7*C145","v":532972.90323548065},null,{"$f":"C145*Dźwignie!$G$5","v":355315.26882365375},177657.6344118269,{"$f":"Dźwignie!$G$6","v":50000},127657.6344118269,{"$f":"I145-Dźwignie!$D$6","v":107657.6344118269},{"$f":"IF(J145>0,J145*(1-Dźwignie!$D$9),J145)","v":87202.683873579794},{"$f":"K145/Dźwignie!$D$5","v":8.7202683873579794},{"$f":"I145/Dźwignie!$D$2","v":0.63828817205913457},{"$f":"K145/Dźwignie!$D$3","v":0.87202683873579789},1.3916726189575053,1.1857740986904211,1.6502093454164737,null,{"$f":"C145*Dźwignie!$G$8","v":177657.63441182688},355315.26882365381,{"$f":"Dźwignie!$G$9","v":150000},205315.26882365381,{"$f":"V145-Dźwignie!$D$6","v":185315.26882365381},{"$f":"IF(W145>0,W145*(1-Dźwignie!$D$9),W145)","v":150105.36774715959},{"$f":"X145/Dźwignie!$D$5","v":15.010536774715959},{"$f":"V145/Dźwignie!$D$2","v":1.0265763441182691},{"$f":"X145/Dźwignie!$D$3","v":1.5010536774715959},1.7305837547271541,1.107924188475975,1.9173556020457878]
[134,0.60706102848052979,{"$f":"NORMINV(B146,Dźwignie!$L$8,Dźwignie!$L$9)","v":363583.35873985232},{"$f":"Dźwignie!$L$7*C146","v":545375.03810977843},null,{"$f":"C146*Dźwignie!$G$5","v":363583.35873985232},181791.6793699261,{"$f":"Dźwignie!$G$6","v":50000},131791.6793699261,{"$f":"I146-Dźwignie!$D$6","v":111791.6793699261},{"$f":"IF(J146>0,J146*(1-Dźwignie!$D$9),J146)","v":90551.260289640151},{"$f":"K146/Dźwignie!$D$5","v":9.0551260289640148},{"$f":"I146/Dźwignie!$D$2","v":0.65895839684963053},{"$f":"K146/Dźwignie!$D$3","v":0.90551260289640156},1.3793866216671766,1.1789041913738381,1.6261646698084331,null,{"$f":"C146*Dźwignie!$G$8","v":181791.67936992616},363583.35873985226,{"$f":"Dźwignie!$G$9","v":150000},213583.35873985226,{"$f":"V146-Dźwignie!$D$6","v":193583.35873985226},{"$f":"IF(W146>0,W146*(1-Dźwignie!$D$9),W146)","v":156802.52057928033},{"$f":"X146/Dźwignie!$D$5","v":15.680252057928033},{"$f":"V146/Dźwignie!$D$2","v":1.0679167936992613},{"$f":"X146/Dźwignie!$D$3","v":1.5680252057928032},1.7023019063142566,1.1033146657346569,1.8781746587445831]
[135,0.60665446519851685,{"$f":"NORMINV(B147,Dźwignie!$L$8,Dźwignie!$L$9)","v":363530.49572457897},{"$f":"Dźwignie!$L$7*C147","v":545295.74358686851},null,{"$f":"C147*Dźwignie!$G$5","v":363530.49572457897},181765.24786228954,{"$f":"Dźwignie!$G$6","v":50000},131765.24786228954,{"$f":"I147-Dźwignie!$D$6","v":111765.24786228954},{"$f":"IF(J147>0,J147*(1-Dźwignie!$D$9),J147)","v":90529.850768454533},{"$f":"K147/Dźwignie!$D$5","v":9.0529850768454541},{"$f":"I147/Dźwignie!$D$2","v":0.65882623931144768},{"$f":"K147/Dźwignie!$D$3","v":0.90529850768454534},1.3794627248928031,1.1789465006568303,1.626312752298906,null,{"$f":"C147*Dźwignie!$G$8","v":181765.24786228949},363530.49572457903,{"$f":"Dźwignie!$G$9","v":150000},213530.49572457903,{"$f":"V147-Dźwignie!$D$6","v":193530.49572457903},{"$f":"IF(W147>0,W147*(1-Dźwignie!$D$9),W147)","v":156759.70153690904},{"$f":"X147/Dźwignie!$D$5","v":15.675970153690903},{"$f":"V147/Dźwignie!$D$2","v":1.0676524786228951},{"$f":"X147/Dźwignie!$D$3","v":1.5675970153690904},1.7024757727977018,1.1033428862212125,1.8784145328803055]
[136,0.46401429176330566,{"$f":"NORMINV(B148,Dźwignie!$L$8,Dźwignie!$L$9)","v":345483.72667523392},{"$f":"Dźwignie!$L$7*C148","v":518225.59001285088},null,{"$f":"C148*Dźwignie!$G$5","v":345483.72667523392},172741.86333761696,{"$f":"Dźwignie!$G$6","v":50000},122741.86333761696,{"$f":"I148-Dźwignie!$D$6","v":102741.86333761696},{"$f":"IF(J148>0,J148*(1-Dźwignie!$D$9),J148)","v":83220.909303469743},{"$f":"K148/Dźwignie!$D$5","v":8.3220909303469739},{"$f":"I148/Dźwignie!$D$2","v":0.61370931668808482},{"$f":"K148/Dźwignie!$D$3","v":0.83220909303469748},1.4073589779427471,1.1946626170704984,1.6813191597467441,null,{"$f":"C148*Dźwignie!$G$8","v":172741.86333761696},345483.72667523392,{"$f":"Dźwignie!$G$9","v":150000},195483.72667523392,{"$f":"V148-Dźwignie!$D$6","v":175483.72667523392},{"$f":"IF(W148>0,W148*(1-Dźwignie!$D$9),W148)","v":142141.81860693949},{"$f":"X148/Dźwignie!$D$5","v":14.214181860693948},{"$f":"V148/Dźwignie!$D$2","v":0.97741863337616963},{"$f":"X148/Dźwignie!$D$3","v":1.4214181860693949},1.76732729906056,1.1139706819482686,1.9687507965602837]
[137,1.1014401912689209E-2,{"$f":"NORMINV(B149,Dźwignie!$L$8,Dźwignie!$L$9)","v":235506.45692358594},{"$f":"Dźwignie!$L$7*C149","v":353259.68538537889},null,{"$f":"C149*Dźwignie!$G$5","v":235506.45692358594},117753.22846179295,{"$f":"Dźwignie!$G$6","v":50000},67753.228461792954,{"$f":"I149-Dźwignie!$D$6","v":47753.228461792954},{"$f":"IF(J149>0,J149*(1-Dźwignie!$D$9),J149)","v":38680.115054052294},{"$f":"K149/Dźwignie!$D$5","v":3.8680115054052293},{"$f":"I149/Dźwignie!$D$2","v":0.33876614230896479},{"$f":"K149/Dźwignie!$D$3","v":0.38680115054052294},1.7379722137993134,1.4188198503898406,2.4658694763644418,null,{"$f":"C149*Dźwignie!$G$8","v":117753.22846179297},235506.45692358591,{"$f":"Dźwignie!$G$9","v":150000},85506.456923585909,{"$f":"V149-Dźwignie!$D$6","v":65506.456923585909},{"$f":"IF(W149>0,W149*(1-Dźwignie!$D$9),W149)","v":53060.230108104588},{"$f":"X149/Dźwignie!$D$5","v":5.3060230108104589},{"$f":"V149/Dźwignie!$D$2","v":0.42753228461792953},{"$f":"X149/Dźwignie!$D$3","v":0.53060230108104589},2.7542534844362652,1.3053134139636073,3.5951640186906624]
[138,0.95027530193328857,{"$f":"NORMINV(B150,Dźwignie!$L$8,Dźwignie!$L$9)","v":432376.44132248731},{"$f":"Dźwignie!$L$7*C150","v":648564.66198373097},null,{"$f":"C150*Dźwignie!$G$5","v":432376.44132248731},216188.22066124366,{"$f":"Dźwignie!$G$6","v":50000},166188.22066124366,{"$f":"I150-Dźwignie!$D$6","v":146188.22066124366},{"$f":"IF(J150>0,J150*(1-Dźwignie!$D$9),J150)","v":118412.45873560738},{"$f":"K150/Dźwignie!$D$5","v":11.841245873560737},{"$f":"I150/Dźwignie!$D$2","v":0.83094110330621829},{"$f":"K150/Dźwignie!$D$3","v":1.1841245873560737},1.3008636821614421,1.1368099283891362,1.4788347493619771,null,{"$f":"C150*Dźwignie!$G$8","v":216188.22066124366},432376.44132248731,{"$f":"Dźwignie!$G$9","v":150000},282376.44132248731,{"$f":"V150-Dźwignie!$D$6","v":262376.44132248731},{"$f":"IF(W150>0,W150*(1-Dźwignie!$D$9),W150)","v":212524.91747121475},{"$f":"X150/Dźwignie!$D$5","v":21.252491747121475},{"$f":"V150/Dźwignie!$D$2","v":1.4118822066124366},{"$f":"X150/Dźwignie!$D$3","v":2.1252491747121476},1.5312057879102345,1.0762263559151561,1.6479240252788272]
[139,0.57920891046524048,{"$f":"NORMINV(B151,Dźwignie!$L$8,Dźwignie!$L$9)","v":359993.50476113119},{"$f":"Dźwignie!$L$7*C151","v":539990.25714169675},null,{"$f":"C151*Dźwignie!$G$5","v":359993.50476113119},179996.75238056557,{"$f":"Dźwignie!$G$6","v":50000},129996.75238056557,{"$f":"I151-Dźwignie!$D$6","v":109996.75238056557},{"$f":"IF(J151>0,J151*(1-Dźwignie!$D$9),J151)","v":89097.369428258113},{"$f":"K151/Dźwignie!$D$5","v":8.9097369428258109},{"$f":"I151/Dźwignie!$D$2","v":0.64998376190282781},{"$f":"K151/Dźwignie!$D$3","v":0.89097369428258111},1.3846249931969452,1.1818235499426766,1.6363824247993681,null,{"$f":"C151*Dźwignie!$G$8","v":179996.75238056559},359993.50476113113,{"$f":"Dźwignie!$G$9","v":150000},209993.50476113113,{"$f":"V151-Dźwignie!$D$6","v":189993.50476113113},{"$f":"IF(W151>0,W151*(1-Dźwignie!$D$9),W151)","v":153894.73885651623},{"$f":"X151/Dźwignie!$D$5","v":15.389473885651622},{"$f":"V151/Dźwignie!$D$2","v":1.0499675238056556},{"$f":"X151/Dźwignie!$D$3","v":1.5389473885651623},1.7143078076182685,1.1052667564880438,1.894767430148373]
[140,0.78975915908813477,{"$f":"NORMINV(B152,Dźwignie!$L$8,Dźwignie!$L$9)","v":390279.29296267347},{"$f":"Dźwignie!$L$7*C152","v":585418.93944401015},null,{"$f":"C152*Dźwignie!$G$5","v":390279.29296267347},195139.64648133668,{"$f":"Dźwignie!$G$6","v":50000},145139.64648133668,{"$f":"I152-Dźwignie!$D$6","v":125139.64648133668},{"$f":"IF(J152>0,J152*(1-Dźwignie!$D$9),J152)","v":101363.11364988271},{"$f":"K152/Dźwignie!$D$5","v":10.136311364988272},{"$f":"I152/Dźwignie!$D$2","v":0.72569823240668341},{"$f":"K152/Dźwignie!$D$3","v":1.0136311364988271},1.3444958094646415,1.159821451972719,1.5593750819045167,null,{"$f":"C152*Dźwignie!$G$8","v":195139.64648133673},390279.29296267341,{"$f":"Dźwignie!$G$9","v":150000},240279.29296267341,{"$f":"V152-Dźwignie!$D$6","v":220279.29296267341},{"$f":"IF(W152>0,W152*(1-Dźwignie!$D$9),W152)","v":178426.22729976548},{"$f":"X152/Dźwignie!$D$5","v":17.842622729976547},{"$f":"V152/Dźwignie!$D$2","v":1.201396464813367},{"$f":"X152/Dźwignie!$D$3","v":1.7842622729976547},1.6242735199961738,1.090793826923119,1.7717475288465117]
[141,0.5535551905632019,{"$f":"NORMINV(B153,Dźwignie!$L$8,Dźwignie!$L$9)","v":356732.43602960656},{"$f":"Dźwignie!$L$7*C153","v":535098.65404440986},null,{"$f":"C153*Dźwignie!$G$5","v":356732.43602960656},178366.21801480331,{"$f":"Dźwignie!$G$6","v":50000},128366.21801480331,{"$f":"I153-Dźwignie!$D$6","v":108366.21801480331},{"$f":"IF(J153>0,J153*(1-Dźwignie!$D$9),J153)","v":87776.636591990682},{"$f":"K153/Dźwignie!$D$5","v":8.7776636591990673},{"$f":"I153/Dźwignie!$D$2","v":0.64183109007401651},{"$f":"K153/Dźwignie!$D$3","v":0.87776636591990687},1.3895105797557574,1.1845593614540273,1.6459577650890953,null,{"$f":"C153*Dźwignie!$G$8","v":178366.21801480328},356732.43602960662,{"$f":"Dźwignie!$G$9","v":150000},206732.43602960662,{"$f":"V153-Dźwignie!$D$6","v":186732.43602960662},{"$f":"IF(W153>0,W153*(1-Dźwignie!$D$9),W153)","v":151253.27318398136},{"$f":"X153/Dźwignie!$D$5","v":15.125327318398137},{"$f":"V153/Dźwignie!$D$2","v":1.033662180148033},{"$f":"X153/Dźwignie!$D$3","v":1.5125327318398136},1.7255755452836543,1.1071051201668518,1.910393521418241]
[142,1.3326764106750488E-2,{"$f":"NORMINV(B154,Dźwignie!$L$8,Dźwignie!$L$9)","v":239172.25927163768},{"$f":"Dźwignie!$L$7*C154","v":358758.38890745654},null,{"$f":"C154*Dźwignie!$G$5","v":239172.25927163768},119586.12963581886,{"$f":"Dźwignie!$G$6","v":50000},69586.129635818856,{"$f":"I154-Dźwignie!$D$6","v":49586.129635818856},{"$f":"IF(J154>0,J154*(1-Dźwignie!$D$9),J154)","v":40164.765005013272},{"$f":"K154/Dźwignie!$D$5","v":4.0164765005013274},{"$f":"I154/Dźwignie!$D$2","v":0.3479306481790943},{"$f":"K154/Dźwignie!$D$3","v":0.4016476500501327},1.7185339989689976,1.4033385978475899,2.4116850924665645,null,{"$f":"C154*Dźwignie!$G$8","v":119586.12963581884},239172.25927163771,{"$f":"Dźwignie!$G$9","v":150000},89172.259271637711,{"$f":"V154-Dźwignie!$D$6","v":69172.259271637711},{"$f":"IF(W154>0,W154*(1-Dźwignie!$D$9),W154)","v":56029.530010026552},{"$f":"X154/Dźwignie!$D$5","v":5.6029530010026551},{"$f":"V154/Dźwignie!$D$2","v":0.44586129635818855},{"$f":"X154/Dźwignie!$D$3","v":0.56029530010026551},2.6821374856396543,1.2891332480765232,3.4576326086504467]
[143,0.56803303956985474,{"$f":"NORMINV(B155,Dźwignie!$L$8,Dźwignie!$L$9)","v":358568.43141419225},{"$f":"Dźwignie!$L$7*C155","v":537852.64712128835},null,{"$f":"C155*Dźwignie!$G$5","v":358568.43141419225},179284.2157070961,{"$f":"Dźwignie!$G$6","v":50000},129284.2157070961,{"$f":"I155-Dźwignie!$D$6","v":109284.2157070961},{"$f":"IF(J155>0,J155*(1-Dźwignie!$D$9),J155)","v":88520.214722747842},{"$f":"K155/Dźwignie!$D$5","v":8.8520214722747834},{"$f":"I155/Dźwignie!$D$2","v":0.64642107853548048},{"$f":"K155/Dźwignie!$D$3","v":0.88520214722747836},1.3867448143343273,1.1830090454563362,1.6405316590971768,null,{"$f":"C155*Dźwignie!$G$8","v":179284.21570709613},358568.43141419219,{"$f":"Dźwignie!$G$9","v":150000},208568.43141419219,{"$f":"V155-Dźwignie!$D$6","v":188568.43141419219},{"$f":"IF(W155>0,W155*(1-Dźwignie!$D$9),W155)","v":152740.42944549568},{"$f":"X155/Dźwignie!$D$5","v":15.274042944549569},{"$f":"V155/Dźwignie!$D$2","v":1.042842157070961},{"$f":"X155/Dźwignie!$D$3","v":1.5274042944549568},1.7191884168803944,1.1060622918163319,1.9015294804388203]
[144,0.53935122489929199,{"$f":"NORMINV(B156,Dźwignie!$L$8,Dźwignie!$L$9)","v":354939.96966581553},{"$f":"Dźwignie!$L$7*C156","v":532409.95449872327},null,{"$f":"C156*Dźwignie!$G$5","v":354939.96966581553},177469.98483290774,{"$f":"Dźwignie!$G$6","v":50000},127469.98483290774,{"$f":"I156-Dźwignie!$D$6","v":107469.98483290774},{"$f":"IF(J156>0,J156*(1-Dźwignie!$D$9),J156)","v":87050.687714655272},{"$f":"K156/Dźwignie!$D$5","v":8.7050687714655268},{"$f":"I156/Dźwignie!$D$2","v":0.63734992416453873},{"$f":"K156/Dźwignie!$D$3","v":0.87050687714655273},1.3922492033363134,1.1860984723417949,1.6513446531962823,null,{"$f":"C156*Dźwignie!$G$8","v":177469.98483290776},354939.96966581547,{"$f":"Dźwignie!$G$9","v":150000},204939.96966581547,{"$f":"V156-Dźwignie!$D$6","v":184939.96966581547},{"$f":"IF(W156>0,W156*(1-Dźwignie!$D$9),W156)","v":149801.37542931054},{"$f":"X156/Dźwignie!$D$5","v":14.980137542931054},{"$f":"V156/Dźwignie!$D$2","v":1.0246998483290775},{"$f":"X156/Dźwignie!$D$3","v":1.4980137542931053},1.7319216463464735,1.10814319931024,1.9192171941370391]
[145,0.40658563375473022,{"$f":"NORMINV(B157,Dźwignie!$L$8,Dźwignie!$L$9)","v":338183.15575851616},{"$f":"Dźwignie!$L$7*C157","v":507274.73363777425},null,{"$f":"C157*Dźwignie!$G$5","v":338183.15575851616},169091.57787925808,{"$f":"Dźwignie!$G$6","v":50000},119091.57787925808,{"$f":"I157-Dźwignie!$D$6","v":99091.577879258082},{"$f":"IF(J157>0,J157*(1-Dźwignie!$D$9),J157)","v":80264.178082199054},{"$f":"K157/Dźwignie!$D$5","v":8.0264178082199056},{"$f":"I157/Dźwignie!$D$2","v":0.59545788939629041},{"$f":"K157/Dźwignie!$D$3","v":0.80264178082199056},1.419844970487274,1.2018335001625442,1.7064172505689048,null,{"$f":"C157*Dźwignie!$G$8","v":169091.57787925808},338183.15575851616,{"$f":"Dźwignie!$G$9","v":150000},188183.15575851616,{"$f":"V157-Dźwignie!$D$6","v":168183.15575851616},{"$f":"IF(W157>0,W157*(1-Dźwignie!$D$9),W157)","v":136228.35616439811},{"$f":"X157/Dźwignie!$D$5","v":13.622835616439811},{"$f":"V157/Dźwignie!$D$2","v":0.94091577879258081},{"$f":"X157/Dźwignie!$D$3","v":1.362283561643981},1.7970957836018318,1.1189179731454009,2.0108027717359076]
[146,0.39881551265716553,{"$f":"NORMINV(B158,Dźwignie!$L$8,Dźwignie!$L$9)","v":337179.29006680904},{"$f":"Dźwignie!$L$7*C158","v":505768.93510021357},null,{"$f":"C158*Dźwignie!$G$5","v":337179.29006680904},168589.64503340452,{"$f":"Dźwignie!$G$6","v":50000},118589.64503340452,{"$f":"I158-Dźwignie!$D$6","v":98589.645033404522},{"$f":"IF(J158>0,J158*(1-Dźwignie!$D$9),J158)","v":79857.612477057672},{"$f":"K158/Dźwignie!$D$5","v":7.9857612477057671},{"$f":"I158/Dźwignie!$D$2","v":0.59294822516702261},{"$f":"K158/Dźwignie!$D$3","v":0.79857612477057671},1.4216219720188548,1.2028610610498043,1.7100137136743148,null,{"$f":"C158*Dźwignie!$G$8","v":168589.64503340452},337179.29006680904,{"$f":"Dźwignie!$G$9","v":150000},187179.29006680904,{"$f":"V158-Dźwignie!$D$6","v":167179.29006680904},{"$f":"IF(W158>0,W158*(1-Dźwignie!$D$9),W158)","v":135415.22495411534},{"$f":"X158/Dźwignie!$D$5","v":13.541522495411535},{"$f":"V158/Dźwignie!$D$2","v":0.93589645033404523},{"$f":"X158/Dźwignie!$D$3","v":1.3541522495411535},1.8013707069113318,1.1196320428924389,2.0168723645857312]
[147,0.82782655954360962,{"$f":"NORMINV(B159,Dźwignie!$L$8,Dźwignie!$L$9)","v":397280.56476847548},{"$f":"Dźwignie!$L$7*C159","v":595920.84715271322},null,{"$f":"C159*Dźwignie!$G$5","v":397280.56476847548},198640.28238423774,{"$f":"Dźwignie!$G$6","v":50000},148640.28238423774,{"$f":"I159-Dźwignie!$D$6","v":128640.28238423774},{"$f":"IF(J159>0,J159*(1-Dźwignie!$D$9),J159)","v":104198.62873123257},{"$f":"K159/Dźwignie!$D$5","v":10.419862873123257},{"$f":"I159/Dźwignie!$D$2","v":0.74320141192118871},{"$f":"K159/Dźwignie!$D$3","v":1.0419862873123258},1.3363825686952688,1.1554722955307395,1.5441530343575884,null,{"$f":"C159*Dźwignie!$G$8","v":198640.28238423774},397280.56476847548,{"$f":"Dźwignie!$G$9","v":150000},247280.56476847548,{"$f":"V159-Dźwignie!$D$6","v":227280.56476847548},{"$f":"IF(W159>0,W159*(1-Dźwignie!$D$9),W159)","v":184097.25746246515},{"$f":"X159/Dźwignie!$D$5","v":18.409725746246515},{"$f":"V159/Dźwignie!$D$2","v":1.2364028238423774},{"$f":"X159/Dźwignie!$D$3","v":1.8409725746246515},1.6065984204639876,1.0879969654262935,1.7479742061234949]
[148,0.76119136810302734,{"$f":"NORMINV(B160,Dźwignie!$L$8,Dźwignie!$L$9)","v":385507.00482383318},{"$f":"Dźwignie!$L$7*C160","v":578260.50723574974},null,{"$f":"C160*Dźwignie!$G$5","v":385507.00482383318},192753.50241191656,{"$f":"Dźwignie!$G$6","v":50000},142753.50241191656,{"$f":"I160-Dźwignie!$D$6","v":122753.50241191656},{"$f":"IF(J160>0,J160*(1-Dźwignie!$D$9),J160)","v":99430.336953652426},{"$f":"K160/Dźwignie!$D$5","v":9.9430336953652425},{"$f":"I160/Dźwignie!$D$2","v":0.71376751205958278},{"$f":"K160/Dźwignie!$D$3","v":0.99430336953652421},1.3502541034385589,1.1629281414137349,1.5702484949480722,null,{"$f":"C160*Dźwignie!$G$8","v":192753.50241191659},385507.00482383312,{"$f":"Dźwignie!$G$9","v":150000},235507.00482383312,{"$f":"V160-Dźwignie!$D$6","v":215507.00482383312},{"$f":"IF(W160>0,W160*(1-Dźwignie!$D$9),W160)","v":174560.67390730485},{"$f":"X160/Dźwignie!$D$5","v":17.456067390730485},{"$f":"V160/Dźwignie!$D$2","v":1.1775350241191656},{"$f":"X160/Dźwignie!$D$3","v":1.7456067390730485},1.6369237301973454,1.0928044079882651,1.7888374679002526]
[149,0.98740309476852417,{"$f":"NORMINV(B161,Dźwignie!$L$8,Dźwignie!$L$9)","v":461920.89910759608},{"$f":"Dźwignie!$L$7*C161","v":692881.34866139409},null,{"$f":"C161*Dźwignie!$G$5","v":461920.89910759608},230960.44955379801,{"$f":"Dźwignie!$G$6","v":50000},180960.44955379801,{"$f":"I161-Dźwignie!$D$6","v":160960.44955379801},{"$f":"IF(J161>0,J161*(1-Dźwignie!$D$9),J161)","v":130377.9641385764},{"$f":"K161/Dźwignie!$D$5","v":13.03779641385764},{"$f":"I161/Dźwignie!$D$2","v":0.9048022477689901},{"$f":"K161/Dźwignie!$D$3","v":1.3037796413857641},1.2763034692016249,1.1242541261250354,1.4348894414376239,null,{"$f":"C161*Dźwignie!$G$8","v":230960.44955379804},461920.89910759602,{"$f":"Dźwignie!$G$9","v":150000},311920.89910759602,{"$f":"V161-Dźwignie!$D$6","v":291920.89910759602},{"$f":"IF(W161>0,W161*(1-Dźwignie!$D$9),W161)","v":236455.92827715279},{"$f":"X161/Dźwignie!$D$5","v":23.64559282771528},{"$f":"V161/Dźwignie!$D$2","v":1.5596044955379802},{"$f":"X161/Dźwignie!$D$3","v":2.3645592827715278},1.4808911503818729,1.0685117100596091,1.5823495355066768]
[150,0.16734945774078369,{"$f":"NORMINV(B162,Dźwignie!$L$8,Dźwignie!$L$9)","v":301765.38124494744},{"$f":"Dźwignie!$L$7*C162","v":452648.07186742115},null,{"$f":"C162*Dźwignie!$G$5","v":301765.38124494744},150882.69062247372,{"$f":"Dźwignie!$G$6","v":50000},100882.69062247372,{"$f":"I162-Dźwignie!$D$6","v":80882.690622473718},{"$f":"IF(J162>0,J162*(1-Dźwignie!$D$9),J162)","v":65514.979404203717},{"$f":"K162/Dźwignie!$D$5","v":6.5514979404203721},{"$f":"I162/Dźwignie!$D$2","v":0.50441345311236863},{"$f":"K162/Dźwignie!$D$3","v":0.65514979404203721},1.4956251631621476,1.2472716949211242,1.8654509322239348,null,{"$f":"C162*Dźwignie!$G$8","v":150882.69062247372},301765.38124494744,{"$f":"Dźwignie!$G$9","v":150000},151765.38124494744,{"$f":"V162-Dźwignie!$D$6","v":131765.38124494744},{"$f":"IF(W162>0,W162*(1-Dźwignie!$D$9),W162)","v":106729.95880840743},{"$f":"X162/Dźwignie!$D$5","v":10.672995880840743},{"$f":"V162/Dźwignie!$D$2","v":0.75882690622473714},{"$f":"X162/Dźwignie!$D$3","v":1.0672995880840743},1.9883676947241471,1.1517849363090344,2.2901719586267935]
[151,0.23926573991775513,{"$f":"NORMINV(B163,Dźwignie!$L$8,Dźwignie!$L$9)","v":314566.67673469294},{"$f":"Dźwignie!$L$7*C163","v":471850.01510203944},null,{"$f":"C163*Dźwignie!$G$5","v":314566.67673469294},157283.3383673465,{"$f":"Dźwignie!$G$6","v":50000},107283.3383673465,{"$f":"I163-Dźwignie!$D$6","v":87283.3383673465},{"$f":"IF(J163>0,J163*(1-Dźwignie!$D$9),J163)","v":70699.504077550664},{"$f":"K163/Dźwignie!$D$5","v":7.0699504077550666},{"$f":"I163/Dźwignie!$D$2","v":0.53641669183673246},{"$f":"K163/Dźwignie!$D$3","v":0.70699504077550668},1.4660555941016313,1.229138806719636,1.8019858235187263,null,{"$f":"C163*Dźwignie!$G$8","v":157283.33836734647},314566.676734693,{"$f":"Dźwignie!$G$9","v":150000},164566.676734693,{"$f":"V163-Dźwignie!$D$6","v":144566.676734693},{"$f":"IF(W163>0,W163*(1-Dźwignie!$D$9),W163)","v":117099.00815510134},{"$f":"X163/Dźwignie!$D$5","v":11.709900815510133},{"$f":"V163/Dźwignie!$D$2","v":0.82283338367346504},{"$f":"X163/Dźwignie!$D$3","v":1.1709900815510135},1.911484651548401,1.1383444681149015,2.1759279789766626]
[152,0.62575078010559082,{"$f":"NORMINV(B164,Dźwignie!$L$8,Dźwignie!$L$9)","v":366030.99601291481},{"$f":"Dźwignie!$L$7*C164","v":549046.49401937216},null,{"$f":"C164*Dźwignie!$G$5","v":366030.99601291481},183015.49800645735,{"$f":"Dźwignie!$G$6","v":50000},133015.49800645735,{"$f":"I164-Dźwignie!$D$6","v":113015.49800645735},{"$f":"IF(J164>0,J164*(1-Dźwignie!$D$9),J164)","v":91542.553385230451},{"$f":"K164/Dźwignie!$D$5","v":9.1542553385230452},{"$f":"I164/Dźwignie!$D$2","v":0.66507749003228678},{"$f":"K164/Dźwignie!$D$3","v":0.91542553385230452},1.375896047824237,1.1769668793465589,1.619384077712956,null,{"$f":"C164*Dźwignie!$G$8","v":183015.4980064574},366030.99601291475,{"$f":"Dźwignie!$G$9","v":150000},216030.99601291475,{"$f":"V164-Dźwignie!$D$6","v":196030.99601291475},{"$f":"IF(W164>0,W164*(1-Dźwignie!$D$9),W164)","v":158785.10677046096},{"$f":"X164/Dźwignie!$D$5","v":15.878510677046096},{"$f":"V164/Dźwignie!$D$2","v":1.0801549800645738},{"$f":"X164/Dźwignie!$D$3","v":1.5878510677046096},1.6943448059232793,1.102024681845122,1.867209795683537]
[153,0.34709399938583374,{"$f":"NORMINV(B165,Dźwignie!$L$8,Dźwignie!$L$9)","v":330341.09873679269},{"$f":"Dźwignie!$L$7*C165","v":495511.64810518903},null,{"$f":"C165*Dźwignie!$G$5","v":330341.09873679269},165170.54936839634,{"$f":"Dźwignie!$G$6","v":50000},115170.54936839634,{"$f":"I165-Dźwignie!$D$6","v":95170.549368396343},{"$f":"IF(J165>0,J165*(1-Dźwignie!$D$9),J165)","v":77088.144988401036},{"$f":"K165/Dźwignie!$D$5","v":7.7088144988401037},{"$f":"I165/Dźwignie!$D$2","v":0.57585274684198173},{"$f":"K165/Dźwignie!$D$3","v":0.77088144988401042},1.4341387644168031,1.2101490443496534,1.7355216552237871,null,{"$f":"C165*Dźwignie!$G$8","v":165170.54936839634},330341.09873679269,{"$f":"Dźwignie!$G$9","v":150000},180341.09873679269,{"$f":"V165-Dźwignie!$D$6","v":160341.09873679269},{"$f":"IF(W165>0,W165*(1-Dźwignie!$D$9),W165)","v":129876.28997680209},{"$f":"X165/Dźwignie!$D$5","v":12.98762899768021},{"$f":"V165/Dźwignie!$D$2","v":0.90170549368396347},{"$f":"X165/Dźwignie!$D$3","v":1.298762899768021},1.8317571593534792,1.1247340835104973,2.0602397098392276]
[154,0.47816932201385498,{"$f":"NORMINV(B166,Dźwignie!$L$8,Dźwignie!$L$9)","v":347262.56333696016},{"$f":"Dźwignie!$L$7*C166","v":520893.84500544023},null,{"$f":"C166*Dźwignie!$G$5","v":347262.56333696016},173631.28166848008,{"$f":"Dźwignie!$G$6","v":50000},123631.28166848008,{"$f":"I166-Dźwignie!$D$6","v":103631.28166848008},{"$f":"IF(J166>0,J166*(1-Dźwignie!$D$9),J166)","v":83941.338151468866},{"$f":"K166/Dźwignie!$D$5","v":8.3941338151468869},{"$f":"I166/Dźwignie!$D$2","v":0.61815640834240038},{"$f":"K166/Dźwignie!$D$3","v":0.83941338151468869},1.4044283883918316,1.1929919197948422,1.6754717192819475,null,{"$f":"C166*Dźwignie!$G$8","v":173631.28166848008},347262.56333696016,{"$f":"Dźwignie!$G$9","v":150000},197262.56333696016,{"$f":"V166-Dźwignie!$D$6","v":177262.56333696016},{"$f":"IF(W166>0,W166*(1-Dźwignie!$D$9),W166)","v":143582.67630293773},{"$f":"X166/Dźwignie!$D$5","v":14.358267630293772},{"$f":"V166/Dźwignie!$D$2","v":0.98631281668480075},{"$f":"X166/Dźwignie!$D$3","v":1.4358267630293773},1.7604078415212159,1.1128269817580252,1.9590293449432146]
[155,0.38712841272354126,{"$f":"NORMINV(B167,Dźwignie!$L$8,Dźwignie!$L$9)","v":335659.43599930051},{"$f":"Dźwignie!$L$7*C167","v":503489.15399895073},null,{"$f":"C167*Dźwignie!$G$5","v":335659.43599930051},167829.71799965022,{"$f":"Dźwignie!$G$6","v":50000},117829.71799965022,{"$f":"I167-Dźwignie!$D$6","v":97829.717999650224},{"$f":"IF(J167>0,J167*(1-Dźwignie!$D$9),J167)","v":79242.071579716692},{"$f":"K167/Dźwignie!$D$5","v":7.9242071579716695},{"$f":"I167/Dźwignie!$D$2","v":0.58914858999825115},{"$f":"K167/Dźwignie!$D$3","v":0.79242071579716689},1.4243411666329238,1.2044368562942347,1.7155289970298213,null,{"$f":"C167*Dźwignie!$G$8","v":167829.71799965025},335659.43599930045,{"$f":"Dźwignie!$G$9","v":150000},185659.43599930045,{"$f":"V167-Dźwignie!$D$6","v":165659.43599930045},{"$f":"IF(W167>0,W167*(1-Dźwignie!$D$9),W167)","v":134184.14315943338},{"$f":"X167/Dźwignie!$D$5","v":13.418414315943338},{"$f":"V167/Dźwignie!$D$2","v":0.92829717999650219},{"$f":"X167/Dźwignie!$D$3","v":1.3418414315943339},1.8079309257438723,1.1207296154267026,2.0262017311269722]
[156,0.19119596481323242,{"$f":"NORMINV(B168,Dźwignie!$L$8,Dźwignie!$L$9)","v":306325.1214510182},{"$f":"Dźwignie!$L$7*C168","v":459487.68217652733},null,{"$f":"C168*Dźwignie!$G$5","v":306325.1214510182},153162.56072550913,{"$f":"Dźwignie!$G$6","v":50000},103162.56072550913,{"$f":"I168-Dźwignie!$D$6","v":83162.560725509131},{"$f":"IF(J168>0,J168*(1-Dźwignie!$D$9),J168)","v":67361.6741876624},{"$f":"K168/Dźwignie!$D$5","v":6.7361674187662404},{"$f":"I168/Dźwignie!$D$2","v":0.51581280362754567},{"$f":"K168/Dźwignie!$D$3","v":0.67361674187662401},1.4846719551004364,1.2404928350632816,1.8417249227214854,null,{"$f":"C168*Dźwignie!$G$8","v":153162.5607255091},306325.12145101826,{"$f":"Dźwignie!$G$9","v":150000},156325.12145101826,{"$f":"V168-Dźwignie!$D$6","v":136325.12145101826},{"$f":"IF(W168>0,W168*(1-Dźwignie!$D$9),W168)","v":110423.3483753248},{"$f":"X168/Dźwignie!$D$5","v":11.042334837532479},{"$f":"V168/Dźwignie!$D$2","v":0.78162560725509134},{"$f":"X168/Dźwignie!$D$3","v":1.1042334837532479},1.9595386755992374,1.1467081032983786,2.2470188780362181]
[157,0.87365883588790894,{"$f":"NORMINV(B169,Dźwignie!$L$8,Dźwignie!$L$9)","v":407192.92451238341},{"$f":"Dźwignie!$L$7*C169","v":610789.38676857506},null,{"$f":"C169*Dźwignie!$G$5","v":407192.92451238341},203596.46225619165,{"$f":"Dźwignie!$G$6","v":50000},153596.46225619165,{"$f":"I169-Dźwignie!$D$6","v":133596.46225619165},{"$f":"IF(J169>0,J169*(1-Dźwignie!$D$9),J169)","v":108213.13442751524},{"$f":"K169/Dźwignie!$D$5","v":10.821313442751524},{"$f":"I169/Dźwignie!$D$2","v":0.76798231128095829},{"$f":"K169/Dźwignie!$D$3","v":1.0821313442751523},1.3255283309624826,1.1497045629969374,1.5239659704892807,null,{"$f":"C169*Dźwignie!$G$8","v":203596.46225619171},407192.92451238335,{"$f":"Dźwignie!$G$9","v":150000},257192.92451238335,{"$f":"V169-Dźwignie!$D$6","v":237192.92451238335},{"$f":"IF(W169>0,W169*(1-Dźwignie!$D$9),W169)","v":192126.26885503053},{"$f":"X169/Dźwignie!$D$5","v":19.212626885503052},{"$f":"V169/Dźwignie!$D$2","v":1.2859646225619168},{"$f":"X169/Dźwignie!$D$3","v":1.9212626885503052},1.5832197766885994,1.0843195472255998,1.7167161514175973]
[158,0.47977364063262939,{"$f":"NORMINV(B170,Dźwignie!$L$8,Dźwignie!$L$9)","v":347463.91477796045},{"$f":"Dźwignie!$L$7*C170","v":521195.87216694071},null,{"$f":"C170*Dźwignie!$G$5","v":347463.91477796045},173731.95738898026,{"$f":"Dźwignie!$G$6","v":50000},123731.95738898026,{"$f":"I170-Dźwignie!$D$6","v":103731.95738898026},{"$f":"IF(J170>0,J170*(1-Dźwignie!$D$9),J170)","v":84022.885485074017},{"$f":"K170/Dźwignie!$D$5","v":8.4022885485074017},{"$f":"I170/Dźwignie!$D$2","v":0.61865978694490131},{"$f":"K170/Dźwignie!$D$3","v":0.84022885485074017},1.4040993212676118,1.192804613962916,1.6748161488702062,null,{"$f":"C170*Dźwignie!$G$8","v":173731.95738898023},347463.91477796051,{"$f":"Dźwignie!$G$9","v":150000},197463.91477796051,{"$f":"V170-Dźwignie!$D$6","v":177463.91477796051},{"$f":"IF(W170>0,W170*(1-Dźwignie!$D$9),W170)","v":143745.77097014803},{"$f":"X170/Dźwignie!$D$5","v":14.374577097014804},{"$f":"V170/Dźwignie!$D$2","v":0.98731957388980252},{"$f":"X170/Dźwignie!$D$3","v":1.4374577097014802},1.7596324633220626,1.1126989677029475,1.9579412254750537]
[159,0.88841897249221802,{"$f":"NORMINV(B171,Dźwignie!$L$8,Dźwignie!$L$9)","v":410908.14762830973},{"$f":"Dźwignie!$L$7*C171","v":616362.22144246462},null,{"$f":"C171*Dźwignie!$G$5","v":410908.14762830973},205454.07381415489,{"$f":"Dźwignie!$G$6","v":50000},155454.07381415489,{"$f":"I171-Dźwignie!$D$6","v":135454.07381415489},{"$f":"IF(J171>0,J171*(1-Dźwignie!$D$9),J171)","v":109717.79978946547},{"$f":"K171/Dźwignie!$D$5","v":10.971779978946547},{"$f":"I171/Dźwignie!$D$2","v":0.77727036907077451},{"$f":"K171/Dźwignie!$D$3","v":1.0971779978946548},1.3216384027334975,1.1476515208205573,1.5167803228719507,null,{"$f":"C171*Dźwignie!$G$8","v":205454.07381415486},410908.14762830979,{"$f":"Dźwignie!$G$9","v":150000},260908.14762830979,{"$f":"V171-Dźwignie!$D$6","v":240908.14762830979},{"$f":"IF(W171>0,W171*(1-Dźwignie!$D$9),W171)","v":195135.59957893094},{"$f":"X171/Dźwignie!$D$5","v":19.513559957893094},{"$f":"V171/Dźwignie!$D$2","v":1.304540738141549},{"$f":"X171/Dźwignie!$D$3","v":1.9513559957893094},1.5749149705117307,1.0830191929866042,1.7056631403861362]
[160,0.41901373863220215,{"$f":"NORMINV(B172,Dźwignie!$L$8,Dźwignie!$L$9)","v":339779.13916575722},{"$f":"Dźwignie!$L$7*C172","v":509668.70874863584},null,{"$f":"C172*Dźwignie!$G$5","v":339779.13916575722},169889.56958287861,{"$f":"Dźwignie!$G$6","v":50000},119889.56958287861,{"$f":"I172-Dźwignie!$D$6","v":99889.569582878612},{"$f":"IF(J172>0,J172*(1-Dźwignie!$D$9),J172)","v":80910.551362131679},{"$f":"K172/Dźwignie!$D$5","v":8.0910551362131677},{"$f":"I172/Dźwignie!$D$2","v":0.59944784791439309},{"$f":"K172/Dźwignie!$D$3","v":0.80910551362131677},1.4170504588010506,1.2002211050014182,1.7007738675049637,null,{"$f":"C172*Dźwignie!$G$8","v":169889.56958287861},339779.13916575722,{"$f":"Dźwignie!$G$9","v":150000},189779.13916575722,{"$f":"V172-Dźwignie!$D$6","v":169779.13916575722},{"$f":"IF(W172>0,W172*(1-Dźwignie!$D$9),W172)","v":137521.10272426336},{"$f":"X172/Dźwignie!$D$5","v":13.752110272426336},{"$f":"V172/Dźwignie!$D$2","v":0.94889569582878608},{"$f":"X172/Dźwignie!$D$3","v":1.3752110272426337},1.7903924565122342,1.117800102523042,2.0013008714458564]
[161,0.24513715505599976,{"$f":"NORMINV(B173,Dźwignie!$L$8,Dźwignie!$L$9)","v":315506.37016344664},{"$f":"Dźwignie!$L$7*C173","v":473259.55524516996},null,{"$f":"C173*Dźwignie!$G$5","v":315506.37016344664},157753.18508172332,{"$f":"Dźwignie!$G$6","v":50000},107753.18508172332,{"$f":"I173-Dźwignie!$D$6","v":87753.185081723321},{"$f":"IF(J173>0,J173*(1-Dźwignie!$D$9),J173)","v":71080.0799161959},{"$f":"K173/Dźwignie!$D$5","v":7.1080079916195897},{"$f":"I173/Dźwignie!$D$2","v":0.53876592540861656},{"$f":"K173/Dźwignie!$D$3","v":0.71080079916195904},1.4640234064735855,1.2279119553481082,1.7976918437183786,null,{"$f":"C173*Dźwignie!$G$8","v":157753.18508172332},315506.37016344664,{"$f":"Dźwignie!$G$9","v":150000},165506.37016344664,{"$f":"V173-Dźwignie!$D$6","v":145506.37016344664},{"$f":"IF(W173>0,W173*(1-Dźwignie!$D$9),W173)","v":117860.15983239179},{"$f":"X173/Dźwignie!$D$5","v":11.786015983239178},{"$f":"V173/Dźwignie!$D$2","v":0.82753185081723324},{"$f":"X173/Dźwignie!$D$3","v":1.1786015983239178},1.9063095266476253,1.1374510269037299,2.1683337286817048]
[162,0.45054376125335693,{"$f":"NORMINV(B174,Dźwignie!$L$8,Dźwignie!$L$9)","v":343785.61732021964},{"$f":"Dźwignie!$L$7*C174","v":515678.42598032946},null,{"$f":"C174*Dźwignie!$G$5","v":343785.61732021964},171892.80866010982,{"$f":"Dźwignie!$G$6","v":50000},121892.80866010982,{"$f":"I174-Dźwignie!$D$6","v":101892.80866010982},{"$f":"IF(J174>0,J174*(1-Dźwignie!$D$9),J174)","v":82533.175014688954},{"$f":"K174/Dźwignie!$D$5","v":8.2533175014688958},{"$f":"I174/Dźwignie!$D$2","v":0.60946404330054904},{"$f":"K174/Dźwignie!$D$3","v":0.82533175014688953},1.4101964713884128,1.1962847060847566,1.6869964712966481,null,{"$f":"C174*Dźwignie!$G$8","v":171892.80866010982},343785.61732021964,{"$f":"Dźwignie!$G$9","v":150000},193785.61732021964,{"$f":"V174-Dźwignie!$D$6","v":173785.61732021964},{"$f":"IF(W174>0,W174*(1-Dźwignie!$D$9),W174)","v":140766.35002937791},{"$f":"X174/Dźwignie!$D$5","v":14.07663500293779},{"$f":"V174/Dźwignie!$D$2","v":0.96892808660109819},{"$f":"X174/Dźwignie!$D$3","v":1.4076635002937792},1.7740512535155464,1.1150843223300104,1.9782167398050885]
[163,0.9704933762550354,{"$f":"NORMINV(B175,Dźwignie!$L$8,Dźwignie!$L$9)","v":444404.73156144627},{"$f":"Dźwignie!$L$7*C175","v":666607.09734216938},null,{"$f":"C175*Dźwignie!$G$5","v":444404.73156144627},222202.36578072311,{"$f":"Dźwignie!$G$6","v":50000},172202.36578072311,{"$f":"I175-Dźwignie!$D$6","v":152202.36578072311},{"$f":"IF(J175>0,J175*(1-Dźwignie!$D$9),J175)","v":123283.91628238572},{"$f":"K175/Dźwignie!$D$5","v":12.328391628238572},{"$f":"I175/Dźwignie!$D$2","v":0.86101182890361549},{"$f":"K175/Dźwignie!$D$3","v":1.2328391628238571},1.2903560573823265,1.131404002148126,1.4599140075184411,null,{"$f":"C175*Dźwignie!$G$8","v":222202.36578072314},444404.73156144621,{"$f":"Dźwignie!$G$9","v":150000},294404.73156144621,{"$f":"V175-Dźwignie!$D$6","v":274404.73156144621},{"$f":"IF(W175>0,W175*(1-Dźwignie!$D$9),W175)","v":222267.83256477144},{"$f":"X175/Dźwignie!$D$5","v":22.226783256477145},{"$f":"V175/Dźwignie!$D$2","v":1.472023657807231},{"$f":"X175/Dźwignie!$D$3","v":2.2226783256477143},1.5095026808993148,1.0728850405974923,1.6195228450786849]
[164,0.43963623046875,{"$f":"NORMINV(B176,Dźwignie!$L$8,Dźwignie!$L$9)","v":342405.42172979366},{"$f":"Dźwignie!$L$7*C176","v":513608.13259469048},null,{"$f":"C176*Dźwignie!$G$5","v":342405.42172979366},171202.71086489683,{"$f":"Dźwignie!$G$6","v":50000},121202.71086489683,{"$f":"I176-Dźwignie!$D$6","v":101202.71086489683},{"$f":"IF(J176>0,J176*(1-Dźwignie!$D$9),J176)","v":81974.195800566435},{"$f":"K176/Dźwignie!$D$5","v":8.1974195800566427},{"$f":"I176/Dźwignie!$D$2","v":0.60601355432448412},{"$f":"K176/Dźwignie!$D$3","v":0.8197419580056643},1.4125320270743316,1.1976231647262841,1.6916810765419941,null,{"$f":"C176*Dźwignie!$G$8","v":171202.71086489683},342405.42172979366,{"$f":"Dźwignie!$G$9","v":150000},192405.42172979366,{"$f":"V176-Dźwignie!$D$6","v":172405.42172979366},{"$f":"IF(W176>0,W176*(1-Dźwignie!$D$9),W176)","v":139648.39160113287},{"$f":"X176/Dźwignie!$D$5","v":13.964839160113288},{"$f":"V176/Dźwignie!$D$2","v":0.96202710864896823},{"$f":"X176/Dźwignie!$D$3","v":1.3964839160113287},1.7796038108045307,1.1160056325336767,1.9860478765362517]
[165,0.6327325701713562,{"$f":"NORMINV(B177,Dźwignie!$L$8,Dźwignie!$L$9)","v":366954.96938684117},{"$f":"Dźwignie!$L$7*C177","v":550432.45408026176},null,{"$f":"C177*Dźwignie!$G$5","v":366954.96938684117},183477.48469342059,{"$f":"Dźwignie!$G$6","v":50000},133477.48469342059,{"$f":"I177-Dźwignie!$D$6","v":113477.48469342059},{"$f":"IF(J177>0,J177*(1-Dźwignie!$D$9),J177)","v":91916.762601670678},{"$f":"K177/Dźwignie!$D$5","v":9.1916762601670676},{"$f":"I177/Dźwignie!$D$2","v":0.66738742346710289},{"$f":"K177/Dźwignie!$D$3","v":0.91916762601670676},1.374595012146379,1.1762464162299113,1.6168624568046897,null,{"$f":"C177*Dźwignie!$G$8","v":183477.48469342059},366954.96938684117,{"$f":"Dźwignie!$G$9","v":150000},216954.96938684117,{"$f":"V177-Dźwignie!$D$6","v":196954.96938684117},{"$f":"IF(W177>0,W177*(1-Dźwignie!$D$9),W177)","v":159533.52520334136},{"$f":"X177/Dźwignie!$D$5","v":15.953352520334136},{"$f":"V177/Dźwignie!$D$2","v":1.0847748469342058},{"$f":"X177/Dźwignie!$D$3","v":1.5953352520334136},1.6913877125005732,1.1015460542187072,1.8631414608590116]
[166,0.1893688440322876,{"$f":"NORMINV(B178,Dźwignie!$L$8,Dźwignie!$L$9)","v":305988.77356180217},{"$f":"Dźwignie!$L$7*C178","v":458983.16034270322},null,{"$f":"C178*Dźwignie!$G$5","v":305988.77356180217},152994.38678090106,{"$f":"Dźwignie!$G$6","v":50000},102994.38678090106,{"$f":"I178-Dźwignie!$D$6","v":82994.386780901055},{"$f":"IF(J178>0,J178*(1-Dźwignie!$D$9),J178)","v":67225.453292529855},{"$f":"K178/Dźwignie!$D$5","v":6.722545329252986},{"$f":"I178/Dźwignie!$D$2","v":0.51497193390450524},{"$f":"K178/Dźwignie!$D$3","v":0.67225453292529858},1.4854633496324854,1.2409801527035618,1.8434305344624662,null,{"$f":"C178*Dźwignie!$G$8","v":152994.38678090108},305988.77356180211,{"$f":"Dźwignie!$G$9","v":150000},155988.77356180211,{"$f":"V178-Dźwignie!$D$6","v":135988.77356180211},{"$f":"IF(W178>0,W178*(1-Dźwignie!$D$9),W178)","v":110150.90658505971},{"$f":"X178/Dźwignie!$D$5","v":11.01509065850597},{"$f":"V178/Dźwignie!$D$2","v":0.77994386780901059},{"$f":"X178/Dźwignie!$D$3","v":1.101509065850597},1.9616076630064061,1.1470709638462229,2.2501031926928952]
[167,0.29918414354324341,{"$f":"NORMINV(B179,Dźwignie!$L$8,Dźwignie!$L$9)","v":323662.57762660331},{"$f":"Dźwignie!$L$7*C179","v":485493.86643990496},null,{"$f":"C179*Dźwignie!$G$5","v":323662.57762660331},161831.28881330165,{"$f":"Dźwignie!$G$6","v":50000},111831.28881330165,{"$f":"I179-Dźwignie!$D$6","v":91831.288813301653},{"$f":"IF(J179>0,J179*(1-Dźwignie!$D$9),J179)","v":74383.343938774342},{"$f":"K179/Dźwignie!$D$5","v":7.438334393877434},{"$f":"I179/Dźwignie!$D$2","v":0.55915644406650822},{"$f":"K179/Dźwignie!$D$3","v":0.74383343938774338},1.4471020635689285,1.2177906926762312,1.7622674243668088,null,{"$f":"C179*Dźwignie!$G$8","v":161831.28881330165},323662.57762660331,{"$f":"Dźwignie!$G$9","v":150000},173662.57762660331,{"$f":"V179-Dźwignie!$D$6","v":153662.57762660331},{"$f":"IF(W179>0,W179*(1-Dźwignie!$D$9),W179)","v":124466.68787754868},{"$f":"X179/Dźwignie!$D$5","v":12.446668787754868},{"$f":"V179/Dźwignie!$D$2","v":0.86831288813301655},{"$f":"X179/Dźwignie!$D$3","v":1.2446668787754869},1.8637439455869367,1.1301553072251564,2.1063201114138295]
[168,6.8065881729125977E-2,{"$f":"NORMINV(B180,Dźwignie!$L$8,Dźwignie!$L$9)","v":275482.41085058497},{"$f":"Dźwignie!$L$7*C180","v":413223.61627587746},null,{"$f":"C180*Dźwignie!$G$5","v":275482.41085058497},137741.20542529249,{"$f":"Dźwignie!$G$6","v":50000},87741.205425292486,{"$f":"I180-Dźwignie!$D$6","v":67741.205425292486},{"$f":"IF(J180>0,J180*(1-Dźwignie!$D$9),J180)","v":54870.376394486921},{"$f":"K180/Dźwignie!$D$5","v":5.4870376394486922},{"$f":"I180/Dźwignie!$D$2","v":0.43870602712646245},{"$f":"K180/Dźwignie!$D$3","v":0.54870376394486919},1.5698576826890378,1.2952412770696373,2.0333444697437306,null,{"$f":"C180*Dźwignie!$G$8","v":137741.20542529249},275482.41085058497,{"$f":"Dźwignie!$G$9","v":150000},125482.41085058497,{"$f":"V180-Dźwignie!$D$6","v":105482.41085058497},{"$f":"IF(W180>0,W180*(1-Dźwignie!$D$9),W180)","v":85440.752788973827},{"$f":"X180/Dźwignie!$D$5","v":8.5440752788973828},{"$f":"V180/Dźwignie!$D$2","v":0.6274120542529249},{"$f":"X180/Dźwignie!$D$3","v":0.85440752788973828},2.1953866600364313,1.1896050710134967,2.6116431036147221]
[169,0.15393775701522827,{"$f":"NORMINV(B181,Dźwignie!$L$8,Dźwignie!$L$9)","v":299015.50086743815},{"$f":"Dźwignie!$L$7*C181","v":448523.25130115723},null,{"$f":"C181*Dźwignie!$G$5","v":299015.50086743815},149507.75043371908,{"$f":"Dźwignie!$G$6","v":50000},99507.750433719077,{"$f":"I181-Dźwignie!$D$6","v":79507.750433719077},{"$f":"IF(J181>0,J181*(1-Dźwignie!$D$9),J181)","v":64401.277851312458},{"$f":"K181/Dźwignie!$D$5","v":6.4401277851312457},{"$f":"I181/Dźwignie!$D$2","v":0.49753875216859539},{"$f":"K181/Dźwignie!$D$3","v":0.64401277851312455},1.5024734232466084,1.2515478037159764,1.8804173130059174,null,{"$f":"C181*Dźwignie!$G$8","v":149507.75043371908},299015.50086743815,{"$f":"Dźwignie!$G$9","v":150000},149015.50086743815,{"$f":"V181-Dźwignie!$D$6","v":129015.50086743815},{"$f":"IF(W181>0,W181*(1-Dźwignie!$D$9),W181)","v":104502.55570262492},{"$f":"X181/Dźwignie!$D$5","v":10.450255570262492},{"$f":"V181/Dźwignie!$D$2","v":0.74507750433719078},{"$f":"X181/Dźwignie!$D$3","v":1.0450255570262492},2.0066066894170804,1.1550201321975238,2.3176711236789518]
[170,0.65627086162567139,{"$f":"NORMINV(B182,Dźwignie!$L$8,Dźwignie!$L$9)","v":370115.33823678154},{"$f":"Dźwignie!$L$7*C182","v":555173.0073551723},null,{"$f":"C182*Dźwignie!$G$5","v":370115.33823678154},185057.66911839077,{"$f":"Dźwignie!$G$6","v":50000},135057.66911839077,{"$f":"I182-Dźwignie!$D$6","v":115057.66911839077},{"$f":"IF(J182>0,J182*(1-Dźwignie!$D$9),J182)","v":93196.711985896531},{"$f":"K182/Dźwignie!$D$5","v":9.3196711985896528},{"$f":"I182/Dźwignie!$D$2","v":0.67528834559195383},{"$f":"K182/Dźwignie!$D$3","v":0.9319671198589653},1.3702122236107177,1.1738258749133934,1.608390562196877,null,{"$f":"C182*Dźwignie!$G$8","v":185057.66911839077},370115.33823678154,{"$f":"Dźwignie!$G$9","v":150000},220115.33823678154,{"$f":"V182-Dźwignie!$D$6","v":200115.33823678154},{"$f":"IF(W182>0,W182*(1-Dźwignie!$D$9),W182)","v":162093.42397179306},{"$f":"X182/Dźwignie!$D$5","v":16.209342397179306},{"$f":"V182/Dźwignie!$D$2","v":1.1005766911839077},{"$f":"X182/Dźwignie!$D$3","v":1.6209342397179307},1.6814609159069263,1.0999423641197132,1.8495100950175629]
[171,5.6925356388092041E-2,{"$f":"NORMINV(B183,Dźwignie!$L$8,Dźwignie!$L$9)","v":270944.02410066774},{"$f":"Dźwignie!$L$7*C183","v":406416.03615100158},null,{"$f":"C183*Dźwignie!$G$5","v":270944.02410066774},135472.01205033384,{"$f":"Dźwignie!$G$6","v":50000},85472.01205033384,{"$f":"I183-Dźwignie!$D$6","v":65472.01205033384},{"$f":"IF(J183>0,J183*(1-Dźwignie!$D$9),J183)","v":53032.329760770415},{"$f":"K183/Dźwignie!$D$5","v":5.3032329760770418},{"$f":"I183/Dźwignie!$D$2","v":0.42736006025166923},{"$f":"K183/Dźwignie!$D$3","v":0.53032329760770414},1.5849868138187195,1.3054740395731892,2.0691591385061621,null,{"$f":"C183*Dźwignie!$G$8","v":135472.01205033387},270944.02410066768,{"$f":"Dźwignie!$G$9","v":150000},120944.02410066768,{"$f":"V183-Dźwignie!$D$6","v":100944.02410066768},{"$f":"IF(W183>0,W183*(1-Dźwignie!$D$9),W183)","v":81764.659521540831},{"$f":"X183/Dźwignie!$D$5","v":8.1764659521540839},{"$f":"V183/Dźwignie!$D$2","v":0.60472012050333845},{"$f":"X183/Dźwignie!$D$3","v":0.81764659521540828},2.2402431712967279,1.1981296087429083,2.6841016743147206]
[172,0.56950044631958008,{"$f":"NORMINV(B184,Dźwignie!$L$8,Dźwignie!$L$9)","v":358755.12414376647},{"$f":"Dźwignie!$L$7*C184","v":538132.68621564971},null,{"$f":"C184*Dźwignie!$G$5","v":358755.12414376647},179377.56207188324,{"$f":"Dźwignie!$G$6","v":50000},129377.56207188324,{"$f":"I184-Dźwignie!$D$6","v":109377.56207188324},{"$f":"IF(J184>0,J184*(1-Dźwignie!$D$9),J184)","v":88595.825278225428},{"$f":"K184/Dźwignie!$D$5","v":8.8595825278225426},{"$f":"I184/Dźwignie!$D$2","v":0.64688781035941623},{"$f":"K184/Dźwignie!$D$3","v":0.88595825278225426},1.3864657765943957,1.1828528595915855,1.6399850085705494,null,{"$f":"C184*Dźwignie!$G$8","v":179377.56207188324},358755.12414376647,{"$f":"Dźwignie!$G$9","v":150000},208755.12414376647,{"$f":"V184-Dźwignie!$D$6","v":188755.12414376647},{"$f":"IF(W184>0,W184*(1-Dźwignie!$D$9),W184)","v":152891.65055645086},{"$f":"X184/Dźwignie!$D$5","v":15.289165055645086},{"$f":"V184/Dźwignie!$D$2","v":1.0437756207188325},{"$f":"X184/Dźwignie!$D$3","v":1.5289165055645086},1.7185452362678162,1.1059573883926292,1.9006378013373479]
[173,0.57565945386886597,{"$f":"NORMINV(B185,Dźwignie!$L$8,Dźwignie!$L$9)","v":359540.07635186915},{"$f":"Dźwignie!$L$7*C185","v":539310.11452780373},null,{"$f":"C185*Dźwignie!$G$5","v":359540.07635186915},179770.03817593458,{"$f":"Dźwignie!$G$6","v":50000},129770.03817593458,{"$f":"I185-Dźwignie!$D$6","v":109770.03817593458},{"$f":"IF(J185>0,J185*(1-Dźwignie!$D$9),J185)","v":88913.730922507006},{"$f":"K185/Dźwignie!$D$5","v":8.891373092250701},{"$f":"I185/Dźwignie!$D$2","v":0.64885019087967288},{"$f":"K185/Dźwignie!$D$3","v":0.88913730922507006},1.3852969506891333,1.1821990802986229,1.6376967810451801,null,{"$f":"C185*Dźwignie!$G$8","v":179770.03817593458},359540.07635186915,{"$f":"Dźwignie!$G$9","v":150000},209540.07635186915,{"$f":"V185-Dźwignie!$D$6","v":189540.07635186915},{"$f":"IF(W185>0,W185*(1-Dźwignie!$D$9),W185)","v":153527.46184501401},{"$f":"X185/Dźwignie!$D$5","v":15.352746184501401},{"$f":"V185/Dźwignie!$D$2","v":1.0477003817593458},{"$f":"X185/Dźwignie!$D$3","v":1.53527461845014},1.7158535140939495,1.1055185815313868,1.8969079430167886]
[174,0.8630295991897583,{"$f":"NORMINV(B186,Dźwignie!$L$8,Dźwignie!$L$9)","v":404701.61621468619},{"$f":"Dźwignie!$L$7*C186","v":607052.42432202934},null,{"$f":"C186*Dźwignie!$G$5","v":404701.61621468619},202350.80810734315,{"$f":"Dźwignie!$G$6","v":50000},152350.80810734315,{"$f":"I186-Dźwignie!$D$6","v":132350.80810734315},{"$f":"IF(J186>0,J186*(1-Dźwignie!$D$9),J186)","v":107204.15456694797},{"$f":"K186/Dźwignie!$D$5","v":10.720415456694797},{"$f":"I186/Dźwignie!$D$2","v":0.7617540405367158},{"$f":"K186/Dźwignie!$D$3","v":1.0720415456694796},1.3281899231198764,1.1511135465359532,1.5288974128758359,null,{"$f":"C186*Dźwignie!$G$8","v":202350.80810734309},404701.61621468625,{"$f":"Dźwignie!$G$9","v":150000},254701.61621468625,{"$f":"V186-Dźwignie!$D$6","v":234701.61621468625},{"$f":"IF(W186>0,W186*(1-Dźwignie!$D$9),W186)","v":190108.30913389588},{"$f":"X186/Dźwignie!$D$5","v":19.010830913389587},{"$f":"V186/Dźwignie!$D$2","v":1.2735080810734312},{"$f":"X186/Dźwignie!$D$3","v":1.9010830913389587},1.5889244137091223,1.0852145814867573,1.7243239426374364]
[175,0.2708776593208313,{"$f":"NORMINV(B187,Dźwignie!$L$8,Dźwignie!$L$9)","v":319491.96184886241},{"$f":"Dźwignie!$L$7*C187","v":479237.94277329359},null,{"$f":"C187*Dźwignie!$G$5","v":319491.96184886241},159745.98092443118,{"$f":"Dźwignie!$G$6","v":50000},109745.98092443118,{"$f":"I187-Dźwignie!$D$6","v":89745.980924431176},{"$f":"IF(J187>0,J187*(1-Dźwignie!$D$9),J187)","v":72694.244548789255},{"$f":"K187/Dźwignie!$D$5","v":7.2694244548789255},{"$f":"I187/Dźwignie!$D$2","v":0.54872990462215587},{"$f":"K187/Dźwignie!$D$3","v":0.72694244548789255},1.4555975497128133,1.2228512050789284,1.7799792177762492,null,{"$f":"C187*Dźwignie!$G$8","v":159745.98092443121},319491.96184886235,{"$f":"Dźwignie!$G$9","v":150000},169491.96184886235,{"$f":"V187-Dźwignie!$D$6","v":149491.96184886235},{"$f":"IF(W187>0,W187*(1-Dźwignie!$D$9),W187)","v":121088.48909757851},{"$f":"X187/Dźwignie!$D$5","v":12.108848909757851},{"$f":"V187/Dźwignie!$D$2","v":0.84745980924431175},{"$f":"X187/Dźwignie!$D$3","v":1.210884890975785},1.8849977212120328,1.1337864574967593,2.1371848887224547]
[176,0.6749579906463623,{"$f":"NORMINV(B188,Dźwignie!$L$8,Dźwignie!$L$9)","v":372682.27364556852},{"$f":"Dźwignie!$L$7*C188","v":559023.41046835273},null,{"$f":"C188*Dźwignie!$G$5","v":372682.27364556852},186341.1368227842,{"$f":"Dźwignie!$G$6","v":50000},136341.1368227842,{"$f":"I188-Dźwignie!$D$6","v":116341.1368227842},{"$f":"IF(J188>0,J188*(1-Dźwignie!$D$9),J188)","v":94236.320826455209},{"$f":"K188/Dźwignie!$D$5","v":9.4236320826455202},{"$f":"I188/Dźwignie!$D$2","v":0.68170568411392096},{"$f":"K188/Dźwignie!$D$3","v":0.94236320826455211},1.366727175415809,1.1719082393914102,1.6016788378699358,null,{"$f":"C188*Dźwignie!$G$8","v":186341.13682278426},372682.27364556846,{"$f":"Dźwignie!$G$9","v":150000},222682.27364556846,{"$f":"V188-Dźwignie!$D$6","v":202682.27364556846},{"$f":"IF(W188>0,W188*(1-Dźwignie!$D$9),W188)","v":164172.64165291048},{"$f":"X188/Dźwignie!$D$5","v":16.417264165291048},{"$f":"V188/Dźwignie!$D$2","v":1.1134113682278424},{"$f":"X188/Dźwignie!$D$3","v":1.6417264165291048},1.6736054807790719,1.0986766116260078,1.8387511988210665]
[177,0.26734346151351929,{"$f":"NORMINV(B189,Dźwignie!$L$8,Dźwignie!$L$9)","v":318956.63386187312},{"$f":"Dźwignie!$L$7*C189","v":478434.95079280972},null,{"$f":"C189*Dźwignie!$G$5","v":318956.63386187312},159478.31693093659,{"$f":"Dźwignie!$G$6","v":50000},109478.31693093659,{"$f":"I189-Dźwignie!$D$6","v":89478.316930936591},{"$f":"IF(J189>0,J189*(1-Dźwignie!$D$9),J189)","v":72477.43671405864},{"$f":"K189/Dźwignie!$D$5","v":7.2477436714058641},{"$f":"I189/Dźwignie!$D$2","v":0.54739158465468296},{"$f":"K189/Dźwignie!$D$3","v":0.72477436714058641},1.456711442061555,1.2235178385779977,1.782312435022992,null,{"$f":"C189*Dźwignie!$G$8","v":159478.31693093656},318956.63386187318,{"$f":"Dźwignie!$G$9","v":150000},168956.63386187318,{"$f":"V189-Dźwignie!$D$6","v":148956.63386187318},{"$f":"IF(W189>0,W189*(1-Dźwignie!$D$9),W189)","v":120654.87342811728},{"$f":"X189/Dźwignie!$D$5","v":12.065487342811728},{"$f":"V189/Dźwignie!$D$2","v":0.84478316930936592},{"$f":"X189/Dźwignie!$D$3","v":1.2065487342811727},1.8878017783109318,1.1342672661262332,2.1412717620729818]
[178,1.380765438079834E-2,{"$f":"NORMINV(B190,Dźwignie!$L$8,Dźwignie!$L$9)","v":239864.58065471012},{"$f":"Dźwignie!$L$7*C190","v":359796.87098206521},null,{"$f":"C190*Dźwignie!$G$5","v":239864.58065471012},119932.29032735509,{"$f":"Dźwignie!$G$6","v":50000},69932.290327355091,{"$f":"I190-Dźwignie!$D$6","v":49932.290327355091},{"$f":"IF(J190>0,J190*(1-Dźwignie!$D$9),J190)","v":40445.155165157623},{"$f":"K190/Dźwignie!$D$5","v":4.0445155165157622},{"$f":"I190/Dźwignie!$D$2","v":0.34966145163677548},{"$f":"K190/Dźwignie!$D$3","v":0.4044515516515762},1.7149772982687761,1.4005424119118191,2.4018984416913667,null,{"$f":"C190*Dźwignie!$G$8","v":119932.29032735506},239864.58065471015,{"$f":"Dźwignie!$G$9","v":150000},89864.580654710153,{"$f":"V190-Dźwignie!$D$6","v":69864.580654710153},{"$f":"IF(W190>0,W190*(1-Dźwignie!$D$9),W190)","v":56590.310330315231},{"$f":"X190/Dźwignie!$D$5","v":5.659031033031523},{"$f":"V190/Dźwignie!$D$2","v":0.44932290327355079},{"$f":"X190/Dźwignie!$D$3","v":0.5659031033031523},2.6691782113394629,1.2862680891029099,3.4332787573747341]
[179,0.39105325937271118,{"$f":"NORMINV(B191,Dźwignie!$L$8,Dźwignie!$L$9)","v":336171.25361421949},{"$f":"Dźwignie!$L$7*C191","v":504256.88042132923},null,{"$f":"C191*Dźwignie!$G$5","v":336171.25361421949},168085.62680710974,{"$f":"Dźwignie!$G$6","v":50000},118085.62680710974,{"$f":"I191-Dźwignie!$D$6","v":98085.626807109744},{"$f":"IF(J191>0,J191*(1-Dźwignie!$D$9),J191)","v":79449.357713758902},{"$f":"K191/Dźwignie!$D$5","v":7.9449357713758904},{"$f":"I191/Dźwignie!$D$2","v":0.59042813403554872},{"$f":"K191/Dźwignie!$D$3","v":0.79449357713758906},1.4234215573219076,1.203903473434808,1.7136621570218282,null,{"$f":"C191*Dźwignie!$G$8","v":168085.62680710974},336171.25361421949,{"$f":"Dźwignie!$G$9","v":150000},186171.25361421949,{"$f":"V191-Dźwignie!$D$6","v":166171.25361421949},{"$f":"IF(W191>0,W191*(1-Dźwignie!$D$9),W191)","v":134598.7154275178},{"$f":"X191/Dźwignie!$D$5","v":13.459871542751781},{"$f":"V191/Dźwignie!$D$2","v":0.93085626807109745},{"$f":"X191/Dźwignie!$D$3","v":1.345987154275178},1.8057097811181264,1.1203577608340831,2.0230409670897065]
[180,0.84690189361572266,{"$f":"NORMINV(B192,Dźwignie!$L$8,Dźwignie!$L$9)","v":401161.80663298967},{"$f":"Dźwignie!$L$7*C192","v":601742.70994948456},null,{"$f":"C192*Dźwignie!$G$5","v":401161.80663298967},200580.90331649489,{"$f":"Dźwignie!$G$6","v":50000},150580.90331649489,{"$f":"I192-Dźwignie!$D$6","v":130580.90331649489},{"$f":"IF(J192>0,J192*(1-Dźwignie!$D$9),J192)","v":105770.53168636088},{"$f":"K192/Dźwignie!$D$5","v":10.577053168636088},{"$f":"I192/Dźwignie!$D$2","v":0.75290451658247448},{"$f":"K192/Dźwignie!$D$3","v":1.0577053168636088},1.3320474170280987,1.1531617525383868,1.5360661338843538,null,{"$f":"C192*Dźwignie!$G$8","v":200580.90331649483},401161.80663298973,{"$f":"Dźwignie!$G$9","v":150000},251161.80663298973,{"$f":"V192-Dźwignie!$D$6","v":231161.80663298973},{"$f":"IF(W192>0,W192*(1-Dźwignie!$D$9),W192)","v":187241.06337272169},{"$f":"X192/Dźwignie!$D$5","v":18.724106337272168},{"$f":"V192/Dźwignie!$D$2","v":1.2558090331649487},{"$f":"X192/Dźwignie!$D$3","v":1.8724106337272168},1.5972245621691499,1.0865194830033214,1.735415605528231]
[181,0.40409964323043823,{"$f":"NORMINV(B193,Dźwignie!$L$8,Dźwignie!$L$9)","v":337862.51388790994},{"$f":"Dźwignie!$L$7*C193","v":506793.77083186491},null,{"$f":"C193*Dźwignie!$G$5","v":337862.51388790994},168931.25694395497,{"$f":"Dźwignie!$G$6","v":50000},118931.25694395497,{"$f":"I193-Dźwignie!$D$6","v":98931.25694395497},{"$f":"IF(J193>0,J193*(1-Dźwignie!$D$9),J193)","v":80134.318124603524},{"$f":"K193/Dźwignie!$D$5","v":8.0134318124603521},{"$f":"I193/Dźwignie!$D$2","v":0.59465628471977483},{"$f":"K193/Dźwignie!$D$3","v":0.80134318124603521},1.4204109271590557,1.2021605771301389,1.7075620199554862,null,{"$f":"C193*Dźwignie!$G$8","v":168931.25694395497},337862.51388790994,{"$f":"Dźwignie!$G$9","v":150000},187862.51388790994,{"$f":"V193-Dźwignie!$D$6","v":167862.51388790994},{"$f":"IF(W193>0,W193*(1-Dźwignie!$D$9),W193)","v":135968.63624920705},{"$f":"X193/Dźwignie!$D$5","v":13.596863624920704},{"$f":"V193/Dźwignie!$D$2","v":0.93931256943954966},{"$f":"X193/Dźwignie!$D$3","v":1.3596863624920705},1.7984562587589934,1.1191451238086128,2.0127335523732079]
[182,0.8957754373550415,{"$f":"NORMINV(B194,Dźwignie!$L$8,Dźwignie!$L$9)","v":412892.06926176837},{"$f":"Dźwignie!$L$7*C194","v":619338.10389265255},null,{"$f":"C194*Dźwignie!$G$5","v":412892.06926176837},206446.03463088418,{"$f":"Dźwignie!$G$6","v":50000},156446.03463088418,{"$f":"I194-Dźwignie!$D$6","v":136446.03463088418},{"$f":"IF(J194>0,J194*(1-Dźwignie!$D$9),J194)","v":110521.28805101619},{"$f":"K194/Dźwignie!$D$5","v":11.052128805101619},{"$f":"I194/Dźwignie!$D$2","v":0.78223017315442089},{"$f":"K194/Dźwignie!$D$3","v":1.105212880510162},1.3195990241489282,1.1465780962715721,1.5130233369505024,null,{"$f":"C194*Dźwignie!$G$8","v":206446.03463088418},412892.06926176837,{"$f":"Dźwignie!$G$9","v":150000},262892.06926176837,{"$f":"V194-Dźwignie!$D$6","v":242892.06926176837},{"$f":"IF(W194>0,W194*(1-Dźwignie!$D$9),W194)","v":196742.57610203238},{"$f":"X194/Dźwignie!$D$5","v":19.674257610203238},{"$f":"V194/Dźwignie!$D$2","v":1.3144603463088418},{"$f":"X194/Dźwignie!$D$3","v":1.9674257610203238},1.5705763601816423,1.0823410993236082,1.69989934425067]
[183,0.11844092607498169,{"$f":"NORMINV(B195,Dźwignie!$L$8,Dźwignie!$L$9)","v":290859.17150677741},{"$f":"Dźwignie!$L$7*C195","v":436288.75726016611},null,{"$f":"C195*Dźwignie!$G$5","v":290859.17150677741},145429.5857533887,{"$f":"Dźwignie!$G$6","v":50000},95429.585753388703,{"$f":"I195-Dźwignie!$D$6","v":75429.585753388703},{"$f":"IF(J195>0,J195*(1-Dźwignie!$D$9),J195)","v":61097.964460244853},{"$f":"K195/Dźwignie!$D$5","v":6.1097964460244851},{"$f":"I195/Dźwignie!$D$2","v":0.47714792876694351},{"$f":"K195/Dźwignie!$D$3","v":0.61097964460244858},1.523946526700966,1.2651479495776163,1.9280178235216572,null,{"$f":"C195*Dźwignie!$G$8","v":145429.5857533887},290859.17150677741,{"$f":"Dźwignie!$G$9","v":150000},140859.17150677741,{"$f":"V195-Dźwignie!$D$6","v":120859.17150677741},{"$f":"IF(W195>0,W195*(1-Dźwignie!$D$9),W195)","v":97895.928920489707},{"$f":"X195/Dźwignie!$D$5","v":9.7895928920489705},{"$f":"V195/Dźwignie!$D$2","v":0.70429585753388702},{"$f":"X195/Dźwignie!$D$3","v":0.97895928920489705},2.0648933853255182,1.1654818558712234,2.4065957749053983]
[184,0.79486584663391113,{"$f":"NORMINV(B196,Dźwignie!$L$8,Dźwignie!$L$9)","v":391171.07799705211},{"$f":"Dźwignie!$L$7*C196","v":586756.61699557817},null,{"$f":"C196*Dźwignie!$G$5","v":391171.07799705211},195585.53899852606,{"$f":"Dźwignie!$G$6","v":50000},145585.53899852606,{"$f":"I196-Dźwignie!$D$6","v":125585.53899852606},{"$f":"IF(J196>0,J196*(1-Dźwignie!$D$9),J196)","v":101724.28658880611},{"$f":"K196/Dźwignie!$D$5","v":10.172428658880611},{"$f":"I196/Dźwignie!$D$2","v":0.72792769499263033},{"$f":"K196/Dźwignie!$D$3","v":1.017242865888061},1.3434407039596579,1.1592540045572821,1.5573890159504875,null,{"$f":"C196*Dźwignie!$G$8","v":195585.53899852606},391171.07799705211,{"$f":"Dźwignie!$G$9","v":150000},241171.07799705211,{"$f":"V196-Dźwignie!$D$6","v":221171.07799705211},{"$f":"IF(W196>0,W196*(1-Dźwignie!$D$9),W196)","v":179148.57317761221},{"$f":"X196/Dźwignie!$D$5","v":17.914857317761221},{"$f":"V196/Dźwignie!$D$2","v":1.2058553899852607},{"$f":"X196/Dźwignie!$D$3","v":1.7914857317761221},1.621965126356625,1.0904277366693784,1.768635761689717]
[185,0.4198269248008728,{"$f":"NORMINV(B197,Dźwignie!$L$8,Dźwignie!$L$9)","v":339883.18666883593},{"$f":"Dźwignie!$L$7*C197","v":509824.78000325389},null,{"$f":"C197*Dźwignie!$G$5","v":339883.18666883593},169941.59333441796,{"$f":"Dźwignie!$G$6","v":50000},119941.59333441796,{"$f":"I197-Dźwignie!$D$6","v":99941.593334417965},{"$f":"IF(J197>0,J197*(1-Dźwignie!$D$9),J197)","v":80952.690600878559},{"$f":"K197/Dźwignie!$D$5","v":8.0952690600878565},{"$f":"I197/Dźwignie!$D$2","v":0.59970796667208981},{"$f":"K197/Dźwignie!$D$3","v":0.80952690600878563},1.4168695663446069,1.200116881597808,1.7004090855923282,null,{"$f":"C197*Dźwignie!$G$8","v":169941.59333441796},339883.18666883593,{"$f":"Dźwignie!$G$9","v":150000},189883.18666883593,{"$f":"V197-Dźwignie!$D$6","v":169883.18666883593},{"$f":"IF(W197>0,W197*(1-Dźwignie!$D$9),W197)","v":137605.38120175712},{"$f":"X197/Dźwignie!$D$5","v":13.760538120175712},{"$f":"V197/Dźwignie!$D$2","v":0.94941593334417962},{"$f":"X197/Dźwignie!$D$3","v":1.3760538120175712},1.7899593567576162,1.1177279540852225,2.0006876097243911]
[186,0.51973617076873779,{"$f":"NORMINV(B198,Dźwignie!$L$8,Dźwignie!$L$9)","v":352474.57201692491},{"$f":"Dźwignie!$L$7*C198","v":528711.8580253874},null,{"$f":"C198*Dźwignie!$G$5","v":352474.57201692491},176237.28600846248,{"$f":"Dźwignie!$G$6","v":50000},126237.28600846248,{"$f":"I198-Dźwignie!$D$6","v":106237.28600846248},{"$f":"IF(J198>0,J198*(1-Dźwignie!$D$9),J198)","v":86052.201666854613},{"$f":"K198/Dźwignie!$D$5","v":8.6052201666854611},{"$f":"I198/Dźwignie!$D$2","v":0.63118643004231245},{"$f":"K198/Dźwignie!$D$3","v":0.86052201666854611},1.3960794910993903,1.1882578212550241,1.6589023743925844,null,{"$f":"C198*Dźwignie!$G$8","v":176237.28600846246},352474.57201692497,{"$f":"Dźwignie!$G$9","v":150000},202474.57201692497,{"$f":"V198-Dźwignie!$D$6","v":182474.57201692497},{"$f":"IF(W198>0,W198*(1-Dźwignie!$D$9),W198)","v":147804.40333370923},{"$f":"X198/Dźwignie!$D$5","v":14.780440333370922},{"$f":"V198/Dźwignie!$D$2","v":1.0123728600846249},{"$f":"X198/Dźwignie!$D$3","v":1.4780440333370923},1.7408337674493832,1.1096043124197323,1.9316366555677251]
[187,0.48313099145889282,{"$f":"NORMINV(B199,Dźwignie!$L$8,Dźwignie!$L$9)","v":347885.15289252828},{"$f":"Dźwignie!$L$7*C199","v":521827.72933879239},null,{"$f":"C199*Dźwignie!$G$5","v":347885.15289252828},173942.57644626411,{"$f":"Dźwignie!$G$6","v":50000},123942.57644626411,{"$f":"I199-Dźwignie!$D$6","v":103942.57644626411},{"$f":"IF(J199>0,J199*(1-Dźwignie!$D$9),J199)","v":84193.48692147393},{"$f":"K199/Dźwignie!$D$5","v":8.419348692147393},{"$f":"I199/Dźwignie!$D$2","v":0.61971288223132059},{"$f":"K199/Dźwignie!$D$3","v":0.84193486921473926},1.4034126240846521,1.1924139335755213,1.6734487675143244,null,{"$f":"C199*Dźwignie!$G$8","v":173942.57644626414},347885.15289252822,{"$f":"Dźwignie!$G$9","v":150000},197885.15289252822,{"$f":"V199-Dźwignie!$D$6","v":177885.15289252822},{"$f":"IF(W199>0,W199*(1-Dźwignie!$D$9),W199)","v":144086.97384294786},{"$f":"X199/Dźwignie!$D$5","v":14.408697384294786},{"$f":"V199/Dźwignie!$D$2","v":0.98942576446264108},{"$f":"X199/Dźwignie!$D$3","v":1.4408697384294786},1.7580154337372913,1.1124320927001889,1.9556727879516054]
[188,0.24107885360717773,{"$f":"NORMINV(B200,Dźwignie!$L$8,Dźwignie!$L$9)","v":314858.17977368983},{"$f":"Dźwignie!$L$7*C200","v":472287.26966053474},null,{"$f":"C200*Dźwignie!$G$5","v":314858.17977368983},157429.08988684491,{"$f":"Dźwignie!$G$6","v":50000},107429.08988684491,{"$f":"I200-Dźwignie!$D$6","v":87429.089886844915},{"$f":"IF(J200>0,J200*(1-Dźwignie!$D$9),J200)","v":70817.562808344388},{"$f":"K200/Dźwignie!$D$5","v":7.0817562808344388},{"$f":"I200/Dźwignie!$D$2","v":0.5371454494342246},{"$f":"K200/Dźwignie!$D$3","v":0.70817562808344392},1.4654232857475105,1.2287568133888274,1.8006488468608959,null,{"$f":"C200*Dźwignie!$G$8","v":157429.08988684491},314858.17977368983,{"$f":"Dźwignie!$G$9","v":150000},164858.17977368983,{"$f":"V200-Dźwignie!$D$6","v":144858.17977368983},{"$f":"IF(W200>0,W200*(1-Dźwignie!$D$9),W200)","v":117335.12561668878},{"$f":"X200/Dźwignie!$D$5","v":11.733512561668878},{"$f":"V200/Dźwignie!$D$2","v":0.8242908988684492},{"$f":"X200/Dźwignie!$D$3","v":1.1733512561668877},1.9098729599338868,1.1380660728392815,2.1735616191338929]
[189,0.710338294506073,{"$f":"NORMINV(B201,Dźwignie!$L$8,Dźwignie!$L$9)","v":377718.66383101948},{"$f":"Dźwignie!$L$7*C201","v":566577.9957465292},null,{"$f":"C201*Dźwignie!$G$5","v":377718.66383101948},188859.33191550971,{"$f":"Dźwignie!$G$6","v":50000},138859.33191550971,{"$f":"I201-Dźwignie!$D$6","v":118859.33191550971},{"$f":"IF(J201>0,J201*(1-Dźwignie!$D$9),J201)","v":96276.058851562877},{"$f":"K201/Dźwignie!$D$5","v":9.6276058851562869},{"$f":"I201/Dźwignie!$D$2","v":0.6942966595775486},{"$f":"K201/Dźwignie!$D$3","v":0.96276058851562873},1.3600766279822156,1.1682661317179273,1.5889314610127454,null,{"$f":"C201*Dźwignie!$G$8","v":188859.33191550974},377718.66383101942,{"$f":"Dźwignie!$G$9","v":150000},227718.66383101942,{"$f":"V201-Dźwignie!$D$6","v":207718.66383101942},{"$f":"IF(W201>0,W201*(1-Dźwignie!$D$9),W201)","v":168252.11770312575},{"$f":"X201/Dźwignie!$D$5","v":16.825211770312574},{"$f":"V201/Dźwignie!$D$2","v":1.1385933191550972},{"$f":"X201/Dźwignie!$D$3","v":1.6825211770312576},1.6587075362048882,1.0962840778538328,1.8184146617575787]
[190,1.0750889778137207E-2,{"$f":"NORMINV(B202,Dźwignie!$L$8,Dźwignie!$L$9)","v":235047.2175881484},{"$f":"Dźwignie!$L$7*C202","v":352570.82638222259},null,{"$f":"C202*Dźwignie!$G$5","v":235047.2175881484},117523.60879407419,{"$f":"Dźwignie!$G$6","v":50000},67523.608794074185,{"$f":"I202-Dźwignie!$D$6","v":47523.608794074185},{"$f":"IF(J202>0,J202*(1-Dźwignie!$D$9),J202)","v":38494.123123200094},{"$f":"K202/Dźwignie!$D$5","v":3.8494123123200095},{"$f":"I202/Dźwignie!$D$2","v":0.33761804397037093},{"$f":"K202/Dźwignie!$D$3","v":0.38494123123200091},1.7404817499088994,1.4208434609135543,2.4729521131974397,null,{"$f":"C202*Dźwignie!$G$8","v":117523.6087940742},235047.21758814837,{"$f":"Dźwignie!$G$9","v":150000},85047.217588148371,{"$f":"V202-Dźwignie!$D$6","v":65047.217588148371},{"$f":"IF(W202>0,W202*(1-Dźwignie!$D$9),W202)","v":52688.246246400187},{"$f":"X202/Dźwignie!$D$5","v":5.2688246246400183},{"$f":"V202/Dźwignie!$D$2","v":0.42523608794074186},{"$f":"X202/Dźwignie!$D$3","v":0.52688246246400183},2.7637261306583065,1.307468954731186,3.613486115215081]
[191,0.17244035005569458,{"$f":"NORMINV(B203,Dźwignie!$L$8,Dźwignie!$L$9)","v":302771.72038035555},{"$f":"Dźwignie!$L$7*C203","v":454157.58057053329},null,{"$f":"C203*Dźwignie!$G$5","v":302771.72038035555},151385.86019017774,{"$f":"Dźwignie!$G$6","v":50000},101385.86019017774,{"$f":"I203-Dźwignie!$D$6","v":81385.860190177744},{"$f":"IF(J203>0,J203*(1-Dźwignie!$D$9),J203)","v":65922.546754043971},{"$f":"K203/Dźwignie!$D$5","v":6.5922546754043969},{"$f":"I203/Dźwignie!$D$2","v":0.50692930095088873},{"$f":"K203/Dźwignie!$D$3","v":0.65922546754043976},1.4931654168166144,1.2457429331491388,1.8601002660219856,null,{"$f":"C203*Dźwignie!$G$8","v":151385.86019017777},302771.72038035549,{"$f":"Dźwignie!$G$9","v":150000},152771.72038035549,{"$f":"V203-Dźwignie!$D$6","v":132771.72038035549},{"$f":"IF(W203>0,W203*(1-Dźwignie!$D$9),W203)","v":107545.09350808796},{"$f":"X203/Dźwignie!$D$5","v":10.754509350808796},{"$f":"V203/Dźwignie!$D$2","v":0.76385860190177746},{"$f":"X203/Dźwignie!$D$3","v":1.0754509350808796},1.9818571109007954,1.150634487093376,2.2803931402936968]
[192,0.93609023094177246,{"$f":"NORMINV(B204,Dźwignie!$L$8,Dźwignie!$L$9)","v":426137.8446941849},{"$f":"Dźwignie!$L$7*C204","v":639206.76704127737},null,{"$f":"C204*Dźwignie!$G$5","v":426137.8446941849},213068.92234709248,{"$f":"Dźwignie!$G$6","v":50000},163068.92234709248,{"$f":"I204-Dźwignie!$D$6","v":143068.92234709248},{"$f":"IF(J204>0,J204*(1-Dźwignie!$D$9),J204)","v":115885.82710114491},{"$f":"K204/Dźwignie!$D$5","v":11.58858271011449},{"$f":"I204/Dźwignie!$D$2","v":0.81534461173546235},{"$f":"K204/Dźwignie!$D$3","v":1.158858271011449},1.3066188166349375,1.1397927633191993,1.4892746716171976,null,{"$f":"C204*Dźwignie!$G$8","v":213068.92234709245},426137.84469418495,{"$f":"Dźwignie!$G$9","v":150000},276137.84469418495,{"$f":"V204-Dźwignie!$D$6","v":256137.84469418495},{"$f":"IF(W204>0,W204*(1-Dźwignie!$D$9),W204)","v":207471.65420228982},{"$f":"X204/Dźwignie!$D$5","v":20.747165420228981},{"$f":"V204/Dźwignie!$D$2","v":1.3806892234709247},{"$f":"X204/Dźwignie!$D$3","v":2.0747165420228981},1.5432069630518079,1.0780829557767184,1.6637051241021061]
[193,0.58648580312728882,{"$f":"NORMINV(B205,Dźwignie!$L$8,Dźwignie!$L$9)","v":360925.7165389781},{"$f":"Dźwignie!$L$7*C205","v":541388.57480846718},null,{"$f":"C205*Dźwignie!$G$5","v":360925.7165389781},{"$f":"$D205-F205","v":180462.85826948908},{"$f":"Dźwignie!$G$6","v":50000},{"$f":"G205-H205","v":130462.85826948908},{"$f":"I205-Dźwignie!$D$6","v":110462.85826948908},{"$f":"IF(J205>0,J205*(1-Dźwignie!$D$9),J205)","v":89474.915198286166},{"$f":"K205/Dźwignie!$D$5","v":8.9474915198286169},{"$f":"I205/Dźwignie!$D$2","v":0.65231429134744534},{"$f":"K205/Dźwignie!$D$3","v":0.89474915198286165},{"$f":"IF(I205<>0,G205/I205,\"N   \")","v":1.3832508398422338},{"$f":"IF(J205<>0,I205/J205,\"N   \")","v":1.1810563325385561},{"$f":"IF(ISTEXT(O205),O205,IF(ISTEXT(P205),P205,O205*P205))","v":1.6336971638849465},null,{"$f":"C205*Dźwignie!$G$8","v":180462.85826948905},{"$f":"$D205-S205","v":360925.71653897816},{"$f":"Dźwignie!$G$9","v":150000},{"$f":"T205-U205","v":210925.71653897816},{"$f":"V205-Dźwignie!$D$6","v":190925.71653897816},{"$f":"IF(W205>0,W205*(1-Dźwignie!$D$9),W205)","v":154649.83039657233},{"$f":"X205/Dźwignie!$D$5","v":15.464983039657232},{"$f":"V205/Dźwignie!$D$2","v":1.0546285826948907},{"$f":"X205/Dźwignie!$D$3","v":1.5464983039657234},{"$f":"IF(V205<>0,T205/V205,\"N   \")","v":1.711150837656539},{"$f":"IF(W205<>0,V205/W205,\"N   \")","v":1.1047527821948331},{"$f":"IF(ISTEXT(AB205),AB205,IF(ISTEXT(AC205),AC205,AB205*AC205))","v":1.8903986486560806}]
[194,0.74876344203948975,{"$f":"NORMINV(B206,Dźwignie!$L$8,Dźwignie!$L$9)","v":383530.17785109277},{"$f":"Dźwignie!$L$7*C206","v":575295.26677663915},null,{"$f":"C206*Dźwignie!$G$5","v":383530.17785109277},191765.08892554638,{"$f":"Dźwignie!$G$6","v":50000},141765.08892554638,{"$f":"I206-Dźwignie!$D$6","v":121765.08892554638},{"$f":"IF(J206>0,J206*(1-Dźwignie!$D$9),J206)","v":98629.722029692581},{"$f":"K206/Dźwignie!$D$5","v":9.8629722029692584},{"$f":"I206/Dźwignie!$D$2","v":0.70882544462773189},{"$f":"K206/Dźwignie!$D$3","v":0.98629722029692579},1.3526961424632513,1.164250691035335,1.5748774186236723,null,{"$f":"C206*Dźwignie!$G$8","v":191765.08892554638},383530.17785109277,{"$f":"Dźwignie!$G$9","v":150000},233530.17785109277,{"$f":"V206-Dźwignie!$D$6","v":213530.17785109277},{"$f":"IF(W206>0,W206*(1-Dźwignie!$D$9),W206)","v":172959.44405938516},{"$f":"X206/Dźwignie!$D$5","v":17.295944405938517},{"$f":"V206/Dźwignie!$D$2","v":1.1676508892554638},{"$f":"X206/Dźwignie!$D$3","v":1.7295944405938517},1.6423152732562272,1.0936635758058852,1.7961403943500249]
[195,0.10903745889663696,{"$f":"NORMINV(B207,Dźwignie!$L$8,Dźwignie!$L$9)","v":288416.83945436211},{"$f":"Dźwignie!$L$7*C207","v":432625.25918154314},null,{"$f":"C207*Dźwignie!$G$5","v":288416.83945436211},144208.41972718103,{"$f":"Dźwignie!$G$6","v":50000},94208.419727181026,{"$f":"I207-Dźwignie!$D$6","v":74208.419727181026},{"$f":"IF(J207>0,J207*(1-Dźwignie!$D$9),J207)","v":60108.819979016633},{"$f":"K207/Dźwignie!$D$5","v":6.010881997901663},{"$f":"I207/Dźwignie!$D$2","v":0.47104209863590513},{"$f":"K207/Dźwignie!$D$3","v":0.60108819979016637},1.5307381245200316,1.2695111966206498,1.9432891881722745,null,{"$f":"C207*Dźwignie!$G$8","v":144208.41972718106},288416.83945436205,{"$f":"Dźwignie!$G$9","v":150000},138416.83945436205,{"$f":"V207-Dźwignie!$D$6","v":118416.83945436205},{"$f":"IF(W207>0,W207*(1-Dźwignie!$D$9),W207)","v":95917.639958033265},{"$f":"X207/Dźwignie!$D$5","v":9.5917639958033263},{"$f":"V207/Dźwignie!$D$2","v":0.69208419727181025},{"$f":"X207/Dźwignie!$D$3","v":0.95917639958033263},2.0836831746144377,1.1688948978215892,2.4356066314835076]
[196,0.92439460754394531,{"$f":"NORMINV(B208,Dźwignie!$L$8,Dźwignie!$L$9)","v":421763.3926085424},{"$f":"Dźwignie!$L$7*C208","v":632645.08891281358},null,{"$f":"C208*Dźwignie!$G$5","v":421763.3926085424},210881.69630427117,{"$f":"Dźwignie!$G$6","v":50000},160881.69630427117,{"$f":"I208-Dźwignie!$D$6","v":140881.69630427117},{"$f":"IF(J208>0,J208*(1-Dźwignie!$D$9),J208)","v":114114.17400645965},{"$f":"K208/Dźwignie!$D$5","v":11.411417400645965},{"$f":"I208/Dźwignie!$D$2","v":0.80440848152135591},{"$f":"K208/Dźwignie!$D$3","v":1.1411417400645965},1.3107873745030407,1.1419630833859689,1.496870791850891,null,{"$f":"C208*Dźwignie!$G$8","v":210881.6963042712},421763.39260854234,{"$f":"Dźwignie!$G$9","v":150000},271763.39260854234,{"$f":"V208-Dźwignie!$D$6","v":251763.39260854234},{"$f":"IF(W208>0,W208*(1-Dźwignie!$D$9),W208)","v":203928.3480129193},{"$f":"X208/Dźwignie!$D$5","v":20.392834801291929},{"$f":"V208/Dźwignie!$D$2","v":1.3588169630427118},{"$f":"X208/Dźwignie!$D$3","v":2.039283480129193},1.5519507191907387,1.0794396667155548,1.6752371670822166]
[197,0.47728556394577026,{"$f":"NORMINV(B209,Dźwignie!$L$8,Dźwignie!$L$9)","v":347151.62773463357},{"$f":"Dźwignie!$L$7*C209","v":520727.44160195033},null,{"$f":"C209*Dźwignie!$G$5","v":347151.62773463357},173575.81386731676,{"$f":"Dźwignie!$G$6","v":50000},123575.81386731676,{"$f":"I209-Dźwignie!$D$6","v":103575.81386731676},{"$f":"IF(J209>0,J209*(1-Dźwignie!$D$9),J209)","v":83896.409232526581},{"$f":"K209/Dźwignie!$D$5","v":8.3896409232526583},{"$f":"I209/Dźwignie!$D$2","v":0.61787906933658376},{"$f":"K209/Dźwignie!$D$3","v":0.83896409232526581},1.4046099186826717,1.1930952724698887,1.6758334536446104,null,{"$f":"C209*Dźwignie!$G$8","v":173575.81386731679},347151.62773463351,{"$f":"Dźwignie!$G$9","v":150000},197151.62773463351,{"$f":"V209-Dźwignie!$D$6","v":177151.62773463351},{"$f":"IF(W209>0,W209*(1-Dźwignie!$D$9),W209)","v":143492.81846505316},{"$f":"X209/Dźwignie!$D$5","v":14.349281846505317},{"$f":"V209/Dźwignie!$D$2","v":0.98575813867316753},{"$f":"X209/Dźwignie!$D$3","v":1.4349281846505315},1.7608357167707502,1.1128976360858465,1.9596299067296949]
[198,0.75922548770904541,{"$f":"NORMINV(B210,Dźwignie!$L$8,Dźwignie!$L$9)","v":385190.66703464335},{"$f":"Dźwignie!$L$7*C210","v":577786.00055196509},null,{"$f":"C210*Dźwignie!$G$5","v":385190.66703464335},192595.33351732173,{"$f":"Dźwignie!$G$6","v":50000},142595.33351732173,{"$f":"I210-Dźwignie!$D$6","v":122595.33351732173},{"$f":"IF(J210>0,J210*(1-Dźwignie!$D$9),J210)","v":99302.220149030618},{"$f":"K210/Dźwignie!$D$5","v":9.9302220149030624},{"$f":"I210/Dźwignie!$D$2","v":0.71297666758660871},{"$f":"K210/Dźwignie!$D$3","v":0.99302220149030618},1.3506426105727103,1.1631383465111595,1.5709842127890583,null,{"$f":"C210*Dźwignie!$G$8","v":192595.33351732168},385190.66703464341,{"$f":"Dźwignie!$G$9","v":150000},235190.66703464341,{"$f":"V210-Dźwignie!$D$6","v":215190.66703464341},{"$f":"IF(W210>0,W210*(1-Dźwignie!$D$9),W210)","v":174304.44029806118},{"$f":"X210/Dźwignie!$D$5","v":17.430444029806118},{"$f":"V210/Dźwignie!$D$2","v":1.175953335173217},{"$f":"X210/Dźwignie!$D$3","v":1.7430444029806118},1.637780409789412,1.0929408337062323,1.7899970865029746]
[199,0.27906733751296997,{"$f":"NORMINV(B211,Dźwignie!$L$8,Dźwignie!$L$9)","v":320719.28042742633},{"$f":"Dźwignie!$L$7*C211","v":481078.9206411395},null,{"$f":"C211*Dźwignie!$G$5","v":320719.28042742633},160359.64021371317,{"$f":"Dźwignie!$G$6","v":50000},110359.64021371317,{"$f":"I211-Dźwignie!$D$6","v":90359.640213713166},{"$f":"IF(J211>0,J211*(1-Dźwignie!$D$9),J211)","v":73191.308573107672},{"$f":"K211/Dźwignie!$D$5","v":7.3191308573107667},{"$f":"I211/Dźwignie!$D$2","v":0.55179820106856581},{"$f":"K211/Dźwignie!$D$3","v":0.73191308573107672},1.4530641809195302,1.2213377560235654,1.7746821460824791,null,{"$f":"C211*Dźwignie!$G$8","v":160359.64021371317},320719.28042742633,{"$f":"Dźwignie!$G$9","v":150000},170719.28042742633,{"$f":"V211-Dźwignie!$D$6","v":150719.28042742633},{"$f":"IF(W211>0,W211*(1-Dźwignie!$D$9),W211)","v":122082.61714621534},{"$f":"X211/Dźwignie!$D$5","v":12.208261714621534},{"$f":"V211/Dźwignie!$D$2","v":0.85359640213713162},{"$f":"X211/Dźwignie!$D$3","v":1.2208261714621533},1.8786353809859559,1.1326970241848409,2.127924705571147]
[200,6.0056924819946289E-2,{"$f":"NORMINV(B212,Dźwignie!$L$8,Dźwignie!$L$9)","v":272285.20470153878},{"$f":"Dźwignie!$L$7*C212","v":408427.80705230817},null,{"$f":"C212*Dźwignie!$G$5","v":272285.20470153878},136142.60235076939,{"$f":"Dźwignie!$G$6","v":50000},86142.60235076939,{"$f":"I212-Dźwignie!$D$6","v":66142.60235076939},{"$f":"IF(J212>0,J212*(1-Dźwignie!$D$9),J212)","v":53575.507904123209},{"$f":"K212/Dźwignie!$D$5","v":5.3575507904123212},{"$f":"I212/Dźwignie!$D$2","v":0.43071301175384696},{"$f":"K212/Dźwignie!$D$3","v":0.5357550790412321},1.5804328942420605,1.3023769747361227,2.0583194115764294,null,{"$f":"C212*Dźwignie!$G$8","v":136142.60235076939},272285.20470153878,{"$f":"Dźwignie!$G$9","v":150000},122285.20470153878,{"$f":"V212-Dźwignie!$D$6","v":102285.20470153878},{"$f":"IF(W212>0,W212*(1-Dźwignie!$D$9),W212)","v":82851.015808246419},{"$f":"X212/Dźwignie!$D$5","v":8.2851015808246427},{"$f":"V212/Dźwignie!$D$2","v":0.61142602350769393},{"$f":"X212/Dźwignie!$D$3","v":0.8285101580824642},2.2266406256268261,1.1955317003896959,2.6620194533124155]
[201,0.38304275274276733,{"$f":"NORMINV(B213,Dźwignie!$L$8,Dźwignie!$L$9)","v":335125.0456865569},{"$f":"Dźwignie!$L$7*C213","v":502687.56852983532},null,{"$f":"C213*Dźwignie!$G$5","v":335125.0456865569},167562.52284327842,{"$f":"Dźwignie!$G$6","v":50000},117562.52284327842,{"$f":"I213-Dźwignie!$D$6","v":97562.522843278421},{"$f":"IF(J213>0,J213*(1-Dźwignie!$D$9),J213)","v":79025.643503055529},{"$f":"K213/Dźwignie!$D$5","v":7.9025643503055534},{"$f":"I213/Dźwignie!$D$2","v":0.58781261421639208},{"$f":"K213/Dźwignie!$D$3","v":0.79025643503055532},1.4253056058235034,1.2049967489271205,1.7174886212449214,null,{"$f":"C213*Dźwignie!$G$8","v":167562.52284327845},335125.04568655684,{"$f":"Dźwignie!$G$9","v":150000},185125.04568655684,{"$f":"V213-Dźwignie!$D$6","v":165125.04568655684},{"$f":"IF(W213>0,W213*(1-Dźwignie!$D$9),W213)","v":133751.28700611106},{"$f":"X213/Dźwignie!$D$5","v":13.375128700611105},{"$f":"V213/Dźwignie!$D$2","v":0.92562522843278416},{"$f":"X213/Dźwignie!$D$3","v":1.3375128700611105},1.8102631356211598,1.1211203298496846,2.029522803722319]
[202,0.3537214994430542,{"$f":"NORMINV(B214,Dźwignie!$L$8,Dźwignie!$L$9)","v":331235.37873360823},{"$f":"Dźwignie!$L$7*C214","v":496853.06810041238},null,{"$f":"C214*Dźwignie!$G$5","v":331235.37873360823},165617.68936680414,{"$f":"Dźwignie!$G$6","v":50000},115617.68936680414,{"$f":"I214-Dźwignie!$D$6","v":95617.689366804145},{"$f":"IF(J214>0,J214*(1-Dźwignie!$D$9),J214)","v":77450.328387111367},{"$f":"K214/Dźwignie!$D$5","v":7.7450328387111371},{"$f":"I214/Dźwignie!$D$2","v":0.57808844683402072},{"$f":"K214/Dźwignie!$D$3","v":0.77450328387111367},1.4324597756090069,1.2091663177853726,1.7320821122488042,null,{"$f":"C214*Dźwignie!$G$8","v":165617.68936680412},331235.37873360829,{"$f":"Dźwignie!$G$9","v":150000},181235.37873360829,{"$f":"V214-Dźwignie!$D$6","v":161235.37873360829},{"$f":"IF(W214>0,W214*(1-Dźwignie!$D$9),W214)","v":130600.65677422272},{"$f":"X214/Dźwignie!$D$5","v":13.060065677422273},{"$f":"V214/Dźwignie!$D$2","v":0.90617689366804144},{"$f":"X214/Dźwignie!$D$3","v":1.3060065677422272},1.8276529728805317,1.1240422552239222,2.0543591694033387]
[203,0.8102765679359436,{"$f":"NORMINV(B215,Dźwignie!$L$8,Dźwignie!$L$9)","v":393945.79618040117},{"$f":"Dźwignie!$L$7*C215","v":590918.69427060173},null,{"$f":"C215*Dźwignie!$G$5","v":393945.79618040117},196972.89809020056,{"$f":"Dźwignie!$G$6","v":50000},146972.89809020056,{"$f":"I215-Dźwignie!$D$6","v":126972.89809020056},{"$f":"IF(J215>0,J215*(1-Dźwignie!$D$9),J215)","v":102848.04745306246},{"$f":"K215/Dźwignie!$D$5","v":10.284804745306246},{"$f":"I215/Dźwignie!$D$2","v":0.73486449045100277},{"$f":"K215/Dźwignie!$D$3","v":1.0284804745306246},1.3401987757587381,1.1575139285691671,1.5512987499920852,null,{"$f":"C215*Dźwignie!$G$8","v":196972.89809020059},393945.79618040111,{"$f":"Dźwignie!$G$9","v":150000},243945.79618040111,{"$f":"V215-Dźwignie!$D$6","v":223945.79618040111},{"$f":"IF(W215>0,W215*(1-Dźwignie!$D$9),W215)","v":181396.09490612493},{"$f":"X215/Dźwignie!$D$5","v":18.139609490612493},{"$f":"V215/Dźwignie!$D$2","v":1.2197289809020055},{"$f":"X215/Dźwignie!$D$3","v":1.8139609490612492},1.6148906943617631,1.0893073249916638,1.7591122624291429]
[204,0.77233743667602539,{"$f":"NORMINV(B216,Dźwignie!$L$8,Dźwignie!$L$9)","v":387328.33739042416},{"$f":"Dźwignie!$L$7*C216","v":580992.50608563621},null,{"$f":"C216*Dźwignie!$G$5","v":387328.33739042416},193664.16869521205,{"$f":"Dźwignie!$G$6","v":50000},143664.16869521205,{"$f":"I216-Dźwignie!$D$6","v":123664.16869521205},{"$f":"IF(J216>0,J216*(1-Dźwignie!$D$9),J216)","v":100167.97664312177},{"$f":"K216/Dźwignie!$D$5","v":10.016797664312177},{"$f":"I216/Dźwignie!$D$2","v":0.71832084347606029},{"$f":"K216/Dźwignie!$D$3","v":1.0016797664312178},1.3480338935874576,1.1617283341732789,1.5660491696064762,null,{"$f":"C216*Dźwignie!$G$8","v":193664.16869521208},387328.3373904241,{"$f":"Dźwignie!$G$9","v":150000},237328.3373904241,{"$f":"V216-Dźwignie!$D$6","v":217328.3373904241},{"$f":"IF(W216>0,W216*(1-Dźwignie!$D$9),W216)","v":176035.95328624354},{"$f":"X216/Dźwignie!$D$5","v":17.603595328624355},{"$f":"V216/Dźwignie!$D$2","v":1.1866416869521206},{"$f":"X216/Dźwignie!$D$3","v":1.7603595328624355},1.6320357764662463,1.0920266553370377,1.7822265703648204]
[205,0.57847660779953003,{"$f":"NORMINV(B217,Dźwignie!$L$8,Dźwignie!$L$9)","v":359899.89003851573},{"$f":"Dźwignie!$L$7*C217","v":539849.83505777363},null,{"$f":"C217*Dźwignie!$G$5","v":359899.89003851573},179949.9450192579,{"$f":"Dźwignie!$G$6","v":50000},129949.9450192579,{"$f":"I217-Dźwignie!$D$6","v":109949.9450192579},{"$f":"IF(J217>0,J217*(1-Dźwignie!$D$9),J217)","v":89059.455465598905},{"$f":"K217/Dźwignie!$D$5","v":8.9059455465598898},{"$f":"I217/Dźwignie!$D$2","v":0.64974972509628948},{"$f":"K217/Dźwignie!$D$3","v":0.89059455465598902},1.3847635333173112,1.1819009549890813,1.6366533424617846,null,{"$f":"C217*Dźwignie!$G$8","v":179949.94501925787},359899.89003851579,{"$f":"Dźwignie!$G$9","v":150000},209899.89003851579,{"$f":"V217-Dźwignie!$D$6","v":189899.89003851579},{"$f":"IF(W217>0,W217*(1-Dźwignie!$D$9),W217)","v":153818.91093119781},{"$f":"X217/Dźwignie!$D$5","v":15.381891093119782},{"$f":"V217/Dźwignie!$D$2","v":1.049499450192579},{"$f":"X217/Dźwignie!$D$3","v":1.5381891093119782},1.7146263867621636,1.1053186497156138,1.8952085225827164]
[206,2.0593762397766113E-2,{"$f":"NORMINV(B218,Dźwignie!$L$8,Dźwignie!$L$9)","v":247918.13616735104},{"$f":"Dźwignie!$L$7*C218","v":371877.20425102656},null,{"$f":"C218*Dźwignie!$G$5","v":247918.13616735104},123959.06808367552,{"$f":"Dźwignie!$G$6","v":50000},73959.06808367552,{"$f":"I218-Dźwignie!$D$6","v":53959.06808367552},{"$f":"IF(J218>0,J218*(1-Dźwignie!$D$9),J218)","v":43706.845147777174},{"$f":"K218/Dźwignie!$D$5","v":4.3706845147777171},{"$f":"I218/Dźwignie!$D$2","v":0.36979534041837758},{"$f":"K218/Dźwignie!$D$3","v":0.43706845147777174},1.6760496217100951,1.3706513234992412,2.2972796322473443,null,{"$f":"C218*Dźwignie!$G$8","v":123959.06808367552},247918.13616735104,{"$f":"Dźwignie!$G$9","v":150000},97918.13616735104,{"$f":"V218-Dźwignie!$D$6","v":77918.13616735104},{"$f":"IF(W218>0,W218*(1-Dźwignie!$D$9),W218)","v":63113.690295554348},{"$f":"X218/Dźwignie!$D$5","v":6.3113690295554346},{"$f":"V218/Dźwignie!$D$2","v":0.48959068083675522},{"$f":"X218/Dźwignie!$D$3","v":0.63113690295554348},2.5318919034941216,1.2566796510255891,3.1817770337175073]
[207,0.30013829469680786,{"$f":"NORMINV(B219,Dźwignie!$L$8,Dźwignie!$L$9)","v":323799.85978551861},{"$f":"Dźwignie!$L$7*C219","v":485699.78967827791},null,{"$f":"C219*Dźwignie!$G$5","v":323799.85978551861},161899.9298927593,{"$f":"Dźwignie!$G$6","v":50000},111899.9298927593,{"$f":"I219-Dźwignie!$D$6","v":91899.929892759304},{"$f":"IF(J219>0,J219*(1-Dźwignie!$D$9),J219)","v":74438.943213135048},{"$f":"K219/Dźwignie!$D$5","v":7.4438943213135049},{"$f":"I219/Dźwignie!$D$2","v":0.55949964946379649},{"$f":"K219/Dźwignie!$D$3","v":0.74438943213135045},1.446827804520683,1.217628022386291,1.7616980783520184,null,{"$f":"C219*Dźwignie!$G$8","v":161899.9298927593},323799.85978551861,{"$f":"Dźwignie!$G$9","v":150000},173799.85978551861,{"$f":"V219-Dźwignie!$D$6","v":153799.85978551861},{"$f":"IF(W219>0,W219*(1-Dźwignie!$D$9),W219)","v":124577.88642627008},{"$f":"X219/Dźwignie!$D$5","v":12.457788642627008},{"$f":"V219/Dźwignie!$D$2","v":0.86899929892759309},{"$f":"X219/Dźwignie!$D$3","v":1.2457788642627008},1.8630616859248947,1.1300391302559767,2.1053326071758018]
[208,8.1316709518432617E-2,{"$f":"NORMINV(B220,Dźwignie!$L$8,Dźwignie!$L$9)","v":280186.53567729949},{"$f":"Dźwignie!$L$7*C220","v":420279.80351594923},null,{"$f":"C220*Dźwignie!$G$5","v":280186.53567729949},140093.26783864974,{"$f":"Dźwignie!$G$6","v":50000},90093.267838649743,{"$f":"I220-Dźwignie!$D$6","v":70093.267838649743},{"$f":"IF(J220>0,J220*(1-Dźwignie!$D$9),J220)","v":56775.546949306292},{"$f":"K220/Dźwignie!$D$5","v":5.6775546949306293},{"$f":"I220/Dźwignie!$D$2","v":0.45046633919324869},{"$f":"K220/Dźwignie!$D$3","v":0.56775546949306288},1.5549804241704968,1.2853341072075386,1.9986693752263851,null,{"$f":"C220*Dźwignie!$G$8","v":140093.26783864974},280186.53567729949,{"$f":"Dźwignie!$G$9","v":150000},130186.53567729949,{"$f":"V220-Dźwignie!$D$6","v":110186.53567729949},{"$f":"IF(W220>0,W220*(1-Dźwignie!$D$9),W220)","v":89251.093898612584},{"$f":"X220/Dźwignie!$D$5","v":8.9251093898612588},{"$f":"V220/Dźwignie!$D$2","v":0.65093267838649738},{"$f":"X220/Dźwignie!$D$3","v":0.89251093898612588},2.1521928840000264,1.181510380347863,2.5428382329568353]
[209,0.56584542989730835,{"$f":"NORMINV(B221,Dźwignie!$L$8,Dźwignie!$L$9)","v":358290.33074762695},{"$f":"Dźwignie!$L$7*C221","v":537435.49612144043},null,{"$f":"C221*Dźwignie!$G$5","v":358290.33074762695},179145.16537381348,{"$f":"Dźwignie!$G$6","v":50000},129145.16537381348,{"$f":"I221-Dźwignie!$D$6","v":109145.16537381348},{"$f":"IF(J221>0,J221*(1-Dźwignie!$D$9),J221)","v":88407.583952788918},{"$f":"K221/Dźwignie!$D$5","v":8.8407583952788915},{"$f":"I221/Dźwignie!$D$2","v":0.64572582686906743},{"$f":"K221/Dźwignie!$D$3","v":0.88407583952788915},1.387161221678519,1.1832421979617842,1.6413476928662445,null,{"$f":"C221*Dźwignie!$G$8","v":179145.16537381348},358290.33074762695,{"$f":"Dźwignie!$G$9","v":150000},208290.33074762695,{"$f":"V221-Dźwignie!$D$6","v":188290.33074762695},{"$f":"IF(W221>0,W221*(1-Dźwignie!$D$9),W221)","v":152515.16790557784},{"$f":"X221/Dźwignie!$D$5","v":15.251516790557783},{"$f":"V221/Dźwignie!$D$2","v":1.0414516537381349},{"$f":"X221/Dźwignie!$D$3","v":1.5251516790557784},1.7201486476189147,1.106218943482588,1.9028610196019984]
[210,0.56556737422943115,{"$f":"NORMINV(B222,Dźwignie!$L$8,Dźwignie!$L$9)","v":358255.00136388087},{"$f":"Dźwignie!$L$7*C222","v":537382.50204582128},null,{"$f":"C222*Dźwignie!$G$5","v":358255.00136388087},179127.50068194041,{"$f":"Dźwignie!$G$6","v":50000},129127.50068194041,{"$f":"I222-Dźwignie!$D$6","v":109127.50068194041},{"$f":"IF(J222>0,J222*(1-Dźwignie!$D$9),J222)","v":88393.275552371735},{"$f":"K222/Dźwignie!$D$5","v":8.8393275552371744},{"$f":"I222/Dźwignie!$D$2","v":0.64563750340970205},{"$f":"K222/Dźwignie!$D$3","v":0.88393275552371731},1.3872141854828988,1.1832718597513872,1.6414515091298554,null,{"$f":"C222*Dźwignie!$G$8","v":179127.50068194044},358255.00136388082,{"$f":"Dźwignie!$G$9","v":150000},208255.00136388082,{"$f":"V222-Dźwignie!$D$6","v":188255.00136388082},{"$f":"IF(W222>0,W222*(1-Dźwignie!$D$9),W222)","v":152486.55110474347},{"$f":"X222/Dźwignie!$D$5","v":15.248655110474347},{"$f":"V222/Dźwignie!$D$2","v":1.0412750068194041},{"$f":"X222/Dźwignie!$D$3","v":1.5248655110474347},1.720270817111889,1.1062388773477614,1.9030304574559722]
[211,0.39397722482681274,{"$f":"NORMINV(B223,Dźwignie!$L$8,Dźwignie!$L$9)","v":336551.60921559308},{"$f":"Dźwignie!$L$7*C223","v":504827.41382338962},null,{"$f":"C223*Dźwignie!$G$5","v":336551.60921559308},168275.80460779654,{"$f":"Dźwignie!$G$6","v":50000},118275.80460779654,{"$f":"I223-Dźwignie!$D$6","v":98275.804607796541},{"$f":"IF(J223>0,J223*(1-Dźwignie!$D$9),J223)","v":79603.401732315207},{"$f":"K223/Dźwignie!$D$5","v":7.9603401732315211},{"$f":"I223/Dźwignie!$D$2","v":0.59137902303898271},{"$f":"K223/Dźwignie!$D$3","v":0.79603401732315204},1.4227407301586354,1.2035088909199665,1.7122811182198827,null,{"$f":"C223*Dźwignie!$G$8","v":168275.80460779654},336551.60921559308,{"$f":"Dźwignie!$G$9","v":150000},186551.60921559308,{"$f":"V223-Dźwignie!$D$6","v":166551.60921559308},{"$f":"IF(W223>0,W223*(1-Dźwignie!$D$9),W223)","v":134906.80346463041},{"$f":"X223/Dźwignie!$D$5","v":13.490680346463041},{"$f":"V223/Dźwignie!$D$2","v":0.93275804607796542},{"$f":"X223/Dźwignie!$D$3","v":1.3490680346463042},1.8040670387712856,1.1200828985933782,2.0207046380437141]
[212,0.86352062225341797,{"$f":"NORMINV(B224,Dźwignie!$L$8,Dźwignie!$L$9)","v":404813.71468705015},{"$f":"Dźwignie!$L$7*C224","v":607220.57203057525},null,{"$f":"C224*Dźwignie!$G$5","v":404813.71468705015},202406.8573435251,{"$f":"Dźwignie!$G$6","v":50000},152406.8573435251,{"$f":"I224-Dźwignie!$D$6","v":132406.8573435251},{"$f":"IF(J224>0,J224*(1-Dźwignie!$D$9),J224)","v":107249.55444825534},{"$f":"K224/Dźwignie!$D$5","v":10.724955444825534},{"$f":"I224/Dźwignie!$D$2","v":0.76203428671762552},{"$f":"K224/Dźwignie!$D$3","v":1.0724955444825535},1.3280692277992452,1.1510495785585386,1.5286735249548851,null,{"$f":"C224*Dźwignie!$G$8","v":202406.85734352507},404813.7146870502,{"$f":"Dźwignie!$G$9","v":150000},254813.7146870502,{"$f":"V224-Dźwignie!$D$6","v":234813.7146870502},{"$f":"IF(W224>0,W224*(1-Dźwignie!$D$9),W224)","v":190199.10889651068},{"$f":"X224/Dźwignie!$D$5","v":19.019910889651069},{"$f":"V224/Dźwignie!$D$2","v":1.274068573435251},{"$f":"X224/Dźwignie!$D$3","v":1.9019910889651068},1.5886653321789319,1.0851739006243957,1.7239781553073628]
[213,0.27807158231735229,{"$f":"NORMINV(B225,Dźwignie!$L$8,Dźwignie!$L$9)","v":320571.00827547826},{"$f":"Dźwignie!$L$7*C225","v":480856.5124132174},null,{"$f":"C225*Dźwignie!$G$5","v":320571.00827547826},160285.50413773913,{"$f":"Dźwignie!$G$6","v":50000},110285.50413773913,{"$f":"I225-Dźwignie!$D$6","v":90285.504137739132},{"$f":"IF(J225>0,J225*(1-Dźwignie!$D$9),J225)","v":73131.2583515687},{"$f":"K225/Dźwignie!$D$5","v":7.3131258351568702},{"$f":"I225/Dźwignie!$D$2","v":0.5514275206886956},{"$f":"K225/Dźwignie!$D$3","v":0.73131258351568695},1.4533687395358268,1.2215195029479826,1.7753182603179392,null,{"$f":"C225*Dźwignie!$G$8","v":160285.50413773913},320571.00827547826,{"$f":"Dźwignie!$G$9","v":150000},170571.00827547826,{"$f":"V225-Dźwignie!$D$6","v":150571.00827547826},{"$f":"IF(W225>0,W225*(1-Dźwignie!$D$9),W225)","v":121962.5167031374},{"$f":"X225/Dźwignie!$D$5","v":12.196251670313741},{"$f":"V225/Dźwignie!$D$2","v":0.85285504137739132},{"$f":"X225/Dźwignie!$D$3","v":1.219625167031374},1.8793991518051218,1.132827695245348,2.129035409585458]
[214,0.50237524509429932,{"$f":"NORMINV(B226,Dźwignie!$L$8,Dźwignie!$L$9)","v":350297.69458443869},{"$f":"Dźwignie!$L$7*C226","v":525446.5418766581},null,{"$f":"C226*Dźwignie!$G$5","v":350297.69458443869},175148.84729221941,{"$f":"Dźwignie!$G$6","v":50000},125148.84729221941,{"$f":"I226-Dźwignie!$D$6","v":105148.84729221941},{"$f":"IF(J226>0,J226*(1-Dźwignie!$D$9),J226)","v":85170.566306697729},{"$f":"K226/Dźwignie!$D$5","v":8.5170566306697726},{"$f":"I226/Dźwignie!$D$2","v":0.625744236461097},{"$f":"K226/Dźwignie!$D$3","v":0.85170566306697726},1.3995242551715339,1.1902065549460372,1.6657229423111302,null,{"$f":"C226*Dźwignie!$G$8","v":175148.84729221935},350297.69458443875,{"$f":"Dźwignie!$G$9","v":150000},200297.69458443875,{"$f":"V226-Dźwignie!$D$6","v":180297.69458443875},{"$f":"IF(W226>0,W226*(1-Dźwignie!$D$9),W226)","v":146041.1326133954},{"$f":"X226/Dźwignie!$D$5","v":14.60411326133954},{"$f":"V226/Dźwignie!$D$2","v":1.0014884729221938},{"$f":"X226/Dźwignie!$D$3","v":1.460411326133954},1.7488853045024193,1.1109276524366949,1.9428850457119069]
[215,0.61309462785720825,{"$f":"NORMINV(B227,Dźwignie!$L$8,Dźwignie!$L$9)","v":364369.6941573958},{"$f":"Dźwignie!$L$7*C227","v":546554.54123609373},null,{"$f":"C227*Dźwignie!$G$5","v":364369.6941573958},182184.84707869793,{"$f":"Dźwignie!$G$6","v":50000},132184.84707869793,{"$f":"I227-Dźwignie!$D$6","v":112184.84707869793},{"$f":"IF(J227>0,J227*(1-Dźwignie!$D$9),J227)","v":90869.726133745324},{"$f":"K227/Dźwignie!$D$5","v":9.0869726133745328},{"$f":"I227/Dźwignie!$D$2","v":0.66092423539348966},{"$f":"K227/Dźwignie!$D$3","v":0.90869726133745321},1.3782581824241311,1.1782771962595799,1.6239701869085299,null,{"$f":"C227*Dźwignie!$G$8","v":182184.8470786979},364369.69415739586,{"$f":"Dźwignie!$G$9","v":150000},214369.69415739586,{"$f":"V227-Dźwignie!$D$6","v":194369.69415739586},{"$f":"IF(W227>0,W227*(1-Dźwignie!$D$9),W227)","v":157439.45226749065},{"$f":"X227/Dźwignie!$D$5","v":15.743945226749064},{"$f":"V227/Dźwignie!$D$2","v":1.0718484707869793},{"$f":"X227/Dźwignie!$D$3","v":1.5743945226749065},1.6997257732236444,1.1028966994402145,1.874621945241824]
[216,0.36754536628723145,{"$f":"NORMINV(B228,Dźwignie!$L$8,Dźwignie!$L$9)","v":333081.92162608681},{"$f":"Dźwignie!$L$7*C228","v":499622.88243913022},null,{"$f":"C228*Dźwignie!$G$5","v":333081.92162608681},166540.96081304341,{"$f":"Dźwignie!$G$6","v":50000},116540.96081304341,{"$f":"I228-Dźwignie!$D$6","v":96540.960813043406},{"$f":"IF(J228>0,J228*(1-Dźwignie!$D$9),J228)","v":78198.178258565167},{"$f":"K228/Dźwignie!$D$5","v":7.819817825856517},{"$f":"I228/Dźwignie!$D$2","v":0.58270480406521707},{"$f":"K228/Dźwignie!$D$3","v":0.78198178258565165},1.4290337032677349,1.2071659514424249,1.7250808300484872,null,{"$f":"C228*Dźwignie!$G$8","v":166540.96081304341},333081.92162608681,{"$f":"Dźwignie!$G$9","v":150000},183081.92162608681,{"$f":"V228-Dźwignie!$D$6","v":163081.92162608681},{"$f":"IF(W228>0,W228*(1-Dźwignie!$D$9),W228)","v":132096.35651713033},{"$f":"X228/Dźwignie!$D$5","v":13.209635651713034},{"$f":"V228/Dźwignie!$D$2","v":0.91540960813043404},{"$f":"X228/Dźwignie!$D$3","v":1.3209635651713034},1.8193053615984491,1.12263775040532,2.04242087844522]
[217,0.53186649084091187,{"$f":"NORMINV(B229,Dźwignie!$L$8,Dźwignie!$L$9)","v":353998.12894653023},{"$f":"Dźwignie!$L$7*C229","v":530997.19341979537},null,{"$f":"C229*Dźwignie!$G$5","v":353998.12894653023},176999.06447326514,{"$f":"Dźwignie!$G$6","v":50000},126999.06447326514,{"$f":"I229-Dźwignie!$D$6","v":106999.06447326514},{"$f":"IF(J229>0,J229*(1-Dźwignie!$D$9),J229)","v":86669.242223344772},{"$f":"K229/Dźwignie!$D$5","v":8.6669242223344778},{"$f":"I229/Dźwignie!$D$2","v":0.63499532236632572},{"$f":"K229/Dźwignie!$D$3","v":0.86669242223344778},1.3937036875616167,1.1869175221153192,1.654211327403617,null,{"$f":"C229*Dźwignie!$G$8","v":176999.06447326511},353998.12894653028,{"$f":"Dźwignie!$G$9","v":150000},203998.12894653028,{"$f":"V229-Dźwignie!$D$6","v":183998.12894653028},{"$f":"IF(W229>0,W229*(1-Dźwignie!$D$9),W229)","v":149038.48444668954},{"$f":"X229/Dźwignie!$D$5","v":14.903848444668954},{"$f":"V229/Dźwignie!$D$2","v":1.0199906447326514},{"$f":"X229/Dźwignie!$D$3","v":1.4903848444668955},1.7353008617021008,1.1086967574861155,1.9239224386319813]
[218,0.69338309764862061,{"$f":"NORMINV(B230,Dźwignie!$L$8,Dźwignie!$L$9)","v":375273.14109134499},{"$f":"Dźwignie!$L$7*C230","v":562909.71163701755},null,{"$f":"C230*Dźwignie!$G$5","v":375273.14109134499},187636.57054567256,{"$f":"Dźwignie!$G$6","v":50000},137636.57054567256,{"$f":"I230-Dźwignie!$D$6","v":117636.57054567256},{"$f":"IF(J230>0,J230*(1-Dźwignie!$D$9),J230)","v":95285.622141994783},{"$f":"K230/Dźwignie!$D$5","v":9.5285622141994786},{"$f":"I230/Dźwignie!$D$2","v":0.68818285272836277},{"$f":"K230/Dźwignie!$D$3","v":0.95285622141994786},1.3632755437146573,1.1700151569127475,1.595053049194616,null,{"$f":"C230*Dźwignie!$G$8","v":187636.5705456725},375273.14109134505,{"$f":"Dźwignie!$G$9","v":150000},225273.14109134505,{"$f":"V230-Dźwignie!$D$6","v":205273.14109134505},{"$f":"IF(W230>0,W230*(1-Dźwignie!$D$9),W230)","v":166271.24428398951},{"$f":"X230/Dźwignie!$D$5","v":16.62712442839895},{"$f":"V230/Dźwignie!$D$2","v":1.1263657054567253},{"$f":"X230/Dźwignie!$D$3","v":1.6627124428398952},1.6658583410046968,1.0974311587656767,1.8281648495082521]
[219,0.43289333581924438,{"$f":"NORMINV(B231,Dźwignie!$L$8,Dźwignie!$L$9)","v":341549.36625130015},{"$f":"Dźwignie!$L$7*C231","v":512324.04937695025},null,{"$f":"C231*Dźwignie!$G$5","v":341549.36625130015},170774.6831256501,{"$f":"Dźwignie!$G$6","v":50000},120774.6831256501,{"$f":"I231-Dźwignie!$D$6","v":100774.6831256501},{"$f":"IF(J231>0,J231*(1-Dźwignie!$D$9),J231)","v":81627.493331776583},{"$f":"K231/Dźwignie!$D$5","v":8.1627493331776577},{"$f":"I231/Dźwignie!$D$2","v":0.60387341562825048},{"$f":"K231/Dźwignie!$D$3","v":0.81627493331776579},1.4139940483054847,1.1984625441596592,1.6946189045588074,null,{"$f":"C231*Dźwignie!$G$8","v":170774.68312565007},341549.36625130021,{"$f":"Dźwignie!$G$9","v":150000},191549.36625130021,{"$f":"V231-Dźwignie!$D$6","v":171549.36625130021},{"$f":"IF(W231>0,W231*(1-Dźwignie!$D$9),W231)","v":138954.98666355317},{"$f":"X231/Dźwignie!$D$5","v":13.895498666355316},{"$f":"V231/Dźwignie!$D$2","v":0.95774683125650106},{"$f":"X231/Dźwignie!$D$3","v":1.3895498666355317},1.7830879471728966,1.116584516964652,1.9909683941995417]
[220,0.97968244552612305,{"$f":"NORMINV(B232,Dźwignie!$L$8,Dźwignie!$L$9)","v":452361.70288862137},{"$f":"Dźwignie!$L$7*C232","v":678542.55433293199},null,{"$f":"C232*Dźwignie!$G$5","v":452361.70288862137},226180.85144431063,{"$f":"Dźwignie!$G$6","v":50000},176180.85144431063,{"$f":"I232-Dźwignie!$D$6","v":156180.85144431063},{"$f":"IF(J232>0,J232*(1-Dźwignie!$D$9),J232)","v":126506.48966989161},{"$f":"K232/Dźwignie!$D$5","v":12.650648966989161},{"$f":"I232/Dźwignie!$D$2","v":0.88090425722155308},{"$f":"K232/Dźwignie!$D$3","v":1.2650648966989162},1.2837992868697459,1.1280566715768698,1.4481983505190446,null,{"$f":"C232*Dźwignie!$G$8","v":226180.85144431068},452361.70288862131,{"$f":"Dźwignie!$G$9","v":150000},302361.70288862131,{"$f":"V232-Dźwignie!$D$6","v":282361.70288862131},{"$f":"IF(W232>0,W232*(1-Dźwignie!$D$9),W232)","v":228712.97933978328},{"$f":"X232/Dźwignie!$D$5","v":22.87129793397833},{"$f":"V232/Dźwignie!$D$2","v":1.5118085144431066},{"$f":"X232/Dźwignie!$D$3","v":2.287129793397833},1.4960945733767559,1.0708311353678479,1.6020646506267076]
[221,0.73085564374923706,{"$f":"NORMINV(B233,Dźwignie!$L$8,Dźwignie!$L$9)","v":380770.14228984411},{"$f":"Dźwignie!$L$7*C233","v":571155.21343476616},null,{"$f":"C233*Dźwignie!$G$5","v":380770.14228984411},190385.07114492205,{"$f":"Dźwignie!$G$6","v":50000},140385.07114492205,{"$f":"I233-Dźwignie!$D$6","v":120385.07114492205},{"$f":"IF(J233>0,J233*(1-Dźwignie!$D$9),J233)","v":97511.90762738687},{"$f":"K233/Dźwignie!$D$5","v":9.7511907627386876},{"$f":"I233/Dźwignie!$D$2","v":0.70192535572461023},{"$f":"K233/Dźwignie!$D$3","v":0.97511907627386873},1.3561632272735331,1.1661335563437396,1.5814674472030883,null,{"$f":"C233*Dźwignie!$G$8","v":190385.07114492205},380770.14228984411,{"$f":"Dźwignie!$G$9","v":150000},230770.14228984411,{"$f":"V233-Dźwignie!$D$6","v":210770.14228984411},{"$f":"IF(W233>0,W233*(1-Dźwignie!$D$9),W233)","v":170723.81525477374},{"$f":"X233/Dźwignie!$D$5","v":17.072381525477375},{"$f":"V233/Dźwignie!$D$2","v":1.1538507114492205},{"$f":"X233/Dźwignie!$D$3","v":1.7072381525477374},1.6499974325604136,1.0948901005745713,1.8065658548838557]
[222,0.24021446704864502,{"$f":"NORMINV(B234,Dźwignie!$L$8,Dźwignie!$L$9)","v":314719.35775702161},{"$f":"Dźwignie!$L$7*C234","v":472079.03663553239},null,{"$f":"C234*Dźwignie!$G$5","v":314719.35775702161},157359.67887851078,{"$f":"Dźwignie!$G$6","v":50000},107359.67887851078,{"$f":"I234-Dźwignie!$D$6","v":87359.678878510778},{"$f":"IF(J234>0,J234*(1-Dźwignie!$D$9),J234)","v":70761.339891593729},{"$f":"K234/Dźwignie!$D$5","v":7.0761339891593726},{"$f":"I234/Dźwignie!$D$2","v":0.53679839439255395},{"$f":"K234/Dźwignie!$D$3","v":0.70761339891593733},1.4657241948029713,1.2289385704795639,1.8012849966784734,null,{"$f":"C234*Dźwignie!$G$8","v":157359.67887851081},314719.35775702156,{"$f":"Dźwignie!$G$9","v":150000},164719.35775702156,{"$f":"V234-Dźwignie!$D$6","v":144719.35775702156},{"$f":"IF(W234>0,W234*(1-Dźwignie!$D$9),W234)","v":117222.67978318747},{"$f":"X234/Dźwignie!$D$5","v":11.722267978318747},{"$f":"V234/Dźwignie!$D$2","v":0.82359678878510778},{"$f":"X234/Dźwignie!$D$3","v":1.1722267978318748},1.9106397817630265,1.1381985126936458,2.1746873578959889]
[223,0.61100274324417114,{"$f":"NORMINV(B235,Dźwignie!$L$8,Dźwignie!$L$9)","v":364096.67423313827},{"$f":"Dźwignie!$L$7*C235","v":546145.01134970738},null,{"$f":"C235*Dźwignie!$G$5","v":364096.67423313827},182048.33711656911,{"$f":"Dźwignie!$G$6","v":50000},132048.33711656911,{"$f":"I235-Dźwignie!$D$6","v":112048.33711656911},{"$f":"IF(J235>0,J235*(1-Dźwignie!$D$9),J235)","v":90759.153064420985},{"$f":"K235/Dźwignie!$D$5","v":9.0759153064420985},{"$f":"I235/Dźwignie!$D$2","v":0.66024168558284557},{"$f":"K235/Dźwignie!$D$3","v":0.90759153064420983},1.3786492211246946,1.1784943937114665,1.6247303779901323,null,{"$f":"C235*Dźwignie!$G$8","v":182048.33711656914},364096.67423313821,{"$f":"Dźwignie!$G$9","v":150000},214096.67423313821,{"$f":"V235-Dźwignie!$D$6","v":194096.67423313821},{"$f":"IF(W235>0,W235*(1-Dźwignie!$D$9),W235)","v":157218.30612884197},{"$f":"X235/Dźwignie!$D$5","v":15.721830612884197},{"$f":"V235/Dźwignie!$D$2","v":1.0704833711656911},{"$f":"X235/Dźwignie!$D$3","v":1.5721830612884198},1.7006180760970586,1.1030414358155209,1.8758522044319283]
[224,0.23954367637634277,{"$f":"NORMINV(B236,Dźwignie!$L$8,Dźwignie!$L$9)","v":314611.43990704982},{"$f":"Dźwignie!$L$7*C236","v":471917.15986057476},null,{"$f":"C236*Dźwignie!$G$5","v":314611.43990704982},157305.71995352494,{"$f":"Dźwignie!$G$6","v":50000},107305.71995352494,{"$f":"I236-Dźwignie!$D$6","v":87305.719953524938},{"$f":"IF(J236>0,J236*(1-Dźwignie!$D$9),J236)","v":70717.633162355211},{"$f":"K236/Dźwignie!$D$5","v":7.0717633162355211},{"$f":"I236/Dźwignie!$D$2","v":0.53652859976762468},{"$f":"K236/Dźwignie!$D$3","v":0.70717633162355209},1.4659583852720568,1.2290800649790932,1.801780227426826,null,{"$f":"C236*Dźwignie!$G$8","v":157305.71995352491},314611.43990704988,{"$f":"Dźwignie!$G$9","v":150000},164611.43990704988,{"$f":"V236-Dźwignie!$D$6","v":144611.43990704988},{"$f":"IF(W236>0,W236*(1-Dźwignie!$D$9),W236)","v":117135.26632471041},{"$f":"X236/Dźwignie!$D$5","v":11.713526632471041},{"$f":"V236/Dźwignie!$D$2","v":0.82305719953524936},{"$f":"X236/Dźwignie!$D$3","v":1.1713526632471041},1.9112367894035771,1.1383016448273744,2.1755639810326821]
[225,0.81870359182357788,{"$f":"NORMINV(B237,Dźwignie!$L$8,Dźwignie!$L$9)","v":395521.78132223256},{"$f":"Dźwignie!$L$7*C237","v":593282.6719833489},null,{"$f":"C237*Dźwignie!$G$5","v":395521.78132223256},197760.89066111634,{"$f":"Dźwignie!$G$6","v":50000},147760.89066111634,{"$f":"I237-Dźwignie!$D$6","v":127760.89066111634},{"$f":"IF(J237>0,J237*(1-Dźwignie!$D$9),J237)","v":103486.32143550424},{"$f":"K237/Dźwignie!$D$5","v":10.348632143550425},{"$f":"I237/Dźwignie!$D$2","v":0.73880445330558175},{"$f":"K237/Dźwignie!$D$3","v":1.0348632143550425},1.3383845331216431,1.1565424277844905,1.5478984972457168,null,{"$f":"C237*Dźwignie!$G$8","v":197760.89066111628},395521.78132223262,{"$f":"Dźwignie!$G$9","v":150000},245521.78132223262,{"$f":"V237-Dźwignie!$D$6","v":225521.78132223262},{"$f":"IF(W237>0,W237*(1-Dźwignie!$D$9),W237)","v":182672.64287100843},{"$f":"X237/Dźwignie!$D$5","v":18.267264287100843},{"$f":"V237/Dźwignie!$D$2","v":1.2276089066111631},{"$f":"X237/Dźwignie!$D$3","v":1.8267264287100844},1.6109437590106679,1.0886832299866565,1.7538074548865799]
[226,0.62437570095062256,{"$f":"NORMINV(B238,Dźwignie!$L$8,Dźwignie!$L$9)","v":365849.67080036504},{"$f":"Dźwignie!$L$7*C238","v":548774.50620054756},null,{"$f":"C238*Dźwignie!$G$5","v":365849.67080036504},182924.83540018252,{"$f":"Dźwignie!$G$6","v":50000},132924.83540018252,{"$f":"I238-Dźwignie!$D$6","v":112924.83540018252},{"$f":"IF(J238>0,J238*(1-Dźwignie!$D$9),J238)","v":91469.116674147852},{"$f":"K238/Dźwignie!$D$5","v":9.1469116674147859},{"$f":"I238/Dźwignie!$D$2","v":0.66462417700091259},{"$f":"K238/Dźwignie!$D$3","v":0.91469116674147855},1.3761524311801505,1.1771089586194576,1.6198813551681017,null,{"$f":"C238*Dźwignie!$G$8","v":182924.83540018252},365849.67080036504,{"$f":"Dźwignie!$G$9","v":150000},215849.67080036504,{"$f":"V238-Dźwignie!$D$6","v":195849.67080036504},{"$f":"IF(W238>0,W238*(1-Dźwignie!$D$9),W238)","v":158638.2333482957},{"$f":"X238/Dźwignie!$D$5","v":15.86382333482957},{"$f":"V238/Dźwignie!$D$2","v":1.0792483540018252},{"$f":"X238/Dźwignie!$D$3","v":1.586382333482957},1.6949280925182968,1.1021191402480659,1.8680126921085596]
[227,0.76540380716323853,{"$f":"NORMINV(B239,Dźwignie!$L$8,Dźwignie!$L$9)","v":386189.68597587972},{"$f":"Dźwignie!$L$7*C239","v":579284.52896381961},null,{"$f":"C239*Dźwignie!$G$5","v":386189.68597587972},193094.84298793989,{"$f":"Dźwignie!$G$6","v":50000},143094.84298793989,{"$f":"I239-Dźwignie!$D$6","v":123094.84298793989},{"$f":"IF(J239>0,J239*(1-Dźwignie!$D$9),J239)","v":99706.822820231318},{"$f":"K239/Dźwignie!$D$5","v":9.970682282023132},{"$f":"I239/Dźwignie!$D$2","v":0.71547421493969943},{"$f":"K239/Dźwignie!$D$3","v":0.99706822820231322},1.3494186020680985,1.1624763435618459,1.5686672024664607,null,{"$f":"C239*Dźwignie!$G$8","v":193094.84298793986},386189.68597587978,{"$f":"Dźwignie!$G$9","v":150000},236189.68597587978,{"$f":"V239-Dźwignie!$D$6","v":216189.68597587978},{"$f":"IF(W239>0,W239*(1-Dźwignie!$D$9),W239)","v":175113.64564046264},{"$f":"X239/Dźwignie!$D$5","v":17.511364564046264},{"$f":"V239/Dźwignie!$D$2","v":1.1809484298793989},{"$f":"X239/Dźwignie!$D$3","v":1.7511364564046263},1.635082769936526,1.0925113513612827,1.7863464865709033]
[228,0.10568618774414063,{"$f":"NORMINV(B240,Dźwignie!$L$8,Dźwignie!$L$9)","v":287509.96707453113},{"$f":"Dźwignie!$L$7*C240","v":431264.9506117967},null,{"$f":"C240*Dźwignie!$G$5","v":287509.96707453113},143754.98353726557,{"$f":"Dźwignie!$G$6","v":50000},93754.983537265565,{"$f":"I240-Dźwignie!$D$6","v":73754.983537265565},{"$f":"IF(J240>0,J240*(1-Dźwignie!$D$9),J240)","v":59741.536665185115},{"$f":"K240/Dźwignie!$D$5","v":5.9741536665185118},{"$f":"I240/Dźwignie!$D$2","v":0.46877491768632784},{"$f":"K240/Dźwignie!$D$3","v":0.59741536665185113},1.5333049840505395,1.2711681169299531,1.9490884092548362,null,{"$f":"C240*Dźwignie!$G$8","v":143754.98353726557},287509.96707453113,{"$f":"Dźwignie!$G$9","v":150000},137509.96707453113,{"$f":"V240-Dźwignie!$D$6","v":117509.96707453113},{"$f":"IF(W240>0,W240*(1-Dźwignie!$D$9),W240)","v":95183.073330370229},{"$f":"X240/Dźwignie!$D$5","v":9.518307333037022},{"$f":"V240/Dźwignie!$D$2","v":0.68754983537265568},{"$f":"X240/Dźwignie!$D$3","v":0.95183073330370227},2.0908300190247244,1.1701983286857269,2.4466857938286792]
[229,0.48223894834518433,{"$f":"NORMINV(B241,Dźwignie!$L$8,Dźwignie!$L$9)","v":347773.2464253442},{"$f":"Dźwignie!$L$7*C241","v":521659.86963801633},null,{"$f":"C241*Dźwignie!$G$5","v":347773.2464253442},173886.62321267213,{"$f":"Dźwignie!$G$6","v":50000},123886.62321267213,{"$f":"I241-Dźwignie!$D$6","v":103886.62321267213},{"$f":"IF(J241>0,J241*(1-Dźwignie!$D$9),J241)","v":84148.164802264437},{"$f":"K241/Dźwignie!$D$5","v":8.4148164802264436},{"$f":"I241/Dźwignie!$D$2","v":0.6194331160633606},{"$f":"K241/Dźwignie!$D$3","v":0.84148164802264436},1.4035948248760211,1.192517567531836,1.673811486361426,null,{"$f":"C241*Dźwignie!$G$8","v":173886.6232126721},347773.24642534426,{"$f":"Dźwignie!$G$9","v":150000},197773.24642534426,{"$f":"V241-Dźwignie!$D$6","v":177773.24642534426},{"$f":"IF(W241>0,W241*(1-Dźwignie!$D$9),W241)","v":143996.32960452887},{"$f":"X241/Dźwignie!$D$5","v":14.399632960452887},{"$f":"V241/Dźwignie!$D$2","v":0.98886623212672131},{"$f":"X241/Dźwignie!$D$3","v":1.4399632960452888},1.7584443432626882,1.112502867569553,1.9562743743411999]
[230,9.7880959510803223E-2,{"$f":"NORMINV(B242,Dźwignie!$L$8,Dźwignie!$L$9)","v":285313.96593101718},{"$f":"Dźwignie!$L$7*C242","v":427970.94889652578},null,{"$f":"C242*Dźwignie!$G$5","v":285313.96593101718},142656.98296550859,{"$f":"Dźwignie!$G$6","v":50000},92656.982965508592,{"$f":"I242-Dźwignie!$D$6","v":72656.982965508592},{"$f":"IF(J242>0,J242*(1-Dźwignie!$D$9),J242)","v":58852.15620206196},{"$f":"K242/Dźwignie!$D$5","v":5.8852156202061963},{"$f":"I242/Dźwignie!$D$2","v":0.46328491482754297},{"$f":"K242/Dźwignie!$D$3","v":0.58852156202061956},1.5396247363095388,1.2752660402854095,1.9634311409989331,null,{"$f":"C242*Dźwignie!$G$8","v":142656.98296550859},285313.96593101718,{"$f":"Dźwignie!$G$9","v":150000},135313.96593101718,{"$f":"V242-Dźwignie!$D$6","v":115313.96593101718},{"$f":"IF(W242>0,W242*(1-Dźwignie!$D$9),W242)","v":93404.312404123921},{"$f":"X242/Dźwignie!$D$5","v":9.3404312404123928},{"$f":"V242/Dźwignie!$D$2","v":0.67656982965508594},{"$f":"X242/Dźwignie!$D$3","v":0.93404312404123924},2.1085330251606824,1.1734395295359483,2.4742360010555609]
[231,0.20255404710769653,{"$f":"NORMINV(B243,Dźwignie!$L$8,Dźwignie!$L$9)","v":308373.34422922583},{"$f":"Dźwignie!$L$7*C243","v":462560.01634383877},null,{"$f":"C243*Dźwignie!$G$5","v":308373.34422922583},154186.67211461294,{"$f":"Dźwignie!$G$6","v":50000},104186.67211461294,{"$f":"I243-Dźwignie!$D$6","v":84186.672114612942},{"$f":"IF(J243>0,J243*(1-Dźwignie!$D$9),J243)","v":68191.204412836494},{"$f":"K243/Dźwignie!$D$5","v":6.8191204412836495},{"$f":"I243/Dźwignie!$D$2","v":0.52093336057306472},{"$f":"K243/Dźwignie!$D$3","v":0.68191204412836492},1.4799078325968253,1.2375672953644219,1.8314855337754767,null,{"$f":"C243*Dźwignie!$G$8","v":154186.67211461291},308373.34422922588,{"$f":"Dźwignie!$G$9","v":150000},158373.34422922588,{"$f":"V243-Dźwignie!$D$6","v":138373.34422922588},{"$f":"IF(W243>0,W243*(1-Dźwignie!$D$9),W243)","v":112082.40882567297},{"$f":"X243/Dźwignie!$D$5","v":11.208240882567297},{"$f":"V243/Dźwignie!$D$2","v":0.79186672114612944},{"$f":"X243/Dźwignie!$D$3","v":1.1208240882567297},1.9471290811596016,1.1445365081794112,2.2285603195249957]
[232,0.4712374210357666,{"$f":"NORMINV(B244,Dźwignie!$L$8,Dźwignie!$L$9)","v":346392.01662107551},{"$f":"Dźwignie!$L$7*C244","v":519588.02493161324},null,{"$f":"C244*Dźwignie!$G$5","v":346392.01662107551},173196.00831053773,{"$f":"Dźwignie!$G$6","v":50000},123196.00831053773,{"$f":"I244-Dźwignie!$D$6","v":103196.00831053773},{"$f":"IF(J244>0,J244*(1-Dźwignie!$D$9),J244)","v":83588.766731535565},{"$f":"K244/Dźwignie!$D$5","v":8.3588766731535564},{"$f":"I244/Dźwignie!$D$2","v":0.6159800415526886},{"$f":"K244/Dźwignie!$D$3","v":0.83588766731535569},1.4058573056520305,1.1938059458638743,1.6783208105235601,null,{"$f":"C244*Dźwignie!$G$8","v":173196.00831053776},346392.01662107545,{"$f":"Dźwignie!$G$9","v":150000},196392.01662107545,{"$f":"V244-Dźwignie!$D$6","v":176392.01662107545},{"$f":"IF(W244>0,W244*(1-Dźwignie!$D$9),W244)","v":142877.53346307113},{"$f":"X244/Dźwignie!$D$5","v":14.287753346307113},{"$f":"V244/Dźwignie!$D$2","v":0.9819600831053773},{"$f":"X244/Dźwignie!$D$3","v":1.4287753346307113},1.763778500678133,1.1133838162469898,1.9637624380994136]
[233,0.6045793890953064,{"$f":"NORMINV(B245,Dźwignie!$L$8,Dźwignie!$L$9)","v":363260.91995761503},{"$f":"Dźwignie!$L$7*C245","v":544891.37993642257},null,{"$f":"C245*Dźwignie!$G$5","v":363260.91995761503},181630.45997880754,{"$f":"Dźwignie!$G$6","v":50000},131630.45997880754,{"$f":"I245-Dźwignie!$D$6","v":111630.45997880754},{"$f":"IF(J245>0,J245*(1-Dźwignie!$D$9),J245)","v":90420.672582834115},{"$f":"K245/Dźwignie!$D$5","v":9.0420672582834118},{"$f":"I245/Dźwignie!$D$2","v":0.65815229989403767},{"$f":"K245/Dźwignie!$D$3","v":0.90420672582834116},1.3798512898006281,1.1791625691034229,1.6270689918619803,null,{"$f":"C245*Dźwignie!$G$8","v":181630.45997880751},363260.91995761509,{"$f":"Dźwignie!$G$9","v":150000},213260.91995761509,{"$f":"V245-Dźwignie!$D$6","v":193260.91995761509},{"$f":"IF(W245>0,W245*(1-Dźwignie!$D$9),W245)","v":156541.34516566823},{"$f":"X245/Dźwignie!$D$5","v":15.654134516566822},{"$f":"V245/Dźwignie!$D$2","v":1.0663045997880753},{"$f":"X245/Dźwignie!$D$3","v":1.5654134516566822},1.7033637481720139,1.1034870371329408,1.8796398156299963]
[234,0.32387721538543701,{"$f":"NORMINV(B246,Dźwignie!$L$8,Dźwignie!$L$9)","v":327155.80041068175},{"$f":"Dźwignie!$L$7*C246","v":490733.70061602263},null,{"$f":"C246*Dźwignie!$G$5","v":327155.80041068175},163577.90020534088,{"$f":"Dźwignie!$G$6","v":50000},113577.90020534088,{"$f":"I246-Dźwignie!$D$6","v":93577.900205340877},{"$f":"IF(J246>0,J246*(1-Dźwignie!$D$9),J246)","v":75798.099166326108},{"$f":"K246/Dźwignie!$D$5","v":7.5798099166326107},{"$f":"I246/Dźwignie!$D$2","v":0.56788950102670444},{"$f":"K246/Dźwignie!$D$3","v":0.75798099166326105},1.4402264869275054,1.2137256762132231,1.7480398667462813,null,{"$f":"C246*Dźwignie!$G$8","v":163577.90020534088},327155.80041068175,{"$f":"Dźwignie!$G$9","v":150000},177155.80041068175,{"$f":"V246-Dźwignie!$D$6","v":157155.80041068175},{"$f":"IF(W246>0,W246*(1-Dźwignie!$D$9),W246)","v":127296.19833265223},{"$f":"X246/Dźwignie!$D$5","v":12.729619833265224},{"$f":"V246/Dźwignie!$D$2","v":0.88577900205340876},{"$f":"X246/Dźwignie!$D$3","v":1.2729619833265222},1.8467123269589294,1.1272622451588532,2.0817290838502531]
[235,0.99551254510879517,{"$f":"NORMINV(B247,Dźwignie!$L$8,Dźwignie!$L$9)","v":480650.41971821582},{"$f":"Dźwignie!$L$7*C247","v":720975.62957732379},null,{"$f":"C247*Dźwignie!$G$5","v":480650.41971821582},240325.20985910797,{"$f":"Dźwignie!$G$6","v":50000},190325.20985910797,{"$f":"I247-Dźwignie!$D$6","v":170325.20985910797},{"$f":"IF(J247>0,J247*(1-Dźwignie!$D$9),J247)","v":137963.41998587747},{"$f":"K247/Dźwignie!$D$5","v":13.796341998587746},{"$f":"I247/Dźwignie!$D$2","v":0.95162604929553984},{"$f":"K247/Dźwignie!$D$3","v":1.3796341998587747},1.2627082352201975,1.1174224298126147,1.4109785043441518,null,{"$f":"C247*Dźwignie!$G$8","v":240325.20985910791},480650.41971821588,{"$f":"Dźwignie!$G$9","v":150000},330650.41971821588,{"$f":"V247-Dźwignie!$D$6","v":310650.41971821588},{"$f":"IF(W247>0,W247*(1-Dźwignie!$D$9),W247)","v":251626.83997175487},{"$f":"X247/Dźwignie!$D$5","v":25.162683997175488},{"$f":"V247/Dźwignie!$D$2","v":1.6532520985910795},{"$f":"X247/Dźwignie!$D$3","v":2.5162683997175486},1.4536513219243203,1.0643810493420274,1.5472389194072333]
[236,0.9295201301574707,{"$f":"NORMINV(B248,Dźwignie!$L$8,Dźwignie!$L$9)","v":423611.32202066452},{"$f":"Dźwignie!$L$7*C248","v":635416.98303099675},null,{"$f":"C248*Dźwignie!$G$5","v":423611.32202066452},211805.66101033223,{"$f":"Dźwignie!$G$6","v":50000},161805.66101033223,{"$f":"I248-Dźwignie!$D$6","v":141805.66101033223},{"$f":"IF(J248>0,J248*(1-Dźwignie!$D$9),J248)","v":114862.58541836911},{"$f":"K248/Dźwignie!$D$5","v":11.486258541836911},{"$f":"I248/Dźwignie!$D$2","v":0.80902830505166112},{"$f":"K248/Dźwignie!$D$3","v":1.1486258541836911},1.3090126741412786,1.1410380929612025,1.4936333253642087,null,{"$f":"C248*Dźwignie!$G$8","v":211805.66101033226},423611.32202066446,{"$f":"Dźwignie!$G$9","v":150000},273611.32202066446,{"$f":"V248-Dźwignie!$D$6","v":253611.32202066446},{"$f":"IF(W248>0,W248*(1-Dźwignie!$D$9),W248)","v":205425.17083673822},{"$f":"X248/Dźwignie!$D$5","v":20.542517083673822},{"$f":"V248/Dźwignie!$D$2","v":1.3680566101033222},{"$f":"X248/Dźwignie!$D$3","v":2.0542517083673824},1.5482229276633197,1.0788608325553004,1.6703170767200537]
[237,0.96825665235519409,{"$f":"NORMINV(B249,Dźwignie!$L$8,Dźwignie!$L$9)","v":442788.37835970108},{"$f":"Dźwignie!$L$7*C249","v":664182.56753955164},null,{"$f":"C249*Dźwignie!$G$5","v":442788.37835970108},221394.18917985057,{"$f":"Dźwignie!$G$6","v":50000},171394.18917985057,{"$f":"I249-Dźwignie!$D$6","v":151394.18917985057},{"$f":"IF(J249>0,J249*(1-Dźwignie!$D$9),J249)","v":122629.29323567897},{"$f":"K249/Dźwignie!$D$5","v":12.262929323567898},{"$f":"I249/Dźwignie!$D$2","v":0.85697094589925282},{"$f":"K249/Dźwignie!$D$3","v":1.2262929323567897},1.2917251759774251,1.132105466585912,1.4623691330506923,null,{"$f":"C249*Dźwignie!$G$8","v":221394.18917985054},442788.37835970114,{"$f":"Dźwignie!$G$9","v":150000},292788.37835970114,{"$f":"V249-Dźwignie!$D$6","v":272788.37835970114},{"$f":"IF(W249>0,W249*(1-Dźwignie!$D$9),W249)","v":220958.58647135794},{"$f":"X249/Dźwignie!$D$5","v":22.095858647135792},{"$f":"V249/Dźwignie!$D$2","v":1.4639418917985056},{"$f":"X249/Dźwignie!$D$3","v":2.2095858647135795},1.5123154164804984,1.0733169063882473,1.6231937043001023]
[238,0.26726925373077393,{"$f":"NORMINV(B250,Dźwignie!$L$8,Dźwignie!$L$9)","v":318945.35552899726},{"$f":"Dźwignie!$L$7*C250","v":478418.03329349589},null,{"$f":"C250*Dźwignie!$G$5","v":318945.35552899726},159472.67776449863,{"$f":"Dźwignie!$G$6","v":50000},109472.67776449863,{"$f":"I250-Dźwignie!$D$6","v":89472.677764498629},{"$f":"IF(J250>0,J250*(1-Dźwignie!$D$9),J250)","v":72472.8689892439},{"$f":"K250/Dźwignie!$D$5","v":7.2472868989243899},{"$f":"I250/Dźwignie!$D$2","v":0.54736338882249314},{"$f":"K250/Dźwignie!$D$3","v":0.72472868989243899},1.4567349682224975,1.2235319261668023,1.7823617415838078,null,{"$f":"C250*Dźwignie!$G$8","v":159472.67776449863},318945.35552899726,{"$f":"Dźwignie!$G$9","v":150000},168945.35552899726,{"$f":"V250-Dźwignie!$D$6","v":148945.35552899726},{"$f":"IF(W250>0,W250*(1-Dźwignie!$D$9),W250)","v":120645.73797848778},{"$f":"X250/Dźwignie!$D$5","v":12.064573797848778},{"$f":"V250/Dźwignie!$D$2","v":0.84472677764498627},{"$f":"X250/Dźwignie!$D$3","v":1.2064573797848779},1.8878610455453122,1.1342774330154008,2.1413581806309074]
[239,0.31206494569778442,{"$f":"NORMINV(B251,Dźwignie!$L$8,Dźwignie!$L$9)","v":325499.7168382802},{"$f":"Dźwignie!$L$7*C251","v":488249.57525742031},null,{"$f":"C251*Dźwignie!$G$5","v":325499.7168382802},162749.8584191401,{"$f":"Dźwignie!$G$6","v":50000},112749.8584191401,{"$f":"I251-Dźwignie!$D$6","v":92749.858419140102},{"$f":"IF(J251>0,J251*(1-Dźwignie!$D$9),J251)","v":75127.38531950349},{"$f":"K251/Dźwignie!$D$5","v":7.5127385319503492},{"$f":"I251/Dźwignie!$D$2","v":0.56374929209570046},{"$f":"K251/Dźwignie!$D$3","v":0.75127385319503492},1.4434595368991803,1.2156337523408312,1.7547181331929089,null,{"$f":"C251*Dźwignie!$G$8","v":162749.8584191401},325499.7168382802,{"$f":"Dźwignie!$G$9","v":150000},175499.7168382802,{"$f":"V251-Dźwignie!$D$6","v":155499.7168382802},{"$f":"IF(W251>0,W251*(1-Dźwignie!$D$9),W251)","v":125954.77063900698},{"$f":"X251/Dźwignie!$D$5","v":12.595477063900699},{"$f":"V251/Dźwignie!$D$2","v":0.87749858419140103},{"$f":"X251/Dźwignie!$D$3","v":1.2595477063900697},1.854702233726236,1.1286175975535699,2.0932495792053443]
[240,0.78967738151550293,{"$f":"NORMINV(B252,Dźwignie!$L$8,Dźwignie!$L$9)","v":390265.11655163474},{"$f":"Dźwignie!$L$7*C252","v":585397.67482745205},null,{"$f":"C252*Dźwignie!$G$5","v":390265.11655163474},195132.55827581731,{"$f":"Dźwignie!$G$6","v":50000},145132.55827581731,{"$f":"I252-Dźwignie!$D$6","v":125132.55827581731},{"$f":"IF(J252>0,J252*(1-Dźwignie!$D$9),J252)","v":101357.37220341203},{"$f":"K252/Dźwignie!$D$5","v":10.135737220341204},{"$f":"I252/Dźwignie!$D$2","v":0.72566279137908651},{"$f":"K252/Dźwignie!$D$3","v":1.0135737220341203},1.3445126344770788,1.159830505150514,1.5594067680267987,null,{"$f":"C252*Dźwignie!$G$8","v":195132.55827581737},390265.11655163468,{"$f":"Dźwignie!$G$9","v":150000},240265.11655163468,{"$f":"V252-Dźwignie!$D$6","v":220265.11655163468},{"$f":"IF(W252>0,W252*(1-Dźwignie!$D$9),W252)","v":178414.74440682412},{"$f":"X252/Dźwignie!$D$5","v":17.841474440682411},{"$f":"V252/Dźwignie!$D$2","v":1.2013255827581735},{"$f":"X252/Dźwignie!$D$3","v":1.7841474440682412},1.6243103541323443,1.0907996704748824,1.7717971990365007]
[241,0.20834153890609741,{"$f":"NORMINV(B253,Dźwignie!$L$8,Dźwignie!$L$9)","v":309390.54018615477},{"$f":"Dźwignie!$L$7*C253","v":464085.81027923216},null,{"$f":"C253*Dźwignie!$G$5","v":309390.54018615477},154695.27009307739,{"$f":"Dźwignie!$G$6","v":50000},104695.27009307739,{"$f":"I253-Dźwignie!$D$6","v":84695.270093077386},{"$f":"IF(J253>0,J253*(1-Dźwignie!$D$9),J253)","v":68603.168775392682},{"$f":"K253/Dźwignie!$D$5","v":6.860316877539268},{"$f":"I253/Dźwignie!$D$2","v":0.52347635046538699},{"$f":"K253/Dźwignie!$D$3","v":0.68603168775392687},1.4775764937188511,1.2361406956730954,1.8264924348558336,null,{"$f":"C253*Dźwignie!$G$8","v":154695.27009307739},309390.54018615477,{"$f":"Dźwignie!$G$9","v":150000},159390.54018615477,{"$f":"V253-Dźwignie!$D$6","v":139390.54018615477},{"$f":"IF(W253>0,W253*(1-Dźwignie!$D$9),W253)","v":112906.33755078538},{"$f":"X253/Dźwignie!$D$5","v":11.290633755078538},{"$f":"V253/Dźwignie!$D$2","v":0.79695270093077386},{"$f":"X253/Dźwignie!$D$3","v":1.1290633755078539},1.9410847081941789,1.1434817597613882,2.2195949579718004]
[242,0.33534467220306396,{"$f":"NORMINV(B254,Dźwignie!$L$8,Dźwignie!$L$9)","v":328739.89437932381},{"$f":"Dźwignie!$L$7*C254","v":493109.84156898572},null,{"$f":"C254*Dźwignie!$G$5","v":328739.89437932381},164369.94718966191,{"$f":"Dźwignie!$G$6","v":50000},114369.94718966191,{"$f":"I254-Dźwignie!$D$6","v":94369.947189661907},{"$f":"IF(J254>0,J254*(1-Dźwignie!$D$9),J254)","v":76439.657223626156},{"$f":"K254/Dźwignie!$D$5","v":7.6439657223626156},{"$f":"I254/Dźwignie!$D$2","v":0.57184973594830957},{"$f":"K254/Dźwignie!$D$3","v":0.76439657223626156},1.4371777834004245,1.2119318765730005,1.7417615680055016,null,{"$f":"C254*Dźwignie!$G$8","v":164369.94718966191},328739.89437932381,{"$f":"Dźwignie!$G$9","v":150000},178739.89437932381,{"$f":"V254-Dźwignie!$D$6","v":158739.89437932381},{"$f":"IF(W254>0,W254*(1-Dźwignie!$D$9),W254)","v":128579.3144472523},{"$f":"X254/Dźwignie!$D$5","v":12.85793144472523},{"$f":"V254/Dźwignie!$D$2","v":0.89369947189661902},{"$f":"X254/Dźwignie!$D$3","v":1.285793144472523},1.8392082837515185,1.125992272315667,2.0709343146831705]
[243,0.99284845590591431,{"$f":"NORMINV(B255,Dźwignie!$L$8,Dźwignie!$L$9)","v":472477.9994540296},{"$f":"Dźwignie!$L$7*C255","v":708716.9991810444},null,{"$f":"C255*Dźwignie!$G$5","v":472477.9994540296},236238.9997270148,{"$f":"Dźwignie!$G$6","v":50000},186238.9997270148,{"$f":"I255-Dźwignie!$D$6","v":166238.9997270148},{"$f":"IF(J255>0,J255*(1-Dźwignie!$D$9),J255)","v":134653.58977888199},{"$f":"K255/Dźwignie!$D$5","v":13.465358977888199},{"$f":"I255/Dźwignie!$D$2","v":0.93119499863507404},{"$f":"K255/Dźwignie!$D$3","v":1.3465358977888198},1.2684722323105737,1.1203087123529527,1.4210804932353343,null,{"$f":"C255*Dźwignie!$G$8","v":236238.9997270148},472477.9994540296,{"$f":"Dźwignie!$G$9","v":150000},322477.9994540296,{"$f":"V255-Dźwignie!$D$6","v":302477.9994540296},{"$f":"IF(W255>0,W255*(1-Dźwignie!$D$9),W255)","v":245007.179557764},{"$f":"X255/Dźwignie!$D$5","v":24.500717955776398},{"$f":"V255/Dźwignie!$D$2","v":1.6123899972701481},{"$f":"X255/Dźwignie!$D$3","v":2.4500717955776401},1.4651480108843302,1.06612051136314,1.5620243465866896]
[244,0.34229755401611328,{"$f":"NORMINV(B256,Dźwignie!$L$8,Dźwignie!$L$9)","v":329689.96283847163},{"$f":"Dźwignie!$L$7*C256","v":494534.94425770745},null,{"$f":"C256*Dźwignie!$G$5","v":329689.96283847163},164844.98141923582,{"$f":"Dźwignie!$G$6","v":50000},114844.98141923582,{"$f":"I256-Dźwignie!$D$6","v":94844.981419235817},{"$f":"IF(J256>0,J256*(1-Dźwignie!$D$9),J256)","v":76824.434949581017},{"$f":"K256/Dźwignie!$D$5","v":7.6824434949581013},{"$f":"I256/Dźwignie!$D$2","v":0.57422490709617913},{"$f":"K256/Dźwignie!$D$3","v":0.76824434949581022},1.4353694813835836,1.2108704087525262,1.7380464306338412,null,{"$f":"C256*Dźwignie!$G$8","v":164844.98141923582},329689.96283847163,{"$f":"Dźwignie!$G$9","v":150000},179689.96283847163,{"$f":"V256-Dźwignie!$D$6","v":159689.96283847163},{"$f":"IF(W256>0,W256*(1-Dźwignie!$D$9),W256)","v":129348.86989916203},{"$f":"X256/Dźwignie!$D$5","v":12.934886989916203},{"$f":"V256/Dźwignie!$D$2","v":0.89844981419235814},{"$f":"X256/Dźwignie!$D$3","v":1.2934886989916203},1.8347711671287907,1.1252426867944747,2.0645628377530345]
[245,1.5568912029266357E-2,{"$f":"NORMINV(B257,Dźwignie!$L$8,Dźwignie!$L$9)","v":242234.65362378198},{"$f":"Dźwignie!$L$7*C257","v":363351.98043567297},null,{"$f":"C257*Dźwignie!$G$5","v":242234.65362378198},121117.32681189099,{"$f":"Dźwignie!$G$6","v":50000},71117.326811890991,{"$f":"I257-Dźwignie!$D$6","v":51117.326811890991},{"$f":"IF(J257>0,J257*(1-Dźwignie!$D$9),J257)","v":41405.034717631708},{"$f":"K257/Dźwignie!$D$5","v":4.1405034717631706},{"$f":"I257/Dźwignie!$D$2","v":0.35558663405945495},{"$f":"K257/Dźwignie!$D$3","v":0.41405034717631706},1.7030635464160877,1.3912567664893534,2.3693986827127369,null,{"$f":"C257*Dźwignie!$G$8","v":121117.32681189099},242234.65362378198,{"$f":"Dźwignie!$G$9","v":150000},92234.653623781982,{"$f":"V257-Dźwignie!$D$6","v":72234.653623781982},{"$f":"IF(W257>0,W257*(1-Dźwignie!$D$9),W257)","v":58510.069435263409},{"$f":"X257/Dźwignie!$D$5","v":5.8510069435263405},{"$f":"V257/Dźwignie!$D$2","v":0.46117326811890991},{"$f":"X257/Dźwignie!$D$3","v":0.58510069435263412},2.6262868033509226,1.2768754191605254,3.3534410628644657]
[246,0.76839888095855713,{"$f":"NORMINV(B258,Dźwignie!$L$8,Dźwignie!$L$9)","v":386679.20633653371},{"$f":"Dźwignie!$L$7*C258","v":580018.80950480059},null,{"$f":"C258*Dźwignie!$G$5","v":386679.20633653371},193339.60316826688,{"$f":"Dźwignie!$G$6","v":50000},143339.60316826688,{"$f":"I258-Dźwignie!$D$6","v":123339.60316826688},{"$f":"IF(J258>0,J258*(1-Dźwignie!$D$9),J258)","v":99905.078566296186},{"$f":"K258/Dźwignie!$D$5","v":9.9905078566296179},{"$f":"I258/Dźwignie!$D$2","v":0.71669801584133441},{"$f":"K258/Dźwignie!$D$3","v":0.9990507856629619},1.3488219507717265,1.1621539188245551,1.5675387158859431,null,{"$f":"C258*Dźwignie!$G$8","v":193339.60316826685},386679.20633653377,{"$f":"Dźwignie!$G$9","v":150000},236679.20633653377,{"$f":"V258-Dźwignie!$D$6","v":216679.20633653377},{"$f":"IF(W258>0,W258*(1-Dźwignie!$D$9),W258)","v":175510.15713259237},{"$f":"X258/Dźwignie!$D$5","v":17.551015713259236},{"$f":"V258/Dźwignie!$D$2","v":1.1833960316826688},{"$f":"X258/Dźwignie!$D$3","v":1.7551015713259237},1.6337692369422401,1.0923023502723059,1.7845699773146007]
[247,0.37947684526443481,{"$f":"NORMINV(B259,Dźwignie!$L$8,Dźwignie!$L$9)","v":334657.24659160496},{"$f":"Dźwignie!$L$7*C259","v":501985.8698874074},null,{"$f":"C259*Dźwignie!$G$5","v":334657.24659160496},167328.62329580245,{"$f":"Dźwignie!$G$6","v":50000},117328.62329580245,{"$f":"I259-Dźwignie!$D$6","v":97328.623295802448},{"$f":"IF(J259>0,J259*(1-Dźwignie!$D$9),J259)","v":78836.184869599994},{"$f":"K259/Dźwignie!$D$5","v":7.8836184869599997},{"$f":"I259/Dźwignie!$D$2","v":0.58664311647901224},{"$f":"K259/Dźwignie!$D$3","v":0.7883618486959999},1.4261534704446566,1.2054893958503423,1.7192128854761981,null,{"$f":"C259*Dźwignie!$G$8","v":167328.62329580248},334657.2465916049,{"$f":"Dźwignie!$G$9","v":150000},184657.2465916049,{"$f":"V259-Dźwignie!$D$6","v":164657.2465916049},{"$f":"IF(W259>0,W259*(1-Dźwignie!$D$9),W259)","v":133372.36973919999},{"$f":"X259/Dźwignie!$D$5","v":13.33723697392},{"$f":"V259/Dźwignie!$D$2","v":0.92328623295802448},{"$f":"X259/Dźwignie!$D$3","v":1.3337236973919999},1.8123158054649531,1.1214644384866066,2.0324477271361556]
[248,0.37503933906555176,{"$f":"NORMINV(B260,Dźwignie!$L$8,Dźwignie!$L$9)","v":334073.21889421227},{"$f":"Dźwignie!$L$7*C260","v":501109.82834131841},null,{"$f":"C260*Dźwignie!$G$5","v":334073.21889421227},167036.60944710614,{"$f":"Dźwignie!$G$6","v":50000},117036.60944710614,{"$f":"I260-Dźwignie!$D$6","v":97036.609447106137},{"$f":"IF(J260>0,J260*(1-Dźwignie!$D$9),J260)","v":78599.653652155976},{"$f":"K260/Dźwignie!$D$5","v":7.8599653652155972},{"$f":"I260/Dźwignie!$D$2","v":0.58518304723553072},{"$f":"K260/Dźwignie!$D$3","v":0.78599653652155976},1.4272167506919888,1.2061077784349199,1.7213772245222196,null,{"$f":"C260*Dźwignie!$G$8","v":167036.60944710614},334073.21889421227,{"$f":"Dźwignie!$G$9","v":150000},184073.21889421227,{"$f":"V260-Dźwignie!$D$6","v":164073.21889421227},{"$f":"IF(W260>0,W260*(1-Dźwignie!$D$9),W260)","v":132899.30730431195},{"$f":"X260/Dźwignie!$D$5","v":13.289930730431195},{"$f":"V260/Dźwignie!$D$2","v":0.92036609447106132},{"$f":"X260/Dźwignie!$D$3","v":1.3289930730431194},1.8148931218843176,1.121896797873486,2.0361227819246301]
[249,0.58946269750595093,{"$f":"NORMINV(B261,Dźwignie!$L$8,Dźwignie!$L$9)","v":361308.15268662444},{"$f":"Dźwignie!$L$7*C261","v":541962.22902993672},null,{"$f":"C261*Dźwignie!$G$5","v":361308.15268662444},180654.07634331228,{"$f":"Dźwignie!$G$6","v":50000},130654.07634331228,{"$f":"I261-Dźwignie!$D$6","v":110654.07634331228},{"$f":"IF(J261>0,J261*(1-Dźwignie!$D$9),J261)","v":89629.801838082945},{"$f":"K261/Dźwignie!$D$5","v":8.9629801838082948},{"$f":"I261/Dźwignie!$D$2","v":0.65327038171656138},{"$f":"K261/Dźwignie!$D$3","v":0.89629801838082945},1.3826899351277633,1.1807434543843514,1.6326020903452299,null,{"$f":"C261*Dźwignie!$G$8","v":180654.07634331222},361308.1526866245,{"$f":"Dźwignie!$G$9","v":150000},211308.1526866245,{"$f":"V261-Dźwignie!$D$6","v":191308.1526866245},{"$f":"IF(W261>0,W261*(1-Dźwignie!$D$9),W261)","v":154959.60367616586},{"$f":"X261/Dźwignie!$D$5","v":15.495960367616586},{"$f":"V261/Dźwignie!$D$2","v":1.0565407634331225},{"$f":"X261/Dźwignie!$D$3","v":1.5495960367616586},1.7098637610185061,1.1045433752776932,1.8886186898603918]
[250,0.28036010265350342,{"$f":"NORMINV(B262,Dźwignie!$L$8,Dźwignie!$L$9)","v":320911.39545377425},{"$f":"Dźwignie!$L$7*C262","v":481367.09318066138},null,{"$f":"C262*Dźwignie!$G$5","v":320911.39545377425},160455.69772688713,{"$f":"Dźwignie!$G$6","v":50000},110455.69772688713,{"$f":"I262-Dźwignie!$D$6","v":90455.697726887127},{"$f":"IF(J262>0,J262*(1-Dźwignie!$D$9),J262)","v":73269.115158778572},{"$f":"K262/Dźwignie!$D$5","v":7.3269115158778568},{"$f":"I262/Dźwignie!$D$2","v":0.55227848863443563},{"$f":"K262/Dźwignie!$D$3","v":0.73269115158778575},1.4526701748209498,1.2211027110794723,1.7738594887781529,null,{"$f":"C262*Dźwignie!$G$8","v":160455.69772688713},320911.39545377425,{"$f":"Dźwignie!$G$9","v":150000},170911.39545377425,{"$f":"V262-Dźwignie!$D$6","v":150911.39545377425},{"$f":"IF(W262>0,W262*(1-Dźwignie!$D$9),W262)","v":122238.23031755716},{"$f":"X262/Dźwignie!$D$5","v":12.223823031755716},{"$f":"V262/Dźwignie!$D$2","v":0.85455697726887125},{"$f":"X262/Dźwignie!$D$3","v":1.2223823031755716},1.8776477402325693,1.1325280966348641,2.1264888213963453]
[251,0.39266544580459595,{"$f":"NORMINV(B263,Dźwignie!$L$8,Dźwignie!$L$9)","v":336381.0677896344},{"$f":"Dźwignie!$L$7*C263","v":504571.60168445157},null,{"$f":"C263*Dźwignie!$G$5","v":336381.0677896344},168190.53389481717,{"$f":"Dźwignie!$G$6","v":50000},118190.53389481717,{"$f":"I263-Dźwignie!$D$6","v":98190.53389481717},{"$f":"IF(J263>0,J263*(1-Dźwignie!$D$9),J263)","v":79534.332454801915},{"$f":"K263/Dźwignie!$D$5","v":7.9534332454801913},{"$f":"I263/Dźwignie!$D$2","v":0.59095266947408587},{"$f":"K263/Dźwignie!$D$3","v":0.79534332454801915},1.4230457241567007,1.2036856222965875,1.7128996780380563,null,{"$f":"C263*Dźwignie!$G$8","v":168190.5338948172},336381.06778963434,{"$f":"Dźwignie!$G$9","v":150000},186381.06778963434,{"$f":"V263-Dźwignie!$D$6","v":166381.06778963434},{"$f":"IF(W263>0,W263*(1-Dźwignie!$D$9),W263)","v":134768.66490960383},{"$f":"X263/Dźwignie!$D$5","v":13.476866490960383},{"$f":"V263/Dźwignie!$D$2","v":0.93190533894817174},{"$f":"X263/Dźwignie!$D$3","v":1.3476866490960384},1.8048027719709325,1.1202059841645398,2.0217508653985878]
[252,0.93825674057006836,{"$f":"NORMINV(B264,Dźwignie!$L$8,Dźwignie!$L$9)","v":427015.14877002186},{"$f":"Dźwignie!$L$7*C264","v":640522.72315503284},null,{"$f":"C264*Dźwignie!$G$5","v":427015.14877002186},213507.57438501099,{"$f":"Dźwignie!$G$6","v":50000},163507.57438501099,{"$f":"I264-Dźwignie!$D$6","v":143507.57438501099},{"$f":"IF(J264>0,J264*(1-Dźwignie!$D$9),J264)","v":116241.13525185891},{"$f":"K264/Dźwignie!$D$5","v":11.624113525185891},{"$f":"I264/Dźwignie!$D$2","v":0.81753787192505489},{"$f":"K264/Dźwignie!$D$3","v":1.1624113525185891},1.3057962310801889,1.1393654661484471,1.4877791315195648,null,{"$f":"C264*Dźwignie!$G$8","v":213507.57438501093},427015.14877002191,{"$f":"Dźwignie!$G$9","v":150000},277015.14877002191,{"$f":"V264-Dźwignie!$D$6","v":257015.14877002191},{"$f":"IF(W264>0,W264*(1-Dźwignie!$D$9),W264)","v":208182.27050371777},{"$f":"X264/Dźwignie!$D$5","v":20.818227050371778},{"$f":"V264/Dźwignie!$D$2","v":1.3850757438501096},{"$f":"X264/Dźwignie!$D$3","v":2.0818227050371778},1.5414866322871392,1.0778164248127493,1.6614396109083696]
[253,0.34146088361740112,{"$f":"NORMINV(B265,Dźwignie!$L$8,Dźwignie!$L$9)","v":329576.03108598775},{"$f":"Dźwignie!$L$7*C265","v":494364.0466289816},null,{"$f":"C265*Dźwignie!$G$5","v":329576.03108598775},164788.01554299385,{"$f":"Dźwignie!$G$6","v":50000},114788.01554299385,{"$f":"I265-Dźwignie!$D$6","v":94788.015542993846},{"$f":"IF(J265>0,J265*(1-Dźwignie!$D$9),J265)","v":76778.292589825025},{"$f":"K265/Dźwignie!$D$5","v":7.6778292589825021},{"$f":"I265/Dźwignie!$D$2","v":0.57394007771496924},{"$f":"K265/Dźwignie!$D$3","v":0.76778292589825026},1.4355855423014305,1.2109971380393381,1.7384899831376834,null,{"$f":"C265*Dźwignie!$G$8","v":164788.01554299387},329576.03108598769,{"$f":"Dźwignie!$G$9","v":150000},179576.03108598769,{"$f":"V265-Dźwignie!$D$6","v":159576.03108598769},{"$f":"IF(W265>0,W265*(1-Dźwignie!$D$9),W265)","v":129256.58517965004},{"$f":"X265/Dźwignie!$D$5","v":12.925658517965003},{"$f":"V265/Dźwignie!$D$2","v":0.89788015542993849},{"$f":"X265/Dźwignie!$D$3","v":1.2925658517965004},1.8353007864851096,1.1253321057297319,2.0653228987027212]
[254,0.94941437244415283,{"$f":"NORMINV(B266,Dźwignie!$L$8,Dźwignie!$L$9)","v":431960.08615406725},{"$f":"Dźwignie!$L$7*C266","v":647940.1292311009},null,{"$f":"C266*Dźwignie!$G$5","v":431960.08615406725},215980.04307703365,{"$f":"Dźwignie!$G$6","v":50000},165980.04307703365,{"$f":"I266-Dźwignie!$D$6","v":145980.04307703365},{"$f":"IF(J266>0,J266*(1-Dźwignie!$D$9),J266)","v":118243.83489239727},{"$f":"K266/Dźwignie!$D$5","v":11.824383489239727},{"$f":"I266/Dźwignie!$D$2","v":0.82990021538516823},{"$f":"K266/Dźwignie!$D$3","v":1.1824383489239727},1.3012410352056258,1.1370050287589379,1.4795176006562827,null,{"$f":"C266*Dźwignie!$G$8","v":215980.04307703362},431960.08615406731,{"$f":"Dźwignie!$G$9","v":150000},281960.08615406731,{"$f":"V266-Dźwignie!$D$6","v":261960.08615406731},{"$f":"IF(W266>0,W266*(1-Dźwignie!$D$9),W266)","v":212187.66978479453},{"$f":"X266/Dźwignie!$D$5","v":21.218766978479454},{"$f":"V266/Dźwignie!$D$2","v":1.4098004307703365},{"$f":"X266/Dźwignie!$D$3","v":2.1218766978479455},1.531990190689748,1.0763475088652907,1.648953825354972]
[255,0.86035615205764771,{"$f":"NORMINV(B267,Dźwignie!$L$8,Dźwignie!$L$9)","v":404096.04289343872},{"$f":"Dźwignie!$L$7*C267","v":606144.06434015813},null,{"$f":"C267*Dźwignie!$G$5","v":404096.04289343872},202048.02144671942,{"$f":"Dźwignie!$G$6","v":50000},152048.02144671942,{"$f":"I267-Dźwignie!$D$6","v":132048.02144671942},{"$f":"IF(J267>0,J267*(1-Dźwignie!$D$9),J267)","v":106958.89737184273},{"$f":"K267/Dźwignie!$D$5","v":10.695889737184274},{"$f":"I267/Dźwignie!$D$2","v":0.76024010723359703},{"$f":"K267/Dźwignie!$D$3","v":1.0695889737184272},1.3288434767138417,1.1514600505246486,1.5301101768362699,null,{"$f":"C267*Dźwignie!$G$8","v":202048.02144671936},404096.04289343877,{"$f":"Dźwignie!$G$9","v":150000},254096.04289343877,{"$f":"V267-Dźwignie!$D$6","v":234096.04289343877},{"$f":"IF(W267>0,W267*(1-Dźwignie!$D$9),W267)","v":189617.79474368543},{"$f":"X267/Dźwignie!$D$5","v":18.961779474368544},{"$f":"V267/Dźwignie!$D$2","v":1.2704802144671938},{"$f":"X267/Dźwignie!$D$3","v":1.8961779474368543},1.5903279653312274,1.0854350195449654,1.7261976661322058]
[256,0.36062407493591309,{"$f":"NORMINV(B268,Dźwignie!$L$8,Dźwignie!$L$9)","v":332160.44168421318},{"$f":"Dźwignie!$L$7*C268","v":498240.66252631973},null,{"$f":"C268*Dźwignie!$G$5","v":332160.44168421318},166080.22084210656,{"$f":"Dźwignie!$G$6","v":50000},116080.22084210656,{"$f":"I268-Dźwignie!$D$6","v":96080.220842106559},{"$f":"IF(J268>0,J268*(1-Dźwignie!$D$9),J268)","v":77824.978882106312},{"$f":"K268/Dźwignie!$D$5","v":7.7824978882106315},{"$f":"I268/Dźwignie!$D$2","v":0.58040110421053281},{"$f":"K268/Dźwignie!$D$3","v":0.7782497888210631},1.4307366029912234,1.2081593883185073,1.7285578591147754,null,{"$f":"C268*Dźwignie!$G$8","v":166080.22084210659},332160.44168421312,{"$f":"Dźwignie!$G$9","v":150000},182160.44168421312,{"$f":"V268-Dźwignie!$D$6","v":162160.44168421312},{"$f":"IF(W268>0,W268*(1-Dźwignie!$D$9),W268)","v":131349.95776421262},{"$f":"X268/Dźwignie!$D$5","v":13.134995776421263},{"$f":"V268/Dźwignie!$D$2","v":0.91080220842106563},{"$f":"X268/Dźwignie!$D$3","v":1.3134995776421263},1.8234499137855336,1.1233346418662786,2.048344455863369]
[257,0.84804052114486694,{"$f":"NORMINV(B269,Dźwignie!$L$8,Dźwignie!$L$9)","v":401403.28139622352},{"$f":"Dźwignie!$L$7*C269","v":602104.92209433531},null,{"$f":"C269*Dźwignie!$G$5","v":401403.28139622352},{"$f":"$D269-F269","v":200701.64069811179},{"$f":"Dźwignie!$G$6","v":50000},{"$f":"G269-H269","v":150701.64069811179},{"$f":"I269-Dźwignie!$D$6","v":130701.64069811179},{"$f":"IF(J269>0,J269*(1-Dźwignie!$D$9),J269)","v":105868.32896547056},{"$f":"K269/Dźwignie!$D$5","v":10.586832896547056},{"$f":"I269/Dźwignie!$D$2","v":0.75350820349055891},{"$f":"K269/Dźwignie!$D$3","v":1.0586832896547056},{"$f":"IF(I269<>0,G269/I269,\"N   \")","v":1.3317813911539351},{"$f":"IF(J269<>0,I269/J269,\"N   \")","v":1.1530202673292755},{"$f":"IF(ISTEXT(O269),O269,IF(ISTEXT(P269),P269,O269*P269))","v":1.5355709356524647},null,{"$f":"C269*Dźwignie!$G$8","v":200701.64069811176},{"$f":"$D269-S269","v":401403.28139622358},{"$f":"Dźwignie!$G$9","v":150000},{"$f":"T269-U269","v":251403.28139622358},{"$f":"V269-Dźwignie!$D$6","v":231403.28139622358},{"$f":"IF(W269>0,W269*(1-Dźwignie!$D$9),W269)","v":187436.65793094112},{"$f":"X269/Dźwignie!$D$5","v":18.743665793094113},{"$f":"V269/Dźwignie!$D$2","v":1.2570164069811178},{"$f":"X269/Dźwignie!$D$3","v":1.8743665793094111},{"$f":"IF(V269<>0,T269/V269,\"N   \")","v":1.5966509234364084},{"$f":"IF(W269<>0,V269/W269,\"N   \")","v":1.0864291978891809},{"$f":"IF(ISTEXT(AB269),AB269,IF(ISTEXT(AC269),AC269,AB269*AC269))","v":1.7346481820580371}]
[258,0.35863053798675537,{"$f":"NORMINV(B270,Dźwignie!$L$8,Dźwignie!$L$9)","v":331893.91417596565},{"$f":"Dźwignie!$L$7*C270","v":497840.8712639485},null,{"$f":"C270*Dźwignie!$G$5","v":331893.91417596565},165946.95708798285,{"$f":"Dźwignie!$G$6","v":50000},115946.95708798285,{"$f":"I270-Dźwignie!$D$6","v":95946.957087982853},{"$f":"IF(J270>0,J270*(1-Dźwignie!$D$9),J270)","v":77717.035241266116},{"$f":"K270/Dźwignie!$D$5","v":7.7717035241266119},{"$f":"I270/Dźwignie!$D$2","v":0.5797347854399143},{"$f":"K270/Dźwignie!$D$3","v":0.77717035241266119},1.43123167054793,1.2084485074566784,1.7295697760983746,null,{"$f":"C270*Dźwignie!$G$8","v":165946.95708798282},331893.91417596571,{"$f":"Dźwignie!$G$9","v":150000},181893.91417596571,{"$f":"V270-Dźwignie!$D$6","v":161893.91417596571},{"$f":"IF(W270>0,W270*(1-Dźwignie!$D$9),W270)","v":131134.07048253223},{"$f":"X270/Dźwignie!$D$5","v":13.113407048253222},{"$f":"V270/Dźwignie!$D$2","v":0.90946957087982849},{"$f":"X270/Dźwignie!$D$3","v":1.3113407048253223},1.8246565075007883,1.1235376888736015,2.0500703554256132]
[259,9.5842421054840088E-2,{"$f":"NORMINV(B271,Dźwignie!$L$8,Dźwignie!$L$9)","v":284719.44477386161},{"$f":"Dźwignie!$L$7*C271","v":427079.16716079239},null,{"$f":"C271*Dźwignie!$G$5","v":284719.44477386161},142359.72238693078,{"$f":"Dźwignie!$G$6","v":50000},92359.722386930778,{"$f":"I271-Dźwignie!$D$6","v":72359.722386930778},{"$f":"IF(J271>0,J271*(1-Dźwignie!$D$9),J271)","v":58611.375133413931},{"$f":"K271/Dźwignie!$D$5","v":5.8611375133413928},{"$f":"I271/Dźwignie!$D$2","v":0.46179861193465388},{"$f":"K271/Dźwignie!$D$3","v":0.58611375133413934},1.5413615232680169,1.2763968591954173,1.967389007183961,null,{"$f":"C271*Dźwignie!$G$8","v":142359.72238693081},284719.44477386156,{"$f":"Dźwignie!$G$9","v":150000},134719.44477386156,{"$f":"V271-Dźwignie!$D$6","v":114719.44477386156},{"$f":"IF(W271>0,W271*(1-Dźwignie!$D$9),W271)","v":92922.750266827861},{"$f":"X271/Dźwignie!$D$5","v":9.2922750266827858},{"$f":"V271/Dźwignie!$D$2","v":0.67359722386930776},{"$f":"X271/Dźwignie!$D$3","v":0.92922750266827858},2.1134250163500021,1.1743383612030602,2.4818760702260123]
[260,0.51476097106933594,{"$f":"NORMINV(B272,Dźwignie!$L$8,Dźwignie!$L$9)","v":351850.43569203722},{"$f":"Dźwignie!$L$7*C272","v":527775.65353805583},null,{"$f":"C272*Dźwignie!$G$5","v":351850.43569203722},175925.21784601861,{"$f":"Dźwignie!$G$6","v":50000},125925.21784601861,{"$f":"I272-Dźwignie!$D$6","v":105925.21784601861},{"$f":"IF(J272>0,J272*(1-Dźwignie!$D$9),J272)","v":85799.426455275083},{"$f":"K272/Dźwignie!$D$5","v":8.5799426455275078},{"$f":"I272/Dźwignie!$D$2","v":0.62962608923009311},{"$f":"K272/Dźwignie!$D$3","v":0.85799426455275085},1.3970610561987673,1.1888124509602009,1.6608435783607036,null,{"$f":"C272*Dźwignie!$G$8","v":175925.21784601861},351850.43569203722,{"$f":"Dźwignie!$G$9","v":150000},201850.43569203722,{"$f":"V272-Dźwignie!$D$6","v":181850.43569203722},{"$f":"IF(W272>0,W272*(1-Dźwignie!$D$9),W272)","v":147298.85291055017},{"$f":"X272/Dźwignie!$D$5","v":14.729885291055016},{"$f":"V272/Dźwignie!$D$2","v":1.0092521784601862},{"$f":"X272/Dźwignie!$D$3","v":1.4729885291055016},1.7431244796957222,1.1099804898673429,1.9348341638724149]
[261,5.3842723369598389E-2,{"$f":"NORMINV(B273,Dźwignie!$L$8,Dźwignie!$L$9)","v":269565.79785442929},{"$f":"Dźwignie!$L$7*C273","v":404348.6967816439},null,{"$f":"C273*Dźwignie!$G$5","v":269565.79785442929},134782.89892721461,{"$f":"Dźwignie!$G$6","v":50000},84782.898927214614,{"$f":"I273-Dźwignie!$D$6","v":64782.898927214614},{"$f":"IF(J273>0,J273*(1-Dźwignie!$D$9),J273)","v":52474.148131043839},{"$f":"K273/Dźwignie!$D$5","v":5.2474148131043838},{"$f":"I273/Dźwignie!$D$2","v":0.42391449463607306},{"$f":"K273/Dźwignie!$D$3","v":0.52474148131043841},1.5897415709142544,1.3087234491076196,2.0805320718766684,null,{"$f":"C273*Dźwignie!$G$8","v":134782.89892721464},269565.79785442923,{"$f":"Dźwignie!$G$9","v":150000},119565.79785442923,{"$f":"V273-Dźwignie!$D$6","v":99565.797854429227},{"$f":"IF(W273>0,W273*(1-Dźwignie!$D$9),W273)","v":80648.296262087679},{"$f":"X273/Dźwignie!$D$5","v":8.064829626208768},{"$f":"V273/Dźwignie!$D$2","v":0.59782898927214612},{"$f":"X273/Dźwignie!$D$3","v":0.80648296262087682},2.2545393640297058,1.2008721913647609,2.7074136266004669]
[262,0.98658525943756104,{"$f":"NORMINV(B274,Dźwignie!$L$8,Dźwignie!$L$9)","v":460699.48962240003},{"$f":"Dźwignie!$L$7*C274","v":691049.23443359998},null,{"$f":"C274*Dźwignie!$G$5","v":460699.48962240003},230349.74481119995,{"$f":"Dźwignie!$G$6","v":50000},180349.74481119995,{"$f":"I274-Dźwignie!$D$6","v":160349.74481119995},{"$f":"IF(J274>0,J274*(1-Dźwignie!$D$9),J274)","v":129883.29329707197},{"$f":"K274/Dźwignie!$D$5","v":12.988329329707197},{"$f":"I274/Dźwignie!$D$2","v":0.90174872405599982},{"$f":"K274/Dźwignie!$D$3","v":1.2988329329707198},1.2772390948062764,1.1247273578361383,1.4365457524264842,null,{"$f":"C274*Dźwignie!$G$8","v":230349.74481120001},460699.48962239997,{"$f":"Dźwignie!$G$9","v":150000},310699.48962239997,{"$f":"V274-Dźwignie!$D$6","v":290699.48962239997},{"$f":"IF(W274>0,W274*(1-Dźwignie!$D$9),W274)","v":235466.586594144},{"$f":"X274/Dźwignie!$D$5","v":23.546658659414401},{"$f":"V274/Dźwignie!$D$2","v":1.5534974481119999},{"$f":"X274/Dźwignie!$D$3","v":2.3546658659414401},1.4827816105597673,1.0687995703947699,1.5847963483555443]
[263,0.7258942723274231,{"$f":"NORMINV(B275,Dźwignie!$L$8,Dźwignie!$L$9)","v":380022.118661455},{"$f":"Dźwignie!$L$7*C275","v":570033.17799218255},null,{"$f":"C275*Dźwignie!$G$5","v":380022.118661455},190011.05933072756,{"$f":"Dźwignie!$G$6","v":50000},140011.05933072756,{"$f":"I275-Dźwignie!$D$6","v":120011.05933072756},{"$f":"IF(J275>0,J275*(1-Dźwignie!$D$9),J275)","v":97208.958057889322},{"$f":"K275/Dźwignie!$D$5","v":9.720895805788933},{"$f":"I275/Dźwignie!$D$2","v":0.70005529665363775},{"$f":"K275/Dźwignie!$D$3","v":0.97208958057889316},1.3571146467929533,1.1666513079005811,1.5832795776520343,null,{"$f":"C275*Dźwignie!$G$8","v":190011.0593307275},380022.11866145505,{"$f":"Dźwignie!$G$9","v":150000},230022.11866145505,{"$f":"V275-Dźwignie!$D$6","v":210022.11866145505},{"$f":"IF(W275>0,W275*(1-Dźwignie!$D$9),W275)","v":170117.91611577861},{"$f":"X275/Dźwignie!$D$5","v":17.011791611577863},{"$f":"V275/Dźwignie!$D$2","v":1.1501105933072753},{"$f":"X275/Dźwignie!$D$3","v":1.7011791611577862},1.6521112007526935,1.0952280651555515,1.8094385538221873]
[264,0.33285737037658691,{"$f":"NORMINV(B276,Dźwignie!$L$8,Dźwignie!$L$9)","v":328398.16506540147},{"$f":"Dźwignie!$L$7*C276","v":492597.2475981022},null,{"$f":"C276*Dźwignie!$G$5","v":328398.16506540147},164199.08253270073,{"$f":"Dźwignie!$G$6","v":50000},114199.08253270073,{"$f":"I276-Dźwignie!$D$6","v":94199.082532700733},{"$f":"IF(J276>0,J276*(1-Dźwignie!$D$9),J276)","v":76301.256851487604},{"$f":"K276/Dźwignie!$D$5","v":7.6301256851487604},{"$f":"I276/Dźwignie!$D$2","v":0.57099541266350362},{"$f":"K276/Dźwignie!$D$3","v":0.76301256851487609},1.4378318887604249,1.2123162929220368,1.7431070252271288,null,{"$f":"C276*Dźwignie!$G$8","v":164199.08253270073},328398.16506540147,{"$f":"Dźwignie!$G$9","v":150000},178398.16506540147,{"$f":"V276-Dźwignie!$D$6","v":158398.16506540147},{"$f":"IF(W276>0,W276*(1-Dźwignie!$D$9),W276)","v":128302.51370297519},{"$f":"X276/Dźwignie!$D$5","v":12.830251370297519},{"$f":"V276/Dźwignie!$D$2","v":0.89199082532700735},{"$f":"X276/Dźwignie!$D$3","v":1.2830251370297518},1.8408158231056324,1.1262640889289477,2.0732447558960558]
[265,0.72479766607284546,{"$f":"NORMINV(B277,Dźwignie!$L$8,Dźwignie!$L$9)","v":379857.69249973999},{"$f":"Dźwignie!$L$7*C277","v":569786.53874960996},null,{"$f":"C277*Dźwignie!$G$5","v":379857.69249973999},189928.84624986997,{"$f":"Dźwignie!$G$6","v":50000},139928.84624986997,{"$f":"I277-Dźwignie!$D$6","v":119928.84624986997},{"$f":"IF(J277>0,J277*(1-Dźwignie!$D$9),J277)","v":97142.365462394679},{"$f":"K277/Dźwignie!$D$5","v":9.7142365462394675},{"$f":"I277/Dźwignie!$D$2","v":0.69964423124934982},{"$f":"K277/Dźwignie!$D$3","v":0.97142365462394675},1.3573244641116768,1.1667655499522633,1.5836794248329218,null,{"$f":"C277*Dźwignie!$G$8","v":189928.84624987},379857.69249973993,{"$f":"Dźwignie!$G$9","v":150000},229857.69249973993,{"$f":"V277-Dźwignie!$D$6","v":209857.69249973993},{"$f":"IF(W277>0,W277*(1-Dźwignie!$D$9),W277)","v":169984.73092478936},{"$f":"X277/Dźwignie!$D$5","v":16.998473092478935},{"$f":"V277/Dźwignie!$D$2","v":1.1492884624986996},{"$f":"X277/Dźwignie!$D$3","v":1.6998473092478936},1.6525776812980479,1.0953026775514783,1.8100727591875654]
[266,0.84798800945281982,{"$f":"NORMINV(B278,Dźwignie!$L$8,Dźwignie!$L$9)","v":401392.11859620776},{"$f":"Dźwignie!$L$7*C278","v":602088.17789431161},null,{"$f":"C278*Dźwignie!$G$5","v":401392.11859620776},200696.05929810385,{"$f":"Dźwignie!$G$6","v":50000},150696.05929810385,{"$f":"I278-Dźwignie!$D$6","v":130696.05929810385},{"$f":"IF(J278>0,J278*(1-Dźwignie!$D$9),J278)","v":105863.80803146413},{"$f":"K278/Dźwignie!$D$5","v":10.586380803146413},{"$f":"I278/Dźwignie!$D$2","v":0.75348029649051929},{"$f":"K278/Dźwignie!$D$3","v":1.0586380803146413},1.3317936794955667,1.1530268020888228,1.5355938073108799,null,{"$f":"C278*Dźwignie!$G$8","v":200696.05929810388},401392.1185962077,{"$f":"Dźwignie!$G$9","v":150000},251392.1185962077,{"$f":"V278-Dźwignie!$D$6","v":231392.1185962077},{"$f":"IF(W278>0,W278*(1-Dźwignie!$D$9),W278)","v":187427.61606292825},{"$f":"X278/Dźwignie!$D$5","v":18.742761606292824},{"$f":"V278/Dźwignie!$D$2","v":1.2569605929810386},{"$f":"X278/Dźwignie!$D$3","v":1.8742761606292826},1.5966774170869444,1.0864333673996094,1.7346836228966798]
[267,0.76888328790664673,{"$f":"NORMINV(B279,Dźwignie!$L$8,Dźwignie!$L$9)","v":386758.70880193007},{"$f":"Dźwignie!$L$7*C279","v":580138.06320289511},null,{"$f":"C279*Dźwignie!$G$5","v":386758.70880193007},193379.35440096504,{"$f":"Dźwignie!$G$6","v":50000},143379.35440096504,{"$f":"I279-Dźwignie!$D$6","v":123379.35440096504},{"$f":"IF(J279>0,J279*(1-Dźwignie!$D$9),J279)","v":99937.27706478168},{"$f":"K279/Dźwignie!$D$5","v":9.9937277064781682},{"$f":"I279/Dźwignie!$D$2","v":0.71689677200482516},{"$f":"K279/Dźwignie!$D$3","v":0.99937277064781682},1.3487252415726003,1.1621016749285533,1.5673558622499366,null,{"$f":"C279*Dźwignie!$G$8","v":193379.35440096504},386758.70880193007,{"$f":"Dźwignie!$G$9","v":150000},236758.70880193007,{"$f":"V279-Dźwignie!$D$6","v":216758.70880193007},{"$f":"IF(W279>0,W279*(1-Dźwignie!$D$9),W279)","v":175574.55412956336},{"$f":"X279/Dźwignie!$D$5","v":17.557455412956337},{"$f":"V279/Dźwignie!$D$2","v":1.1837935440096503},{"$f":"X279/Dźwignie!$D$3","v":1.7557455412956335},1.6335564202011614,1.0922684957413897,1.7842822138018122]
[268,0.57229852676391602,{"$f":"NORMINV(B280,Dźwignie!$L$8,Dźwignie!$L$9)","v":359111.45438514202},{"$f":"Dźwignie!$L$7*C280","v":538667.181577713},null,{"$f":"C280*Dźwignie!$G$5","v":359111.45438514202},179555.72719257098,{"$f":"Dźwignie!$G$6","v":50000},129555.72719257098,{"$f":"I280-Dźwignie!$D$6","v":109555.72719257098},{"$f":"IF(J280>0,J280*(1-Dźwignie!$D$9),J280)","v":88740.139025982498},{"$f":"K280/Dźwignie!$D$5","v":8.8740139025982501},{"$f":"I280/Dźwignie!$D$2","v":0.6477786359628549},{"$f":"K280/Dźwignie!$D$3","v":0.88740139025982501},1.3859343086059039,1.1825554949294901,1.6389442322532153,null,{"$f":"C280*Dźwignie!$G$8","v":179555.72719257101},359111.45438514196,{"$f":"Dźwignie!$G$9","v":150000},209111.45438514196,{"$f":"V280-Dźwignie!$D$6","v":189111.45438514196},{"$f":"IF(W280>0,W280*(1-Dźwignie!$D$9),W280)","v":153180.278051965},{"$f":"X280/Dźwignie!$D$5","v":15.3180278051965},{"$f":"V280/Dźwignie!$D$2","v":1.0455572719257098},{"$f":"X280/Dźwignie!$D$3","v":1.5318027805196499},1.7173208203302419,1.1057577398736951,1.8989407889264083]
[269,0.15124958753585815,{"$f":"NORMINV(B281,Dźwignie!$L$8,Dźwignie!$L$9)","v":298445.55953041848},{"$f":"Dźwignie!$L$7*C281","v":447668.33929562772},null,{"$f":"C281*Dźwignie!$G$5","v":298445.55953041848},149222.77976520924,{"$f":"Dźwignie!$G$6","v":50000},99222.779765209241,{"$f":"I281-Dźwignie!$D$6","v":79222.779765209241},{"$f":"IF(J281>0,J281*(1-Dźwignie!$D$9),J281)","v":64170.451609819487},{"$f":"K281/Dźwignie!$D$5","v":6.4170451609819485},{"$f":"I281/Dźwignie!$D$2","v":0.49611389882604623},{"$f":"K281/Dźwignie!$D$3","v":0.6417045160981949},1.5039165413256406,1.2524526412639589,1.8835842444238564,null,{"$f":"C281*Dźwignie!$G$8","v":149222.77976520924},298445.55953041848,{"$f":"Dźwignie!$G$9","v":150000},148445.55953041848,{"$f":"V281-Dźwignie!$D$6","v":128445.55953041848},{"$f":"IF(W281>0,W281*(1-Dźwignie!$D$9),W281)","v":104040.90321963897},{"$f":"X281/Dźwignie!$D$5","v":10.404090321963897},{"$f":"V281/Dźwignie!$D$2","v":0.74222779765209246},{"$f":"X281/Dźwignie!$D$3","v":1.0404090321963897},2.0104714514499369,1.1557079907870509,2.3235179216899327]
[270,0.38430607318878174,{"$f":"NORMINV(B282,Dźwignie!$L$8,Dźwignie!$L$9)","v":335290.46236132277},{"$f":"Dźwignie!$L$7*C282","v":502935.69354198419},null,{"$f":"C282*Dźwignie!$G$5","v":335290.46236132277},167645.23118066142,{"$f":"Dźwignie!$G$6","v":50000},117645.23118066142,{"$f":"I282-Dźwignie!$D$6","v":97645.231180661416},{"$f":"IF(J282>0,J282*(1-Dźwignie!$D$9),J282)","v":79092.637256335758},{"$f":"K282/Dźwignie!$D$5","v":7.9092637256335756},{"$f":"I282/Dźwignie!$D$2","v":0.58822615590330707},{"$f":"K282/Dźwignie!$D$3","v":0.79092637256335763},1.4250066024624297,1.2048231107466618,1.7168808876133161,null,{"$f":"C282*Dźwignie!$G$8","v":167645.23118066139},335290.46236132283,{"$f":"Dźwignie!$G$9","v":150000},185290.46236132283,{"$f":"V282-Dźwignie!$D$6","v":165290.46236132283},{"$f":"IF(W282>0,W282*(1-Dźwignie!$D$9),W282)","v":133885.27451267152},{"$f":"X282/Dźwignie!$D$5","v":13.388527451267151},{"$f":"V282/Dźwignie!$D$2","v":0.92645231180661414},{"$f":"X282/Dźwignie!$D$3","v":1.3388527451267151},1.8095397792655663,1.1209991170348368,2.0284924947961134]
[271,0.96290761232376099,{"$f":"NORMINV(B283,Dźwignie!$L$8,Dźwignie!$L$9)","v":439273.60424045956},{"$f":"Dźwignie!$L$7*C283","v":658910.40636068932},null,{"$f":"C283*Dźwignie!$G$5","v":439273.60424045956},219636.80212022975,{"$f":"Dźwignie!$G$6","v":50000},169636.80212022975,{"$f":"I283-Dźwignie!$D$6","v":149636.80212022975},{"$f":"IF(J283>0,J283*(1-Dźwignie!$D$9),J283)","v":121205.8097173861},{"$f":"K283/Dźwignie!$D$5","v":12.12058097173861},{"$f":"I283/Dźwignie!$D$2","v":0.84818401060114879},{"$f":"K283/Dźwignie!$D$3","v":1.212058097173861},1.2947473624535941,1.1336569594953683,1.4677993582337892,null,{"$f":"C283*Dźwignie!$G$8","v":219636.80212022978},439273.60424045951,{"$f":"Dźwignie!$G$9","v":150000},289273.60424045951,{"$f":"V283-Dźwignie!$D$6","v":269273.60424045951},{"$f":"IF(W283>0,W283*(1-Dźwignie!$D$9),W283)","v":218111.6194347722},{"$f":"X283/Dźwignie!$D$5","v":21.81116194347722},{"$f":"V283/Dźwignie!$D$2","v":1.4463680212022976},{"$f":"X283/Dźwignie!$D$3","v":2.1811161943477222},1.5185402255897227,1.0742738971998909,1.6313281261990729]
[272,0.83129000663757324,{"$f":"NORMINV(B284,Dźwignie!$L$8,Dźwignie!$L$9)","v":397963.77377503581},{"$f":"Dźwignie!$L$7*C284","v":596945.66066255374},null,{"$f":"C284*Dźwignie!$G$5","v":397963.77377503581},198981.88688751793,{"$f":"Dźwignie!$G$6","v":50000},148981.88688751793,{"$f":"I284-Dźwignie!$D$6","v":128981.88688751793},{"$f":"IF(J284>0,J284*(1-Dźwignie!$D$9),J284)","v":104475.32837888954},{"$f":"K284/Dźwignie!$D$5","v":10.447532837888954},{"$f":"I284/Dźwignie!$D$2","v":0.74490943443758961},{"$f":"K284/Dźwignie!$D$3","v":1.0447532837888953},1.3356112682191377,1.1550605320066494,1.5427118620232729,null,{"$f":"C284*Dźwignie!$G$8","v":198981.8868875179},397963.77377503586,{"$f":"Dźwignie!$G$9","v":150000},247963.77377503586,{"$f":"V284-Dźwignie!$D$6","v":227963.77377503586},{"$f":"IF(W284>0,W284*(1-Dźwignie!$D$9),W284)","v":184650.65675777907},{"$f":"X284/Dźwignie!$D$5","v":18.465065675777907},{"$f":"V284/Dźwignie!$D$2","v":1.2398188688751792},{"$f":"X284/Dźwignie!$D$3","v":1.8465065675777907},1.6049270734848828,1.0877332379123397,1.7457325222548872]
[273,0.10108178853988647,{"$f":"NORMINV(B285,Dźwignie!$L$8,Dźwignie!$L$9)","v":286229.4174654329},{"$f":"Dźwignie!$L$7*C285","v":429344.12619814934},null,{"$f":"C285*Dźwignie!$G$5","v":286229.4174654329},143114.70873271645,{"$f":"Dźwignie!$G$6","v":50000},93114.708732716448,{"$f":"I285-Dźwignie!$D$6","v":73114.708732716448},{"$f":"IF(J285>0,J285*(1-Dźwignie!$D$9),J285)","v":59222.914073500324},{"$f":"K285/Dźwignie!$D$5","v":5.9222914073500323},{"$f":"I285/Dźwignie!$D$2","v":0.46557354366358222},{"$f":"K285/Dźwignie!$D$3","v":0.59222914073500321},1.5369720925995034,1.2735427706224405,1.9573996971785417,null,{"$f":"C285*Dźwignie!$G$8","v":143114.70873271645},286229.4174654329,{"$f":"Dźwignie!$G$9","v":150000},136229.4174654329,{"$f":"V285-Dźwignie!$D$6","v":116229.4174654329},{"$f":"IF(W285>0,W285*(1-Dźwignie!$D$9),W285)","v":94145.828147000648},{"$f":"X285/Dźwignie!$D$5","v":9.414582814700065},{"$f":"V285/Dźwignie!$D$2","v":0.68114708732716445},{"$f":"X285/Dźwignie!$D$3","v":0.94145828147000643},2.1010837658324517,1.1720734770605563,2.4626245550147292]
[274,0.60438954830169678,{"$f":"NORMINV(B286,Dźwignie!$L$8,Dźwignie!$L$9)","v":363236.27685290587},{"$f":"Dźwignie!$L$7*C286","v":544854.41527935886},null,{"$f":"C286*Dźwignie!$G$5","v":363236.27685290587},181618.13842645299,{"$f":"Dźwignie!$G$6","v":50000},131618.13842645299,{"$f":"I286-Dźwignie!$D$6","v":111618.13842645299},{"$f":"IF(J286>0,J286*(1-Dźwignie!$D$9),J286)","v":90410.692125426925},{"$f":"K286/Dźwignie!$D$5","v":9.041069212542693},{"$f":"I286/Dźwignie!$D$2","v":0.65809069213226501},{"$f":"K286/Dźwignie!$D$3","v":0.90410692125426928},1.3798868499263841,1.1791823469012461,1.6271382141543611,null,{"$f":"C286*Dźwignie!$G$8","v":181618.13842645293},363236.27685290592,{"$f":"Dźwignie!$G$9","v":150000},213236.27685290592,{"$f":"V286-Dźwignie!$D$6","v":193236.27685290592},{"$f":"IF(W286>0,W286*(1-Dźwignie!$D$9),W286)","v":156521.38425085382},{"$f":"X286/Dźwignie!$D$5","v":15.652138425085383},{"$f":"V286/Dźwignie!$D$2","v":1.0661813842645296},{"$f":"X286/Dźwignie!$D$3","v":1.5652138425085382},1.7034450339023346,1.103500234664655,1.8797519946495673]
[275,0.34391695261001587,{"$f":"NORMINV(B287,Dźwignie!$L$8,Dźwignie!$L$9)","v":329910.18227119569},{"$f":"Dźwignie!$L$7*C287","v":494865.27340679354},null,{"$f":"C287*Dźwignie!$G$5","v":329910.18227119569},164955.09113559785,{"$f":"Dźwignie!$G$6","v":50000},114955.09113559785,{"$f":"I287-Dźwignie!$D$6","v":94955.091135597846},{"$f":"IF(J287>0,J287*(1-Dźwignie!$D$9),J287)","v":76913.623819834262},{"$f":"K287/Dźwignie!$D$5","v":7.691362381983426},{"$f":"I287/Dźwignie!$D$2","v":0.57477545567798927},{"$f":"K287/Dźwignie!$D$3","v":0.76913623819834265},1.4349524627928083,1.2106258838869375,1.7371905936042813,null,{"$f":"C287*Dźwignie!$G$8","v":164955.09113559785},329910.18227119569,{"$f":"Dźwignie!$G$9","v":150000},179910.18227119569,{"$f":"V287-Dźwignie!$D$6","v":159910.18227119569},{"$f":"IF(W287>0,W287*(1-Dźwignie!$D$9),W287)","v":129527.24763966852},{"$f":"X287/Dźwignie!$D$5","v":12.952724763966852},{"$f":"V287/Dźwignie!$D$2","v":0.89955091135597842},{"$f":"X287/Dźwignie!$D$3","v":1.2952724763966852},1.8337493637457982,1.1250702095134975,2.0630967808647278]
[276,0.81448268890380859,{"$f":"NORMINV(B288,Dźwignie!$L$8,Dźwignie!$L$9)","v":394726.85188737034},{"$f":"Dźwignie!$L$7*C288","v":592090.27783105546},null,{"$f":"C288*Dźwignie!$G$5","v":394726.85188737034},197363.42594368511,{"$f":"Dźwignie!$G$6","v":50000},147363.42594368511,{"$f":"I288-Dźwignie!$D$6","v":127363.42594368511},{"$f":"IF(J288>0,J288*(1-Dźwignie!$D$9),J288)","v":103164.37501438495},{"$f":"K288/Dźwignie!$D$5","v":10.316437501438495},{"$f":"I288/Dźwignie!$D$2","v":0.73681712971842561},{"$f":"K288/Dźwignie!$D$3","v":1.0316437501438496},1.3392972148944711,1.1570309517965007,1.5496083312877524,null,{"$f":"C288*Dźwignie!$G$8","v":197363.42594368517},394726.85188737029,{"$f":"Dźwignie!$G$9","v":150000},244726.85188737029,{"$f":"V288-Dźwignie!$D$6","v":224726.85188737029},{"$f":"IF(W288>0,W288*(1-Dźwignie!$D$9),W288)","v":182028.75002876995},{"$f":"X288/Dźwignie!$D$5","v":18.202875002876993},{"$f":"V288/Dźwignie!$D$2","v":1.2236342594368514},{"$f":"X288/Dźwignie!$D$3","v":1.8202875002876995},1.6129282456877021,1.0889969304158797,1.7564739085349774]
[277,2.284163236618042E-2,{"$f":"NORMINV(B289,Dźwignie!$L$8,Dźwignie!$L$9)","v":250084.59354215232},{"$f":"Dźwignie!$L$7*C289","v":375126.89031322848},null,{"$f":"C289*Dźwignie!$G$5","v":250084.59354215232},125042.29677107616,{"$f":"Dźwignie!$G$6","v":50000},75042.296771076159,{"$f":"I289-Dźwignie!$D$6","v":55042.296771076159},{"$f":"IF(J289>0,J289*(1-Dźwignie!$D$9),J289)","v":44584.260384571695},{"$f":"K289/Dźwignie!$D$5","v":4.4584260384571692},{"$f":"I289/Dźwignie!$D$2","v":0.37521148385538078},{"$f":"K289/Dźwignie!$D$3","v":0.44584260384571694},1.6662909072803285,1.3633569304562465,2.2717492565968627,null,{"$f":"C289*Dźwignie!$G$8","v":125042.29677107616},250084.59354215232,{"$f":"Dźwignie!$G$9","v":150000},100084.59354215232,{"$f":"V289-Dźwignie!$D$6","v":80084.593542152317},{"$f":"IF(W289>0,W289*(1-Dźwignie!$D$9),W289)","v":64868.520769143382},{"$f":"X289/Dźwignie!$D$5","v":6.4868520769143379},{"$f":"V289/Dźwignie!$D$2","v":0.50042296771076156},{"$f":"X289/Dźwignie!$D$3","v":0.64868520769143379},2.4987321693705531,1.2497359244193835,3.1227553575647597]
[278,0.47509634494781494,{"$f":"NORMINV(B290,Dźwignie!$L$8,Dźwignie!$L$9)","v":346876.75982342643},{"$f":"Dźwignie!$L$7*C290","v":520315.13973513967},null,{"$f":"C290*Dźwignie!$G$5","v":346876.75982342643},173438.37991171324,{"$f":"Dźwignie!$G$6","v":50000},123438.37991171324,{"$f":"I290-Dźwignie!$D$6","v":103438.37991171324},{"$f":"IF(J290>0,J290*(1-Dźwignie!$D$9),J290)","v":83785.087728487735},{"$f":"K290/Dźwignie!$D$5","v":8.3785087728487735},{"$f":"I290/Dźwignie!$D$2","v":0.61719189955856624},{"$f":"K290/Dźwignie!$D$3","v":0.83785087728487739},1.4050604037071894,1.1933518295343606,1.6767314033702618,null,{"$f":"C290*Dźwignie!$G$8","v":173438.37991171321},346876.75982342649,{"$f":"Dźwignie!$G$9","v":150000},196876.75982342649,{"$f":"V290-Dźwignie!$D$6","v":176876.75982342649},{"$f":"IF(W290>0,W290*(1-Dźwignie!$D$9),W290)","v":143270.17545697547},{"$f":"X290/Dźwignie!$D$5","v":14.327017545697547},{"$f":"V290/Dźwignie!$D$2","v":0.98438379911713247},{"$f":"X290/Dźwignie!$D$3","v":1.4327017545697547},1.7618979514622803,1.1130730799227988,1.9611211793437902]
[279,7.3837578296661377E-2,{"$f":"NORMINV(B291,Dźwignie!$L$8,Dźwignie!$L$9)","v":277610.38673626736},{"$f":"Dźwignie!$L$7*C291","v":416415.58010440104},null,{"$f":"C291*Dźwignie!$G$5","v":277610.38673626736},138805.19336813368,{"$f":"Dźwignie!$G$6","v":50000},88805.193368133681,{"$f":"I291-Dźwignie!$D$6","v":68805.193368133681},{"$f":"IF(J291>0,J291*(1-Dźwignie!$D$9),J291)","v":55732.206628188287},{"$f":"K291/Dźwignie!$D$5","v":5.5732206628188283},{"$f":"I291/Dźwignie!$D$2","v":0.44402596684066842},{"$f":"K291/Dźwignie!$D$3","v":0.55732206628188286},1.56303013487882,1.2906757327603524,2.0173650646612336,null,{"$f":"C291*Dźwignie!$G$8","v":138805.19336813368},277610.38673626736,{"$f":"Dźwignie!$G$9","v":150000},127610.38673626736,{"$f":"V291-Dźwignie!$D$6","v":107610.38673626736},{"$f":"IF(W291>0,W291*(1-Dźwignie!$D$9),W291)","v":87164.413256376574},{"$f":"X291/Dźwignie!$D$5","v":8.7164413256376569},{"$f":"V291/Dźwignie!$D$2","v":0.63805193368133684},{"$f":"X291/Dźwignie!$D$3","v":0.87164413256376572},2.1754529065882804,1.1858556651135936,2.5797731534655459]
[280,0.84859776496887207,{"$f":"NORMINV(B292,Dźwignie!$L$8,Dźwignie!$L$9)","v":401521.89708408521},{"$f":"Dźwignie!$L$7*C292","v":602282.84562612779},null,{"$f":"C292*Dźwignie!$G$5","v":401521.89708408521},200760.94854204258,{"$f":"Dźwignie!$G$6","v":50000},150760.94854204258,{"$f":"I292-Dźwignie!$D$6","v":130760.94854204258},{"$f":"IF(J292>0,J292*(1-Dźwignie!$D$9),J292)","v":105916.3683190545},{"$f":"K292/Dźwignie!$D$5","v":10.591636831905451},{"$f":"I292/Dźwignie!$D$2","v":0.75380474271021292},{"$f":"K292/Dźwignie!$D$3","v":1.0591636831905449},1.3316508716848285,1.1529508635643582,1.5353280224752535,null,{"$f":"C292*Dźwignie!$G$8","v":200760.94854204261},401521.89708408515,{"$f":"Dźwignie!$G$9","v":150000},251521.89708408515,{"$f":"V292-Dźwignie!$D$6","v":231521.89708408515},{"$f":"IF(W292>0,W292*(1-Dźwignie!$D$9),W292)","v":187532.736638109},{"$f":"X292/Dźwignie!$D$5","v":18.753273663810898},{"$f":"V292/Dźwignie!$D$2","v":1.2576094854204258},{"$f":"X292/Dźwignie!$D$3","v":1.8753273663810899},1.5963695476972892,1.0863849175904787,1.7342717995190693]
[281,0.49886554479598999,{"$f":"NORMINV(B293,Dźwignie!$L$8,Dźwignie!$L$9)","v":349857.81693384144},{"$f":"Dźwignie!$L$7*C293","v":524786.72540076217},null,{"$f":"C293*Dźwignie!$G$5","v":349857.81693384144},174928.90846692072,{"$f":"Dźwignie!$G$6","v":50000},124928.90846692072,{"$f":"I293-Dźwignie!$D$6","v":104928.90846692072},{"$f":"IF(J293>0,J293*(1-Dźwignie!$D$9),J293)","v":84992.415858205786},{"$f":"K293/Dźwignie!$D$5","v":8.4992415858205792},{"$f":"I293/Dźwignie!$D$2","v":0.62464454233460365},{"$f":"K293/Dźwignie!$D$3","v":0.84992415858205783},1.4002276223620351,1.1906052420845021,1.6671183472957576,null,{"$f":"C293*Dźwignie!$G$8","v":174928.90846692072},349857.81693384144,{"$f":"Dźwignie!$G$9","v":150000},199857.81693384144,{"$f":"V293-Dźwignie!$D$6","v":179857.81693384144},{"$f":"IF(W293>0,W293*(1-Dźwignie!$D$9),W293)","v":145684.83171641157},{"$f":"X293/Dźwignie!$D$5","v":14.568483171641157},{"$f":"V293/Dźwignie!$D$2","v":0.99928908466920718},{"$f":"X293/Dźwignie!$D$3","v":1.4568483171641158},1.7505335658182148,1.1111989478186359,1.9451910564584052]
[282,0.56191718578338623,{"$f":"NORMINV(B294,Dźwignie!$L$8,Dźwignie!$L$9)","v":357791.58845281519},{"$f":"Dźwignie!$L$7*C294","v":536687.38267922285},null,{"$f":"C294*Dźwignie!$G$5","v":357791.58845281519},178895.79422640766,{"$f":"Dźwignie!$G$6","v":50000},128895.79422640766,{"$f":"I294-Dźwignie!$D$6","v":108895.79422640766},{"$f":"IF(J294>0,J294*(1-Dźwignie!$D$9),J294)","v":88205.593323390203},{"$f":"K294/Dźwignie!$D$5","v":8.8205593323390197},{"$f":"I294/Dźwignie!$D$2","v":0.64447897113203823},{"$f":"K294/Dźwignie!$D$3","v":0.88205593323390208},1.3879102518440141,1.1836618222226063,1.642816377779122,null,{"$f":"C294*Dźwignie!$G$8","v":178895.7942264076},357791.58845281525,{"$f":"Dźwignie!$G$9","v":150000},207791.58845281525,{"$f":"V294-Dźwignie!$D$6","v":187791.58845281525},{"$f":"IF(W294>0,W294*(1-Dźwignie!$D$9),W294)","v":152111.18664678038},{"$f":"X294/Dźwignie!$D$5","v":15.211118664678038},{"$f":"V294/Dźwignie!$D$2","v":1.0389579422640762},{"$f":"X294/Dźwignie!$D$3","v":1.5211118664678038},1.7218771516059785,1.1065010428037634,1.9052588638319889]
[283,0.51869732141494751,{"$f":"NORMINV(B295,Dźwignie!$L$8,Dźwignie!$L$9)","v":352344.22026646812},{"$f":"Dźwignie!$L$7*C295","v":528516.33039970219},null,{"$f":"C295*Dźwignie!$G$5","v":352344.22026646812},176172.11013323406,{"$f":"Dźwignie!$G$6","v":50000},126172.11013323406,{"$f":"I295-Dźwignie!$D$6","v":106172.11013323406},{"$f":"IF(J295>0,J295*(1-Dźwignie!$D$9),J295)","v":85999.409207919598},{"$f":"K295/Dźwignie!$D$5","v":8.5999409207919602},{"$f":"I295/Dźwignie!$D$2","v":0.63086055066617031},{"$f":"K295/Dźwignie!$D$3","v":0.85999409207919597},1.3962840912084411,1.1883733870872704,1.6593068548054464,null,{"$f":"C295*Dźwignie!$G$8","v":176172.11013323406},352344.22026646812,{"$f":"Dźwignie!$G$9","v":150000},202344.22026646812,{"$f":"V295-Dźwignie!$D$6","v":182344.22026646812},{"$f":"IF(W295>0,W295*(1-Dźwignie!$D$9),W295)","v":147698.8184158392},{"$f":"X295/Dźwignie!$D$5","v":14.769881841583919},{"$f":"V295/Dźwignie!$D$2","v":1.0117211013323406},{"$f":"X295/Dźwignie!$D$3","v":1.4769881841583921},1.7413110184341527,1.1096826648564624,1.9323026512799311]
[284,0.64805173873901367,{"$f":"NORMINV(B296,Dźwignie!$L$8,Dźwignie!$L$9)","v":369003.29332686064},{"$f":"Dźwignie!$L$7*C296","v":553504.93999029091},null,{"$f":"C296*Dźwignie!$G$5","v":369003.29332686064},184501.64666343026,{"$f":"Dźwignie!$G$6","v":50000},134501.64666343026,{"$f":"I296-Dźwignie!$D$6","v":114501.64666343026},{"$f":"IF(J296>0,J296*(1-Dźwignie!$D$9),J296)","v":92746.333797378524},{"$f":"K296/Dźwignie!$D$5","v":9.2746333797378515},{"$f":"I296/Dźwignie!$D$2","v":0.67250823331715137},{"$f":"K296/Dźwignie!$D$3","v":0.92746333797378522},1.3717426607059862,1.1746699770946407,1.6113449198312422,null,{"$f":"C296*Dźwignie!$G$8","v":184501.64666343032},369003.29332686058,{"$f":"Dźwignie!$G$9","v":150000},219003.29332686058,{"$f":"V296-Dźwignie!$D$6","v":199003.29332686058},{"$f":"IF(W296>0,W296*(1-Dźwignie!$D$9),W296)","v":161192.66759475708},{"$f":"X296/Dźwignie!$D$5","v":16.119266759475707},{"$f":"V296/Dźwignie!$D$2","v":1.095016466634303},{"$f":"X296/Dźwignie!$D$3","v":1.6119266759475708},1.6849212069890029,1.1005008493359465,1.8542572193555458]
[285,0.94840401411056519,{"$f":"NORMINV(B297,Dźwignie!$L$8,Dźwignie!$L$9)","v":431478.60340773675},{"$f":"Dźwignie!$L$7*C297","v":647217.90511160507},null,{"$f":"C297*Dźwignie!$G$5","v":431478.60340773675},215739.30170386832,{"$f":"Dźwignie!$G$6","v":50000},165739.30170386832,{"$f":"I297-Dźwignie!$D$6","v":145739.30170386832},{"$f":"IF(J297>0,J297*(1-Dźwignie!$D$9),J297)","v":118048.83438013334},{"$f":"K297/Dźwignie!$D$5","v":11.804883438013334},{"$f":"I297/Dźwignie!$D$2","v":0.82869650851934162},{"$f":"K297/Dźwignie!$D$3","v":1.1804883438013334},1.3016785969651097,1.1372313423090126,1.4803096980815438,null,{"$f":"C297*Dźwignie!$G$8","v":215739.30170386838},431478.60340773669,{"$f":"Dźwignie!$G$9","v":150000},281478.60340773669,{"$f":"V297-Dźwignie!$D$6","v":261478.60340773669},{"$f":"IF(W297>0,W297*(1-Dźwignie!$D$9),W297)","v":211797.66876026674},{"$f":"X297/Dźwignie!$D$5","v":21.179766876026672},{"$f":"V297/Dźwignie!$D$2","v":1.4073930170386835},{"$f":"X297/Dźwignie!$D$3","v":2.1179766876026673},1.5329001856056428,1.0764880940136161,1.6501487991157369]
[286,0.91960060596466064,{"$f":"NORMINV(B298,Dźwignie!$L$8,Dźwignie!$L$9)","v":420119.50499541208},{"$f":"Dźwignie!$L$7*C298","v":630179.25749311806},null,{"$f":"C298*Dźwignie!$G$5","v":420119.50499541208},210059.75249770598,{"$f":"Dźwignie!$G$6","v":50000},160059.75249770598,{"$f":"I298-Dźwignie!$D$6","v":140059.75249770598},{"$f":"IF(J298>0,J298*(1-Dźwignie!$D$9),J298)","v":113448.39952314185},{"$f":"K298/Dźwignie!$D$5","v":11.344839952314185},{"$f":"I298/Dźwignie!$D$2","v":0.80029876248852994},{"$f":"K298/Dźwignie!$D$3","v":1.1344839952314185},1.3123833394701558,1.1427961969326454,1.4997866892642591,null,{"$f":"C298*Dźwignie!$G$8","v":210059.75249770604},420119.50499541202,{"$f":"Dźwignie!$G$9","v":150000},270119.50499541202,{"$f":"V298-Dźwignie!$D$6","v":250119.50499541202},{"$f":"IF(W298>0,W298*(1-Dźwignie!$D$9),W298)","v":202596.79904628376},{"$f":"X298/Dźwignie!$D$5","v":20.259679904628378},{"$f":"V298/Dźwignie!$D$2","v":1.3505975249770601},{"$f":"X298/Dźwignie!$D$3","v":2.0259679904628376},1.555309769290995,1.0799617766729823,1.6796751017203491]
[287,0.57675057649612427,{"$f":"NORMINV(B299,Dźwignie!$L$8,Dźwignie!$L$9)","v":359679.37752745097},{"$f":"Dźwignie!$L$7*C299","v":539519.06629117648},null,{"$f":"C299*Dźwignie!$G$5","v":359679.37752745097},179839.68876372551,{"$f":"Dźwignie!$G$6","v":50000},129839.68876372551,{"$f":"I299-Dźwignie!$D$6","v":109839.68876372551},{"$f":"IF(J299>0,J299*(1-Dźwignie!$D$9),J299)","v":88970.147898617666},{"$f":"K299/Dźwignie!$D$5","v":8.8970147898617657},{"$f":"I299/Dźwignie!$D$2","v":0.64919844381862757},{"$f":"K299/Dźwignie!$D$3","v":0.88970147898617669},1.3850902638174603,1.1820835458030265,1.6372924103105928,null,{"$f":"C299*Dźwignie!$G$8","v":179839.68876372548},359679.37752745103,{"$f":"Dźwignie!$G$9","v":150000},209679.37752745103,{"$f":"V299-Dźwignie!$D$6","v":189679.37752745103},{"$f":"IF(W299>0,W299*(1-Dźwignie!$D$9),W299)","v":153640.29579723533},{"$f":"X299/Dźwignie!$D$5","v":15.364029579723534},{"$f":"V299/Dźwignie!$D$2","v":1.0483968876372551},{"$f":"X299/Dźwignie!$D$3","v":1.5364029579723533},1.7153779344864859,1.1054410883286747,1.896249250793735]
[288,0.3305814266204834,{"$f":"NORMINV(B300,Dźwignie!$L$8,Dźwignie!$L$9)","v":328084.58798182814},{"$f":"Dźwignie!$L$7*C300","v":492126.88197274221},null,{"$f":"C300*Dźwignie!$G$5","v":328084.58798182814},164042.29399091407,{"$f":"Dźwignie!$G$6","v":50000},114042.29399091407,{"$f":"I300-Dźwignie!$D$6","v":94042.29399091407},{"$f":"IF(J300>0,J300*(1-Dźwignie!$D$9),J300)","v":76174.258132640403},{"$f":"K300/Dźwignie!$D$5","v":7.61742581326404},{"$f":"I300/Dźwignie!$D$2","v":0.57021146995457039},{"$f":"K300/Dźwignie!$D$3","v":0.76174258132640404},1.4384338323112265,1.2126702694208236,1.7443459429728827,null,{"$f":"C300*Dźwignie!$G$8","v":164042.29399091407},328084.58798182814,{"$f":"Dźwignie!$G$9","v":150000},178084.58798182814,{"$f":"V300-Dźwignie!$D$6","v":158084.58798182814},{"$f":"IF(W300>0,W300*(1-Dźwignie!$D$9),W300)","v":128048.51626528081},{"$f":"X300/Dźwignie!$D$5","v":12.80485162652808},{"$f":"V300/Dźwignie!$D$2","v":0.89042293990914068},{"$f":"X300/Dźwignie!$D$3","v":1.280485162652808},1.8422963587130072,1.1265145467709921,2.0753736475534321]
[289,0.58074659109115601,{"$f":"NORMINV(B301,Dźwignie!$L$8,Dźwignie!$L$9)","v":360190.19034417882},{"$f":"Dźwignie!$L$7*C301","v":540285.28551626822},null,{"$f":"C301*Dźwignie!$G$5","v":360190.19034417882},180095.09517208941,{"$f":"Dźwignie!$G$6","v":50000},130095.09517208941,{"$f":"I301-Dźwignie!$D$6","v":110095.09517208941},{"$f":"IF(J301>0,J301*(1-Dźwignie!$D$9),J301)","v":89177.027089392432},{"$f":"K301/Dźwignie!$D$5","v":8.9177027089392435},{"$f":"I301/Dźwignie!$D$2","v":0.65047547586044707},{"$f":"K301/Dźwignie!$D$3","v":0.89177027089392435},1.3843342436074177,1.1816611354823576,1.635813974188252,null,{"$f":"C301*Dźwignie!$G$8","v":180095.09517208941},360190.19034417882,{"$f":"Dźwignie!$G$9","v":150000},210190.19034417882,{"$f":"V301-Dźwignie!$D$6","v":190190.19034417882},{"$f":"IF(W301>0,W301*(1-Dźwignie!$D$9),W301)","v":154054.05417878486},{"$f":"X301/Dźwignie!$D$5","v":15.405405417878486},{"$f":"V301/Dźwignie!$D$2","v":1.0509509517208941},{"$f":"X301/Dźwignie!$D$3","v":1.5405405417878486},1.7136393937051984,1.1051578946517004,1.8938421045394533]
[290,0.23277795314788818,{"$f":"NORMINV(B302,Dźwignie!$L$8,Dźwignie!$L$9)","v":313513.5545187773},{"$f":"Dźwignie!$L$7*C302","v":470270.33177816594},null,{"$f":"C302*Dźwignie!$G$5","v":313513.5545187773},156756.77725938865,{"$f":"Dźwignie!$G$6","v":50000},106756.77725938865,{"$f":"I302-Dźwignie!$D$6","v":86756.777259388648},{"$f":"IF(J302>0,J302*(1-Dźwignie!$D$9),J302)","v":70272.989580104811},{"$f":"K302/Dźwignie!$D$5","v":7.0272989580104808},{"$f":"I302/Dźwignie!$D$2","v":0.53378388629694329},{"$f":"K302/Dźwignie!$D$3","v":0.70272989580104817},1.4683543404323101,1.2305295405361043,1.806853391876365,null,{"$f":"C302*Dźwignie!$G$8","v":156756.77725938865},313513.5545187773,{"$f":"Dźwignie!$G$9","v":150000},163513.5545187773,{"$f":"V302-Dźwignie!$D$6","v":143513.5545187773},{"$f":"IF(W302>0,W302*(1-Dźwignie!$D$9),W302)","v":116245.97916020962},{"$f":"X302/Dźwignie!$D$5","v":11.624597916020962},{"$f":"V302/Dźwignie!$D$2","v":0.81756777259388647},{"$f":"X302/Dźwignie!$D$3","v":1.1624597916020962},1.9173551418501795,1.139359658863325,2.1845571003382629]
[291,0.25660330057144165,{"$f":"NORMINV(B303,Dźwignie!$L$8,Dźwignie!$L$9)","v":317307.35655101435},{"$f":"Dźwignie!$L$7*C303","v":475961.03482652153},null,{"$f":"C303*Dźwignie!$G$5","v":317307.35655101435},158653.67827550718,{"$f":"Dźwignie!$G$6","v":50000},108653.67827550718,{"$f":"I303-Dźwignie!$D$6","v":88653.678275507176},{"$f":"IF(J303>0,J303*(1-Dźwignie!$D$9),J303)","v":71809.479403160818},{"$f":"K303/Dźwignie!$D$5","v":7.1809479403160816},{"$f":"I303/Dźwignie!$D$2","v":0.54326839137753591},{"$f":"K303/Dźwignie!$D$3","v":0.71809479403160814},1.4601777021594957,1.2255969564832541,1.7895893476913893,null,{"$f":"C303*Dźwignie!$G$8","v":158653.67827550718},317307.35655101435,{"$f":"Dźwignie!$G$9","v":150000},167307.35655101435,{"$f":"V303-Dźwignie!$D$6","v":147307.35655101435},{"$f":"IF(W303>0,W303*(1-Dźwignie!$D$9),W303)","v":119318.95880632164},{"$f":"X303/Dźwignie!$D$5","v":11.931895880632164},{"$f":"V303/Dźwignie!$D$2","v":0.83653678275507182},{"$f":"X303/Dźwignie!$D$3","v":1.1931895880632164},1.8965535233608386,1.1357705444471387,2.1540496278006787]
[292,0.68286895751953125,{"$f":"NORMINV(B304,Dźwignie!$L$8,Dźwignie!$L$9)","v":373786.82703094045},{"$f":"Dźwignie!$L$7*C304","v":560680.24054641067},null,{"$f":"C304*Dźwignie!$G$5","v":373786.82703094045},186893.41351547022,{"$f":"Dźwignie!$G$6","v":50000},136893.41351547022,{"$f":"I304-Dźwignie!$D$6","v":116893.41351547022},{"$f":"IF(J304>0,J304*(1-Dźwignie!$D$9),J304)","v":94683.66494753088},{"$f":"K304/Dźwignie!$D$5","v":9.4683664947530879},{"$f":"I304/Dźwignie!$D$2","v":0.6844670675773511},{"$f":"K304/Dźwignie!$D$3","v":0.94683664947530877},1.365247667626825,1.1710960386776035,1.5988361353716123,null,{"$f":"C304*Dźwignie!$G$8","v":186893.41351547022},373786.82703094045,{"$f":"Dźwignie!$G$9","v":150000},223786.82703094045,{"$f":"V304-Dźwignie!$D$6","v":203786.82703094045},{"$f":"IF(W304>0,W304*(1-Dźwignie!$D$9),W304)","v":165067.32989506176},{"$f":"X304/Dźwignie!$D$5","v":16.506732989506176},{"$f":"V304/Dźwignie!$D$2","v":1.1189341351547022},{"$f":"X304/Dźwignie!$D$3","v":1.6506732989506177},1.6702807398902939,1.098141770453904,1.834205048858184]
[293,0.59834688901901245,{"$f":"NORMINV(B305,Dźwignie!$L$8,Dźwignie!$L$9)","v":362453.52668850479},{"$f":"Dźwignie!$L$7*C305","v":543680.29003275721},null,{"$f":"C305*Dźwignie!$G$5","v":362453.52668850479},181226.76334425242,{"$f":"Dźwignie!$G$6","v":50000},131226.76334425242,{"$f":"I305-Dźwignie!$D$6","v":111226.76334425242},{"$f":"IF(J305>0,J305*(1-Dźwignie!$D$9),J305)","v":90093.678308844464},{"$f":"K305/Dźwignie!$D$5","v":9.0093678308844467},{"$f":"I305/Dźwignie!$D$2","v":0.65613381672126214},{"$f":"K305/Dźwignie!$D$3","v":0.9009367830884446},1.3810198371564877,1.179812838193439,1.6293449336770367,null,{"$f":"C305*Dźwignie!$G$8","v":181226.76334425239},362453.52668850485,{"$f":"Dźwignie!$G$9","v":150000},212453.52668850485,{"$f":"V305-Dźwignie!$D$6","v":192453.52668850485},{"$f":"IF(W305>0,W305*(1-Dźwignie!$D$9),W305)","v":155887.35661768893},{"$f":"X305/Dźwignie!$D$5","v":15.588735661768894},{"$f":"V305/Dźwignie!$D$2","v":1.0622676334425243},{"$f":"X305/Dźwignie!$D$3","v":1.5588735661768893},1.7060367617240217,1.1039211925296175,1.883330136501749]
[294,0.20658838748931885,{"$f":"NORMINV(B306,Dźwignie!$L$8,Dźwignie!$L$9)","v":309084.20023443014},{"$f":"Dźwignie!$L$7*C306","v":463626.30035164522},null,{"$f":"C306*Dźwignie!$G$5","v":309084.20023443014},154542.10011721507,{"$f":"Dźwignie!$G$6","v":50000},104542.10011721507,{"$f":"I306-Dźwignie!$D$6","v":84542.100117215072},{"$f":"IF(J306>0,J306*(1-Dźwignie!$D$9),J306)","v":68479.101094944213},{"$f":"K306/Dźwignie!$D$5","v":6.8479101094944212},{"$f":"I306/Dźwignie!$D$2","v":0.52271050058607538},{"$f":"K306/Dźwignie!$D$3","v":0.68479101094944217},1.4782762154571107,1.2365685258855719,1.8279898405995014,null,{"$f":"C306*Dźwignie!$G$8","v":154542.10011721507},309084.20023443014,{"$f":"Dźwignie!$G$9","v":150000},159084.20023443014,{"$f":"V306-Dźwignie!$D$6","v":139084.20023443014},{"$f":"IF(W306>0,W306*(1-Dźwignie!$D$9),W306)","v":112658.20218988843},{"$f":"X306/Dźwignie!$D$5","v":11.265820218988843},{"$f":"V306/Dźwignie!$D$2","v":0.79542100117215075},{"$f":"X306/Dźwignie!$D$3","v":1.1265820218988842},1.9428969047771969,1.1437977855593191,2.2222811772542133]
[295,0.50533801317214966,{"$f":"NORMINV(B307,Dźwignie!$L$8,Dźwignie!$L$9)","v":350669.04070171108},{"$f":"Dźwignie!$L$7*C307","v":526003.56105256663},null,{"$f":"C307*Dźwignie!$G$5","v":350669.04070171108},175334.52035085554,{"$f":"Dźwignie!$G$6","v":50000},125334.52035085554,{"$f":"I307-Dźwignie!$D$6","v":105334.52035085554},{"$f":"IF(J307>0,J307*(1-Dźwignie!$D$9),J307)","v":85320.961484193002},{"$f":"K307/Dźwignie!$D$5","v":8.532096148419301},{"$f":"I307/Dźwignie!$D$2","v":0.62667260175427775},{"$f":"K307/Dźwignie!$D$3","v":0.85320961484193003},1.3989323919701639,1.1898712780329053,1.6645494731151682,null,{"$f":"C307*Dźwignie!$G$8","v":175334.52035085554},350669.04070171108,{"$f":"Dźwignie!$G$9","v":150000},200669.04070171108,{"$f":"V307-Dźwignie!$D$6","v":180669.04070171108},{"$f":"IF(W307>0,W307*(1-Dźwignie!$D$9),W307)","v":146341.92296838597},{"$f":"X307/Dźwignie!$D$5","v":14.634192296838597},{"$f":"V307/Dźwignie!$D$2","v":1.0033452035085555},{"$f":"X307/Dźwignie!$D$3","v":1.4634192296838597},1.7474994621764839,1.1106996523716561,1.9409470451590767]
[296,0.67616677284240723,{"$f":"NORMINV(B308,Dźwignie!$L$8,Dźwignie!$L$9)","v":372850.31937919738},{"$f":"Dźwignie!$L$7*C308","v":559275.47906879603},null,{"$f":"C308*Dźwignie!$G$5","v":372850.31937919738},186425.15968959866,{"$f":"Dźwignie!$G$6","v":50000},136425.15968959866,{"$f":"I308-Dźwignie!$D$6","v":116425.15968959866},{"$f":"IF(J308>0,J308*(1-Dźwignie!$D$9),J308)","v":94304.379348574919},{"$f":"K308/Dźwignie!$D$5","v":9.4304379348574923},{"$f":"I308/Dźwignie!$D$2","v":0.68212579844799326},{"$f":"K308/Dźwignie!$D$3","v":0.94304379348574918},1.3665013118823719,1.1717841749439901,1.6012446123039652,null,{"$f":"C308*Dźwignie!$G$8","v":186425.15968959869},372850.31937919732,{"$f":"Dźwignie!$G$9","v":150000},222850.31937919732,{"$f":"V308-Dźwignie!$D$6","v":202850.31937919732},{"$f":"IF(W308>0,W308*(1-Dźwignie!$D$9),W308)","v":164308.75869714984},{"$f":"X308/Dźwignie!$D$5","v":16.430875869714985},{"$f":"V308/Dźwignie!$D$2","v":1.1142515968959865},{"$f":"X308/Dźwignie!$D$3","v":1.6430875869714985},1.673097532091768,1.0985948657177764,1.8380563586010989]
[297,0.64994758367538452,{"$f":"NORMINV(B309,Dźwignie!$L$8,Dźwignie!$L$9)","v":369258.94785646733},{"$f":"Dźwignie!$L$7*C309","v":553888.42178470106},null,{"$f":"C309*Dźwignie!$G$5","v":369258.94785646733},184629.47392823373,{"$f":"Dźwignie!$G$6","v":50000},134629.47392823373,{"$f":"I309-Dźwignie!$D$6","v":114629.47392823373},{"$f":"IF(J309>0,J309*(1-Dźwignie!$D$9),J309)","v":92849.873881869324},{"$f":"K309/Dźwignie!$D$5","v":9.2849873881869325},{"$f":"I309/Dźwignie!$D$2","v":0.67314736964116861},{"$f":"K309/Dźwignie!$D$3","v":0.92849873881869327},1.3713897004949545,1.1744751966018918,1.6106631881066211,null,{"$f":"C309*Dźwignie!$G$8","v":184629.47392823367},369258.94785646739,{"$f":"Dźwignie!$G$9","v":150000},219258.94785646739,{"$f":"V309-Dźwignie!$D$6","v":199258.94785646739},{"$f":"IF(W309>0,W309*(1-Dźwignie!$D$9),W309)","v":161399.74776373859},{"$f":"X309/Dźwignie!$D$5","v":16.139974776373858},{"$f":"V309/Dźwignie!$D$2","v":1.096294739282337},{"$f":"X309/Dźwignie!$D$3","v":1.613997477637386},1.6841225932462007,1.10037190407332,1.8531611846232192]
[298,0.20730388164520264,{"$f":"NORMINV(B310,Dźwignie!$L$8,Dźwignie!$L$9)","v":309209.40825244831},{"$f":"Dźwignie!$L$7*C310","v":463814.11237867246},null,{"$f":"C310*Dźwignie!$G$5","v":309209.40825244831},154604.70412622415,{"$f":"Dźwignie!$G$6","v":50000},104604.70412622415,{"$f":"I310-Dźwignie!$D$6","v":84604.704126224155},{"$f":"IF(J310>0,J310*(1-Dźwignie!$D$9),J310)","v":68529.810342241573},{"$f":"K310/Dźwignie!$D$5","v":6.8529810342241575},{"$f":"I310/Dźwignie!$D$2","v":0.52302352063112079},{"$f":"K310/Dźwignie!$D$3","v":0.68529810342241571},1.4779899758586967,1.2363934748848178,1.827377162096862,null,{"$f":"C310*Dźwignie!$G$8","v":154604.70412622415},309209.40825244831,{"$f":"Dźwignie!$G$9","v":150000},159209.40825244831,{"$f":"V310-Dźwignie!$D$6","v":139209.40825244831},{"$f":"IF(W310>0,W310*(1-Dźwignie!$D$9),W310)","v":112759.62068448313},{"$f":"X310/Dźwignie!$D$5","v":11.275962068448314},{"$f":"V310/Dźwignie!$D$2","v":0.79604704126224157},{"$f":"X310/Dźwignie!$D$3","v":1.1275962068448313},1.942155376660621,1.1436684506533576,2.2211818305535407]
[299,0.28663879632949829,{"$f":"NORMINV(B311,Dźwignie!$L$8,Dźwignie!$L$9)","v":321838.44973942416},{"$f":"Dźwignie!$L$7*C311","v":482757.67460913624},null,{"$f":"C311*Dźwignie!$G$5","v":321838.44973942416},160919.22486971208,{"$f":"Dźwignie!$G$6","v":50000},110919.22486971208,{"$f":"I311-Dźwignie!$D$6","v":90919.224869712081},{"$f":"IF(J311>0,J311*(1-Dźwignie!$D$9),J311)","v":73644.572144466787},{"$f":"K311/Dźwignie!$D$5","v":7.3644572144466789},{"$f":"I311/Dźwignie!$D$2","v":0.55459612434856043},{"$f":"K311/Dźwignie!$D$3","v":0.73644572144466791},1.4507784837004676,1.2199754785487904,1.7699141749207665,null,{"$f":"C311*Dźwignie!$G$8","v":160919.22486971208},321838.44973942416,{"$f":"Dźwignie!$G$9","v":150000},171838.44973942416,{"$f":"V311-Dźwignie!$D$6","v":151838.44973942416},{"$f":"IF(W311>0,W311*(1-Dźwignie!$D$9),W311)","v":122989.14428893357},{"$f":"X311/Dźwignie!$D$5","v":12.298914428893358},{"$f":"V311/Dźwignie!$D$2","v":0.85919224869712085},{"$f":"X311/Dźwignie!$D$3","v":1.2298914428893357},1.8729129029472742,1.1317189422990208,2.1196110095416776]
[300,0.23192262649536133,{"$f":"NORMINV(B312,Dźwignie!$L$8,Dźwignie!$L$9)","v":313373.50936061254},{"$f":"Dźwignie!$L$7*C312","v":470060.26404091879},null,{"$f":"C312*Dźwignie!$G$5","v":313373.50936061254},156686.75468030624,{"$f":"Dźwignie!$G$6","v":50000},106686.75468030624,{"$f":"I312-Dźwignie!$D$6","v":86686.754680306243},{"$f":"IF(J312>0,J312*(1-Dźwignie!$D$9),J312)","v":70216.271291048062},{"$f":"K312/Dźwignie!$D$5","v":7.0216271291048065},{"$f":"I312/Dźwignie!$D$2","v":0.5334337734015312},{"$f":"K312/Dźwignie!$D$3","v":0.7021627129104806},1.4686617392180334,1.2307157543705309,1.807505140296858,null,{"$f":"C312*Dźwignie!$G$8","v":156686.75468030627},313373.50936061249,{"$f":"Dźwignie!$G$9","v":150000},163373.50936061249,{"$f":"V312-Dźwignie!$D$6","v":143373.50936061249},{"$f":"IF(W312>0,W312*(1-Dźwignie!$D$9),W312)","v":116132.54258209612},{"$f":"X312/Dźwignie!$D$5","v":11.613254258209613},{"$f":"V312/Dźwignie!$D$2","v":0.81686754680306239},{"$f":"X312/Dźwignie!$D$3","v":1.1613254258209613},1.918141506459941,1.1394957833507171,2.1857141584810948]
[301,0.53370541334152222,{"$f":"NORMINV(B313,Dźwignie!$L$8,Dźwignie!$L$9)","v":354229.38529435074},{"$f":"Dźwignie!$L$7*C313","v":531344.07794152608},null,{"$f":"C313*Dźwignie!$G$5","v":354229.38529435074},177114.69264717534,{"$f":"Dźwignie!$G$6","v":50000},127114.69264717534,{"$f":"I313-Dźwignie!$D$6","v":107114.69264717534},{"$f":"IF(J313>0,J313*(1-Dźwignie!$D$9),J313)","v":86762.901044212034},{"$f":"K313/Dźwignie!$D$5","v":8.676290104421204},{"$f":"I313/Dźwignie!$D$2","v":0.63557346323587671},{"$f":"K313/Dźwignie!$D$3","v":0.86762901044212037},1.3933455602868978,1.1867157483789634,1.6535051193263721,null,{"$f":"C313*Dźwignie!$G$8","v":177114.69264717537},354229.38529435068,{"$f":"Dźwignie!$G$9","v":150000},204229.38529435068,{"$f":"V313-Dźwignie!$D$6","v":184229.38529435068},{"$f":"IF(W313>0,W313*(1-Dźwignie!$D$9),W313)","v":149225.80208842407},{"$f":"X313/Dźwignie!$D$5","v":14.922580208842406},{"$f":"V313/Dźwignie!$D$2","v":1.0211469264717534},{"$f":"X313/Dźwignie!$D$3","v":1.4922580208842406},1.7344682538402041,1.1085603144582239,1.9227626728949032]
[302,0.15295422077178955,{"$f":"NORMINV(B314,Dźwignie!$L$8,Dźwignie!$L$9)","v":298807.74468879291},{"$f":"Dźwignie!$L$7*C314","v":448211.6170331894},null,{"$f":"C314*Dźwignie!$G$5","v":298807.74468879291},149403.87234439648,{"$f":"Dźwignie!$G$6","v":50000},99403.872344396485,{"$f":"I314-Dźwignie!$D$6","v":79403.872344396485},{"$f":"IF(J314>0,J314*(1-Dźwignie!$D$9),J314)","v":64317.136598961159},{"$f":"K314/Dźwignie!$D$5","v":6.4317136598961158},{"$f":"I314/Dźwignie!$D$2","v":0.49701936172198241},{"$f":"K314/Dźwignie!$D$3","v":0.64317136598961155},1.5029985132447263,1.2518768847097845,1.8815690964842458,null,{"$f":"C314*Dźwignie!$G$8","v":149403.87234439646},298807.74468879297,{"$f":"Dźwignie!$G$9","v":150000},148807.74468879297,{"$f":"V314-Dźwignie!$D$6","v":128807.74468879297},{"$f":"IF(W314>0,W314*(1-Dźwignie!$D$9),W314)","v":104334.27319792232},{"$f":"X314/Dźwignie!$D$5","v":10.433427319792232},{"$f":"V314/Dźwignie!$D$2","v":0.74403872344396482},{"$f":"X314/Dźwignie!$D$3","v":1.0433427319792232},2.0080120514809257,1.1552701667770147,2.3197964176046244]
[303,0.90891629457473755,{"$f":"NORMINV(B315,Dźwignie!$L$8,Dźwignie!$L$9)","v":416705.56075671595},{"$f":"Dźwignie!$L$7*C315","v":625058.34113507392},null,{"$f":"C315*Dźwignie!$G$5","v":416705.56075671595},208352.78037835797,{"$f":"Dźwignie!$G$6","v":50000},158352.78037835797,{"$f":"I315-Dźwignie!$D$6","v":138352.78037835797},{"$f":"IF(J315>0,J315*(1-Dźwignie!$D$9),J315)","v":112065.75210646997},{"$f":"K315/Dźwignie!$D$5","v":11.206575210646998},{"$f":"I315/Dźwignie!$D$2","v":0.79176390189178991},{"$f":"K315/Dźwignie!$D$3","v":1.1206575210646996},1.3157506920973108,1.1445579911390673,1.5059529689867355,null,{"$f":"C315*Dźwignie!$G$8","v":208352.78037835797},416705.56075671595,{"$f":"Dźwignie!$G$9","v":150000},266705.56075671595,{"$f":"V315-Dźwignie!$D$6","v":246705.56075671595},{"$f":"IF(W315>0,W315*(1-Dźwignie!$D$9),W315)","v":199831.50421293994},{"$f":"X315/Dźwignie!$D$5","v":19.983150421293995},{"$f":"V315/Dźwignie!$D$2","v":1.3335278037835798},{"$f":"X315/Dźwignie!$D$3","v":1.9983150421293994},1.5624179697431479,1.0810682983336668,1.6890805358361674]
[304,0.23740458488464355,{"$f":"NORMINV(B316,Dźwignie!$L$8,Dźwignie!$L$9)","v":314266.19180803531},{"$f":"Dźwignie!$L$7*C316","v":471399.28771205293},null,{"$f":"C316*Dźwignie!$G$5","v":314266.19180803531},157133.09590401762,{"$f":"Dźwignie!$G$6","v":50000},107133.09590401762,{"$f":"I316-Dźwignie!$D$6","v":87133.095904017624},{"$f":"IF(J316>0,J316*(1-Dźwignie!$D$9),J316)","v":70577.807682254279},{"$f":"K316/Dźwignie!$D$5","v":7.0577807682254283},{"$f":"I316/Dźwignie!$D$2","v":0.53566547952008814},{"$f":"K316/Dźwignie!$D$3","v":0.70577807682254279},1.4667091861584571,1.229533907782081,1.8033686772372837,null,{"$f":"C316*Dźwignie!$G$8","v":157133.09590401765},314266.19180803525,{"$f":"Dźwignie!$G$9","v":150000},164266.19180803525,{"$f":"V316-Dźwignie!$D$6","v":144266.19180803525},{"$f":"IF(W316>0,W316*(1-Dźwignie!$D$9),W316)","v":116855.61536450856},{"$f":"X316/Dźwignie!$D$5","v":11.685561536450855},{"$f":"V316/Dźwignie!$D$2","v":0.82133095904017628},{"$f":"X316/Dźwignie!$D$3","v":1.1685561536450855},1.9131519903699539,1.1386326189757097,2.1783772612935324]
[305,0.15031617879867554,{"$f":"NORMINV(B317,Dźwignie!$L$8,Dźwignie!$L$9)","v":298246.08626657596},{"$f":"Dźwignie!$L$7*C317","v":447369.12939986394},null,{"$f":"C317*Dźwignie!$G$5","v":298246.08626657596},149123.04313328798,{"$f":"Dźwignie!$G$6","v":50000},99123.043133287982,{"$f":"I317-Dźwignie!$D$6","v":79123.043133287982},{"$f":"IF(J317>0,J317*(1-Dźwignie!$D$9),J317)","v":64089.664937963273},{"$f":"K317/Dźwignie!$D$5","v":6.4089664937963269},{"$f":"I317/Dźwignie!$D$2","v":0.4956152156664399},{"$f":"K317/Dźwignie!$D$3","v":0.64089664937963275},1.5044235771975483,1.2527708643145674,1.8846980251009859,null,{"$f":"C317*Dźwignie!$G$8","v":149123.04313328798},298246.08626657596,{"$f":"Dźwignie!$G$9","v":150000},148246.08626657596,{"$f":"V317-Dźwignie!$D$6","v":128246.08626657596},{"$f":"IF(W317>0,W317*(1-Dźwignie!$D$9),W317)","v":103879.32987592653},{"$f":"X317/Dźwignie!$D$5","v":10.387932987592652},{"$f":"V317/Dźwignie!$D$2","v":0.7412304313328798},{"$f":"X317/Dźwignie!$D$3","v":1.0387932987592654},2.0118310963722181,1.155950178147561,2.3255765142542684]
[306,0.65395200252532959,{"$f":"NORMINV(B318,Dźwignie!$L$8,Dźwignie!$L$9)","v":369800.61224929563},{"$f":"Dźwignie!$L$7*C318","v":554700.91837394342},null,{"$f":"C318*Dźwignie!$G$5","v":369800.61224929563},184900.30612464779,{"$f":"Dźwignie!$G$6","v":50000},134900.30612464779,{"$f":"I318-Dźwignie!$D$6","v":114900.30612464779},{"$f":"IF(J318>0,J318*(1-Dźwignie!$D$9),J318)","v":93069.247960964713},{"$f":"K318/Dźwignie!$D$5","v":9.3069247960964709},{"$f":"I318/Dźwignie!$D$2","v":0.67450153062323892},{"$f":"K318/Dźwignie!$D$3","v":0.93069247960964707},1.3706440810727296,1.1740639400760458,1.6092237902661599,null,{"$f":"C318*Dźwignie!$G$8","v":184900.30612464782},369800.61224929558,{"$f":"Dźwignie!$G$9","v":150000},219800.61224929558,{"$f":"V318-Dźwignie!$D$6","v":199800.61224929558},{"$f":"IF(W318>0,W318*(1-Dźwignie!$D$9),W318)","v":161838.49592192943},{"$f":"X318/Dźwignie!$D$5","v":16.183849592192942},{"$f":"V318/Dźwignie!$D$2","v":1.0990030612464778},{"$f":"X318/Dźwignie!$D$3","v":1.6183849592192943},1.6824366796115724,1.1000997933632233,1.8508482435873983]
[307,0.60343271493911743,{"$f":"NORMINV(B319,Dźwignie!$L$8,Dźwignie!$L$9)","v":363112.11975896062},{"$f":"Dźwignie!$L$7*C319","v":544668.17963844095},null,{"$f":"C319*Dźwignie!$G$5","v":363112.11975896062},181556.05987948034,{"$f":"Dźwignie!$G$6","v":50000},131556.05987948034,{"$f":"I319-Dźwignie!$D$6","v":111556.05987948034},{"$f":"IF(J319>0,J319*(1-Dźwignie!$D$9),J319)","v":90360.408502379083},{"$f":"K319/Dźwignie!$D$5","v":9.0360408502379084},{"$f":"I319/Dźwignie!$D$2","v":0.65778029939740168},{"$f":"K319/Dźwignie!$D$3","v":0.90360408502379086},1.3800661105676579,1.1792820580218324,1.6274872030764134,null,{"$f":"C319*Dźwignie!$G$8","v":181556.05987948031},363112.11975896067,{"$f":"Dźwignie!$G$9","v":150000},213112.11975896067,{"$f":"V319-Dźwignie!$D$6","v":193112.11975896067},{"$f":"IF(W319>0,W319*(1-Dźwignie!$D$9),W319)","v":156420.81700475817},{"$f":"X319/Dźwignie!$D$5","v":15.642081700475817},{"$f":"V319/Dźwignie!$D$2","v":1.0655605987948034},{"$f":"X319/Dźwignie!$D$3","v":1.5642081700475816},1.7038548542882344,1.1035667778126181,1.8803176114072548]
[308,0.81132602691650391,{"$f":"NORMINV(B320,Dźwignie!$L$8,Dźwignie!$L$9)","v":394139.66638555529},{"$f":"Dźwignie!$L$7*C320","v":591209.49957833299},null,{"$f":"C320*Dźwignie!$G$5","v":394139.66638555529},197069.8331927777,{"$f":"Dźwignie!$G$6","v":50000},147069.8331927777,{"$f":"I320-Dźwignie!$D$6","v":127069.8331927777},{"$f":"IF(J320>0,J320*(1-Dźwignie!$D$9),J320)","v":102926.56488614995},{"$f":"K320/Dźwignie!$D$5","v":10.292656488614995},{"$f":"I320/Dźwignie!$D$2","v":0.73534916596388855},{"$f":"K320/Dźwignie!$D$3","v":1.0292656488614995},1.3399745475638127,1.1573937692171044,1.5508781922598653,null,{"$f":"C320*Dźwignie!$G$8","v":197069.83319277765},394139.66638555535,{"$f":"Dźwignie!$G$9","v":150000},244139.66638555535,{"$f":"V320-Dźwignie!$D$6","v":224139.66638555535},{"$f":"IF(W320>0,W320*(1-Dźwignie!$D$9),W320)","v":181553.12977229984},{"$f":"X320/Dźwignie!$D$5","v":18.155312977229983},{"$f":"V320/Dźwignie!$D$2","v":1.2206983319277767},{"$f":"X320/Dźwignie!$D$3","v":1.8155312977229985},1.6144024124417122,1.0892300783815609,1.7584556662432673]
[309,0.70613974332809448,{"$f":"NORMINV(B321,Dźwignie!$L$8,Dźwignie!$L$9)","v":377107.11262219812},{"$f":"Dźwignie!$L$7*C321","v":565660.66893329716},null,{"$f":"C321*Dźwignie!$G$5","v":377107.11262219812},188553.55631109903,{"$f":"Dźwignie!$G$6","v":50000},138553.55631109903,{"$f":"I321-Dźwignie!$D$6","v":118553.55631109903},{"$f":"IF(J321>0,J321*(1-Dźwignie!$D$9),J321)","v":96028.380611990229},{"$f":"K321/Dźwignie!$D$5","v":9.6028380611990229},{"$f":"I321/Dźwignie!$D$2","v":0.69276778155549512},{"$f":"K321/Dźwignie!$D$3","v":0.96028380611990227},1.3608712856690108,1.1687001269495245,1.5904504443233356,null,{"$f":"C321*Dźwignie!$G$8","v":188553.55631109906},377107.11262219807,{"$f":"Dźwignie!$G$9","v":150000},227107.11262219807,{"$f":"V321-Dźwignie!$D$6","v":207107.11262219807},{"$f":"IF(W321>0,W321*(1-Dźwignie!$D$9),W321)","v":167756.76122398046},{"$f":"X321/Dźwignie!$D$5","v":16.775676122398046},{"$f":"V321/Dźwignie!$D$2","v":1.1355355631109902},{"$f":"X321/Dźwignie!$D$3","v":1.6775676122398047},1.6604812956674373,1.0965683879552883,1.8208312976199501]
[310,0.40371763706207275,{"$f":"NORMINV(B322,Dźwignie!$L$8,Dźwignie!$L$9)","v":337813.19897141727},{"$f":"Dźwignie!$L$7*C322","v":506719.7984571259},null,{"$f":"C322*Dźwignie!$G$5","v":337813.19897141727},168906.59948570863,{"$f":"Dźwignie!$G$6","v":50000},118906.59948570863,{"$f":"I322-Dźwignie!$D$6","v":98906.599485708633},{"$f":"IF(J322>0,J322*(1-Dźwignie!$D$9),J322)","v":80114.345583424001},{"$f":"K322/Dźwignie!$D$5","v":8.0114345583423994},{"$f":"I322/Dźwignie!$D$2","v":0.59453299742854315},{"$f":"K322/Dźwignie!$D$3","v":0.80114345583423996},1.4204981070542639,1.2022109758498964,1.7077384154746373,null,{"$f":"C322*Dźwignie!$G$8","v":168906.59948570863},337813.19897141727,{"$f":"Dźwignie!$G$9","v":150000},187813.19897141727,{"$f":"V322-Dźwignie!$D$6","v":167813.19897141727},{"$f":"IF(W322>0,W322*(1-Dźwignie!$D$9),W322)","v":135928.691166848},{"$f":"X322/Dźwignie!$D$5","v":13.592869116684801},{"$f":"V322/Dźwignie!$D$2","v":0.93906599485708631},{"$f":"X322/Dźwignie!$D$3","v":1.35928691166848},1.7986659128404925,1.1191801367388658,2.0130311622803592]
[311,0.35242682695388794,{"$f":"NORMINV(B323,Dźwignie!$L$8,Dźwignie!$L$9)","v":331061.16249612789},{"$f":"Dźwignie!$L$7*C323","v":496591.74374419183},null,{"$f":"C323*Dźwignie!$G$5","v":331061.16249612789},165530.58124806394,{"$f":"Dźwignie!$G$6","v":50000},115530.58124806394,{"$f":"I323-Dźwignie!$D$6","v":95530.581248063943},{"$f":"IF(J323>0,J323*(1-Dźwignie!$D$9),J323)","v":77379.770810931805},{"$f":"K323/Dźwignie!$D$5","v":7.7379770810931801},{"$f":"I323/Dźwignie!$D$2","v":0.57765290624031973},{"$f":"K323/Dźwignie!$D$3","v":0.77379770810931803},1.432785843019706,1.2093570429354561,1.7327496502740962,null,{"$f":"C323*Dźwignie!$G$8","v":165530.58124806394},331061.16249612789,{"$f":"Dźwignie!$G$9","v":150000},181061.16249612789,{"$f":"V323-Dźwignie!$D$6","v":161061.16249612789},{"$f":"IF(W323>0,W323*(1-Dźwignie!$D$9),W323)","v":130459.54162186359},{"$f":"X323/Dźwignie!$D$5","v":13.045954162186359},{"$f":"V323/Dźwignie!$D$2","v":0.90530581248063946},{"$f":"X323/Dźwignie!$D$3","v":1.304595416218636},1.8284493368543784,1.1241764289418985,2.0554996460061377]
[312,0.81947064399719238,{"$f":"NORMINV(B324,Dźwignie!$L$8,Dźwignie!$L$9)","v":395667.47920812195},{"$f":"Dźwignie!$L$7*C324","v":593501.21881218289},null,{"$f":"C324*Dźwignie!$G$5","v":395667.47920812195},197833.73960406095,{"$f":"Dźwignie!$G$6","v":50000},147833.73960406095,{"$f":"I324-Dźwignie!$D$6","v":127833.73960406095},{"$f":"IF(J324>0,J324*(1-Dźwignie!$D$9),J324)","v":103545.32907928937},{"$f":"K324/Dźwignie!$D$5","v":10.354532907928936},{"$f":"I324/Dźwignie!$D$2","v":0.73916869802030472},{"$f":"K324/Dźwignie!$D$3","v":1.0354532907928937},1.3382177852898374,1.1564532185473564,1.5475862649157475,null,{"$f":"C324*Dźwignie!$G$8","v":197833.73960406097},395667.47920812189,{"$f":"Dźwignie!$G$9","v":150000},245667.47920812189,{"$f":"V324-Dźwignie!$D$6","v":225667.47920812189},{"$f":"IF(W324>0,W324*(1-Dźwignie!$D$9),W324)","v":182790.65815857874},{"$f":"X324/Dźwignie!$D$5","v":18.279065815857873},{"$f":"V324/Dźwignie!$D$2","v":1.2283373960406094},{"$f":"X324/Dźwignie!$D$3","v":1.8279065815857873},1.6105814269088692,1.0886259733577075,1.7533207735405132]
[313,0.16632503271102905,{"$f":"NORMINV(B325,Dźwignie!$L$8,Dźwignie!$L$9)","v":301560.50886074587},{"$f":"Dźwignie!$L$7*C325","v":452340.76329111878},null,{"$f":"C325*Dźwignie!$G$5","v":301560.50886074587},150780.25443037291,{"$f":"Dźwignie!$G$6","v":50000},100780.25443037291,{"$f":"I325-Dźwignie!$D$6","v":80780.254430372908},{"$f":"IF(J325>0,J325*(1-Dźwignie!$D$9),J325)","v":65432.006088602058},{"$f":"K325/Dźwignie!$D$5","v":6.5432006088602055},{"$f":"I325/Dźwignie!$D$2","v":0.50390127215186453},{"$f":"K325/Dźwignie!$D$3","v":0.65432006088602057},1.4961289320274938,1.247585256335614,1.8665483971746493,null,{"$f":"C325*Dźwignie!$G$8","v":150780.25443037294},301560.50886074582,{"$f":"Dźwignie!$G$9","v":150000},151560.50886074582,{"$f":"V325-Dźwignie!$D$6","v":131560.50886074582},{"$f":"IF(W325>0,W325*(1-Dźwignie!$D$9),W325)","v":106564.01217720412},{"$f":"X325/Dźwignie!$D$5","v":10.656401217720411},{"$f":"V325/Dźwignie!$D$2","v":0.75780254430372906},{"$f":"X325/Dźwignie!$D$3","v":1.0656401217720413},1.989703723796681,1.1520213031493334,2.2921810767693338]
[314,0.81930434703826904,{"$f":"NORMINV(B326,Dźwignie!$L$8,Dźwignie!$L$9)","v":395635.85900232563},{"$f":"Dźwignie!$L$7*C326","v":593453.78850348841},null,{"$f":"C326*Dźwignie!$G$5","v":395635.85900232563},197817.92950116278,{"$f":"Dźwignie!$G$6","v":50000},147817.92950116278,{"$f":"I326-Dźwignie!$D$6","v":127817.92950116278},{"$f":"IF(J326>0,J326*(1-Dźwignie!$D$9),J326)","v":103532.52289594186},{"$f":"K326/Dźwignie!$D$5","v":10.353252289594186},{"$f":"I326/Dźwignie!$D$2","v":0.73908964750581396},{"$f":"K326/Dźwignie!$D$3","v":1.0353252289594186},1.3382539599136158,1.1564725706170829,1.5476539971597898,null,{"$f":"C326*Dźwignie!$G$8","v":197817.92950116281},395635.85900232557,{"$f":"Dźwignie!$G$9","v":150000},245635.85900232557,{"$f":"V326-Dźwignie!$D$6","v":225635.85900232557},{"$f":"IF(W326>0,W326*(1-Dźwignie!$D$9),W326)","v":182765.04579188372},{"$f":"X326/Dźwignie!$D$5","v":18.276504579188373},{"$f":"V326/Dźwignie!$D$2","v":1.2281792950116279},{"$f":"X326/Dźwignie!$D$3","v":1.8276504579188373},1.6106600258172399,1.0886383932431318,1.7534263425666212]
[315,0.96723896265029907,{"$f":"NORMINV(B327,Dźwignie!$L$8,Dźwignie!$L$9)","v":442083.9646999205},{"$f":"Dźwignie!$L$7*C327","v":663125.94704988075},null,{"$f":"C327*Dźwignie!$G$5","v":442083.9646999205},221041.98234996025,{"$f":"Dźwignie!$G$6","v":50000},171041.98234996025,{"$f":"I327-Dźwignie!$D$6","v":151041.98234996025},{"$f":"IF(J327>0,J327*(1-Dźwignie!$D$9),J327)","v":122344.00570346782},{"$f":"K327/Dźwignie!$D$5","v":12.234400570346782},{"$f":"I327/Dźwignie!$D$2","v":0.85520991174980121},{"$f":"K327/Dźwignie!$D$3","v":1.2234400570346782},1.2923258916497913,1.1324135163537548,1.4634473072381415,null,{"$f":"C327*Dźwignie!$G$8","v":221041.98234996025},442083.9646999205,{"$f":"Dźwignie!$G$9","v":150000},292083.9646999205,{"$f":"V327-Dźwignie!$D$6","v":272083.9646999205},{"$f":"IF(W327>0,W327*(1-Dźwignie!$D$9),W327)","v":220388.01140693561},{"$f":"X327/Dźwignie!$D$5","v":22.038801140693561},{"$f":"V327/Dźwignie!$D$2","v":1.4604198234996024},{"$f":"X327/Dźwignie!$D$3","v":2.203880114069356},1.5135509583831694,1.0735067206994644,1.6248071259454477]
[316,0.64031744003295898,{"$f":"NORMINV(B328,Dźwignie!$L$8,Dźwignie!$L$9)","v":367965.37127907231},{"$f":"Dźwignie!$L$7*C328","v":551948.05691860849},null,{"$f":"C328*Dźwignie!$G$5","v":367965.37127907231},183982.68563953618,{"$f":"Dźwignie!$G$6","v":50000},133982.68563953618,{"$f":"I328-Dźwignie!$D$6","v":113982.68563953618},{"$f":"IF(J328>0,J328*(1-Dźwignie!$D$9),J328)","v":92325.975368024316},{"$f":"K328/Dźwignie!$D$5","v":9.232597536802432},{"$f":"I328/Dźwignie!$D$2","v":0.66991342819768096},{"$f":"K328/Dźwignie!$D$3","v":0.92325975368024316},1.3731825478892012,1.1754652462151038,1.6141283617528637,null,{"$f":"C328*Dźwignie!$G$8","v":183982.68563953615},367965.37127907237,{"$f":"Dźwignie!$G$9","v":150000},217965.37127907237,{"$f":"V328-Dźwignie!$D$6","v":197965.37127907237},{"$f":"IF(W328>0,W328*(1-Dźwignie!$D$9),W328)","v":160351.95073604863},{"$f":"X328/Dźwignie!$D$5","v":16.035195073604864},{"$f":"V328/Dźwignie!$D$2","v":1.0898268563953619},{"$f":"X328/Dźwignie!$D$3","v":1.6035195073604862},1.6881827104909579,1.1010277700123925,1.8587360451053359]
[317,0.95793503522872925,{"$f":"NORMINV(B329,Dźwignie!$L$8,Dźwignie!$L$9)","v":436360.50724386016},{"$f":"Dźwignie!$L$7*C329","v":654540.7608657903},null,{"$f":"C329*Dźwignie!$G$5","v":436360.50724386016},218180.25362193014,{"$f":"Dźwignie!$G$6","v":50000},168180.25362193014,{"$f":"I329-Dźwignie!$D$6","v":148180.25362193014},{"$f":"IF(J329>0,J329*(1-Dźwignie!$D$9),J329)","v":120026.00543376342},{"$f":"K329/Dźwignie!$D$5","v":12.002600543376342},{"$f":"I329/Dźwignie!$D$2","v":0.84090126810965071},{"$f":"K329/Dźwignie!$D$3","v":1.2002600543376343},1.2973000630169116,1.1349707502257917,1.4723976257902711,null,{"$f":"C329*Dźwignie!$G$8","v":218180.25362193008},436360.50724386022,{"$f":"Dźwignie!$G$9","v":150000},286360.50724386022,{"$f":"V329-Dźwignie!$D$6","v":266360.50724386022},{"$f":"IF(W329>0,W329*(1-Dźwignie!$D$9),W329)","v":215752.01086752678},{"$f":"X329/Dźwignie!$D$5","v":21.575201086752678},{"$f":"V329/Dźwignie!$D$2","v":1.4318025362193012},{"$f":"X329/Dźwignie!$D$3","v":2.1575201086752678},1.5238152475832232,1.0750862063109432,1.6382327536430181]
[318,0.93202316761016846,{"$f":"NORMINV(B330,Dźwignie!$L$8,Dźwignie!$L$9)","v":424551.49122918677},{"$f":"Dźwignie!$L$7*C330","v":636827.23684378015},null,{"$f":"C330*Dźwignie!$G$5","v":424551.49122918677},212275.74561459338,{"$f":"Dźwignie!$G$6","v":50000},162275.74561459338,{"$f":"I330-Dźwignie!$D$6","v":142275.74561459338},{"$f":"IF(J330>0,J330*(1-Dźwignie!$D$9),J330)","v":115243.35394782065},{"$f":"K330/Dźwignie!$D$5","v":11.524335394782065},{"$f":"I330/Dźwignie!$D$2","v":0.81137872807296696},{"$f":"K330/Dźwignie!$D$3","v":1.1524335394782066},1.3081175181826035,1.1405720976095068,1.4920023416332742,null,{"$f":"C330*Dźwignie!$G$8","v":212275.74561459338},424551.49122918677,{"$f":"Dźwignie!$G$9","v":150000},274551.49122918677,{"$f":"V330-Dźwignie!$D$6","v":254551.49122918677},{"$f":"IF(W330>0,W330*(1-Dźwignie!$D$9),W330)","v":206186.7078956413},{"$f":"X330/Dźwignie!$D$5","v":20.618670789564131},{"$f":"V330/Dźwignie!$D$2","v":1.3727574561459339},{"$f":"X330/Dźwignie!$D$3","v":2.0618670789564129},1.5463456028901508,1.078569565251507,1.6678413046378096]
[319,0.41643601655960083,{"$f":"NORMINV(B331,Dźwignie!$L$8,Dźwignie!$L$9)","v":339449.02358792356},{"$f":"Dźwignie!$L$7*C331","v":509173.53538188536},null,{"$f":"C331*Dźwignie!$G$5","v":339449.02358792356},169724.51179396181,{"$f":"Dźwignie!$G$6","v":50000},119724.51179396181,{"$f":"I331-Dźwignie!$D$6","v":99724.511793961807},{"$f":"IF(J331>0,J331*(1-Dźwignie!$D$9),J331)","v":80776.854553109064},{"$f":"K331/Dźwignie!$D$5","v":8.0776854553109061},{"$f":"I331/Dźwignie!$D$2","v":0.59862255896980898},{"$f":"K331/Dźwignie!$D$3","v":0.80776854553109068},1.4176254239904256,1.200552498480228,1.7019337446807981,null,{"$f":"C331*Dźwignie!$G$8","v":169724.51179396178},339449.02358792361,{"$f":"Dźwignie!$G$9","v":150000},189449.02358792361,{"$f":"V331-Dźwignie!$D$6","v":169449.02358792361},{"$f":"IF(W331>0,W331*(1-Dźwignie!$D$9),W331)","v":137253.70910621813},{"$f":"X331/Dźwignie!$D$5","v":13.725370910621812},{"$f":"V331/Dźwignie!$D$2","v":0.94724511793961808},{"$f":"X331/Dźwignie!$D$3","v":1.3725370910621812},1.7917697180971996,1.1180295971999061,2.0032515761992014]
[320,0.18066573143005371,{"$f":"NORMINV(B332,Dźwignie!$L$8,Dźwignie!$L$9)","v":304358.45297404617},{"$f":"Dźwignie!$L$7*C332","v":456537.67946106929},null,{"$f":"C332*Dźwignie!$G$5","v":304358.45297404617},152179.22648702312,{"$f":"Dźwignie!$G$6","v":50000},102179.22648702312,{"$f":"I332-Dźwignie!$D$6","v":82179.226487023116},{"$f":"IF(J332>0,J332*(1-Dźwignie!$D$9),J332)","v":66565.173454488729},{"$f":"K332/Dźwignie!$D$5","v":6.6565173454488731},{"$f":"I332/Dźwignie!$D$2","v":0.51089613243511556},{"$f":"K332/Dźwignie!$D$3","v":0.66565173454488724},1.4893362547263955,1.243370506817294,1.8517967738605288,null,{"$f":"C332*Dźwignie!$G$8","v":152179.22648702309},304358.45297404623,{"$f":"Dźwignie!$G$9","v":150000},154358.45297404623,{"$f":"V332-Dźwignie!$D$6","v":134358.45297404623},{"$f":"IF(W332>0,W332*(1-Dźwignie!$D$9),W332)","v":108830.34690897746},{"$f":"X332/Dźwignie!$D$5","v":10.883034690897746},{"$f":"V332/Dźwignie!$D$2","v":0.77179226487023112},{"$f":"X332/Dźwignie!$D$3","v":1.0883034690897746},1.9717640797114036,1.1488555394714419,2.2652720855072559]
[321,0.92307180166244507,{"$f":"NORMINV(B333,Dźwignie!$L$8,Dźwignie!$L$9)","v":421302.06921913079},{"$f":"Dźwignie!$L$7*C333","v":631953.10382869618},null,{"$f":"C333*Dźwignie!$G$5","v":421302.06921913079},{"$f":"$D333-F333","v":210651.03460956539},{"$f":"Dźwignie!$G$6","v":50000},{"$f":"G333-H333","v":160651.03460956539},{"$f":"I333-Dźwignie!$D$6","v":140651.03460956539},{"$f":"IF(J333>0,J333*(1-Dźwignie!$D$9),J333)","v":113927.33803374798},{"$f":"K333/Dźwignie!$D$5","v":11.392733803374798},{"$f":"I333/Dźwignie!$D$2","v":0.80325517304782701},{"$f":"K333/Dźwignie!$D$3","v":1.1392733803374797},{"$f":"IF(I333<>0,G333/I333,\"N   \")","v":1.311233600963208},{"$f":"IF(J333<>0,I333/J333,\"N   \")","v":1.1421958967846784},{"$f":"IF(ISTEXT(O333),O333,IF(ISTEXT(P333),P333,O333*P333))","v":1.4976856387463744},null,{"$f":"C333*Dźwignie!$G$8","v":210651.03460956539},{"$f":"$D333-S333","v":421302.06921913079},{"$f":"Dźwignie!$G$9","v":150000},{"$f":"T333-U333","v":271302.06921913079},{"$f":"V333-Dźwignie!$D$6","v":251302.06921913079},{"$f":"IF(W333>0,W333*(1-Dźwignie!$D$9),W333)","v":203554.67606749595},{"$f":"X333/Dźwignie!$D$5","v":20.355467606749595},{"$f":"V333/Dźwignie!$D$2","v":1.356510346095654},{"$f":"X333/Dźwignie!$D$3","v":2.0355467606749595},{"$f":"IF(V333<>0,T333/V333,\"N   \")","v":1.5528892589420131},{"$f":"IF(W333<>0,V333/W333,\"N   \")","v":1.079585496697842},{"$f":"IF(ISTEXT(AB333),AB333,IF(ISTEXT(AC333),AC333,AB333*AC333))","v":1.676476721931657}]
[322,0.528067946434021,{"$f":"NORMINV(B334,Dźwignie!$L$8,Dźwignie!$L$9)","v":353520.70259995887},{"$f":"Dźwignie!$L$7*C334","v":530281.05389993824},null,{"$f":"C334*Dźwignie!$G$5","v":353520.70259995887},176760.35129997937,{"$f":"Dźwignie!$G$6","v":50000},126760.35129997937,{"$f":"I334-Dźwignie!$D$6","v":106760.35129997937},{"$f":"IF(J334>0,J334*(1-Dźwignie!$D$9),J334)","v":86475.884552983305},{"$f":"K334/Dźwignie!$D$5","v":8.6475884552983313},{"$f":"I334/Dźwignie!$D$2","v":0.6338017564998969},{"$f":"K334/Dźwignie!$D$3","v":0.86475884552983306},1.3944451043818473,1.1873354644909628,1.6556741257183698,null,{"$f":"C334*Dźwignie!$G$8","v":176760.35129997943},353520.70259995881,{"$f":"Dźwignie!$G$9","v":150000},203520.70259995881,{"$f":"V334-Dźwignie!$D$6","v":183520.70259995881},{"$f":"IF(W334>0,W334*(1-Dźwignie!$D$9),W334)","v":148651.76910596664},{"$f":"X334/Dźwignie!$D$5","v":14.865176910596665},{"$f":"V334/Dźwignie!$D$2","v":1.017603512999794},{"$f":"X334/Dźwignie!$D$3","v":1.4865176910596665},1.7370257574967234,1.1089795304652701,1.9263260089547964]
[323,0.40393644571304321,{"$f":"NORMINV(B335,Dźwignie!$L$8,Dźwignie!$L$9)","v":337841.44742433983},{"$f":"Dźwignie!$L$7*C335","v":506762.17113650974},null,{"$f":"C335*Dźwignie!$G$5","v":337841.44742433983},168920.72371216991,{"$f":"Dźwignie!$G$6","v":50000},118920.72371216991,{"$f":"I335-Dźwignie!$D$6","v":98920.723712169915},{"$f":"IF(J335>0,J335*(1-Dźwignie!$D$9),J335)","v":80125.786206857636},{"$f":"K335/Dźwignie!$D$5","v":8.0125786206857637},{"$f":"I335/Dźwignie!$D$2","v":0.59460361856084953},{"$f":"K335/Dźwignie!$D$3","v":0.80125786206857641},1.420448164451283,1.2021821035013258,1.7076373622546406,null,{"$f":"C335*Dźwignie!$G$8","v":168920.72371216991},337841.44742433983,{"$f":"Dźwignie!$G$9","v":150000},187841.44742433983,{"$f":"V335-Dźwignie!$D$6","v":167841.44742433983},{"$f":"IF(W335>0,W335*(1-Dźwignie!$D$9),W335)","v":135951.57241371527},{"$f":"X335/Dźwignie!$D$5","v":13.595157241371528},{"$f":"V335/Dźwignie!$D$2","v":0.93920723712169918},{"$f":"X335/Dźwignie!$D$3","v":1.3595157241371527},1.7985458058207207,1.1191600781982989,2.0128606646855403]
[324,0.14126014709472656,{"$f":"NORMINV(B336,Dźwignie!$L$8,Dźwignie!$L$9)","v":296266.25377985521},{"$f":"Dźwignie!$L$7*C336","v":444399.38066978281},null,{"$f":"C336*Dźwignie!$G$5","v":296266.25377985521},148133.1268899276,{"$f":"Dźwignie!$G$6","v":50000},98133.126889927604,{"$f":"I336-Dźwignie!$D$6","v":78133.126889927604},{"$f":"IF(J336>0,J336*(1-Dźwignie!$D$9),J336)","v":63287.83278084136},{"$f":"K336/Dźwignie!$D$5","v":6.3287832780841358},{"$f":"I336/Dźwignie!$D$2","v":0.49066563444963801},{"$f":"K336/Dźwignie!$D$3","v":0.63287832780841358},1.5095119414271105,1.2559733725769813,1.8959068040194347,null,{"$f":"C336*Dźwignie!$G$8","v":148133.1268899276},296266.25377985521,{"$f":"Dźwignie!$G$9","v":150000},146266.25377985521,{"$f":"V336-Dźwignie!$D$6","v":126266.25377985521},{"$f":"IF(W336>0,W336*(1-Dźwignie!$D$9),W336)","v":102275.66556168272},{"$f":"X336/Dźwignie!$D$5","v":10.227566556168272},{"$f":"V336/Dźwignie!$D$2","v":0.73133126889927602},{"$f":"X336/Dźwignie!$D$3","v":1.0227566556168273},2.0255270516859238,1.1583954493088069,2.3463613191248585]
[325,0.52200144529342651,{"$f":"NORMINV(B337,Dźwignie!$L$8,Dźwignie!$L$9)","v":352758.8715235219},{"$f":"Dźwignie!$L$7*C337","v":529138.30728528288},null,{"$f":"C337*Dźwignie!$G$5","v":352758.8715235219},176379.43576176098,{"$f":"Dźwignie!$G$6","v":50000},126379.43576176098,{"$f":"I337-Dźwignie!$D$6","v":106379.43576176098},{"$f":"IF(J337>0,J337*(1-Dźwignie!$D$9),J337)","v":86167.342967026401},{"$f":"K337/Dźwignie!$D$5","v":8.6167342967026403},{"$f":"I337/Dźwignie!$D$2","v":0.63189717880880492},{"$f":"K337/Dźwignie!$D$3","v":0.86167342967026406},1.3956339866420631,1.1880062613303424,1.6580219146561983,null,{"$f":"C337*Dźwignie!$G$8","v":176379.43576176095},352758.87152352196,{"$f":"Dźwignie!$G$9","v":150000},202758.87152352196,{"$f":"V337-Dźwignie!$D$6","v":182758.87152352196},{"$f":"IF(W337>0,W337*(1-Dźwignie!$D$9),W337)","v":148034.6859340528},{"$f":"X337/Dźwignie!$D$5","v":14.803468593405281},{"$f":"V337/Dźwignie!$D$2","v":1.0137943576176098},{"$f":"X337/Dźwignie!$D$3","v":1.480346859340528},1.7397950031626537,1.109433812067645,1.9301874025749834]
[326,0.53914034366607666,{"$f":"NORMINV(B338,Dźwignie!$L$8,Dźwignie!$L$9)","v":354913.41100702278},{"$f":"Dźwignie!$L$7*C338","v":532370.11651053419},null,{"$f":"C338*Dźwignie!$G$5","v":354913.41100702278},177456.70550351142,{"$f":"Dźwignie!$G$6","v":50000},127456.70550351142,{"$f":"I338-Dźwignie!$D$6","v":107456.70550351142},{"$f":"IF(J338>0,J338*(1-Dźwignie!$D$9),J338)","v":87039.931457844257},{"$f":"K338/Dźwignie!$D$5","v":8.7039931457844251},{"$f":"I338/Dźwignie!$D$2","v":0.63728352751755712},{"$f":"K338/Dźwignie!$D$3","v":0.87039931457844255},1.3922900705967369,1.1861214700961258,1.6514251453364404,null,{"$f":"C338*Dźwignie!$G$8","v":177456.70550351139},354913.41100702283,{"$f":"Dźwignie!$G$9","v":150000},204913.41100702283,{"$f":"V338-Dźwignie!$D$6","v":184913.41100702283},{"$f":"IF(W338>0,W338*(1-Dźwignie!$D$9),W338)","v":149779.86291568851},{"$f":"X338/Dźwignie!$D$5","v":14.977986291568852},{"$f":"V338/Dźwignie!$D$2","v":1.0245670550351142},{"$f":"X338/Dźwignie!$D$3","v":1.4977986291568852},1.7320165101095271,1.1081587316521917,1.919349219043629]
[327,0.19713526964187622,{"$f":"NORMINV(B339,Dźwignie!$L$8,Dźwignie!$L$9)","v":307405.08489288308},{"$f":"Dźwignie!$L$7*C339","v":461107.62733932462},null,{"$f":"C339*Dźwignie!$G$5","v":307405.08489288308},153702.54244644154,{"$f":"Dźwignie!$G$6","v":50000},103702.54244644154,{"$f":"I339-Dźwignie!$D$6","v":83702.542446441541},{"$f":"IF(J339>0,J339*(1-Dźwignie!$D$9),J339)","v":67799.059381617655},{"$f":"K339/Dźwignie!$D$5","v":6.7799059381617655},{"$f":"I339/Dźwignie!$D$2","v":0.51851271223220774},{"$f":"K339/Dźwignie!$D$3","v":0.67799059381617655},1.4821482561608663,1.2389413680330836,1.8362947881157929,null,{"$f":"C339*Dźwignie!$G$8","v":153702.54244644154},307405.08489288308,{"$f":"Dźwignie!$G$9","v":150000},157405.08489288308,{"$f":"V339-Dźwignie!$D$6","v":137405.08489288308},{"$f":"IF(W339>0,W339*(1-Dźwignie!$D$9),W339)","v":111298.11876323531},{"$f":"X339/Dźwignie!$D$5","v":11.129811876323531},{"$f":"V339/Dźwignie!$D$2","v":0.78702542446441537},{"$f":"X339/Dźwignie!$D$3","v":1.1129811876323532},1.9529552371327625,1.1455550208756204,2.2372176774427741]
[328,0.53241562843322754,{"$f":"NORMINV(B340,Dźwignie!$L$8,Dźwignie!$L$9)","v":354067.17735499173},{"$f":"Dźwignie!$L$7*C340","v":531100.76603248762},null,{"$f":"C340*Dźwignie!$G$5","v":354067.17735499173},177033.58867749589,{"$f":"Dźwignie!$G$6","v":50000},127033.58867749589,{"$f":"I340-Dźwignie!$D$6","v":107033.58867749589},{"$f":"IF(J340>0,J340*(1-Dźwignie!$D$9),J340)","v":86697.206828771683},{"$f":"K340/Dźwignie!$D$5","v":8.669720682877168},{"$f":"I340/Dźwignie!$D$2","v":0.63516794338747951},{"$f":"K340/Dźwignie!$D$3","v":0.86697206828771678},1.3935966898245828,1.1868572309601075,1.6540003083603763,null,{"$f":"C340*Dźwignie!$G$8","v":177033.58867749586},354067.17735499179,{"$f":"Dźwignie!$G$9","v":150000},204067.17735499179,{"$f":"V340-Dźwignie!$D$6","v":184067.17735499179},{"$f":"IF(W340>0,W340*(1-Dźwignie!$D$9),W340)","v":149094.41365754337},{"$f":"X340/Dźwignie!$D$5","v":14.909441365754336},{"$f":"V340/Dźwignie!$D$2","v":1.020335886774959},{"$f":"X340/Dźwignie!$D$3","v":1.4909441365754337},1.7350520644437717,1.1086559824918052,1.9235758511803447]
[329,0.28627914190292358,{"$f":"NORMINV(B341,Dźwignie!$L$8,Dźwignie!$L$9)","v":321785.61006768548},{"$f":"Dźwignie!$L$7*C341","v":482678.41510152823},null,{"$f":"C341*Dźwignie!$G$5","v":321785.61006768548},160892.80503384274,{"$f":"Dźwignie!$G$6","v":50000},110892.80503384274,{"$f":"I341-Dźwignie!$D$6","v":90892.805033842742},{"$f":"IF(J341>0,J341*(1-Dźwignie!$D$9),J341)","v":73623.17207741263},{"$f":"K341/Dźwignie!$D$5","v":7.3623172077412633},{"$f":"I341/Dźwignie!$D$2","v":0.55446402516921367},{"$f":"K341/Dźwignie!$D$3","v":0.73623172077412635},1.4508858801501214,1.2200394188797812,1.770137966079234,null,{"$f":"C341*Dźwignie!$G$8","v":160892.80503384274},321785.61006768548,{"$f":"Dźwignie!$G$9","v":150000},171785.61006768548,{"$f":"V341-Dźwignie!$D$6","v":151785.61006768548},{"$f":"IF(W341>0,W341*(1-Dźwignie!$D$9),W341)","v":122946.34415482524},{"$f":"X341/Dźwignie!$D$5","v":12.294634415482525},{"$f":"V341/Dźwignie!$D$2","v":0.85892805033842745},{"$f":"X341/Dźwignie!$D$3","v":1.2294634415482524},1.873181402917848,1.1317647963537614,2.1200007690069711]
[330,0.68307483196258545,{"$f":"NORMINV(B342,Dźwignie!$L$8,Dźwignie!$L$9)","v":373815.72504577338},{"$f":"Dźwignie!$L$7*C342","v":560723.58756866003},null,{"$f":"C342*Dźwignie!$G$5","v":373815.72504577338},186907.86252288666,{"$f":"Dźwignie!$G$6","v":50000},136907.86252288666,{"$f":"I342-Dźwignie!$D$6","v":116907.86252288666},{"$f":"IF(J342>0,J342*(1-Dźwignie!$D$9),J342)","v":94695.368643538197},{"$f":"K342/Dźwignie!$D$5","v":9.4695368643538202},{"$f":"I342/Dźwignie!$D$2","v":0.68453931261443324},{"$f":"K342/Dźwignie!$D$3","v":0.94695368643538191},1.3652091200506589,1.1710748923844594,1.5987621233456077,null,{"$f":"C342*Dźwignie!$G$8","v":186907.86252288669},373815.72504577332,{"$f":"Dźwignie!$G$9","v":150000},223815.72504577332,{"$f":"V342-Dźwignie!$D$6","v":203815.72504577332},{"$f":"IF(W342>0,W342*(1-Dźwignie!$D$9),W342)","v":165090.73728707639},{"$f":"X342/Dźwignie!$D$5","v":16.509073728707641},{"$f":"V342/Dźwignie!$D$2","v":1.1190786252288665},{"$f":"X342/Dźwignie!$D$3","v":1.6509073728707639},1.6701941964503297,1.0981278554218934,1.8340867710860931]
[331,0.70502907037734985,{"$f":"NORMINV(B343,Dźwignie!$L$8,Dźwignie!$L$9)","v":376946.01428561215},{"$f":"Dźwignie!$L$7*C343","v":565419.02142841823},null,{"$f":"C343*Dźwignie!$G$5","v":376946.01428561215},188473.00714280608,{"$f":"Dźwignie!$G$6","v":50000},138473.00714280608,{"$f":"I343-Dźwignie!$D$6","v":118473.00714280608},{"$f":"IF(J343>0,J343*(1-Dźwignie!$D$9),J343)","v":95963.13578567293},{"$f":"K343/Dźwignie!$D$5","v":9.5963135785672922},{"$f":"I343/Dźwignie!$D$2","v":0.69236503571403041},{"$f":"K343/Dźwignie!$D$3","v":0.95963135785672926},1.361081202984459,1.1688148252697952,1.590851888444283,null,{"$f":"C343*Dźwignie!$G$8","v":188473.00714280608},376946.01428561215,{"$f":"Dźwignie!$G$9","v":150000},226946.01428561215,{"$f":"V343-Dźwignie!$D$6","v":206946.01428561215},{"$f":"IF(W343>0,W343*(1-Dźwignie!$D$9),W343)","v":167626.27157134586},{"$f":"X343/Dźwignie!$D$5","v":16.762627157134585},{"$f":"V343/Dźwignie!$D$2","v":1.1347300714280608},{"$f":"X343/Dźwignie!$D$3","v":1.6762627157134586},1.6609501403766651,1.0966435621823449,1.8214702785499319]
[332,0.43964242935180664,{"$f":"NORMINV(B344,Dźwignie!$L$8,Dźwignie!$L$9)","v":342406.20765764214},{"$f":"Dźwignie!$L$7*C344","v":513609.31148646318},null,{"$f":"C344*Dźwignie!$G$5","v":342406.20765764214},171203.10382882104,{"$f":"Dźwignie!$G$6","v":50000},121203.10382882104,{"$f":"I344-Dźwignie!$D$6","v":101203.10382882104},{"$f":"IF(J344>0,J344*(1-Dźwignie!$D$9),J344)","v":81974.514101345048},{"$f":"K344/Dźwignie!$D$5","v":8.1974514101345051},{"$f":"I344/Dźwignie!$D$2","v":0.60601551914410523},{"$f":"K344/Dźwignie!$D$3","v":0.81974514101345053},1.4125306895656449,1.1976223973706261,1.6916783907971913,null,{"$f":"C344*Dźwignie!$G$8","v":171203.10382882107},342406.20765764208,{"$f":"Dźwignie!$G$9","v":150000},192406.20765764208,{"$f":"V344-Dźwignie!$D$6","v":172406.20765764208},{"$f":"IF(W344>0,W344*(1-Dźwignie!$D$9),W344)","v":139649.0282026901},{"$f":"X344/Dźwignie!$D$5","v":13.96490282026901},{"$f":"V344/Dźwignie!$D$2","v":0.96203103828821035},{"$f":"X344/Dźwignie!$D$3","v":1.396490282026901},1.7796006263316746,1.1160051037124792,1.9860433815560734]
[333,0.52187412977218628,{"$f":"NORMINV(B345,Dźwignie!$L$8,Dźwignie!$L$9)","v":352742.89072102524},{"$f":"Dźwignie!$L$7*C345","v":529114.33608153788},null,{"$f":"C345*Dźwignie!$G$5","v":352742.89072102524},176371.44536051265,{"$f":"Dźwignie!$G$6","v":50000},126371.44536051265,{"$f":"I345-Dźwignie!$D$6","v":106371.44536051265},{"$f":"IF(J345>0,J345*(1-Dźwignie!$D$9),J345)","v":86160.87074201525},{"$f":"K345/Dźwignie!$D$5","v":8.6160870742015252},{"$f":"I345/Dźwignie!$D$2","v":0.63185722680256329},{"$f":"K345/Dźwignie!$D$3","v":0.8616087074201525},1.3956590023747844,1.1880203839688017,1.6580713438908061,null,{"$f":"C345*Dźwignie!$G$8","v":176371.44536051262},352742.89072102529,{"$f":"Dźwignie!$G$9","v":150000},202742.89072102529,{"$f":"V345-Dźwignie!$D$6","v":182742.89072102529},{"$f":"IF(W345>0,W345*(1-Dźwignie!$D$9),W345)","v":148021.7414840305},{"$f":"X345/Dźwignie!$D$5","v":14.802174148403051},{"$f":"V345/Dźwignie!$D$2","v":1.0137144536051266},{"$f":"X345/Dźwignie!$D$3","v":1.4802174148403049},1.7398533160228062,1.1094433820166056,1.9302687471411484]
[334,0.35446369647979736,{"$f":"NORMINV(B346,Dźwignie!$L$8,Dźwignie!$L$9)","v":331335.14892232028},{"$f":"Dźwignie!$L$7*C346","v":497002.72338348045},null,{"$f":"C346*Dźwignie!$G$5","v":331335.14892232028},165667.57446116017,{"$f":"Dźwignie!$G$6","v":50000},115667.57446116017,{"$f":"I346-Dźwignie!$D$6","v":95667.574461160169},{"$f":"IF(J346>0,J346*(1-Dźwignie!$D$9),J346)","v":77490.735313539742},{"$f":"K346/Dźwignie!$D$5","v":7.7490735313539743},{"$f":"I346/Dźwignie!$D$2","v":0.5783378723058008},{"$f":"K346/Dźwignie!$D$3","v":0.77490735313539738},1.4322732644211313,1.2090572496757483,1.7317003738651189,null,{"$f":"C346*Dźwignie!$G$8","v":165667.57446116014},331335.14892232034,{"$f":"Dźwignie!$G$9","v":150000},181335.14892232034,{"$f":"V346-Dźwignie!$D$6","v":161335.14892232034},{"$f":"IF(W346>0,W346*(1-Dźwignie!$D$9),W346)","v":130681.47062707948},{"$f":"X346/Dźwignie!$D$5","v":13.068147062707949},{"$f":"V346/Dźwignie!$D$2","v":0.90667574461160172},{"$f":"X346/Dźwignie!$D$3","v":1.3068147062707949},1.8271976000872088,1.1239655470837888,2.0537071502122055]
[335,0.80634099245071411,{"$f":"NORMINV(B347,Dźwignie!$L$8,Dźwignie!$L$9)","v":393224.56886424217},{"$f":"Dźwignie!$L$7*C347","v":589836.85329636326},null,{"$f":"C347*Dźwignie!$G$5","v":393224.56886424217},196612.28443212109,{"$f":"Dźwignie!$G$6","v":50000},146612.28443212109,{"$f":"I347-Dźwignie!$D$6","v":126612.28443212109},{"$f":"IF(J347>0,J347*(1-Dźwignie!$D$9),J347)","v":102555.95039001809},{"$f":"K347/Dźwignie!$D$5","v":10.255595039001809},{"$f":"I347/Dźwignie!$D$2","v":0.73306142216060544},{"$f":"K347/Dźwignie!$D$3","v":1.0255595039001808},1.3410355427832457,1.1579625554479458,1.5528689440678103,null,{"$f":"C347*Dźwignie!$G$8","v":196612.28443212109},393224.56886424217,{"$f":"Dźwignie!$G$9","v":150000},243224.56886424217,{"$f":"V347-Dźwignie!$D$6","v":223224.56886424217},{"$f":"IF(W347>0,W347*(1-Dźwignie!$D$9),W347)","v":180811.90078003617},{"$f":"X347/Dźwignie!$D$5","v":18.081190078003619},{"$f":"V347/Dźwignie!$D$2","v":1.2161228443212109},{"$f":"X347/Dźwignie!$D$3","v":1.8081190078003617},1.6167140133105704,1.0895958724514923,1.7615649158376845]
[336,3.9271116256713867E-2,{"$f":"NORMINV(B348,Dźwignie!$L$8,Dźwignie!$L$9)","v":262039.61371138348},{"$f":"Dźwignie!$L$7*C348","v":393059.42056707526},null,{"$f":"C348*Dźwignie!$G$5","v":262039.61371138348},131019.80685569177,{"$f":"Dźwignie!$G$6","v":50000},81019.806855691771,{"$f":"I348-Dźwignie!$D$6","v":61019.806855691771},{"$f":"IF(J348>0,J348*(1-Dźwignie!$D$9),J348)","v":49426.043553110336},{"$f":"K348/Dźwignie!$D$5","v":4.9426043553110333},{"$f":"I348/Dźwignie!$D$2","v":0.40509903427845884},{"$f":"K348/Dźwignie!$D$3","v":0.49426043553110338},1.6171330436402716,1.3277624271623609,2.147168495068263,null,{"$f":"C348*Dźwignie!$G$8","v":131019.80685569174},262039.61371138351,{"$f":"Dźwignie!$G$9","v":150000},112039.61371138351,{"$f":"V348-Dźwignie!$D$6","v":92039.613711383514},{"$f":"IF(W348>0,W348*(1-Dźwignie!$D$9),W348)","v":74552.087106220657},{"$f":"X348/Dźwignie!$D$5","v":7.4552087106220659},{"$f":"V348/Dźwignie!$D$2","v":0.56019806855691756},{"$f":"X348/Dźwignie!$D$3","v":0.74552087106220655},2.3388121846475056,1.2172977394572266,2.8470307853864263]
[337,0.2622947096824646,{"$f":"NORMINV(B349,Dźwignie!$L$8,Dźwignie!$L$9)","v":318185.65328198305},{"$f":"Dźwignie!$L$7*C349","v":477278.4799229746},null,{"$f":"C349*Dźwignie!$G$5","v":318185.65328198305},159092.82664099155,{"$f":"Dźwignie!$G$6","v":50000},109092.82664099155,{"$f":"I349-Dźwignie!$D$6","v":89092.826640991552},{"$f":"IF(J349>0,J349*(1-Dźwignie!$D$9),J349)","v":72165.189579203157},{"$f":"K349/Dźwignie!$D$5","v":7.2165189579203162},{"$f":"I349/Dźwignie!$D$2","v":0.54546413320495779},{"$f":"K349/Dźwignie!$D$3","v":0.72165189579203159},1.4583252771013318,1.224484964211451,1.7856973747400786,null,{"$f":"C349*Dźwignie!$G$8","v":159092.82664099152},318185.6532819831,{"$f":"Dźwignie!$G$9","v":150000},168185.6532819831,{"$f":"V349-Dźwignie!$D$6","v":148185.6532819831},{"$f":"IF(W349>0,W349*(1-Dźwignie!$D$9),W349)","v":120030.37915840633},{"$f":"X349/Dźwignie!$D$5","v":12.003037915840633},{"$f":"V349/Dźwignie!$D$2","v":0.84092826640991547},{"$f":"X349/Dźwignie!$D$3","v":1.2003037915840633},1.891871554278814,1.1349658320967275,2.1472095728221832]
[338,0.7652820348739624,{"$f":"NORMINV(B350,Dźwignie!$L$8,Dźwignie!$L$9)","v":386169.85680255259},{"$f":"Dźwignie!$L$7*C350","v":579254.78520382894},null,{"$f":"C350*Dźwignie!$G$5","v":386169.85680255259},193084.92840127635,{"$f":"Dźwignie!$G$6","v":50000},143084.92840127635,{"$f":"I350-Dźwignie!$D$6","v":123084.92840127635},{"$f":"IF(J350>0,J350*(1-Dźwignie!$D$9),J350)","v":99698.792005033858},{"$f":"K350/Dźwignie!$D$5","v":9.9698792005033852},{"$f":"I350/Dźwignie!$D$2","v":0.71542464200638178},{"$f":"K350/Dźwignie!$D$3","v":0.99698792005033854},1.3494428138495262,1.1624894311576217,1.5687130090516761,null,{"$f":"C350*Dźwignie!$G$8","v":193084.92840127629},386169.85680255265,{"$f":"Dźwignie!$G$9","v":150000},236169.85680255265,{"$f":"V350-Dźwignie!$D$6","v":216169.85680255265},{"$f":"IF(W350>0,W350*(1-Dźwignie!$D$9),W350)","v":175097.58401006766},{"$f":"X350/Dźwignie!$D$5","v":17.509758401006767},{"$f":"V350/Dźwignie!$D$2","v":1.1808492840127633},{"$f":"X350/Dźwignie!$D$3","v":1.7509758401006765},1.6351360924328542,1.0925198373900382,1.7864186178153243]
[339,0.92764574289321899,{"$f":"NORMINV(B351,Dźwignie!$L$8,Dźwignie!$L$9)","v":422923.95819666825},{"$f":"Dźwignie!$L$7*C351","v":634385.9372950024},null,{"$f":"C351*Dźwignie!$G$5","v":422923.95819666825},211461.97909833415,{"$f":"Dźwignie!$G$6","v":50000},161461.97909833415,{"$f":"I351-Dźwignie!$D$6","v":141461.97909833415},{"$f":"IF(J351>0,J351*(1-Dźwignie!$D$9),J351)","v":114584.20306965067},{"$f":"K351/Dźwignie!$D$5","v":11.458420306965067},{"$f":"I351/Dźwignie!$D$2","v":0.80730989549167076},{"$f":"K351/Dźwignie!$D$3","v":1.1458420306965067},1.3096704269278703,1.1413807450417293,1.4948326076460523,null,{"$f":"C351*Dźwignie!$G$8","v":211461.97909833412},422923.9581966683,{"$f":"Dźwignie!$G$9","v":150000},272923.9581966683,{"$f":"V351-Dźwignie!$D$6","v":252923.9581966683},{"$f":"IF(W351>0,W351*(1-Dźwignie!$D$9),W351)","v":204868.40613930134},{"$f":"X351/Dźwignie!$D$5","v":20.486840613930134},{"$f":"V351/Dźwignie!$D$2","v":1.3646197909833415},{"$f":"X351/Dźwignie!$D$3","v":2.0486840613930135},1.5496036368192725,1.0790751502649205,1.6721387772518237]
[340,0.86407756805419922,{"$f":"NORMINV(B352,Dźwignie!$L$8,Dźwignie!$L$9)","v":404941.1974509987},{"$f":"Dźwignie!$L$7*C352","v":607411.79617649806},null,{"$f":"C352*Dźwignie!$G$5","v":404941.1974509987},202470.59872549935,{"$f":"Dźwignie!$G$6","v":50000},152470.59872549935,{"$f":"I352-Dźwignie!$D$6","v":132470.59872549935},{"$f":"IF(J352>0,J352*(1-Dźwignie!$D$9),J352)","v":107301.18496765448},{"$f":"K352/Dźwignie!$D$5","v":10.730118496765447},{"$f":"I352/Dźwignie!$D$2","v":0.76235299362749676},{"$f":"K352/Dźwignie!$D$3","v":1.0730118496765448},1.3279320762032132,1.1509768974581542,1.5284191411035395,null,{"$f":"C352*Dźwignie!$G$8","v":202470.59872549935},404941.1974509987,{"$f":"Dźwignie!$G$9","v":150000},254941.1974509987,{"$f":"V352-Dźwignie!$D$6","v":234941.1974509987},{"$f":"IF(W352>0,W352*(1-Dźwignie!$D$9),W352)","v":190302.36993530896},{"$f":"X352/Dźwignie!$D$5","v":19.030236993530895},{"$f":"V352/Dźwignie!$D$2","v":1.2747059872549935},{"$f":"X352/Dźwignie!$D$3","v":1.9030236993530896},1.5883709714230512,1.0851276839353445,1.7235853134504289]
[341,0.47171324491500854,{"$f":"NORMINV(B353,Dźwignie!$L$8,Dźwignie!$L$9)","v":346451.80519955582},{"$f":"Dźwignie!$L$7*C353","v":519677.70779933373},null,{"$f":"C353*Dźwignie!$G$5","v":346451.80519955582},173225.90259977791,{"$f":"Dźwignie!$G$6","v":50000},123225.90259977791,{"$f":"I353-Dźwignie!$D$6","v":103225.90259977791},{"$f":"IF(J353>0,J353*(1-Dźwignie!$D$9),J353)","v":83612.981105820116},{"$f":"K353/Dźwignie!$D$5","v":8.3612981105820108},{"$f":"I353/Dźwignie!$D$2","v":0.61612951299888952},{"$f":"K353/Dźwignie!$D$3","v":0.83612981105820117},1.4057588457062771,1.1937498195345693,1.6781243683709925,null,{"$f":"C353*Dźwignie!$G$8","v":173225.90259977791},346451.80519955582,{"$f":"Dźwignie!$G$9","v":150000},196451.80519955582,{"$f":"V353-Dźwignie!$D$6","v":176451.80519955582},{"$f":"IF(W353>0,W353*(1-Dźwignie!$D$9),W353)","v":142925.96221164023},{"$f":"X353/Dźwignie!$D$5","v":14.292596221164024},{"$f":"V353/Dźwignie!$D$2","v":0.98225902599777914},{"$f":"X353/Dźwignie!$D$3","v":1.4292596221164022},1.7635460506337926,1.1133453975003615,1.9634358787530726]
[342,0.33551275730133057,{"$f":"NORMINV(B354,Dźwignie!$L$8,Dźwignie!$L$9)","v":328762.95155570074},{"$f":"Dźwignie!$L$7*C354","v":493144.42733355111},null,{"$f":"C354*Dźwignie!$G$5","v":328762.95155570074},164381.47577785037,{"$f":"Dźwignie!$G$6","v":50000},114381.47577785037,{"$f":"I354-Dźwignie!$D$6","v":94381.47577785037},{"$f":"IF(J354>0,J354*(1-Dźwignie!$D$9),J354)","v":76448.995380058812},{"$f":"K354/Dźwignie!$D$5","v":7.6448995380058813},{"$f":"I354/Dźwignie!$D$2","v":0.57190737888925181},{"$f":"K354/Dźwignie!$D$3","v":0.76448995380058815},1.4371337199487537,1.2119059893392092,1.7416709626872324,null,{"$f":"C354*Dźwignie!$G$8","v":164381.47577785037},328762.95155570074,{"$f":"Dźwignie!$G$9","v":150000},178762.95155570074,{"$f":"V354-Dźwignie!$D$6","v":158762.95155570074},{"$f":"IF(W354>0,W354*(1-Dźwignie!$D$9),W354)","v":128597.99076011761},{"$f":"X354/Dźwignie!$D$5","v":12.859799076011761},{"$f":"V354/Dźwignie!$D$2","v":0.89381475777850372},{"$f":"X354/Dźwignie!$D$3","v":1.2859799076011762},1.8391000411137288,1.1259739744318318,2.0707787826705704]
[343,0.8714945912361145,{"$f":"NORMINV(B355,Dźwignie!$L$8,Dźwignie!$L$9)","v":406674.22847324482},{"$f":"Dźwignie!$L$7*C355","v":610011.34270986728},null,{"$f":"C355*Dźwignie!$G$5","v":406674.22847324482},203337.11423662247,{"$f":"Dźwignie!$G$6","v":50000},153337.11423662247,{"$f":"I355-Dźwignie!$D$6","v":133337.11423662247},{"$f":"IF(J355>0,J355*(1-Dźwignie!$D$9),J355)","v":108003.06253166421},{"$f":"K355/Dźwignie!$D$5","v":10.80030625316642},{"$f":"I355/Dźwignie!$D$2","v":0.76668557118311231},{"$f":"K355/Dźwignie!$D$3","v":1.0800306253166421},1.3260789160466553,1.1499957466044124,1.5249851131154433,null,{"$f":"C355*Dźwignie!$G$8","v":203337.11423662241},406674.22847324488,{"$f":"Dźwignie!$G$9","v":150000},256674.22847324488,{"$f":"V355-Dźwignie!$D$6","v":236674.22847324488},{"$f":"IF(W355>0,W355*(1-Dźwignie!$D$9),W355)","v":191706.12506332836},{"$f":"X355/Dźwignie!$D$5","v":19.170612506332837},{"$f":"V355/Dźwignie!$D$2","v":1.2833711423662244},{"$f":"X355/Dźwignie!$D$3","v":1.9170612506332836},1.5843983671139608,1.0845043422303198,1.7182869089577186]
[344,0.3189079761505127,{"$f":"NORMINV(B356,Dźwignie!$L$8,Dźwignie!$L$9)","v":326462.2674484225},{"$f":"Dźwignie!$L$7*C356","v":489693.40117263375},null,{"$f":"C356*Dźwignie!$G$5","v":326462.2674484225},163231.13372421125,{"$f":"Dźwignie!$G$6","v":50000},113231.13372421125,{"$f":"I356-Dźwignie!$D$6","v":93231.13372421125},{"$f":"IF(J356>0,J356*(1-Dźwignie!$D$9),J356)","v":75517.218316611121},{"$f":"K356/Dźwignie!$D$5","v":7.5517218316611121},{"$f":"I356/Dźwignie!$D$2","v":0.56615566862105626},{"$f":"K356/Dźwignie!$D$3","v":0.75517218316611123},1.4415746655136503,1.2145206134590445,1.7508221471066554,null,{"$f":"C356*Dźwignie!$G$8","v":163231.13372421125},326462.2674484225,{"$f":"Dźwignie!$G$9","v":150000},176462.2674484225,{"$f":"V356-Dźwignie!$D$6","v":156462.2674484225},{"$f":"IF(W356>0,W356*(1-Dźwignie!$D$9),W356)","v":126734.43663322223},{"$f":"X356/Dźwignie!$D$5","v":12.673443663322223},{"$f":"V356/Dźwignie!$D$2","v":0.88231133724211253},{"$f":"X356/Dźwignie!$D$3","v":1.2673443663322224},1.8500400803465984,1.1278263464166718,2.0865239445417099]
[345,0.49809116125106812,{"$f":"NORMINV(B357,Dźwignie!$L$8,Dźwignie!$L$9)","v":349760.76162816008},{"$f":"Dźwignie!$L$7*C357","v":524641.14244224015},null,{"$f":"C357*Dźwignie!$G$5","v":349760.76162816008},174880.38081408007,{"$f":"Dźwignie!$G$6","v":50000},124880.38081408007,{"$f":"I357-Dźwignie!$D$6","v":104880.38081408007},{"$f":"IF(J357>0,J357*(1-Dźwignie!$D$9),J357)","v":84953.108459404859},{"$f":"K357/Dźwignie!$D$5","v":8.4953108459404856},{"$f":"I357/Dźwignie!$D$2","v":0.6244019040704003},{"$f":"K357/Dźwignie!$D$3","v":0.84953108459404858},1.4003831480498061,1.1906934342224949,1.6674270197787322,null,{"$f":"C357*Dźwignie!$G$8","v":174880.38081408004},349760.76162816014,{"$f":"Dźwignie!$G$9","v":150000},199760.76162816014,{"$f":"V357-Dźwignie!$D$6","v":179760.76162816014},{"$f":"IF(W357>0,W357*(1-Dźwignie!$D$9),W357)","v":145606.21691880972},{"$f":"X357/Dźwignie!$D$5","v":14.560621691880971},{"$f":"V357/Dźwignie!$D$2","v":0.99880380814080072},{"$f":"X357/Dźwignie!$D$3","v":1.4560621691880973},1.7508982183358606,1.1112589856587864,1.9457013780996848]
[346,0.33377158641815186,{"$f":"NORMINV(B358,Dźwignie!$L$8,Dźwignie!$L$9)","v":328523.88527440612},{"$f":"Dźwignie!$L$7*C358","v":492785.8279116092},null,{"$f":"C358*Dźwignie!$G$5","v":328523.88527440612},164261.94263720309,{"$f":"Dźwignie!$G$6","v":50000},114261.94263720309,{"$f":"I358-Dźwignie!$D$6","v":94261.942637203087},{"$f":"IF(J358>0,J358*(1-Dźwignie!$D$9),J358)","v":76352.173536134505},{"$f":"K358/Dźwignie!$D$5","v":7.6352173536134504},{"$f":"I358/Dźwignie!$D$2","v":0.57130971318601542},{"$f":"K358/Dźwignie!$D$3","v":0.76352173536134504},1.4375910197742452,1.2121747063602999,1.7426114722610497,null,{"$f":"C358*Dźwignie!$G$8","v":164261.94263720306},328523.88527440617,{"$f":"Dźwignie!$G$9","v":150000},178523.88527440617,{"$f":"V358-Dźwignie!$D$6","v":158523.88527440617},{"$f":"IF(W358>0,W358*(1-Dźwignie!$D$9),W358)","v":128404.34707226901},{"$f":"X358/Dźwignie!$D$5","v":12.840434707226901},{"$f":"V358/Dźwignie!$D$2","v":0.89261942637203084},{"$f":"X358/Dźwignie!$D$3","v":1.2840434707226902},1.840223703228492,1.126163952929742,2.0723935999028069]
[347,0.89454036951065063,{"$f":"NORMINV(B359,Dźwignie!$L$8,Dźwignie!$L$9)","v":412552.0854058548},{"$f":"Dźwignie!$L$7*C359","v":618828.12810878223},null,{"$f":"C359*Dźwignie!$G$5","v":412552.0854058548},206276.04270292743,{"$f":"Dźwignie!$G$6","v":50000},156276.04270292743,{"$f":"I359-Dźwignie!$D$6","v":136276.04270292743},{"$f":"IF(J359>0,J359*(1-Dźwignie!$D$9),J359)","v":110383.59458937122},{"$f":"K359/Dźwignie!$D$5","v":11.038359458937123},{"$f":"I359/Dźwignie!$D$2","v":0.78138021351463716},{"$f":"K359/Dźwignie!$D$3","v":1.1038359458937121},1.3199466734325196,1.1467609390712838,1.5136632867494935,null,{"$f":"C359*Dźwignie!$G$8","v":206276.0427029274},412552.08540585486,{"$f":"Dźwignie!$G$9","v":150000},262552.08540585486,{"$f":"V359-Dźwignie!$D$6","v":242552.08540585486},{"$f":"IF(W359>0,W359*(1-Dźwignie!$D$9),W359)","v":196467.18917874244},{"$f":"X359/Dźwignie!$D$5","v":19.646718917874242},{"$f":"V359/Dźwignie!$D$2","v":1.3127604270292743},{"$f":"X359/Dźwignie!$D$3","v":1.9646718917874244},1.5713152107252508,1.0824565163665141,1.7008803891153699]
[348,0.4463038444519043,{"$f":"NORMINV(B360,Dźwignie!$L$8,Dźwignie!$L$9)","v":343249.73531616258},{"$f":"Dźwignie!$L$7*C360","v":514874.60297424387},null,{"$f":"C360*Dźwignie!$G$5","v":343249.73531616258},171624.86765808129,{"$f":"Dźwignie!$G$6","v":50000},121624.86765808129,{"$f":"I360-Dźwignie!$D$6","v":101624.86765808129},{"$f":"IF(J360>0,J360*(1-Dźwignie!$D$9),J360)","v":82316.142803045848},{"$f":"K360/Dźwignie!$D$5","v":8.2316142803045853},{"$f":"I360/Dźwignie!$D$2","v":0.60812433829040646},{"$f":"K360/Dźwignie!$D$3","v":0.82316142803045844},1.4111001389992286,1.1968022243068532,1.6888077850739867,null,{"$f":"C360*Dźwignie!$G$8","v":171624.86765808129},343249.73531616258,{"$f":"Dźwignie!$G$9","v":150000},193249.73531616258,{"$f":"V360-Dźwignie!$D$6","v":173249.73531616258},{"$f":"IF(W360>0,W360*(1-Dźwignie!$D$9),W360)","v":140332.2856060917},{"$f":"X360/Dźwignie!$D$5","v":14.033228560609169},{"$f":"V360/Dźwignie!$D$2","v":0.96624867658081293},{"$f":"X360/Dźwignie!$D$3","v":1.403322856060917},1.7761976995963038,1.1154402918047874,1.9812424803406934]
[349,0.77630394697189331,{"$f":"NORMINV(B361,Dźwignie!$L$8,Dźwignie!$L$9)","v":387988.49767006474},{"$f":"Dźwignie!$L$7*C361","v":581982.74650509714},null,{"$f":"C361*Dźwignie!$G$5","v":387988.49767006474},193994.2488350324,{"$f":"Dźwignie!$G$6","v":50000},143994.2488350324,{"$f":"I361-Dźwignie!$D$6","v":123994.2488350324},{"$f":"IF(J361>0,J361*(1-Dźwignie!$D$9),J361)","v":100435.34155637625},{"$f":"K361/Dźwignie!$D$5","v":10.043534155637625},{"$f":"I361/Dźwignie!$D$2","v":0.71997124417516201},{"$f":"K361/Dźwignie!$D$3","v":1.0043534155637626},1.3472360903613776,1.1612978036312709,1.5645423127094482,null,{"$f":"C361*Dźwignie!$G$8","v":193994.24883503237},387988.4976700648,{"$f":"Dźwignie!$G$9","v":150000},237988.4976700648,{"$f":"V361-Dźwignie!$D$6","v":217988.4976700648},{"$f":"IF(W361>0,W361*(1-Dźwignie!$D$9),W361)","v":176570.68311275251},{"$f":"X361/Dźwignie!$D$5","v":17.65706831127525},{"$f":"V361/Dźwignie!$D$2","v":1.189942488350324},{"$f":"X361/Dźwignie!$D$3","v":1.765706831127525},1.6302825618402466,1.0917479601619664,1.7798576613767141]
[350,0.76793205738067627,{"$f":"NORMINV(B362,Dźwignie!$L$8,Dźwignie!$L$9)","v":386602.6773607533},{"$f":"Dźwignie!$L$7*C362","v":579904.01604112994},null,{"$f":"C362*Dźwignie!$G$5","v":386602.6773607533},193301.33868037665,{"$f":"Dźwignie!$G$6","v":50000},143301.33868037665,{"$f":"I362-Dźwignie!$D$6","v":123301.33868037665},{"$f":"IF(J362>0,J362*(1-Dźwignie!$D$9),J362)","v":99874.084331105085},{"$f":"K362/Dźwignie!$D$5","v":9.9874084331105077},{"$f":"I362/Dźwignie!$D$2","v":0.71650669340188322},{"$f":"K362/Dźwignie!$D$3","v":0.99874084331105084},1.3489150936092886,1.1622042405544701,1.5677148419406453,null,{"$f":"C362*Dźwignie!$G$8","v":193301.33868037665},386602.6773607533,{"$f":"Dźwignie!$G$9","v":150000},236602.6773607533,{"$f":"V362-Dźwignie!$D$6","v":216602.6773607533},{"$f":"IF(W362>0,W362*(1-Dźwignie!$D$9),W362)","v":175448.16866221017},{"$f":"X362/Dźwignie!$D$5","v":17.544816866221016},{"$f":"V362/Dźwignie!$D$2","v":1.1830133868037664},{"$f":"X362/Dźwignie!$D$3","v":1.7544816866221018},1.6339742291727819,1.0923349620775455,1.7848471776591375]
[351,3.5662472248077393E-2,{"$f":"NORMINV(B363,Dźwignie!$L$8,Dźwignie!$L$9)","v":259829.8492593054},{"$f":"Dźwignie!$L$7*C363","v":389744.77388895809},null,{"$f":"C363*Dźwignie!$G$5","v":259829.8492593054},129914.9246296527,{"$f":"Dźwignie!$G$6","v":50000},79914.924629652698,{"$f":"I363-Dźwignie!$D$6","v":59914.924629652698},{"$f":"IF(J363>0,J363*(1-Dźwignie!$D$9),J363)","v":48531.08895001869},{"$f":"K363/Dźwignie!$D$5","v":4.8531088950018688},{"$f":"I363/Dźwignie!$D$2","v":0.39957462314826347},{"$f":"K363/Dźwignie!$D$3","v":0.48531088950018691},1.6256653589015253,1.3338066453996962,2.1683232588989365,null,{"$f":"C363*Dźwignie!$G$8","v":129914.9246296527},259829.8492593054,{"$f":"Dźwignie!$G$9","v":150000},109829.8492593054,{"$f":"V363-Dźwignie!$D$6","v":89829.849259305396},{"$f":"IF(W363>0,W363*(1-Dźwignie!$D$9),W363)","v":72762.177900037379},{"$f":"X363/Dźwignie!$D$5","v":7.2762177900037379},{"$f":"V363/Dźwignie!$D$2","v":0.54914924629652695},{"$f":"X363/Dźwignie!$D$3","v":0.72762177900037384},2.3657489381220396,1.2226431432860076,2.8924667179310655]
[352,0.94212698936462402,{"$f":"NORMINV(B364,Dźwignie!$L$8,Dźwignie!$L$9)","v":428644.12644201546},{"$f":"Dźwignie!$L$7*C364","v":642966.18966302322},null,{"$f":"C364*Dźwignie!$G$5","v":428644.12644201546},214322.06322100776,{"$f":"Dźwignie!$G$6","v":50000},164322.06322100776,{"$f":"I364-Dźwignie!$D$6","v":144322.06322100776},{"$f":"IF(J364>0,J364*(1-Dźwignie!$D$9),J364)","v":116900.87120901629},{"$f":"K364/Dźwignie!$D$5","v":11.690087120901628},{"$f":"I364/Dźwignie!$D$2","v":0.82161031610503876},{"$f":"K364/Dźwignie!$D$3","v":1.1690087120901629},1.3042805026903275,1.1385789501177861,1.4850263254122513,null,{"$f":"C364*Dźwignie!$G$8","v":214322.06322100773},428644.12644201552,{"$f":"Dźwignie!$G$9","v":150000},278644.12644201552,{"$f":"V364-Dźwignie!$D$6","v":258644.12644201552},{"$f":"IF(W364>0,W364*(1-Dźwignie!$D$9),W364)","v":209501.74241803258},{"$f":"X364/Dźwignie!$D$5","v":20.950174241803257},{"$f":"V364/Dźwignie!$D$2","v":1.3932206322100775},{"$f":"X364/Dźwignie!$D$3","v":2.0950174241803259},1.5383210545843473,1.0773263258482837,1.6572737697104121]
[353,0.78126615285873413,{"$f":"NORMINV(B365,Dźwignie!$L$8,Dźwignie!$L$9)","v":388823.82472213189},{"$f":"Dźwignie!$L$7*C365","v":583235.7370831978},null,{"$f":"C365*Dźwignie!$G$5","v":388823.82472213189},194411.91236106592,{"$f":"Dźwignie!$G$6","v":50000},144411.91236106592,{"$f":"I365-Dźwignie!$D$6","v":124411.91236106592},{"$f":"IF(J365>0,J365*(1-Dźwignie!$D$9),J365)","v":100773.6490124634},{"$f":"K365/Dźwignie!$D$5","v":10.077364901246341},{"$f":"I365/Dźwignie!$D$2","v":0.7220595618053296},{"$f":"K365/Dźwignie!$D$3","v":1.007736490124634},1.3462318252180436,1.1607563103921783,1.5626470863726243,null,{"$f":"C365*Dźwignie!$G$8","v":194411.91236106594},388823.82472213183,{"$f":"Dźwignie!$G$9","v":150000},238823.82472213183,{"$f":"V365-Dźwignie!$D$6","v":218823.82472213183},{"$f":"IF(W365>0,W365*(1-Dźwignie!$D$9),W365)","v":177247.2980249268},{"$f":"X365/Dźwignie!$D$5","v":17.724729802492678},{"$f":"V365/Dźwignie!$D$2","v":1.1941191236106592},{"$f":"X365/Dźwignie!$D$3","v":1.772472980249268},1.6280780411021509,1.091397726117787,1.7768806720011885]
[354,0.52575051784515381,{"$f":"NORMINV(B366,Dźwignie!$L$8,Dźwignie!$L$9)","v":353229.59310337127},{"$f":"Dźwignie!$L$7*C366","v":529844.38965505688},null,{"$f":"C366*Dźwignie!$G$5","v":353229.59310337127},176614.79655168561,{"$f":"Dźwignie!$G$6","v":50000},126614.79655168561,{"$f":"I366-Dźwignie!$D$6","v":106614.79655168561},{"$f":"IF(J366>0,J366*(1-Dźwignie!$D$9),J366)","v":86357.985206865342},{"$f":"K366/Dźwignie!$D$5","v":8.6357985206865333},{"$f":"I366/Dźwignie!$D$2","v":0.63307398275842808},{"$f":"K366/Dźwignie!$D$3","v":0.8635798520686534},1.3948985534213565,1.1875912222962808,1.6565692780369827,null,{"$f":"C366*Dźwignie!$G$8","v":176614.79655168563},353229.59310337121,{"$f":"Dźwignie!$G$9","v":150000},203229.59310337121,{"$f":"V366-Dźwignie!$D$6","v":183229.59310337121},{"$f":"IF(W366>0,W366*(1-Dźwignie!$D$9),W366)","v":148415.97041373068},{"$f":"X366/Dźwignie!$D$5","v":14.841597041373069},{"$f":"V366/Dźwignie!$D$2","v":1.0161479655168562},{"$f":"X366/Dźwignie!$D$3","v":1.4841597041373069},1.7380814856215532,1.1091526737644217,1.9277977269975841]
[355,0.69409185647964478,{"$f":"NORMINV(B367,Dźwignie!$L$8,Dźwignie!$L$9)","v":375374.12679796532},{"$f":"Dźwignie!$L$7*C367","v":563061.19019694801},null,{"$f":"C367*Dźwignie!$G$5","v":375374.12679796532},187687.06339898269,{"$f":"Dźwignie!$G$6","v":50000},137687.06339898269,{"$f":"I367-Dźwignie!$D$6","v":117687.06339898269},{"$f":"IF(J367>0,J367*(1-Dźwignie!$D$9),J367)","v":95326.52135317598},{"$f":"K367/Dźwignie!$D$5","v":9.5326521353175977},{"$f":"I367/Dźwignie!$D$2","v":0.68843531699491345},{"$f":"K367/Dźwignie!$D$3","v":0.95326521353175975},1.3631423226386381,1.1699422130382844,1.5947977456339952,null,{"$f":"C367*Dźwignie!$G$8","v":187687.06339898266},375374.12679796538,{"$f":"Dźwignie!$G$9","v":150000},225374.12679796538,{"$f":"V367-Dźwignie!$D$6","v":205374.12679796538},{"$f":"IF(W367>0,W367*(1-Dźwignie!$D$9),W367)","v":166353.04270635196},{"$f":"X367/Dźwignie!$D$5","v":16.635304270635196},{"$f":"V367/Dźwignie!$D$2","v":1.1268706339898269},{"$f":"X367/Dźwignie!$D$3","v":1.6635304270635196},1.6655599829986969,1.0973832503238092,1.8277576277523784]
[356,0.42118453979492188,{"$f":"NORMINV(B368,Dźwignie!$L$8,Dźwignie!$L$9)","v":340056.79672252061},{"$f":"Dźwignie!$L$7*C368","v":510085.19508378091},null,{"$f":"C368*Dźwignie!$G$5","v":340056.79672252061},170028.3983612603,{"$f":"Dźwignie!$G$6","v":50000},120028.3983612603,{"$f":"I368-Dźwignie!$D$6","v":100028.3983612603},{"$f":"IF(J368>0,J368*(1-Dźwignie!$D$9),J368)","v":81023.002672620845},{"$f":"K368/Dźwignie!$D$5","v":8.1023002672620841},{"$f":"I368/Dźwignie!$D$2","v":0.60014199180630157},{"$f":"K368/Dźwignie!$D$3","v":0.81023002672620847},1.4165680845753725,1.1999432194022386,1.6998012679078351,null,{"$f":"C368*Dźwignie!$G$8","v":170028.3983612603},340056.79672252061,{"$f":"Dźwignie!$G$9","v":150000},190056.79672252061,{"$f":"V368-Dźwignie!$D$6","v":170056.79672252061},{"$f":"IF(W368>0,W368*(1-Dźwignie!$D$9),W368)","v":137746.00534524169},{"$f":"X368/Dźwignie!$D$5","v":13.774600534524168},{"$f":"V368/Dźwignie!$D$2","v":0.95028398361260302},{"$f":"X368/Dźwignie!$D$3","v":1.3774600534524168},1.7892377572741964,1.1176077662607848,1.999666013216671]
[357,0.23105639219284058,{"$f":"NORMINV(B369,Dźwignie!$L$8,Dźwignie!$L$9)","v":313231.38479122793},{"$f":"Dźwignie!$L$7*C369","v":469847.07718684187},null,{"$f":"C369*Dźwignie!$G$5","v":313231.38479122793},156615.69239561394,{"$f":"Dźwignie!$G$6","v":50000},106615.69239561394,{"$f":"I369-Dźwignie!$D$6","v":86615.692395613936},{"$f":"IF(J369>0,J369*(1-Dźwignie!$D$9),J369)","v":70158.710840447297},{"$f":"K369/Dźwignie!$D$5","v":7.01587108404473},{"$f":"I369/Dźwignie!$D$2","v":0.53307846197806963},{"$f":"K369/Dźwignie!$D$3","v":0.70158710840447291},1.4689741151280742,1.2309050409555204,1.8081676433443217,null,{"$f":"C369*Dźwignie!$G$8","v":156615.69239561397},313231.38479122787,{"$f":"Dźwignie!$G$9","v":150000},163231.38479122787,{"$f":"V369-Dźwignie!$D$6","v":143231.38479122787},{"$f":"IF(W369>0,W369*(1-Dźwignie!$D$9),W369)","v":116017.42168089458},{"$f":"X369/Dźwignie!$D$5","v":11.601742168089459},{"$f":"V369/Dźwignie!$D$2","v":0.81615692395613937},{"$f":"X369/Dźwignie!$D$3","v":1.1601742168089457},1.9189409266597184,1.1396342011853877,2.1868907100757959]
[358,0.76549112796783447,{"$f":"NORMINV(B370,Dźwignie!$L$8,Dźwignie!$L$9)","v":386203.90863825392},{"$f":"Dźwignie!$L$7*C370","v":579305.86295738094},null,{"$f":"C370*Dźwignie!$G$5","v":386203.90863825392},193101.95431912702,{"$f":"Dźwignie!$G$6","v":50000},143101.95431912702,{"$f":"I370-Dźwignie!$D$6","v":123101.95431912702},{"$f":"IF(J370>0,J370*(1-Dźwignie!$D$9),J370)","v":99712.582998492886},{"$f":"K370/Dźwignie!$D$5","v":9.9712582998492891},{"$f":"I370/Dźwignie!$D$2","v":0.71550977159563511},{"$f":"K370/Dźwignie!$D$3","v":0.99712582998492882},1.3494012380047349,1.1624669576581408,1.5686343518034929,null,{"$f":"C370*Dźwignie!$G$8","v":193101.95431912696},386203.90863825398,{"$f":"Dźwignie!$G$9","v":150000},236203.90863825398,{"$f":"V370-Dźwignie!$D$6","v":216203.90863825398},{"$f":"IF(W370>0,W370*(1-Dźwignie!$D$9),W370)","v":175125.16599698574},{"$f":"X370/Dźwignie!$D$5","v":17.512516599698575},{"$f":"V370/Dźwignie!$D$2","v":1.18101954319127},{"$f":"X370/Dźwignie!$D$3","v":1.7512516599698573},1.6350445293846718,1.0925052656354304,1.7862947579011581]
[359,0.45753604173660278,{"$f":"NORMINV(B371,Dźwignie!$L$8,Dźwignie!$L$9)","v":344667.8424033004},{"$f":"Dźwignie!$L$7*C371","v":517001.76360495063},null,{"$f":"C371*Dźwignie!$G$5","v":344667.8424033004},172333.92120165023,{"$f":"Dźwignie!$G$6","v":50000},122333.92120165023,{"$f":"I371-Dźwignie!$D$6","v":102333.92120165023},{"$f":"IF(J371>0,J371*(1-Dźwignie!$D$9),J371)","v":82890.47617333669},{"$f":"K371/Dźwignie!$D$5","v":8.2890476173336687},{"$f":"I371/Dźwignie!$D$2","v":0.61166960600825115},{"$f":"K371/Dźwignie!$D$3","v":0.82890476173336691},1.4087173819727568,1.1954386166888862,1.6840351584111015,null,{"$f":"C371*Dźwignie!$G$8","v":172333.9212016502},344667.84240330046,{"$f":"Dźwignie!$G$9","v":150000},194667.84240330046,{"$f":"V371-Dźwignie!$D$6","v":174667.84240330046},{"$f":"IF(W371>0,W371*(1-Dźwignie!$D$9),W371)","v":141480.95234667338},{"$f":"X371/Dźwignie!$D$5","v":14.148095234667338},{"$f":"V371/Dźwignie!$D$2","v":0.97333921201650231},{"$f":"X371/Dźwignie!$D$3","v":1.4148095234667337},1.7705432913220436,1.1145030460376379,1.9732758913199226]
[360,0.93285393714904785,{"$f":"NORMINV(B372,Dźwignie!$L$8,Dźwignie!$L$9)","v":424869.43906462722},{"$f":"Dźwignie!$L$7*C372","v":637304.1585969408},null,{"$f":"C372*Dźwignie!$G$5","v":424869.43906462722},212434.71953231358,{"$f":"Dźwignie!$G$6","v":50000},162434.71953231358,{"$f":"I372-Dźwignie!$D$6","v":142434.71953231358},{"$f":"IF(J372>0,J372*(1-Dźwignie!$D$9),J372)","v":115372.12282117401},{"$f":"K372/Dźwignie!$D$5","v":11.537212282117402},{"$f":"I372/Dźwignie!$D$2","v":0.81217359766156794},{"$f":"K372/Dźwignie!$D$3","v":1.1537212282117402},1.3078159653549521,1.1404152025971637,1.491453209090073,null,{"$f":"C372*Dźwignie!$G$8","v":212434.71953231361},424869.43906462716,{"$f":"Dźwignie!$G$9","v":150000},274869.43906462716,{"$f":"V372-Dźwignie!$D$6","v":254869.43906462716},{"$f":"IF(W372>0,W372*(1-Dźwignie!$D$9),W372)","v":206444.24564234802},{"$f":"X372/Dźwignie!$D$5","v":20.6444245642348},{"$f":"V372/Dźwignie!$D$2","v":1.3743471953231359},{"$f":"X372/Dźwignie!$D$3","v":2.06444245642348},1.5457136322991953,1.0784715502706019,1.6670081773001164]
[361,0.54004234075546265,{"$f":"NORMINV(B373,Dźwignie!$L$8,Dźwignie!$L$9)","v":355027.01951229043},{"$f":"Dźwignie!$L$7*C373","v":532540.52926843567},null,{"$f":"C373*Dźwignie!$G$5","v":355027.01951229043},177513.50975614524,{"$f":"Dźwignie!$G$6","v":50000},127513.50975614524,{"$f":"I373-Dźwignie!$D$6","v":107513.50975614524},{"$f":"IF(J373>0,J373*(1-Dźwignie!$D$9),J373)","v":87085.942902477647},{"$f":"K373/Dźwignie!$D$5","v":8.7085942902477651},{"$f":"I373/Dźwignie!$D$2","v":0.63756754878072619},{"$f":"K373/Dźwignie!$D$3","v":0.87085942902477642},1.3921153146487708,1.1860231337007101,1.6510809679524852,null,{"$f":"C373*Dźwignie!$G$8","v":177513.50975614521},355027.01951229048,{"$f":"Dźwignie!$G$9","v":150000},205027.01951229048,{"$f":"V373-Dźwignie!$D$6","v":185027.01951229048},{"$f":"IF(W373>0,W373*(1-Dźwignie!$D$9),W373)","v":149871.88580495529},{"$f":"X373/Dźwignie!$D$5","v":14.987188580495529},{"$f":"V373/Dźwignie!$D$2","v":1.0251350975614524},{"$f":"X373/Dźwignie!$D$3","v":1.498718858049553},1.7316108889297304,1.1080923210713638,1.9187847291065925]
[362,0.55655086040496826,{"$f":"NORMINV(B374,Dźwignie!$L$8,Dźwignie!$L$9)","v":357111.50360210147},{"$f":"Dźwignie!$L$7*C374","v":535667.2554031522},null,{"$f":"C374*Dźwignie!$G$5","v":357111.50360210147},178555.75180105073,{"$f":"Dźwignie!$G$6","v":50000},128555.75180105073,{"$f":"I374-Dźwignie!$D$6","v":108555.75180105073},{"$f":"IF(J374>0,J374*(1-Dźwignie!$D$9),J374)","v":87930.158958851098},{"$f":"K374/Dźwignie!$D$5","v":8.7930158958851106},{"$f":"I374/Dźwignie!$D$2","v":0.64277875900525372},{"$f":"K374/Dźwignie!$D$3","v":0.87930158958851101},1.3889363120631009,1.1842371285554159,1.6448299499439556,null,{"$f":"C374*Dźwignie!$G$8","v":178555.75180105073},357111.50360210147,{"$f":"Dźwignie!$G$9","v":150000},207111.50360210147,{"$f":"V374-Dźwignie!$D$6","v":187111.50360210147},{"$f":"IF(W374>0,W374*(1-Dźwignie!$D$9),W374)","v":151560.3179177022},{"$f":"X374/Dźwignie!$D$5","v":15.15603179177022},{"$f":"V374/Dźwignie!$D$2","v":1.0355575180105074},{"$f":"X374/Dźwignie!$D$3","v":1.5156031791770219},1.7242475545355367,1.1068881368327339,1.9085491630782379]
[363,0.18030411005020142,{"$f":"NORMINV(B375,Dźwignie!$L$8,Dźwignie!$L$9)","v":304289.66270039044},{"$f":"Dźwignie!$L$7*C375","v":456434.49405058566},null,{"$f":"C375*Dźwignie!$G$5","v":304289.66270039044},152144.83135019522,{"$f":"Dźwignie!$G$6","v":50000},102144.83135019522,{"$f":"I375-Dźwignie!$D$6","v":82144.831350195222},{"$f":"IF(J375>0,J375*(1-Dźwignie!$D$9),J375)","v":66537.313393658129},{"$f":"K375/Dźwignie!$D$5","v":6.6537313393658133},{"$f":"I375/Dźwignie!$D$2","v":0.51072415675097615},{"$f":"K375/Dźwignie!$D$3","v":0.66537313393658126},1.4895010284815986,1.2434724092954446,1.8521534325340561,null,{"$f":"C375*Dźwignie!$G$8","v":152144.83135019522},304289.66270039044,{"$f":"Dźwignie!$G$9","v":150000},154289.66270039044,{"$f":"V375-Dźwignie!$D$6","v":134289.66270039044},{"$f":"IF(W375>0,W375*(1-Dźwignie!$D$9),W375)","v":108774.62678731627},{"$f":"X375/Dźwignie!$D$5","v":10.877462678731627},{"$f":"V375/Dźwignie!$D$2","v":0.7714483135019522},{"$f":"X375/Dźwignie!$D$3","v":1.0877462678731626},1.9721973421594654,1.1489317911582024,2.265920224844721]
[364,0.72670793533325195,{"$f":"NORMINV(B376,Dźwignie!$L$8,Dźwignie!$L$9)","v":380144.33011606452},{"$f":"Dźwignie!$L$7*C376","v":570216.49517409678},null,{"$f":"C376*Dźwignie!$G$5","v":380144.33011606452},190072.16505803226,{"$f":"Dźwignie!$G$6","v":50000},140072.16505803226,{"$f":"I376-Dźwignie!$D$6","v":120072.16505803226},{"$f":"IF(J376>0,J376*(1-Dźwignie!$D$9),J376)","v":97258.453697006131},{"$f":"K376/Dźwignie!$D$5","v":9.7258453697006129},{"$f":"I376/Dźwignie!$D$2","v":0.7003608252901613},{"$f":"K376/Dźwignie!$D$3","v":0.97258453697006131},1.3569588574524059,1.1665664976585852,1.5829827418050484,null,{"$f":"C376*Dźwignie!$G$8","v":190072.16505803226},380144.33011606452,{"$f":"Dźwignie!$G$9","v":150000},230144.33011606452,{"$f":"V376-Dźwignie!$D$6","v":210144.33011606452},{"$f":"IF(W376>0,W376*(1-Dźwignie!$D$9),W376)","v":170216.90739401226},{"$f":"X376/Dźwignie!$D$5","v":17.021690739401226},{"$f":"V376/Dźwignie!$D$2","v":1.1507216505803226},{"$f":"X376/Dźwignie!$D$3","v":1.7021690739401225},1.6517649160609484,1.0951726843591441,1.8089678170527252]
[365,0.52200573682785034,{"$f":"NORMINV(B377,Dźwignie!$L$8,Dźwignie!$L$9)","v":352759.41020715865},{"$f":"Dźwignie!$L$7*C377","v":529139.11531073798},null,{"$f":"C377*Dźwignie!$G$5","v":352759.41020715865},176379.70510357933,{"$f":"Dźwignie!$G$6","v":50000},126379.70510357933,{"$f":"I377-Dźwignie!$D$6","v":106379.70510357933},{"$f":"IF(J377>0,J377*(1-Dźwignie!$D$9),J377)","v":86167.56113389926},{"$f":"K377/Dźwignie!$D$5","v":8.6167561133899255},{"$f":"I377/Dźwignie!$D$2","v":0.6318985255178966},{"$f":"K377/Dźwignie!$D$3","v":0.86167561133899262},1.3956331434625566,1.1880057853189807,1.6580202486164322,null,{"$f":"C377*Dźwignie!$G$8","v":176379.70510357933},352759.41020715865,{"$f":"Dźwignie!$G$9","v":150000},202759.41020715865,{"$f":"V377-Dźwignie!$D$6","v":182759.41020715865},{"$f":"IF(W377>0,W377*(1-Dźwignie!$D$9),W377)","v":148035.12226779852},{"$f":"X377/Dźwignie!$D$5","v":14.803512226779851},{"$f":"V377/Dźwignie!$D$2","v":1.0137970510357932},{"$f":"X377/Dźwignie!$D$3","v":1.4803512226779851},1.7397930377028887,1.1094334895113194,1.9301846608462143]
[366,0.77008450031280518,{"$f":"NORMINV(B378,Dźwignie!$L$8,Dźwignie!$L$9)","v":386956.25807515747},{"$f":"Dźwignie!$L$7*C378","v":580434.38711273624},null,{"$f":"C378*Dźwignie!$G$5","v":386956.25807515747},193478.12903757876,{"$f":"Dźwignie!$G$6","v":50000},143478.12903757876,{"$f":"I378-Dźwignie!$D$6","v":123478.12903757876},{"$f":"IF(J378>0,J378*(1-Dźwignie!$D$9),J378)","v":100017.2845204388},{"$f":"K378/Dźwignie!$D$5","v":10.00172845204388},{"$f":"I378/Dźwignie!$D$2","v":0.71739064518789386},{"$f":"K378/Dźwignie!$D$3","v":1.0001728452043881},1.3484851686831263,1.1619720039158781,1.5669020137055731,null,{"$f":"C378*Dźwignie!$G$8","v":193478.12903757874},386956.25807515753,{"$f":"Dźwignie!$G$9","v":150000},236956.25807515753,{"$f":"V378-Dźwignie!$D$6","v":216956.25807515753},{"$f":"IF(W378>0,W378*(1-Dźwignie!$D$9),W378)","v":175734.5690408776},{"$f":"X378/Dźwignie!$D$5","v":17.57345690408776},{"$f":"V378/Dźwignie!$D$2","v":1.1847812903757877},{"$f":"X378/Dźwignie!$D$3","v":1.7573456904087761},1.6330282273128367,1.0921844807678773,1.7835680865269576]
[367,0.31143170595169067,{"$f":"NORMINV(B379,Dźwignie!$L$8,Dźwignie!$L$9)","v":325410.18920552306},{"$f":"Dźwignie!$L$7*C379","v":488115.28380828456},null,{"$f":"C379*Dźwignie!$G$5","v":325410.18920552306},162705.0946027615,{"$f":"Dźwignie!$G$6","v":50000},112705.0946027615,{"$f":"I379-Dźwignie!$D$6","v":92705.094602761499},{"$f":"IF(J379>0,J379*(1-Dźwignie!$D$9),J379)","v":75091.126628236816},{"$f":"K379/Dźwignie!$D$5","v":7.5091126628236813},{"$f":"I379/Dźwignie!$D$2","v":0.56352547301380751},{"$f":"K379/Dźwignie!$D$3","v":0.75091126628236815},1.4436356686113363,1.215737873799702,1.7550825582989571,null,{"$f":"C379*Dźwignie!$G$8","v":162705.09460276153},325410.189205523,{"$f":"Dźwignie!$G$9","v":150000},175410.189205523,{"$f":"V379-Dźwignie!$D$6","v":155410.189205523},{"$f":"IF(W379>0,W379*(1-Dźwignie!$D$9),W379)","v":125882.25325647363},{"$f":"X379/Dźwignie!$D$5","v":12.588225325647363},{"$f":"V379/Dźwignie!$D$2","v":0.87705094602761502},{"$f":"X379/Dźwignie!$D$3","v":1.2588225325647364},1.8551384653274012,1.12869169069443,2.0938793709026546]
[368,0.26813960075378418,{"$f":"NORMINV(B380,Dźwignie!$L$8,Dźwignie!$L$9)","v":319077.5344618255},{"$f":"Dźwignie!$L$7*C380","v":478616.30169273826},null,{"$f":"C380*Dźwignie!$G$5","v":319077.5344618255},159538.76723091275,{"$f":"Dźwignie!$G$6","v":50000},109538.76723091275,{"$f":"I380-Dźwignie!$D$6","v":89538.767230912752},{"$f":"IF(J380>0,J380*(1-Dźwignie!$D$9),J380)","v":72526.401457039334},{"$f":"K380/Dźwignie!$D$5","v":7.2526401457039338},{"$f":"I380/Dźwignie!$D$2","v":0.5476938361545638},{"$f":"K380/Dźwignie!$D$3","v":0.72526401457039336},1.4564594003016091,1.2233669349994705,1.7817842724981463,null,{"$f":"C380*Dźwignie!$G$8","v":159538.76723091275},319077.5344618255,{"$f":"Dźwignie!$G$9","v":150000},169077.5344618255,{"$f":"V380-Dźwignie!$D$6","v":149077.5344618255},{"$f":"IF(W380>0,W380*(1-Dźwignie!$D$9),W380)","v":120752.80291407867},{"$f":"X380/Dźwignie!$D$5","v":12.075280291407866},{"$f":"V380/Dźwignie!$D$2","v":0.84538767230912748},{"$f":"X380/Dźwignie!$D$3","v":1.2075280291407866},1.8871669466759768,1.1341583765266887,2.1403462004768539]
[369,0.34326738119125366,{"$f":"NORMINV(B381,Dźwignie!$L$8,Dźwignie!$L$9)","v":329821.89513291424},{"$f":"Dźwignie!$L$7*C381","v":494732.84269937139},null,{"$f":"C381*Dźwignie!$G$5","v":329821.89513291424},164910.94756645715,{"$f":"Dźwignie!$G$6","v":50000},114910.94756645715,{"$f":"I381-Dźwignie!$D$6","v":94910.947566457151},{"$f":"IF(J381>0,J381*(1-Dźwignie!$D$9),J381)","v":76877.867528830291},{"$f":"K381/Dźwignie!$D$5","v":7.6877867528830288},{"$f":"I381/Dźwignie!$D$2","v":0.57455473783228572},{"$f":"K381/Dźwignie!$D$3","v":0.7687786752883029},1.435119551782333,1.2107238470672299,1.7375334647353049,null,{"$f":"C381*Dźwignie!$G$8","v":164910.94756645712},329821.8951329143,{"$f":"Dźwignie!$G$9","v":150000},179821.8951329143,{"$f":"V381-Dźwignie!$D$6","v":159821.8951329143},{"$f":"IF(W381>0,W381*(1-Dźwignie!$D$9),W381)","v":129455.7350576606},{"$f":"X381/Dźwignie!$D$5","v":12.94557350576606},{"$f":"V381/Dźwignie!$D$2","v":0.89910947566457156},{"$f":"X381/Dźwignie!$D$3","v":1.2945573505766059},1.8341587095894434,1.1251392994893923,2.063684045659834]
[370,0.21962964534759521,{"$f":"NORMINV(B382,Dźwignie!$L$8,Dźwignie!$L$9)","v":311327.76891749533},{"$f":"Dźwignie!$L$7*C382","v":466991.65337624296},null,{"$f":"C382*Dźwignie!$G$5","v":311327.76891749533},155663.88445874763,{"$f":"Dźwignie!$G$6","v":50000},105663.88445874763,{"$f":"I382-Dźwignie!$D$6","v":85663.884458747634},{"$f":"IF(J382>0,J382*(1-Dźwignie!$D$9),J382)","v":69387.746411585584},{"$f":"K382/Dźwignie!$D$5","v":6.9387746411585587},{"$f":"I382/Dźwignie!$D$2","v":0.52831942229373818},{"$f":"K382/Dźwignie!$D$3","v":0.69387746411585582},1.4731985792129434,1.233470617476274,1.8171471611669587,null,{"$f":"C382*Dźwignie!$G$8","v":155663.88445874766},311327.76891749527,{"$f":"Dźwignie!$G$9","v":150000},161327.76891749527,{"$f":"V382-Dźwignie!$D$6","v":141327.76891749527},{"$f":"IF(W382>0,W382*(1-Dźwignie!$D$9),W382)","v":114475.49282317118},{"$f":"X382/Dźwignie!$D$5","v":11.447549282317118},{"$f":"V382/Dźwignie!$D$2","v":0.80663884458747637},{"$f":"X382/Dźwignie!$D$3","v":1.1447549282317118},1.9297841345386211,1.1415150055306942,2.2028775470109001]
[371,0.47280603647232056,{"$f":"NORMINV(B383,Dźwignie!$L$8,Dźwignie!$L$9)","v":346589.09839976259},{"$f":"Dźwignie!$L$7*C383","v":519883.64759964391},null,{"$f":"C383*Dźwignie!$G$5","v":346589.09839976259},173294.54919988132,{"$f":"Dźwignie!$G$6","v":50000},123294.54919988132,{"$f":"I383-Dźwignie!$D$6","v":103294.54919988132},{"$f":"IF(J383>0,J383*(1-Dźwignie!$D$9),J383)","v":83668.58485190387},{"$f":"K383/Dźwignie!$D$5","v":8.3668584851903862},{"$f":"I383/Dźwignie!$D$2","v":0.6164727459994066},{"$f":"K383/Dźwignie!$D$3","v":0.83668584851903871},1.4055329317027758,1.1936210589515113,1.6776737063302893,null,{"$f":"C383*Dźwignie!$G$8","v":173294.54919988129},346589.09839976265,{"$f":"Dźwignie!$G$9","v":150000},196589.09839976265,{"$f":"V383-Dźwignie!$D$6","v":176589.09839976265},{"$f":"IF(W383>0,W383*(1-Dźwignie!$D$9),W383)","v":143037.16970380774},{"$f":"X383/Dźwignie!$D$5","v":14.303716970380774},{"$f":"V383/Dźwignie!$D$2","v":0.9829454919988132},{"$f":"X383/Dźwignie!$D$3","v":1.4303716970380773},1.7630128080397214,1.1132572745500062,1.9626868336750536]
[372,0.50398731231689453,{"$f":"NORMINV(B384,Dźwignie!$L$8,Dźwignie!$L$9)","v":350499.74381007132},{"$f":"Dźwignie!$L$7*C384","v":525749.61571510695},null,{"$f":"C384*Dźwignie!$G$5","v":350499.74381007132},175249.87190503563,{"$f":"Dźwignie!$G$6","v":50000},125249.87190503563,{"$f":"I384-Dźwignie!$D$6","v":105249.87190503563},{"$f":"IF(J384>0,J384*(1-Dźwignie!$D$9),J384)","v":85252.396243078867},{"$f":"K384/Dźwignie!$D$5","v":8.5252396243078863},{"$f":"I384/Dźwignie!$D$2","v":0.62624935952517813},{"$f":"K384/Dźwignie!$D$3","v":0.85252396243078865},1.399202005075981,1.1900239842386271,1.6650839448351946,null,{"$f":"C384*Dźwignie!$G$8","v":175249.87190503566},350499.74381007126,{"$f":"Dźwignie!$G$9","v":150000},200499.74381007126,{"$f":"V384-Dźwignie!$D$6","v":180499.74381007126},{"$f":"IF(W384>0,W384*(1-Dźwignie!$D$9),W384)","v":146204.79248615773},{"$f":"X384/Dźwignie!$D$5","v":14.620479248615773},{"$f":"V384/Dźwignie!$D$2","v":1.0024987190503563},{"$f":"X384/Dźwignie!$D$3","v":1.4620479248615774},1.7481306317383203,1.1108034813669585,1.9418295916191466]
[373,0.72581213712692261,{"$f":"NORMINV(B385,Dźwignie!$L$8,Dźwignie!$L$9)","v":380009.79200076719},{"$f":"Dźwignie!$L$7*C385","v":570014.68800115073},null,{"$f":"C385*Dźwignie!$G$5","v":380009.79200076719},190004.89600038354,{"$f":"Dźwignie!$G$6","v":50000},140004.89600038354,{"$f":"I385-Dźwignie!$D$6","v":120004.89600038354},{"$f":"IF(J385>0,J385*(1-Dźwignie!$D$9),J385)","v":97203.965760310675},{"$f":"K385/Dźwignie!$D$5","v":9.7203965760310673},{"$f":"I385/Dźwignie!$D$2","v":0.70002448000191764},{"$f":"K385/Dźwignie!$D$3","v":0.97203965760310673},1.3571303677827311,1.1666598669435626,1.5833095343024692,null,{"$f":"C385*Dźwignie!$G$8","v":190004.8960003836},380009.79200076713,{"$f":"Dźwignie!$G$9","v":150000},230009.79200076713,{"$f":"V385-Dźwignie!$D$6","v":210009.79200076713},{"$f":"IF(W385>0,W385*(1-Dźwignie!$D$9),W385)","v":170107.93152062138},{"$f":"X385/Dźwignie!$D$5","v":17.010793152062138},{"$f":"V385/Dźwignie!$D$2","v":1.1500489600038357},{"$f":"X385/Dźwignie!$D$3","v":1.7010793152062138},1.6521461486278799,1.09523365462848,1.8094860643420807]
[374,5.1731705665588379E-2,{"$f":"NORMINV(B386,Dźwignie!$L$8,Dźwignie!$L$9)","v":268585.50058072165},{"$f":"Dźwignie!$L$7*C386","v":402878.25087108248},null,{"$f":"C386*Dźwignie!$G$5","v":268585.50058072165},134292.75029036083,{"$f":"Dźwignie!$G$6","v":50000},84292.750290360826,{"$f":"I386-Dźwignie!$D$6","v":64292.750290360826},{"$f":"IF(J386>0,J386*(1-Dźwignie!$D$9),J386)","v":52077.127735192269},{"$f":"K386/Dźwignie!$D$5","v":5.2077127735192272},{"$f":"I386/Dźwignie!$D$2","v":0.42146375145180415},{"$f":"K386/Dźwignie!$D$3","v":0.52077127735192275},1.5931708222565575,1.3110770640496077,2.0887697241736269,null,{"$f":"C386*Dźwignie!$G$8","v":134292.75029036083},268585.50058072165,{"$f":"Dźwignie!$G$9","v":150000},118585.50058072165,{"$f":"V386-Dźwignie!$D$6","v":98585.500580721651},{"$f":"IF(W386>0,W386*(1-Dźwignie!$D$9),W386)","v":79854.255470384538},{"$f":"X386/Dźwignie!$D$5","v":7.9854255470384539},{"$f":"V386/Dźwignie!$D$2","v":0.59292750290360829},{"$f":"X386/Dźwignie!$D$3","v":0.79854255470384539},2.2649101219410408,1.2028695891605685,2.7243915078648331]
[375,0.28729087114334106,{"$f":"NORMINV(B387,Dźwignie!$L$8,Dźwignie!$L$9)","v":321934.17110917321},{"$f":"Dźwignie!$L$7*C387","v":482901.25666375982},null,{"$f":"C387*Dźwignie!$G$5","v":321934.17110917321},160967.08555458661,{"$f":"Dźwignie!$G$6","v":50000},110967.08555458661,{"$f":"I387-Dźwignie!$D$6","v":90967.085554586607},{"$f":"IF(J387>0,J387*(1-Dźwignie!$D$9),J387)","v":73683.339299215149},{"$f":"K387/Dźwignie!$D$5","v":7.3683339299215147},{"$f":"I387/Dźwignie!$D$2","v":0.55483542777293304},{"$f":"K387/Dźwignie!$D$3","v":0.73683339299215145},1.450584060580776,1.2198597424339663,1.7695090985188824,null,{"$f":"C387*Dźwignie!$G$8","v":160967.08555458661},321934.17110917321,{"$f":"Dźwignie!$G$9","v":150000},171934.17110917321,{"$f":"V387-Dźwignie!$D$6","v":151934.17110917321},{"$f":"IF(W387>0,W387*(1-Dźwignie!$D$9),W387)","v":123066.67859843031},{"$f":"X387/Dźwignie!$D$5","v":12.306667859843031},{"$f":"V387/Dźwignie!$D$2","v":0.85967085554586609},{"$f":"X387/Dźwignie!$D$3","v":1.2306667859843032},1.8724269238181532,1.1316359569015511,2.1189056336631835]
[376,0.37815976142883301,{"$f":"NORMINV(B388,Dźwignie!$L$8,Dźwignie!$L$9)","v":334484.12489158387},{"$f":"Dźwignie!$L$7*C388","v":501726.18733737583},null,{"$f":"C388*Dźwignie!$G$5","v":334484.12489158387},167242.06244579196,{"$f":"Dźwignie!$G$6","v":50000},117242.06244579196,{"$f":"I388-Dźwignie!$D$6","v":97242.062445791962},{"$f":"IF(J388>0,J388*(1-Dźwignie!$D$9),J388)","v":78766.070581091495},{"$f":"K388/Dźwignie!$D$5","v":7.8766070581091494},{"$f":"I388/Dźwignie!$D$2","v":0.58621031222895981},{"$f":"K388/Dźwignie!$D$3","v":0.78766070581091496},1.4264681033150368,1.2056723139860295,1.7198530989511029,null,{"$f":"C388*Dźwignie!$G$8","v":167242.06244579193},334484.12489158392,{"$f":"Dźwignie!$G$9","v":150000},184484.12489158392,{"$f":"V388-Dźwignie!$D$6","v":164484.12489158392},{"$f":"IF(W388>0,W388*(1-Dźwignie!$D$9),W388)","v":133232.14116218299},{"$f":"X388/Dźwignie!$D$5","v":13.323214116218299},{"$f":"V388/Dźwignie!$D$2","v":0.92242062445791961},{"$f":"X388/Dźwignie!$D$3","v":1.3323214116218298},1.8130780905302868,1.1215922814021266,2.0335343919180757]
[377,0.40041393041610718,{"$f":"NORMINV(B389,Dźwignie!$L$8,Dźwignie!$L$9)","v":337386.20797583269},{"$f":"Dźwignie!$L$7*C389","v":506079.311963749},null,{"$f":"C389*Dźwignie!$G$5","v":337386.20797583269},168693.10398791631,{"$f":"Dźwignie!$G$6","v":50000},118693.10398791631,{"$f":"I389-Dźwignie!$D$6","v":98693.103987916315},{"$f":"IF(J389>0,J389*(1-Dźwignie!$D$9),J389)","v":79941.41423021222},{"$f":"K389/Dźwignie!$D$5","v":7.9941414230212224},{"$f":"I389/Dźwignie!$D$2","v":0.59346551993958152},{"$f":"K389/Dźwignie!$D$3","v":0.79941414230212215},1.4212544648347076,1.2026484039092411,1.7092694136823439,null,{"$f":"C389*Dźwignie!$G$8","v":168693.10398791634},337386.20797583263,{"$f":"Dźwignie!$G$9","v":150000},187386.20797583263,{"$f":"V389-Dźwignie!$D$6","v":167386.20797583263},{"$f":"IF(W389>0,W389*(1-Dźwignie!$D$9),W389)","v":135582.82846042444},{"$f":"X389/Dźwignie!$D$5","v":13.558282846042443},{"$f":"V389/Dźwignie!$D$2","v":0.93693103987916315},{"$f":"X389/Dźwignie!$D$3","v":1.3558282846042444},1.8004858074685286,1.1194841572782843,2.0156153368654168]
[378,0.38656890392303467,{"$f":"NORMINV(B390,Dźwignie!$L$8,Dźwignie!$L$9)","v":335586.35226472269},{"$f":"Dźwignie!$L$7*C390","v":503379.52839708404},null,{"$f":"C390*Dźwignie!$G$5","v":335586.35226472269},167793.17613236135,{"$f":"Dźwignie!$G$6","v":50000},117793.17613236135,{"$f":"I390-Dźwignie!$D$6","v":97793.176132361346},{"$f":"IF(J390>0,J390*(1-Dźwignie!$D$9),J390)","v":79212.4726672127},{"$f":"K390/Dźwignie!$D$5","v":7.9212472667212701},{"$f":"I390/Dźwignie!$D$2","v":0.58896588066180677},{"$f":"K390/Dźwignie!$D$3","v":0.79212472667212697},1.4244728059952829,1.2045132471506024,1.7157963650271082,null,{"$f":"C390*Dźwignie!$G$8","v":167793.17613236135},335586.35226472269,{"$f":"Dźwignie!$G$9","v":150000},185586.35226472269,{"$f":"V390-Dźwignie!$D$6","v":165586.35226472269},{"$f":"IF(W390>0,W390*(1-Dźwignie!$D$9),W390)","v":134124.9453344254},{"$f":"X390/Dźwignie!$D$5","v":13.412494533442541},{"$f":"V390/Dźwignie!$D$2","v":0.92793176132361344},{"$f":"X390/Dźwignie!$D$3","v":1.3412494533442541},1.8082490881982427,1.1207829010450452,2.0266546588828844]
[379,0.4568515419960022,{"$f":"NORMINV(B391,Dźwignie!$L$8,Dźwignie!$L$9)","v":344581.55588042265},{"$f":"Dźwignie!$L$7*C391","v":516872.33382063394},null,{"$f":"C391*Dźwignie!$G$5","v":344581.55588042265},172290.77794021129,{"$f":"Dźwignie!$G$6","v":50000},122290.77794021129,{"$f":"I391-Dźwignie!$D$6","v":102290.77794021129},{"$f":"IF(J391>0,J391*(1-Dźwignie!$D$9),J391)","v":82855.530131571155},{"$f":"K391/Dźwignie!$D$5","v":8.2855530131571147},{"$f":"I391/Dźwignie!$D$2","v":0.61145388970105652},{"$f":"K391/Dźwignie!$D$3","v":0.82855530131571153},1.408861574373542,1.1955210469871482,1.684323664455019,null,{"$f":"C391*Dźwignie!$G$8","v":172290.77794021132},344581.55588042259,{"$f":"Dźwignie!$G$9","v":150000},194581.55588042259,{"$f":"V391-Dźwignie!$D$6","v":174581.55588042259},{"$f":"IF(W391>0,W391*(1-Dźwignie!$D$9),W391)","v":141411.06026314231},{"$f":"X391/Dźwignie!$D$5","v":14.141106026314231},{"$f":"V391/Dźwignie!$D$2","v":0.97290777940211293},{"$f":"X391/Dźwignie!$D$3","v":1.4141106026314232},1.770884986098993,1.1145596388985028,1.973756930637274]
[380,0.59726095199584961,{"$f":"NORMINV(B392,Dźwignie!$L$8,Dźwignie!$L$9)","v":362313.18577217316},{"$f":"Dźwignie!$L$7*C392","v":543469.77865825978},null,{"$f":"C392*Dźwignie!$G$5","v":362313.18577217316},181156.59288608661,{"$f":"Dźwignie!$G$6","v":50000},131156.59288608661,{"$f":"I392-Dźwignie!$D$6","v":111156.59288608661},{"$f":"IF(J392>0,J392*(1-Dźwignie!$D$9),J392)","v":90036.840237730168},{"$f":"K392/Dźwignie!$D$5","v":9.0036840237730171},{"$f":"I392/Dźwignie!$D$2","v":0.65578296443043305},{"$f":"K392/Dźwignie!$D$3","v":0.90036840237730165},1.3812236876527166,1.1799263496722683,1.6297422238529391,null,{"$f":"C392*Dźwignie!$G$8","v":181156.59288608658},362313.18577217322,{"$f":"Dźwignie!$G$9","v":150000},212313.18577217322,{"$f":"V392-Dźwignie!$D$6","v":192313.18577217322},{"$f":"IF(W392>0,W392*(1-Dźwignie!$D$9),W392)","v":155773.68047546031},{"$f":"X392/Dźwignie!$D$5","v":15.577368047546031},{"$f":"V392/Dźwignie!$D$2","v":1.0615659288608661},{"$f":"X392/Dźwignie!$D$3","v":1.557736804754603},1.7065034583436585,1.103997029219272,1.8839747483638127]
[381,0.80976074934005737,{"$f":"NORMINV(B393,Dźwignie!$L$8,Dźwignie!$L$9)","v":393850.7490282408},{"$f":"Dźwignie!$L$7*C393","v":590776.12354236119},null,{"$f":"C393*Dźwignie!$G$5","v":393850.7490282408},196925.3745141204,{"$f":"Dźwignie!$G$6","v":50000},146925.3745141204,{"$f":"I393-Dźwignie!$D$6","v":126925.3745141204},{"$f":"IF(J393>0,J393*(1-Dźwignie!$D$9),J393)","v":102809.55335643754},{"$f":"K393/Dźwignie!$D$5","v":10.280955335643753},{"$f":"I393/Dźwignie!$D$2","v":0.734626872570602},{"$f":"K393/Dźwignie!$D$3","v":1.0280955335643753},1.3403088143579631,1.1575729051543986,1.5515051680403948,null,{"$f":"C393*Dźwignie!$G$8","v":196925.3745141204},393850.7490282408,{"$f":"Dźwignie!$G$9","v":150000},243850.7490282408,{"$f":"V393-Dźwignie!$D$6","v":223850.7490282408},{"$f":"IF(W393>0,W393*(1-Dźwignie!$D$9),W393)","v":181319.10671287504},{"$f":"X393/Dźwignie!$D$5","v":18.131910671287503},{"$f":"V393/Dźwignie!$D$2","v":1.219253745141204},{"$f":"X393/Dźwignie!$D$3","v":1.8131910671287503},1.6151303639531911,1.0893452449313754,1.7594345819166906]
[382,0.20857727527618408,{"$f":"NORMINV(B394,Dźwignie!$L$8,Dźwignie!$L$9)","v":309431.61571309646},{"$f":"Dźwignie!$L$7*C394","v":464147.42356964468},null,{"$f":"C394*Dźwignie!$G$5","v":309431.61571309646},154715.80785654823,{"$f":"Dźwignie!$G$6","v":50000},104715.80785654823,{"$f":"I394-Dźwignie!$D$6","v":84715.807856548228},{"$f":"IF(J394>0,J394*(1-Dźwignie!$D$9),J394)","v":68619.804363804069},{"$f":"K394/Dźwignie!$D$5","v":6.8619804363804073},{"$f":"I394/Dźwignie!$D$2","v":0.52357903928274119},{"$f":"K394/Dźwignie!$D$3","v":0.68619804363804071},1.4774828273157741,1.2360834477771443,1.8262920672200051,null,{"$f":"C394*Dźwignie!$G$8","v":154715.80785654823},309431.61571309646,{"$f":"Dźwignie!$G$9","v":150000},159431.61571309646,{"$f":"V394-Dźwignie!$D$6","v":139431.61571309646},{"$f":"IF(W394>0,W394*(1-Dźwignie!$D$9),W394)","v":112939.60872760814},{"$f":"X394/Dźwignie!$D$5","v":11.293960872760813},{"$f":"V394/Dźwignie!$D$2","v":0.79715807856548226},{"$f":"X394/Dźwignie!$D$3","v":1.1293960872760813},1.9408422496948847,1.1434394910918433,2.2192356742806671]
[383,9.0679943561553955E-2,{"$f":"NORMINV(B395,Dźwignie!$L$8,Dźwignie!$L$9)","v":283171.01778022607},{"$f":"Dźwignie!$L$7*C395","v":424756.52667033911},null,{"$f":"C395*Dźwignie!$G$5","v":283171.01778022607},141585.50889011304,{"$f":"Dźwignie!$G$6","v":50000},91585.508890113037,{"$f":"I395-Dźwignie!$D$6","v":71585.508890113037},{"$f":"IF(J395>0,J395*(1-Dźwignie!$D$9),J395)","v":57984.262200991565},{"$f":"K395/Dźwignie!$D$5","v":5.7984262200991568},{"$f":"I395/Dźwignie!$D$2","v":0.45792754445056516},{"$f":"K395/Dźwignie!$D$3","v":0.57984262200991565},1.5459378956991052,1.2793861538471549,1.9778515384650424,null,{"$f":"C395*Dźwignie!$G$8","v":141585.50889011304},283171.01778022607,{"$f":"Dźwignie!$G$9","v":150000},133171.01778022607,{"$f":"V395-Dźwignie!$D$6","v":113171.01778022607},{"$f":"IF(W395>0,W395*(1-Dźwignie!$D$9),W395)","v":91668.52440198313},{"$f":"X395/Dźwignie!$D$5","v":9.1668524401983138},{"$f":"V395/Dźwignie!$D$2","v":0.66585508890113032},{"$f":"X395/Dźwignie!$D$3","v":0.91668524401983131},2.1263712067406964,1.1767236912089918,2.5021513752764304]
[384,0.64621520042419434,{"$f":"NORMINV(B396,Dźwignie!$L$8,Dźwignie!$L$9)","v":368756.1092066784},{"$f":"Dźwignie!$L$7*C396","v":553134.16381001764},null,{"$f":"C396*Dźwignie!$G$5","v":368756.1092066784},184378.05460333923,{"$f":"Dźwignie!$G$6","v":50000},134378.05460333923,{"$f":"I396-Dźwignie!$D$6","v":114378.05460333923},{"$f":"IF(J396>0,J396*(1-Dźwignie!$D$9),J396)","v":92646.224228704785},{"$f":"K396/Dźwignie!$D$5","v":9.2646224228704792},{"$f":"I396/Dźwignie!$D$2","v":0.67189027301669613},{"$f":"K396/Dźwignie!$D$3","v":0.92646224228704788},1.3720845650548472,1.1748587180413199,1.6120055131446198,null,{"$f":"C396*Dźwignie!$G$8","v":184378.0546033392},368756.10920667846,{"$f":"Dźwignie!$G$9","v":150000},218756.10920667846,{"$f":"V396-Dźwignie!$D$6","v":198756.10920667846},{"$f":"IF(W396>0,W396*(1-Dźwignie!$D$9),W396)","v":160992.44845740957},{"$f":"X396/Dźwignie!$D$5","v":16.099244845740959},{"$f":"V396/Dźwignie!$D$2","v":1.0937805460333923},{"$f":"X396/Dźwignie!$D$3","v":1.6099244845740956},1.6856951357563303,1.100625837765836,1.8553196210096057]
[385,6.1579644680023193E-2,{"$f":"NORMINV(B397,Dźwignie!$L$8,Dźwignie!$L$9)","v":272917.62772019743},{"$f":"Dźwignie!$L$7*C397","v":409376.44158029614},null,{"$f":"C397*Dźwignie!$G$5","v":272917.62772019743},{"$f":"$D397-F397","v":136458.81386009871},{"$f":"Dźwignie!$G$6","v":50000},{"$f":"G397-H397","v":86458.813860098715},{"$f":"I397-Dźwignie!$D$6","v":66458.813860098715},{"$f":"IF(J397>0,J397*(1-Dźwignie!$D$9),J397)","v":53831.639226679959},{"$f":"K397/Dźwignie!$D$5","v":5.3831639226679959},{"$f":"I397/Dźwignie!$D$2","v":0.43229406930049358},{"$f":"K397/Dźwignie!$D$3","v":0.53831639226679961},{"$f":"IF(I397<>0,G397/I397,\"N   \")","v":1.5783100388227198},{"$f":"IF(J397<>0,I397/J397,\"N   \")","v":1.3009382629383313},{"$f":"IF(ISTEXT(O397),O397,IF(ISTEXT(P397),P397,O397*P397))","v":2.0532839202841591},null,{"$f":"C397*Dźwignie!$G$8","v":136458.81386009871},{"$f":"$D397-S397","v":272917.62772019743},{"$f":"Dźwignie!$G$9","v":150000},{"$f":"T397-U397","v":122917.62772019743},{"$f":"V397-Dźwignie!$D$6","v":102917.62772019743},{"$f":"IF(W397>0,W397*(1-Dźwignie!$D$9),W397)","v":83363.278453359919},{"$f":"X397/Dźwignie!$D$5","v":8.3363278453359921},{"$f":"V397/Dźwignie!$D$2","v":0.61458813860098715},{"$f":"X397/Dźwignie!$D$3","v":0.83363278453359924},{"$f":"IF(V397<>0,T397/V397,\"N   \")","v":2.22032944161151},{"$f":"IF(W397<>0,V397/W397,\"N   \")","v":1.194330169117132},{"$f":"IF(ISTEXT(AB397),AB397,IF(ISTEXT(AC397),AC397,AB397*AC397))","v":2.6518064374956221}]
[386,0.50707566738128662,{"$f":"NORMINV(B398,Dźwignie!$L$8,Dźwignie!$L$9)","v":350886.84989445441},{"$f":"Dźwignie!$L$7*C398","v":526330.27484168159},null,{"$f":"C398*Dźwignie!$G$5","v":350886.84989445441},175443.42494722718,{"$f":"Dźwignie!$G$6","v":50000},125443.42494722718,{"$f":"I398-Dźwignie!$D$6","v":105443.42494722718},{"$f":"IF(J398>0,J398*(1-Dźwignie!$D$9),J398)","v":85409.174207254022},{"$f":"K398/Dźwignie!$D$5","v":8.5409174207254015},{"$f":"I398/Dźwignie!$D$2","v":0.62721712473613589},{"$f":"K398/Dźwignie!$D$3","v":0.85409174207254024},1.3985860559932457,1.1896751742463763,1.6638631098623167,null,{"$f":"C398*Dźwignie!$G$8","v":175443.42494722721},350886.84989445435,{"$f":"Dźwignie!$G$9","v":150000},200886.84989445435,{"$f":"V398-Dźwignie!$D$6","v":180886.84989445435},{"$f":"IF(W398>0,W398*(1-Dźwignie!$D$9),W398)","v":146518.34841450804},{"$f":"X398/Dźwignie!$D$5","v":14.651834841450805},{"$f":"V398/Dźwignie!$D$2","v":1.0044342494722718},{"$f":"X398/Dźwignie!$D$3","v":1.4651834841450804},1.7466889947192152,1.1105663568781798,1.9398140334645291]
[387,0.28331953287124634,{"$f":"NORMINV(B399,Dźwignie!$L$8,Dźwignie!$L$9)","v":321349.58437756123},{"$f":"Dźwignie!$L$7*C399","v":482024.37656634185},null,{"$f":"C399*Dźwignie!$G$5","v":321349.58437756123},160674.79218878062,{"$f":"Dźwignie!$G$6","v":50000},110674.79218878062,{"$f":"I399-Dźwignie!$D$6","v":90674.792188780615},{"$f":"IF(J399>0,J399*(1-Dźwignie!$D$9),J399)","v":73446.581672912303},{"$f":"K399/Dźwignie!$D$5","v":7.3446581672912306},{"$f":"I399/Dźwignie!$D$2","v":0.55337396094390312},{"$f":"K399/Dźwignie!$D$3","v":0.73446581672912303},1.4517740581316279,1.2205684680077451,1.7719896380271081,null,{"$f":"C399*Dźwignie!$G$8","v":160674.79218878062},321349.58437756123,{"$f":"Dźwignie!$G$9","v":150000},171349.58437756123,{"$f":"V399-Dźwignie!$D$6","v":151349.58437756123},{"$f":"IF(W399>0,W399*(1-Dźwignie!$D$9),W399)","v":122593.16334582461},{"$f":"X399/Dźwignie!$D$5","v":12.259316334582461},{"$f":"V399/Dźwignie!$D$2","v":0.85674792188780613},{"$f":"X399/Dźwignie!$D$3","v":1.225931633458246},1.875403348919024,1.1321443998822447,2.1232273989990804]
[388,5.3892135620117188E-2,{"$f":"NORMINV(B400,Dźwignie!$L$8,Dźwignie!$L$9)","v":269588.37580109126},{"$f":"Dźwignie!$L$7*C400","v":404382.56370163686},null,{"$f":"C400*Dźwignie!$G$5","v":269588.37580109126},134794.1879005456,{"$f":"Dźwignie!$G$6","v":50000},84794.187900545599,{"$f":"I400-Dźwignie!$D$6","v":64794.187900545599},{"$f":"IF(J400>0,J400*(1-Dźwignie!$D$9),J400)","v":52483.292199441938},{"$f":"K400/Dźwignie!$D$5","v":5.2483292199441935},{"$f":"I400/Dźwignie!$D$2","v":0.42397093950272802},{"$f":"K400/Dźwignie!$D$3","v":0.52483292199441933},1.5896630563717951,1.3086696607834418,2.0803438127420466,null,{"$f":"C400*Dźwignie!$G$8","v":134794.18790054563},269588.3758010912,{"$f":"Dźwignie!$G$9","v":150000},119588.3758010912,{"$f":"V400-Dźwignie!$D$6","v":99588.375801091199},{"$f":"IF(W400>0,W400*(1-Dźwignie!$D$9),W400)","v":80666.584398883875},{"$f":"X400/Dźwignie!$D$5","v":8.0666584398883874},{"$f":"V400/Dźwignie!$D$2","v":0.59794187900545603},{"$f":"X400/Dźwignie!$D$3","v":0.80666584398883878},2.2543025105507897,1.20082665109376,2.7070265342969604]
[389,0.13176172971725464,{"$f":"NORMINV(B401,Dźwignie!$L$8,Dźwignie!$L$9)","v":294094.90317019913},{"$f":"Dźwignie!$L$7*C401","v":441142.3547552987},null,{"$f":"C401*Dźwignie!$G$5","v":294094.90317019913},147047.45158509957,{"$f":"Dźwignie!$G$6","v":50000},97047.451585099567,{"$f":"I401-Dźwignie!$D$6","v":77047.451585099567},{"$f":"IF(J401>0,J401*(1-Dźwignie!$D$9),J401)","v":62408.435783930654},{"$f":"K401/Dźwignie!$D$5","v":6.2408435783930658},{"$f":"I401/Dźwignie!$D$2","v":0.48523725792549782},{"$f":"K401/Dźwignie!$D$3","v":0.62408435783930649},1.5152118802022916,1.2595802922554789,1.9085310228941761,null,{"$f":"C401*Dźwignie!$G$8","v":147047.45158509957},294094.90317019913,{"$f":"Dźwignie!$G$9","v":150000},144094.90317019913,{"$f":"V401-Dźwignie!$D$6","v":124094.90317019913},{"$f":"IF(W401>0,W401*(1-Dźwignie!$D$9),W401)","v":100516.87156786131},{"$f":"X401/Dźwignie!$D$5","v":10.05168715678613},{"$f":"V401/Dźwignie!$D$2","v":0.72047451585099564},{"$f":"X401/Dźwignie!$D$3","v":1.0051687156786131},2.0409806086119922,1.1611669737359762,2.3699192767557977]
[390,0.66689074039459229,{"$f":"NORMINV(B402,Dźwignie!$L$8,Dźwignie!$L$9)","v":371567.18229501939},{"$f":"Dźwignie!$L$7*C402","v":557350.77344252914},null,{"$f":"C402*Dźwignie!$G$5","v":371567.18229501939},185783.59114750975,{"$f":"Dźwignie!$G$6","v":50000},135783.59114750975,{"$f":"I402-Dźwignie!$D$6","v":115783.59114750975},{"$f":"IF(J402>0,J402*(1-Dźwignie!$D$9),J402)","v":93784.708829482901},{"$f":"K402/Dźwignie!$D$5","v":9.3784708829482906},{"$f":"I402/Dźwignie!$D$2","v":0.67891795573754876},{"$f":"K402/Dźwignie!$D$3","v":0.93784708829482899},1.3682330064881112,1.1727360483621529,1.6045761692675355,null,{"$f":"C402*Dźwignie!$G$8","v":185783.59114750969},371567.18229501945,{"$f":"Dźwignie!$G$9","v":150000},221567.18229501945,{"$f":"V402-Dźwignie!$D$6","v":201567.18229501945},{"$f":"IF(W402>0,W402*(1-Dźwignie!$D$9),W402)","v":163269.41765896577},{"$f":"X402/Dźwignie!$D$5","v":16.326941765896578},{"$f":"V402/Dźwignie!$D$2","v":1.1078359114750973},{"$f":"X402/Dźwignie!$D$3","v":1.6326941765896577},1.6769955660684133,1.0992225012637595,1.8433912607419556]
[391,0.94279032945632935,{"$f":"NORMINV(B403,Dźwignie!$L$8,Dźwignie!$L$9)","v":428931.85037501686},{"$f":"Dźwignie!$L$7*C403","v":643397.77556252526},null,{"$f":"C403*Dźwignie!$G$5","v":428931.85037501686},214465.9251875084,{"$f":"Dźwignie!$G$6","v":50000},164465.9251875084,{"$f":"I403-Dźwignie!$D$6","v":144465.9251875084},{"$f":"IF(J403>0,J403*(1-Dźwignie!$D$9),J403)","v":117017.39940188182},{"$f":"K403/Dźwignie!$D$5","v":11.701739940188181},{"$f":"I403/Dźwignie!$D$2","v":0.822329625937542},{"$f":"K403/Dźwignie!$D$3","v":1.1701739940188183},1.3040143418339984,1.1384409505150863,1.4845433268028019,null,{"$f":"C403*Dźwignie!$G$8","v":214465.92518750843},428931.8503750168,{"$f":"Dźwignie!$G$9","v":150000},278931.8503750168,{"$f":"V403-Dźwignie!$D$6","v":258931.8503750168},{"$f":"IF(W403>0,W403*(1-Dźwignie!$D$9),W403)","v":209734.79880376361},{"$f":"X403/Dźwignie!$D$5","v":20.97347988037636},{"$f":"V403/Dźwignie!$D$2","v":1.394659251875084},{"$f":"X403/Dźwignie!$D$3","v":2.0973479880376362},1.5377657653592762,1.0772404011751877,1.6565434099890963]
[392,0.90873169898986816,{"$f":"NORMINV(B404,Dźwignie!$L$8,Dźwignie!$L$9)","v":416649.26894112286},{"$f":"Dźwignie!$L$7*C404","v":624973.90341168432},null,{"$f":"C404*Dźwignie!$G$5","v":416649.26894112286},208324.63447056146,{"$f":"Dźwignie!$G$6","v":50000},158324.63447056146,{"$f":"I404-Dźwignie!$D$6","v":138324.63447056146},{"$f":"IF(J404>0,J404*(1-Dźwignie!$D$9),J404)","v":112042.9539211548},{"$f":"K404/Dźwignie!$D$5","v":11.20429539211548},{"$f":"I404/Dźwignie!$D$2","v":0.79162317235280732},{"$f":"K404/Dźwignie!$D$3","v":1.120429539211548},1.3158068241698477,1.1445874053927569,1.5060559188746496,null,{"$f":"C404*Dźwignie!$G$8","v":208324.63447056143},416649.26894112292,{"$f":"Dźwignie!$G$9","v":150000},266649.26894112292,{"$f":"V404-Dźwignie!$D$6","v":246649.26894112292},{"$f":"IF(W404>0,W404*(1-Dźwignie!$D$9),W404)","v":199785.90784230959},{"$f":"X404/Dźwignie!$D$5","v":19.97859078423096},{"$f":"V404/Dźwignie!$D$2","v":1.3332463447056146},{"$f":"X404/Dźwignie!$D$3","v":1.9978590784230958},1.5625367007217279,1.0810868002401182,1.6892378020410039]
[393,0.31748718023300171,{"$f":"NORMINV(B405,Dźwignie!$L$8,Dźwignie!$L$9)","v":326263.14427274314},{"$f":"Dźwignie!$L$7*C405","v":489394.71640911471},null,{"$f":"C405*Dźwignie!$G$5","v":326263.14427274314},163131.57213637157,{"$f":"Dźwignie!$G$6","v":50000},113131.57213637157,{"$f":"I405-Dźwignie!$D$6","v":93131.572136371571},{"$f":"IF(J405>0,J405*(1-Dźwignie!$D$9),J405)","v":75436.57343046098},{"$f":"K405/Dźwignie!$D$5","v":7.5436573430460978},{"$f":"I405/Dźwignie!$D$2","v":0.56565786068185786},{"$f":"K405/Dźwignie!$D$3","v":0.75436573430460985},1.441963273874854,1.2147499450638952,1.7516248077236334,null,{"$f":"C405*Dźwignie!$G$8","v":163131.57213637157},326263.14427274314,{"$f":"Dźwignie!$G$9","v":150000},176263.14427274314,{"$f":"V405-Dźwignie!$D$6","v":156263.14427274314},{"$f":"IF(W405>0,W405*(1-Dźwignie!$D$9),W405)","v":126573.14686092196},{"$f":"X405/Dźwignie!$D$5","v":12.657314686092196},{"$f":"V405/Dźwignie!$D$2","v":0.88131572136371572},{"$f":"X405/Dźwignie!$D$3","v":1.2657314686092196},1.8510003643637236,1.127989233117515,2.0879084814988773]
[394,0.10898196697235107,{"$f":"NORMINV(B406,Dźwignie!$L$8,Dźwignie!$L$9)","v":288401.98761340411},{"$f":"Dźwignie!$L$7*C406","v":432602.98142010614},null,{"$f":"C406*Dźwignie!$G$5","v":288401.98761340411},144200.99380670203,{"$f":"Dźwignie!$G$6","v":50000},94200.993806702027,{"$f":"I406-Dźwignie!$D$6","v":74200.993806702027},{"$f":"IF(J406>0,J406*(1-Dźwignie!$D$9),J406)","v":60102.804983428643},{"$f":"K406/Dźwignie!$D$5","v":6.0102804983428646},{"$f":"I406/Dźwignie!$D$2","v":0.47100496903351013},{"$f":"K406/Dźwignie!$D$3","v":0.60102804983428648},1.5307799629226704,1.2695381688835756,1.9433835910925148,null,{"$f":"C406*Dźwignie!$G$8","v":144200.99380670206},288401.98761340405,{"$f":"Dźwignie!$G$9","v":150000},138401.98761340405,{"$f":"V406-Dźwignie!$D$6","v":118401.98761340405},{"$f":"IF(W406>0,W406*(1-Dźwignie!$D$9),W406)","v":95905.609966857286},{"$f":"X406/Dźwignie!$D$5","v":9.5905609966857295},{"$f":"V406/Dźwignie!$D$2","v":0.69200993806702027},{"$f":"X406/Dźwignie!$D$3","v":0.95905609966857286},2.083799464058222,1.1689160832781142,2.4357867078639703]
[395,0.86871391534805298,{"$f":"NORMINV(B407,Dźwignie!$L$8,Dźwignie!$L$9)","v":406016.61657015566},{"$f":"Dźwignie!$L$7*C407","v":609024.92485523352},null,{"$f":"C407*Dźwignie!$G$5","v":406016.61657015566},203008.30828507786,{"$f":"Dźwignie!$G$6","v":50000},153008.30828507786,{"$f":"I407-Dźwignie!$D$6","v":133008.30828507786},{"$f":"IF(J407>0,J407*(1-Dźwignie!$D$9),J407)","v":107736.72971091307},{"$f":"K407/Dźwignie!$D$5","v":10.773672971091308},{"$f":"I407/Dźwignie!$D$2","v":0.76504154142538927},{"$f":"K407/Dźwignie!$D$3","v":1.0773672971091308},1.326779640663972,1.1503665467057429,1.5262829134700999,null,{"$f":"C407*Dźwignie!$G$8","v":203008.30828507783},406016.61657015572,{"$f":"Dźwignie!$G$9","v":150000},256016.61657015572,{"$f":"V407-Dźwignie!$D$6","v":236016.61657015572},{"$f":"IF(W407>0,W407*(1-Dźwignie!$D$9),W407)","v":191173.45942182615},{"$f":"X407/Dźwignie!$D$5","v":19.117345942182613},{"$f":"V407/Dźwignie!$D$2","v":1.2800830828507785},{"$f":"X407/Dźwignie!$D$3","v":1.9117345942182615},1.585899470157617,1.0847397962509773,1.7202882681333063]
[396,0.62436914443969727,{"$f":"NORMINV(B408,Dźwignie!$L$8,Dźwignie!$L$9)","v":365848.80672516435},{"$f":"Dźwignie!$L$7*C408","v":548773.2100877465},null,{"$f":"C408*Dźwignie!$G$5","v":365848.80672516435},182924.40336258215,{"$f":"Dźwignie!$G$6","v":50000},132924.40336258215,{"$f":"I408-Dźwignie!$D$6","v":112924.40336258215},{"$f":"IF(J408>0,J408*(1-Dźwignie!$D$9),J408)","v":91468.766723691544},{"$f":"K408/Dźwignie!$D$5","v":9.1468766723691548},{"$f":"I408/Dźwignie!$D$2","v":0.66462201681291078},{"$f":"K408/Dźwignie!$D$3","v":0.91468766723691541},1.3761536537697552,1.1771096362208193,1.6198837267728678,null,{"$f":"C408*Dźwignie!$G$8","v":182924.40336258218},365848.80672516429,{"$f":"Dźwignie!$G$9","v":150000},215848.80672516429,{"$f":"V408-Dźwignie!$D$6","v":195848.80672516429},{"$f":"IF(W408>0,W408*(1-Dźwignie!$D$9),W408)","v":158637.53344738309},{"$f":"X408/Dźwignie!$D$5","v":15.863753344738308},{"$f":"V408/Dźwignie!$D$2","v":1.0792440336258216},{"$f":"X408/Dźwignie!$D$3","v":1.5863753344738309},1.6949308744198517,1.1021195907926369,1.8680165217374132]
[397,0.9403502345085144,{"$f":"NORMINV(B409,Dźwignie!$L$8,Dźwignie!$L$9)","v":427886.02241945639},{"$f":"Dźwignie!$L$7*C409","v":641829.03362918459},null,{"$f":"C409*Dźwignie!$G$5","v":427886.02241945639},213943.0112097282,{"$f":"Dźwignie!$G$6","v":50000},163943.0112097282,{"$f":"I409-Dźwignie!$D$6","v":143943.0112097282},{"$f":"IF(J409>0,J409*(1-Dźwignie!$D$9),J409)","v":116593.83907987985},{"$f":"K409/Dźwignie!$D$5","v":11.659383907987985},{"$f":"I409/Dźwignie!$D$2","v":0.81971505604864103},{"$f":"K409/Dźwignie!$D$3","v":1.1659383907987986},1.3049840284807033,1.138943876690613,1.4863035684171455,null,{"$f":"C409*Dźwignie!$G$8","v":213943.0112097282},427886.02241945639,{"$f":"Dźwignie!$G$9","v":150000},277886.02241945639,{"$f":"V409-Dźwignie!$D$6","v":257886.02241945639},{"$f":"IF(W409>0,W409*(1-Dźwignie!$D$9),W409)","v":208887.6781597597},{"$f":"X409/Dźwignie!$D$5","v":20.888767815975971},{"$f":"V409/Dźwignie!$D$2","v":1.3894301120972821},{"$f":"X409/Dźwignie!$D$3","v":2.0888767815975968},1.5397896543842058,1.0775536409936544,1.6592059484460615]
[398,0.18106663227081299,{"$f":"NORMINV(B410,Dźwignie!$L$8,Dźwignie!$L$9)","v":304434.61443860544},{"$f":"Dźwignie!$L$7*C410","v":456651.92165790813},null,{"$f":"C410*Dźwignie!$G$5","v":304434.61443860544},152217.30721930269,{"$f":"Dźwignie!$G$6","v":50000},102217.30721930269,{"$f":"I410-Dźwignie!$D$6","v":82217.307219302689},{"$f":"IF(J410>0,J410*(1-Dźwignie!$D$9),J410)","v":66596.018847635176},{"$f":"K410/Dźwignie!$D$5","v":6.6596018847635179},{"$f":"I410/Dźwignie!$D$2","v":0.51108653609651344},{"$f":"K410/Dźwignie!$D$3","v":0.66596018847635174},1.4891539540630554,1.2432577844790382,1.8514022456766337,null,{"$f":"C410*Dźwignie!$G$8","v":152217.30721930272},304434.61443860538,{"$f":"Dźwignie!$G$9","v":150000},154434.61443860538,{"$f":"V410-Dźwignie!$D$6","v":134434.61443860538},{"$f":"IF(W410>0,W410*(1-Dźwignie!$D$9),W410)","v":108892.03769527037},{"$f":"X410/Dźwignie!$D$5","v":10.889203769527036},{"$f":"V410/Dźwignie!$D$2","v":0.77217307219302689},{"$f":"X410/Dźwignie!$D$3","v":1.0889203769527036},1.9712848414539323,1.1487712080963624,2.26455526881908]
[399,8.0438435077667236E-2,{"$f":"NORMINV(B411,Dźwignie!$L$8,Dźwignie!$L$9)","v":279893.57370922551},{"$f":"Dźwignie!$L$7*C411","v":419840.36056383827},null,{"$f":"C411*Dźwignie!$G$5","v":279893.57370922551},139946.78685461276,{"$f":"Dźwignie!$G$6","v":50000},89946.786854612757,{"$f":"I411-Dźwignie!$D$6","v":69946.786854612757},{"$f":"IF(J411>0,J411*(1-Dźwignie!$D$9),J411)","v":56656.897352236338},{"$f":"K411/Dźwignie!$D$5","v":5.6656897352236335},{"$f":"I411/Dźwignie!$D$2","v":0.4497339342730638},{"$f":"K411/Dźwignie!$D$3","v":0.56656897352236335},1.5558842260904604,1.2859316474618172,2.0007607661163602,null,{"$f":"C411*Dźwignie!$G$8","v":139946.78685461276},279893.57370922551,{"$f":"Dźwignie!$G$9","v":150000},129893.57370922551,{"$f":"V411-Dźwignie!$D$6","v":109893.57370922551},{"$f":"IF(W411>0,W411*(1-Dźwignie!$D$9),W411)","v":89013.794704472675},{"$f":"X411/Dźwignie!$D$5","v":8.9013794704472673},{"$f":"V411/Dźwignie!$D$2","v":0.64946786854612759},{"$f":"X411/Dźwignie!$D$3","v":0.89013794704472671},2.1547915398477211,1.1819942634036025,2.5469512389306215]
[400,0.95526003837585449,{"$f":"NORMINV(B412,Dźwignie!$L$8,Dźwignie!$L$9)","v":434907.37583684432},{"$f":"Dźwignie!$L$7*C412","v":652361.06375526648},null,{"$f":"C412*Dźwignie!$G$5","v":434907.37583684432},217453.68791842216,{"$f":"Dźwignie!$G$6","v":50000},167453.68791842216,{"$f":"I412-Dźwignie!$D$6","v":147453.68791842216},{"$f":"IF(J412>0,J412*(1-Dźwignie!$D$9),J412)","v":119437.48721392197},{"$f":"K412/Dźwignie!$D$5","v":11.943748721392197},{"$f":"I412/Dźwignie!$D$2","v":0.83726843959211084},{"$f":"K412/Dźwignie!$D$3","v":1.1943748721392196},1.2985900198528821,1.1356358072987967,1.4747253255457882,null,{"$f":"C412*Dźwignie!$G$8","v":217453.68791842216},434907.37583684432,{"$f":"Dźwignie!$G$9","v":150000},284907.37583684432,{"$f":"V412-Dźwignie!$D$6","v":264907.37583684432},{"$f":"IF(W412>0,W412*(1-Dźwignie!$D$9),W412)","v":214574.9744278439},{"$f":"X412/Dźwignie!$D$5","v":21.457497442784391},{"$f":"V412/Dźwignie!$D$2","v":1.4245368791842217},{"$f":"X412/Dźwignie!$D$3","v":2.1457497442784392},1.5264868961690179,1.0754980865927943,1.6417337360387523]
[401,0.29948419332504272,{"$f":"NORMINV(B413,Dźwignie!$L$8,Dźwignie!$L$9)","v":323705.76979643822},{"$f":"Dźwignie!$L$7*C413","v":485558.65469465731},null,{"$f":"C413*Dźwignie!$G$5","v":323705.76979643822},161852.88489821908,{"$f":"Dźwignie!$G$6","v":50000},111852.88489821908,{"$f":"I413-Dźwignie!$D$6","v":91852.884898219083},{"$f":"IF(J413>0,J413*(1-Dźwignie!$D$9),J413)","v":74400.836767557455},{"$f":"K413/Dźwignie!$D$5","v":7.4400836767557452},{"$f":"I413/Dźwignie!$D$2","v":0.55926442449109537},{"$f":"K413/Dźwignie!$D$3","v":0.74400836767557454},1.4470157389815888,1.2177394865949145,1.7620882030822007,null,{"$f":"C413*Dźwignie!$G$8","v":161852.88489821911},323705.76979643817,{"$f":"Dźwignie!$G$9","v":150000},173705.76979643817,{"$f":"V413-Dźwignie!$D$6","v":153705.76979643817},{"$f":"IF(W413>0,W413*(1-Dźwignie!$D$9),W413)","v":124501.67353511493},{"$f":"X413/Dźwignie!$D$5","v":12.450167353511493},{"$f":"V413/Dźwignie!$D$2","v":0.86852884898219085},{"$f":"X413/Dźwignie!$D$3","v":1.2450167353511492},1.863529174510332,1.1301187328653128,2.1060092293551587]
[402,0.29824483394622803,{"$f":"NORMINV(B414,Dźwignie!$L$8,Dźwignie!$L$9)","v":323527.23664281546},{"$f":"Dźwignie!$L$7*C414","v":485290.85496422322},null,{"$f":"C414*Dźwignie!$G$5","v":323527.23664281546},161763.61832140776,{"$f":"Dźwignie!$G$6","v":50000},111763.61832140776,{"$f":"I414-Dźwignie!$D$6","v":91763.618321407761},{"$f":"IF(J414>0,J414*(1-Dźwignie!$D$9),J414)","v":74328.530840340289},{"$f":"K414/Dźwignie!$D$5","v":7.4328530840340292},{"$f":"I414/Dźwignie!$D$2","v":0.55881809160703877},{"$f":"K414/Dźwignie!$D$3","v":0.7432853084034029},1.4473727743514075,1.2179513010259553,1.7628295535908431,null,{"$f":"C414*Dźwignie!$G$8","v":161763.61832140773},323527.23664281552,{"$f":"Dźwignie!$G$9","v":150000},173527.23664281552,{"$f":"V414-Dźwignie!$D$6","v":153527.23664281552},{"$f":"IF(W414>0,W414*(1-Dźwignie!$D$9),W414)","v":124357.06168068058},{"$f":"X414/Dźwignie!$D$5","v":12.435706168068057},{"$f":"V414/Dźwignie!$D$2","v":0.86763618321407765},{"$f":"X414/Dźwignie!$D$3","v":1.2435706168068057},1.8644176147906772,1.1302700448294425,2.1072953810502608]
[403,0.39516359567642212,{"$f":"NORMINV(B415,Dźwignie!$L$8,Dźwignie!$L$9)","v":336705.71193524764},{"$f":"Dźwignie!$L$7*C415","v":505058.56790287147},null,{"$f":"C415*Dźwignie!$G$5","v":336705.71193524764},168352.85596762382,{"$f":"Dźwignie!$G$6","v":50000},118352.85596762382,{"$f":"I415-Dźwignie!$D$6","v":98352.855967623822},{"$f":"IF(J415>0,J415*(1-Dźwignie!$D$9),J415)","v":79665.813333775295},{"$f":"K415/Dźwignie!$D$5","v":7.9665813333775297},{"$f":"I415/Dźwignie!$D$2","v":0.59176427983811908},{"$f":"K415/Dźwignie!$D$3","v":0.79665813333775293},1.4224655129038697,1.2033494584700588,1.7117231046452059,null,{"$f":"C415*Dźwignie!$G$8","v":168352.85596762382},336705.71193524764,{"$f":"Dźwignie!$G$9","v":150000},186705.71193524764,{"$f":"V415-Dźwignie!$D$6","v":166705.71193524764},{"$f":"IF(W415>0,W415*(1-Dźwignie!$D$9),W415)","v":135031.62666755059},{"$f":"X415/Dźwignie!$D$5","v":13.50316266675506},{"$f":"V415/Dźwignie!$D$2","v":0.93352855967623827},{"$f":"X415/Dźwignie!$D$3","v":1.350316266675506},1.8034033798174438,1.1199718939910617,2.0197610989240244]
[404,0.26230525970458984,{"$f":"NORMINV(B416,Dźwignie!$L$8,Dźwignie!$L$9)","v":318187.27219419146},{"$f":"Dźwignie!$L$7*C416","v":477280.9082912872},null,{"$f":"C416*Dźwignie!$G$5","v":318187.27219419146},159093.63609709573,{"$f":"Dźwignie!$G$6","v":50000},109093.63609709573,{"$f":"I416-Dźwignie!$D$6","v":89093.636097095732},{"$f":"IF(J416>0,J416*(1-Dźwignie!$D$9),J416)","v":72165.845238647555},{"$f":"K416/Dźwignie!$D$5","v":7.2165845238647552},{"$f":"I416/Dźwignie!$D$2","v":0.54546818048547863},{"$f":"K416/Dźwignie!$D$3","v":0.72165845238647552},1.458321876406236,1.2244829246637063,1.7856902363229719,null,{"$f":"C416*Dźwignie!$G$8","v":159093.63609709573},318187.27219419146,{"$f":"Dźwignie!$G$9","v":150000},168187.27219419146,{"$f":"V416-Dźwignie!$D$6","v":148187.27219419146},{"$f":"IF(W416>0,W416*(1-Dźwignie!$D$9),W416)","v":120031.69047729509},{"$f":"X416/Dźwignie!$D$5","v":12.003169047729509},{"$f":"V416/Dźwignie!$D$2","v":0.84093636097095736},{"$f":"X416/Dźwignie!$D$3","v":1.2003169047729509},1.8918629694333102,1.1349643576257418,2.1471970398188054]
[405,0.87468641996383667,{"$f":"NORMINV(B417,Dźwignie!$L$8,Dźwignie!$L$9)","v":407441.36983143043},{"$f":"Dźwignie!$L$7*C417","v":611162.05474714562},null,{"$f":"C417*Dźwignie!$G$5","v":407441.36983143043},203720.68491571519,{"$f":"Dźwignie!$G$6","v":50000},153720.68491571519,{"$f":"I417-Dźwignie!$D$6","v":133720.68491571519},{"$f":"IF(J417>0,J417*(1-Dźwignie!$D$9),J417)","v":108313.75478172931},{"$f":"K417/Dźwignie!$D$5","v":10.83137547817293},{"$f":"I417/Dźwignie!$D$2","v":0.76860342457857589},{"$f":"K417/Dźwignie!$D$3","v":1.0831375478172931},1.3252652694555382,1.1495654917756823,1.523479221214888,null,{"$f":"C417*Dźwignie!$G$8","v":203720.68491571522},407441.36983143038,{"$f":"Dźwignie!$G$9","v":150000},257441.36983143038,{"$f":"V417-Dźwignie!$D$6","v":237441.36983143038},{"$f":"IF(W417>0,W417*(1-Dźwignie!$D$9),W417)","v":192327.50956345862},{"$f":"X417/Dźwignie!$D$5","v":19.232750956345861},{"$f":"V417/Dźwignie!$D$2","v":1.2872068491571518},{"$f":"X417/Dźwignie!$D$3","v":1.9232750956345861},1.5826569369880927,1.0842313199852192,1.7159662198743637]
[406,0.33362448215484619,{"$f":"NORMINV(B418,Dźwignie!$L$8,Dźwignie!$L$9)","v":328503.66512816673},{"$f":"Dźwignie!$L$7*C418","v":492755.49769225006},null,{"$f":"C418*Dźwignie!$G$5","v":328503.66512816673},164251.83256408334,{"$f":"Dźwignie!$G$6","v":50000},114251.83256408334,{"$f":"I418-Dźwignie!$D$6","v":94251.832564083335},{"$f":"IF(J418>0,J418*(1-Dźwignie!$D$9),J418)","v":76343.984376907509},{"$f":"K418/Dźwignie!$D$5","v":7.6343984376907512},{"$f":"I418/Dźwignie!$D$2","v":0.57125916282041667},{"$f":"K418/Dźwignie!$D$3","v":0.76343984376907503},1.4376297419295681,1.2121974656185246,1.742691129664836,null,{"$f":"C418*Dźwignie!$G$8","v":164251.83256408336},328503.66512816667,{"$f":"Dźwignie!$G$9","v":150000},178503.66512816667,{"$f":"V418-Dźwignie!$D$6","v":158503.66512816667},{"$f":"IF(W418>0,W418*(1-Dźwignie!$D$9),W418)","v":128387.96875381502},{"$f":"X418/Dźwignie!$D$5","v":12.838796875381501},{"$f":"V418/Dźwignie!$D$2","v":0.89251832564083333},{"$f":"X418/Dźwignie!$D$3","v":1.2838796875381502},1.8403188802442747,1.126180047532831,2.0725304040290635]
[407,0.25606566667556763,{"$f":"NORMINV(B419,Dźwignie!$L$8,Dźwignie!$L$9)","v":317223.86944657494},{"$f":"Dźwignie!$L$7*C419","v":475835.80416986241},null,{"$f":"C419*Dźwignie!$G$5","v":317223.86944657494},158611.93472328747,{"$f":"Dźwignie!$G$6","v":50000},108611.93472328747,{"$f":"I419-Dźwignie!$D$6","v":88611.934723287472},{"$f":"IF(J419>0,J419*(1-Dźwignie!$D$9),J419)","v":71775.667125862863},{"$f":"K419/Dźwignie!$D$5","v":7.1775667125862865},{"$f":"I419/Dźwignie!$D$2","v":0.54305967361643737},{"$f":"K419/Dźwignie!$D$3","v":0.71775667125862863},1.4603545653374639,1.2257032313136478,1.7899613095977671,null,{"$f":"C419*Dźwignie!$G$8","v":158611.93472328747},317223.86944657494,{"$f":"Dźwignie!$G$9","v":150000},167223.86944657494,{"$f":"V419-Dźwignie!$D$6","v":147223.86944657494},{"$f":"IF(W419>0,W419*(1-Dźwignie!$D$9),W419)","v":119251.33425172571},{"$f":"X419/Dźwignie!$D$5","v":11.925133425172572},{"$f":"V419/Dźwignie!$D$2","v":0.83611934723287473},{"$f":"X419/Dźwignie!$D$3","v":1.1925133425172572},1.897001130857831,1.135847536647294,2.1547040615019983]
[408,2.847599983215332E-2,{"$f":"NORMINV(B420,Dźwignie!$L$8,Dźwignie!$L$9)","v":254816.04870494147},{"$f":"Dźwignie!$L$7*C420","v":382224.07305741217},null,{"$f":"C420*Dźwignie!$G$5","v":254816.04870494147},127408.0243524707,{"$f":"Dźwignie!$G$6","v":50000},77408.024352470704,{"$f":"I420-Dźwignie!$D$6","v":57408.024352470704},{"$f":"IF(J420>0,J420*(1-Dźwignie!$D$9),J420)","v":46500.499725501271},{"$f":"K420/Dźwignie!$D$5","v":4.6500499725501268},{"$f":"I420/Dźwignie!$D$2","v":0.38704012176235353},{"$f":"K420/Dźwignie!$D$3","v":0.46500499725501271},1.6459278662419978,1.348383352773213,2.2193417347062456,null,{"$f":"C420*Dźwignie!$G$8","v":127408.02435247073},254816.04870494144,{"$f":"Dźwignie!$G$9","v":150000},104816.04870494144,{"$f":"V420-Dźwignie!$D$6","v":84816.048704941437},{"$f":"IF(W420>0,W420*(1-Dźwignie!$D$9),W420)","v":68700.999451002572},{"$f":"X420/Dźwignie!$D$5","v":6.8700999451002573},{"$f":"V420/Dźwignie!$D$2","v":0.52408024352470717},{"$f":"X420/Dźwignie!$D$3","v":0.68700999451002576},2.4310785595653579,1.2358044297674855,3.0043376530236272]
[409,0.77954334020614624,{"$f":"NORMINV(B421,Dźwignie!$L$8,Dźwignie!$L$9)","v":388532.59246343048},{"$f":"Dźwignie!$L$7*C421","v":582798.88869514572},null,{"$f":"C421*Dźwignie!$G$5","v":388532.59246343048},194266.29623171524,{"$f":"Dźwignie!$G$6","v":50000},144266.29623171524,{"$f":"I421-Dźwignie!$D$6","v":124266.29623171524},{"$f":"IF(J421>0,J421*(1-Dźwignie!$D$9),J421)","v":100655.69994768935},{"$f":"K421/Dźwignie!$D$5","v":10.065569994768936},{"$f":"I421/Dźwignie!$D$2","v":0.72133148115857626},{"$f":"K421/Dźwignie!$D$3","v":1.0065569994768935},1.3465812965745778,1.1609446857795349,1.5633064002283719,null,{"$f":"C421*Dźwignie!$G$8","v":194266.29623171524},388532.59246343048,{"$f":"Dźwignie!$G$9","v":150000},238532.59246343048,{"$f":"V421-Dźwignie!$D$6","v":218532.59246343048},{"$f":"IF(W421>0,W421*(1-Dźwignie!$D$9),W421)","v":177011.39989537871},{"$f":"X421/Dźwignie!$D$5","v":17.701139989537872},{"$f":"V421/Dźwignie!$D$2","v":1.1926629623171525},{"$f":"X421/Dźwignie!$D$3","v":1.7701139989537871},1.628844882164254,1.0915195293047504,1.7779159990903781]
[410,0.25894629955291748,{"$f":"NORMINV(B422,Dźwignie!$L$8,Dźwignie!$L$9)","v":317670.13447347935},{"$f":"Dźwignie!$L$7*C422","v":476505.20171021903},null,{"$f":"C422*Dźwignie!$G$5","v":317670.13447347935},158835.06723673968,{"$f":"Dźwignie!$G$6","v":50000},108835.06723673968,{"$f":"I422-Dźwignie!$D$6","v":88835.067236739676},{"$f":"IF(J422>0,J422*(1-Dźwignie!$D$9),J422)","v":71956.404461759143},{"$f":"K422/Dźwignie!$D$5","v":7.195640446175914},{"$f":"I422/Dźwignie!$D$2","v":0.5441753361836984},{"$f":"K422/Dźwignie!$D$3","v":0.71956404461759138},1.4594107512355301,1.225136318597039,1.7879771150896364,null,{"$f":"C422*Dźwignie!$G$8","v":158835.06723673968},317670.13447347935,{"$f":"Dźwignie!$G$9","v":150000},167670.13447347935,{"$f":"V422-Dźwignie!$D$6","v":147670.13447347935},{"$f":"IF(W422>0,W422*(1-Dźwignie!$D$9),W422)","v":119612.80892351829},{"$f":"X422/Dźwignie!$D$5","v":11.961280892351828},{"$f":"V422/Dźwignie!$D$2","v":0.8383506723673968},{"$f":"X422/Dźwignie!$D$3","v":1.1961280892351829},1.8946137036928645,1.1354369999818201,2.1512144998454712]
[411,0.81042248010635376,{"$f":"NORMINV(B423,Dźwignie!$L$8,Dźwignie!$L$9)","v":393972.711465106},{"$f":"Dźwignie!$L$7*C423","v":590959.06719765905},null,{"$f":"C423*Dźwignie!$G$5","v":393972.711465106},196986.35573255306,{"$f":"Dźwignie!$G$6","v":50000},146986.35573255306,{"$f":"I423-Dźwignie!$D$6","v":126986.35573255306},{"$f":"IF(J423>0,J423*(1-Dźwignie!$D$9),J423)","v":102858.94814336798},{"$f":"K423/Dźwignie!$D$5","v":10.285894814336798},{"$f":"I423/Dźwignie!$D$2","v":0.73493177866276527},{"$f":"K423/Dźwignie!$D$3","v":1.0285894814336798},1.3401676281503081,1.157497235703985,1.5512403249639477,null,{"$f":"C423*Dźwignie!$G$8","v":196986.355732553},393972.71146510605,{"$f":"Dźwignie!$G$9","v":150000},243972.71146510605,{"$f":"V423-Dźwignie!$D$6","v":223972.71146510605},{"$f":"IF(W423>0,W423*(1-Dźwignie!$D$9),W423)","v":181417.89628673592},{"$f":"X423/Dźwignie!$D$5","v":18.141789628673592},{"$f":"V423/Dźwignie!$D$2","v":1.2198635573255303},{"$f":"X423/Dźwignie!$D$3","v":1.8141789628673592},1.6148228590780473,1.0892965927374412,1.7590210382682501]
[412,0.62443876266479492,{"$f":"NORMINV(B424,Dźwignie!$L$8,Dźwignie!$L$9)","v":365857.98187450756},{"$f":"Dźwignie!$L$7*C424","v":548786.97281176131},null,{"$f":"C424*Dźwignie!$G$5","v":365857.98187450756},182928.99093725375,{"$f":"Dźwignie!$G$6","v":50000},132928.99093725375,{"$f":"I424-Dźwignie!$D$6","v":112928.99093725375},{"$f":"IF(J424>0,J424*(1-Dźwignie!$D$9),J424)","v":91472.482659175541},{"$f":"K424/Dźwignie!$D$5","v":9.147248265917554},{"$f":"I424/Dźwignie!$D$2","v":0.66464495468626872},{"$f":"K424/Dźwignie!$D$3","v":0.91472482659175536},1.3761406721548155,1.1771024414015399,1.6198585449053895,null,{"$f":"C424*Dźwignie!$G$8","v":182928.99093725378},365857.9818745075,{"$f":"Dźwignie!$G$9","v":150000},215857.9818745075,{"$f":"V424-Dźwignie!$D$6","v":195857.9818745075},{"$f":"IF(W424>0,W424*(1-Dźwignie!$D$9),W424)","v":158644.96531835108},{"$f":"X424/Dźwignie!$D$5","v":15.864496531835108},{"$f":"V424/Dźwignie!$D$2","v":1.0792899093725374},{"$f":"X424/Dźwignie!$D$3","v":1.5864496531835108},1.6949013360423471,1.102114806905417,1.8679758586960447]
[413,0.46455544233322144,{"$f":"NORMINV(B425,Dźwignie!$L$8,Dźwignie!$L$9)","v":345551.82291278674},{"$f":"Dźwignie!$L$7*C425","v":518327.73436918011},null,{"$f":"C425*Dźwignie!$G$5","v":345551.82291278674},172775.91145639337,{"$f":"Dźwignie!$G$6","v":50000},122775.91145639337,{"$f":"I425-Dźwignie!$D$6","v":102775.91145639337},{"$f":"IF(J425>0,J425*(1-Dźwignie!$D$9),J425)","v":83248.488279678641},{"$f":"K425/Dźwignie!$D$5","v":8.3248488279678643},{"$f":"I425/Dźwignie!$D$2","v":0.61387955728196686},{"$f":"K425/Dźwignie!$D$3","v":0.83248488279678645},1.4072460094727834,1.1945981282636036,1.6810934489226124,null,{"$f":"C425*Dźwignie!$G$8","v":172775.91145639337},345551.82291278674,{"$f":"Dźwignie!$G$9","v":150000},195551.82291278674,{"$f":"V425-Dźwignie!$D$6","v":175551.82291278674},{"$f":"IF(W425>0,W425*(1-Dźwignie!$D$9),W425)","v":142196.97655935728},{"$f":"X425/Dźwignie!$D$5","v":14.219697655935729},{"$f":"V425/Dźwignie!$D$2","v":0.97775911456393372},{"$f":"X425/Dźwignie!$D$3","v":1.4219697655935728},1.767060095711293,1.1139264729249545,1.9683750198621131]
[414,3.5208821296691895E-2,{"$f":"NORMINV(B426,Dźwignie!$L$8,Dźwignie!$L$9)","v":259539.26108307345},{"$f":"Dźwignie!$L$7*C426","v":389308.89162461017},null,{"$f":"C426*Dźwignie!$G$5","v":259539.26108307345},129769.63054153672,{"$f":"Dźwignie!$G$6","v":50000},79769.630541536724,{"$f":"I426-Dźwignie!$D$6","v":59769.630541536724},{"$f":"IF(J426>0,J426*(1-Dźwignie!$D$9),J426)","v":48413.400738644748},{"$f":"K426/Dźwignie!$D$5","v":4.8413400738644752},{"$f":"I426/Dźwignie!$D$2","v":0.39884815270768365},{"$f":"K426/Dźwignie!$D$3","v":0.48413400738644746},1.6268049589870492,1.3346180964946917,2.1711633377314206,null,{"$f":"C426*Dźwignie!$G$8","v":129769.63054153672},259539.26108307345,{"$f":"Dźwignie!$G$9","v":150000},109539.26108307345,{"$f":"V426-Dźwignie!$D$6","v":89539.261083073448},{"$f":"IF(W426>0,W426*(1-Dźwignie!$D$9),W426)","v":72526.801477289497},{"$f":"X426/Dźwignie!$D$5","v":7.2526801477289498},{"$f":"V426/Dźwignie!$D$2","v":0.54769630541536729},{"$f":"X426/Dźwignie!$D$3","v":0.72526801477289493},2.3693720271331897,1.2233657030232161,2.8986084756973374]
[415,0.23773843050003052,{"$f":"NORMINV(B427,Dźwignie!$L$8,Dźwignie!$L$9)","v":314320.18620117829},{"$f":"Dźwignie!$L$7*C427","v":471480.27930176747},null,{"$f":"C427*Dźwignie!$G$5","v":314320.18620117829},157160.09310058918,{"$f":"Dźwignie!$G$6","v":50000},107160.09310058918,{"$f":"I427-Dźwignie!$D$6","v":87160.093100589176},{"$f":"IF(J427>0,J427*(1-Dźwignie!$D$9),J427)","v":70599.675411477234},{"$f":"K427/Dźwignie!$D$5","v":7.0599675411477234},{"$f":"I427/Dźwignie!$D$2","v":0.53580046550294591},{"$f":"K427/Dźwignie!$D$3","v":0.70599675411477236},1.4665916065700497,1.2294628113455377,1.8031198397093822,null,{"$f":"C427*Dźwignie!$G$8","v":157160.09310058915},314320.18620117835,{"$f":"Dźwignie!$G$9","v":150000},164320.18620117835,{"$f":"V427-Dźwignie!$D$6","v":144320.18620117835},{"$f":"IF(W427>0,W427*(1-Dźwignie!$D$9),W427)","v":116899.35082295447},{"$f":"X427/Dźwignie!$D$5","v":11.689935082295447},{"$f":"V427/Dźwignie!$D$2","v":0.82160093100589171},{"$f":"X427/Dźwignie!$D$3","v":1.1689935082295446},1.9128519354058786,1.1385807524674376,2.1779363959732199]
[416,0.32418036460876465,{"$f":"NORMINV(B428,Dźwignie!$L$8,Dźwignie!$L$9)","v":327197.96624941501},{"$f":"Dźwignie!$L$7*C428","v":490796.94937412255},null,{"$f":"C428*Dźwignie!$G$5","v":327197.96624941501},163598.98312470753,{"$f":"Dźwignie!$G$6","v":50000},113598.98312470753,{"$f":"I428-Dźwignie!$D$6","v":93598.983124707534},{"$f":"IF(J428>0,J428*(1-Dźwignie!$D$9),J428)","v":75815.176331013106},{"$f":"K428/Dźwignie!$D$5","v":7.5815176331013108},{"$f":"I428/Dźwignie!$D$2","v":0.56799491562353766},{"$f":"K428/Dźwignie!$D$3","v":0.75815176331013101},1.4401447849679307,1.2136775350791238,1.7478713727769331,null,{"$f":"C428*Dźwignie!$G$8","v":163598.98312470751},327197.96624941507,{"$f":"Dźwignie!$G$9","v":150000},177197.96624941507,{"$f":"V428-Dźwignie!$D$6","v":157197.96624941507},{"$f":"IF(W428>0,W428*(1-Dźwignie!$D$9),W428)","v":127330.35266202621},{"$f":"X428/Dźwignie!$D$5","v":12.733035266202622},{"$f":"V428/Dźwignie!$D$2","v":0.88598983124707531},{"$f":"X428/Dźwignie!$D$3","v":1.2733035266202621},1.8465108441982196,1.127228109098227,2.0814389273349301]
[417,0.67026227712631226,{"$f":"NORMINV(B429,Dźwignie!$L$8,Dźwignie!$L$9)","v":372031.87530248991},{"$f":"Dźwignie!$L$7*C429","v":558047.81295373489},null,{"$f":"C429*Dźwignie!$G$5","v":372031.87530248991},186015.93765124498,{"$f":"Dźwignie!$G$6","v":50000},136015.93765124498,{"$f":"I429-Dźwignie!$D$6","v":116015.93765124498},{"$f":"IF(J429>0,J429*(1-Dźwignie!$D$9),J429)","v":93972.909497508444},{"$f":"K429/Dźwignie!$D$5","v":9.397290949750845},{"$f":"I429/Dźwignie!$D$2","v":0.68007968825622489},{"$f":"K429/Dźwignie!$D$3","v":0.9397290949750845},1.3676039798233333,1.1723901078153756,1.6033653773538143,null,{"$f":"C429*Dźwignie!$G$8","v":186015.93765124495},372031.87530248996,{"$f":"Dźwignie!$G$9","v":150000},222031.87530248996,{"$f":"V429-Dźwignie!$D$6","v":202031.87530248996},{"$f":"IF(W429>0,W429*(1-Dźwignie!$D$9),W429)","v":163645.81899501689},{"$f":"X429/Dźwignie!$D$5","v":16.36458189950169},{"$f":"V429/Dźwignie!$D$2","v":1.1101593765124498},{"$f":"X429/Dźwignie!$D$3","v":1.6364581899501689},1.6755786744387229,1.0989942798385415,1.8414513786276021]
[418,0.75329339504241943,{"$f":"NORMINV(B430,Dźwignie!$L$8,Dźwignie!$L$9)","v":384244.51004912192},{"$f":"Dźwignie!$L$7*C430","v":576366.76507368288},null,{"$f":"C430*Dźwignie!$G$5","v":384244.51004912192},192122.25502456096,{"$f":"Dźwignie!$G$6","v":50000},142122.25502456096,{"$f":"I430-Dźwignie!$D$6","v":122122.25502456096},{"$f":"IF(J430>0,J430*(1-Dźwignie!$D$9),J430)","v":98919.026569894384},{"$f":"K430/Dźwignie!$D$5","v":9.8919026569894388},{"$f":"I430/Dźwignie!$D$2","v":0.71061127512280475},{"$f":"K430/Dźwignie!$D$3","v":0.98919026569894386},1.3518097851132409,1.163770313576159,1.5731960975165564,null,{"$f":"C430*Dźwignie!$G$8","v":192122.25502456096},384244.51004912192,{"$f":"Dźwignie!$G$9","v":150000},234244.51004912192,{"$f":"V430-Dźwignie!$D$6","v":214244.51004912192},{"$f":"IF(W430>0,W430*(1-Dźwignie!$D$9),W430)","v":173538.05313978877},{"$f":"X430/Dźwignie!$D$5","v":17.353805313978878},{"$f":"V430/Dźwignie!$D$2","v":1.1712225502456095},{"$f":"X430/Dźwignie!$D$3","v":1.7353805313978876},1.6403565230559489,1.0933512835190708,1.7934859099121021]
[419,0.3278694748878479,{"$f":"NORMINV(B431,Dźwignie!$L$8,Dźwignie!$L$9)","v":327709.80814000376},{"$f":"Dźwignie!$L$7*C431","v":491564.71221000561},null,{"$f":"C431*Dźwignie!$G$5","v":327709.80814000376},163854.90407000185,{"$f":"Dźwignie!$G$6","v":50000},113854.90407000185,{"$f":"I431-Dźwignie!$D$6","v":93854.904070001852},{"$f":"IF(J431>0,J431*(1-Dźwignie!$D$9),J431)","v":76022.472296701511},{"$f":"K431/Dźwignie!$D$5","v":7.6022472296701515},{"$f":"I431/Dźwignie!$D$2","v":0.56927452035000925},{"$f":"K431/Dźwignie!$D$3","v":0.76022472296701515},1.4391554356697565,1.2130948851120551,1.7458320978921928,null,{"$f":"C431*Dźwignie!$G$8","v":163854.90407000188},327709.8081400037,{"$f":"Dźwignie!$G$9","v":150000},177709.8081400037,{"$f":"V431-Dźwignie!$D$6","v":157709.8081400037},{"$f":"IF(W431>0,W431*(1-Dźwignie!$D$9),W431)","v":127744.94459340301},{"$f":"X431/Dźwignie!$D$5","v":12.774494459340302},{"$f":"V431/Dźwignie!$D$2","v":0.8885490407000185},{"$f":"X431/Dźwignie!$D$3","v":1.27744944593403},1.8440727136558872,1.1268151945391083,2.0779291535824198]
[420,0.5706329345703125,{"$f":"NORMINV(B432,Dźwignie!$L$8,Dźwignie!$L$9)","v":358899.28979504149},{"$f":"Dźwignie!$L$7*C432","v":538348.93469256221},null,{"$f":"C432*Dźwignie!$G$5","v":358899.28979504149},179449.64489752072,{"$f":"Dźwignie!$G$6","v":50000},129449.64489752072,{"$f":"I432-Dźwignie!$D$6","v":109449.64489752072},{"$f":"IF(J432>0,J432*(1-Dźwignie!$D$9),J432)","v":88654.212366991793},{"$f":"K432/Dźwignie!$D$5","v":8.8654212366991789},{"$f":"I432/Dźwignie!$D$2","v":0.64724822448760355},{"$f":"K432/Dźwignie!$D$3","v":0.88654212366991791},1.3862505767364808,1.1827324338852474,1.6395635185983659,null,{"$f":"C432*Dźwignie!$G$8","v":179449.64489752075},358899.28979504143,{"$f":"Dźwignie!$G$9","v":150000},208899.28979504143,{"$f":"V432-Dźwignie!$D$6","v":188899.28979504143},{"$f":"IF(W432>0,W432*(1-Dźwignie!$D$9),W432)","v":153008.42473398359},{"$f":"X432/Dźwignie!$D$5","v":15.300842473398358},{"$f":"V432/Dźwignie!$D$2","v":1.0444964489752071},{"$f":"X432/Dźwignie!$D$3","v":1.5300842473398359},1.7180493535768857,1.1058765229964618,1.8999504454699252]
[421,0.6303674578666687,{"$f":"NORMINV(B433,Dźwignie!$L$8,Dźwignie!$L$9)","v":366641.33620653232},{"$f":"Dźwignie!$L$7*C433","v":549962.00430979847},null,{"$f":"C433*Dźwignie!$G$5","v":366641.33620653232},183320.66810326616,{"$f":"Dźwignie!$G$6","v":50000},133320.66810326616,{"$f":"I433-Dźwignie!$D$6","v":113320.66810326616},{"$f":"IF(J433>0,J433*(1-Dźwignie!$D$9),J433)","v":91789.741163645594},{"$f":"K433/Dźwignie!$D$5","v":9.1789741163645591},{"$f":"I433/Dźwignie!$D$2","v":0.66660334051633074},{"$f":"K433/Dźwignie!$D$3","v":0.917897411636456},1.3750356243434927,1.1764903113858676,1.6177160898505365,null,{"$f":"C433*Dźwignie!$G$8","v":183320.66810326616},366641.33620653232,{"$f":"Dźwignie!$G$9","v":150000},216641.33620653232,{"$f":"V433-Dźwignie!$D$6","v":196641.33620653232},{"$f":"IF(W433>0,W433*(1-Dźwignie!$D$9),W433)","v":159279.48232729119},{"$f":"X433/Dźwignie!$D$5","v":15.927948232729118},{"$f":"V433/Dźwignie!$D$2","v":1.0832066810326615},{"$f":"X433/Dźwignie!$D$3","v":1.5927948232729119},1.6923886393361209,1.1017080151397771,1.8645181286881058]
[422,2.4589180946350098E-2,{"$f":"NORMINV(B434,Dźwignie!$L$8,Dźwignie!$L$9)","v":251647.89693985053},{"$f":"Dźwignie!$L$7*C434","v":377471.84540977579},null,{"$f":"C434*Dźwignie!$G$5","v":251647.89693985053},125823.94846992526,{"$f":"Dźwignie!$G$6","v":50000},75823.948469925264,{"$f":"I434-Dźwignie!$D$6","v":55823.948469925264},{"$f":"IF(J434>0,J434*(1-Dźwignie!$D$9),J434)","v":45217.398260639464},{"$f":"K434/Dźwignie!$D$5","v":4.5217398260639463},{"$f":"I434/Dźwignie!$D$2","v":0.37911974234962631},{"$f":"K434/Dźwignie!$D$3","v":0.45217398260639463},1.6594222670932515,1.3582691756527192,2.2539421147845169,null,{"$f":"C434*Dźwignie!$G$8","v":125823.94846992526},251647.89693985053,{"$f":"Dźwignie!$G$9","v":150000},101647.89693985053,{"$f":"V434-Dźwignie!$D$6","v":81647.896939850529},{"$f":"IF(W434>0,W434*(1-Dźwignie!$D$9),W434)","v":66134.796521278928},{"$f":"X434/Dźwignie!$D$5","v":6.6134796521278929},{"$f":"V434/Dźwignie!$D$2","v":0.50823948469925262},{"$f":"X434/Dźwignie!$D$3","v":0.66134796521278927},2.4756822769167721,1.2449542578510489,3.0821111917339148]
[423,0.30914813280105591,{"$f":"NORMINV(B435,Dźwignie!$L$8,Dźwignie!$L$9)","v":325086.67848632281},{"$f":"Dźwignie!$L$7*C435","v":487630.01772948424},null,{"$f":"C435*Dźwignie!$G$5","v":325086.67848632281},162543.33924316143,{"$f":"Dźwignie!$G$6","v":50000},112543.33924316143,{"$f":"I435-Dźwignie!$D$6","v":92543.339243161434},{"$f":"IF(J435>0,J435*(1-Dźwignie!$D$9),J435)","v":74960.104786960772},{"$f":"K435/Dźwignie!$D$5","v":7.4960104786960775},{"$f":"I435/Dźwignie!$D$2","v":0.56271669621580722},{"$f":"K435/Dźwignie!$D$3","v":0.74960104786960768},1.4442732936150924,1.2161149593645975,1.7564023577760914,null,{"$f":"C435*Dźwignie!$G$8","v":162543.3392431614},325086.67848632287,{"$f":"Dźwignie!$G$9","v":150000},175086.67848632287,{"$f":"V435-Dźwignie!$D$6","v":155086.67848632287},{"$f":"IF(W435>0,W435*(1-Dźwignie!$D$9),W435)","v":125620.20957392153},{"$f":"X435/Dźwignie!$D$5","v":12.562020957392154},{"$f":"V435/Dźwignie!$D$2","v":0.87543339243161433},{"$f":"X435/Dźwignie!$D$3","v":1.2562020957392153},1.8567185196315061,1.128960141484775,2.0961612026205869]
[424,0.49129891395568848,{"$f":"NORMINV(B436,Dźwignie!$L$8,Dźwignie!$L$9)","v":348909.39411192003},{"$f":"Dźwignie!$L$7*C436","v":523364.09116788005},null,{"$f":"C436*Dźwignie!$G$5","v":348909.39411192003},174454.69705596002,{"$f":"Dźwignie!$G$6","v":50000},124454.69705596002,{"$f":"I436-Dźwignie!$D$6","v":104454.69705596002},{"$f":"IF(J436>0,J436*(1-Dźwignie!$D$9),J436)","v":84608.304615327623},{"$f":"K436/Dźwignie!$D$5","v":8.4608304615327619},{"$f":"I436/Dźwignie!$D$2","v":0.62227348527980009},{"$f":"K436/Dźwignie!$D$3","v":0.84608304615327623},1.4017526150701882,1.1914705663191507,1.6701469821170276,null,{"$f":"C436*Dźwignie!$G$8","v":174454.69705596002},348909.39411192003,{"$f":"Dźwignie!$G$9","v":150000},198909.39411192003,{"$f":"V436-Dźwignie!$D$6","v":178909.39411192003},{"$f":"IF(W436>0,W436*(1-Dźwignie!$D$9),W436)","v":144916.60923065525},{"$f":"X436/Dźwignie!$D$5","v":14.491660923065524},{"$f":"V436/Dźwignie!$D$2","v":0.99454697055960017},{"$f":"X436/Dźwignie!$D$3","v":1.4491660923065524},1.7541121960061863,1.1117884284348347,1.9502016416960946]
[425,0.52486366033554077,{"$f":"NORMINV(B437,Dźwignie!$L$8,Dźwignie!$L$9)","v":353118.2178091972},{"$f":"Dźwignie!$L$7*C437","v":529677.32671379577},null,{"$f":"C437*Dźwignie!$G$5","v":353118.2178091972},176559.10890459857,{"$f":"Dźwignie!$G$6","v":50000},126559.10890459857,{"$f":"I437-Dźwignie!$D$6","v":106559.10890459857},{"$f":"IF(J437>0,J437*(1-Dźwignie!$D$9),J437)","v":86312.878212724856},{"$f":"K437/Dźwignie!$D$5","v":8.6312878212724851},{"$f":"I437/Dźwignie!$D$2","v":0.63279554452299291},{"$f":"K437/Dźwignie!$D$3","v":0.86312878212724853},1.3950723138995114,1.1876892572169107,1.6569124002591875,null,{"$f":"C437*Dźwignie!$G$8","v":176559.1089045986},353118.21780919714,{"$f":"Dźwignie!$G$9","v":150000},203118.21780919714,{"$f":"V437-Dźwignie!$D$6","v":183118.21780919714},{"$f":"IF(W437>0,W437*(1-Dźwignie!$D$9),W437)","v":148325.75642544968},{"$f":"X437/Dźwignie!$D$5","v":14.832575642544969},{"$f":"V437/Dźwignie!$D$2","v":1.0155910890459858},{"$f":"X437/Dźwignie!$D$3","v":1.4832575642544967},1.7384861959595632,1.1092190620861071,1.9283620277319109]
[426,0.62161815166473389,{"$f":"NORMINV(B438,Dźwignie!$L$8,Dźwignie!$L$9)","v":365486.6703125051},{"$f":"Dźwignie!$L$7*C438","v":548230.00546875759},null,{"$f":"C438*Dźwignie!$G$5","v":365486.6703125051},182743.33515625249,{"$f":"Dźwignie!$G$6","v":50000},132743.33515625249,{"$f":"I438-Dźwignie!$D$6","v":112743.33515625249},{"$f":"IF(J438>0,J438*(1-Dźwignie!$D$9),J438)","v":91322.101476564523},{"$f":"K438/Dźwignie!$D$5","v":9.132210147656453},{"$f":"I438/Dźwignie!$D$2","v":0.66371667578126248},{"$f":"K438/Dźwignie!$D$3","v":0.91322101476564521},1.3766667451977523,1.1773940780825911,1.6208792732890689,null,{"$f":"C438*Dźwignie!$G$8","v":182743.33515625255},365486.67031250504,{"$f":"Dźwignie!$G$9","v":150000},215486.67031250504,{"$f":"V438-Dźwignie!$D$6","v":195486.67031250504},{"$f":"IF(W438>0,W438*(1-Dźwignie!$D$9),W438)","v":158344.2029531291},{"$f":"X438/Dźwignie!$D$5","v":15.83442029531291},{"$f":"V438/Dźwignie!$D$2","v":1.0774333515625252},{"$f":"X438/Dźwignie!$D$3","v":1.583442029531291},1.6960987414324313,1.102308765953341,1.8696245106033982]
[427,0.92650848627090454,{"$f":"NORMINV(B439,Dźwignie!$L$8,Dźwignie!$L$9)","v":422513.5383840953},{"$f":"Dźwignie!$L$7*C439","v":633770.30757614295},null,{"$f":"C439*Dźwignie!$G$5","v":422513.5383840953},211256.76919204765,{"$f":"Dźwignie!$G$6","v":50000},161256.76919204765,{"$f":"I439-Dźwignie!$D$6","v":141256.76919204765},{"$f":"IF(J439>0,J439*(1-Dźwignie!$D$9),J439)","v":114417.98304555861},{"$f":"K439/Dźwignie!$D$5","v":11.44179830455586},{"$f":"I439/Dźwignie!$D$2","v":0.80628384596023828},{"$f":"K439/Dźwignie!$D$3","v":1.1441798304555861},1.3100645030315152,1.141586135053172,1.4955514726861019,null,{"$f":"C439*Dźwignie!$G$8","v":211256.76919204765},422513.5383840953,{"$f":"Dźwignie!$G$9","v":150000},272513.5383840953,{"$f":"V439-Dźwignie!$D$6","v":252513.5383840953},{"$f":"IF(W439>0,W439*(1-Dźwignie!$D$9),W439)","v":204535.96609111721},{"$f":"X439/Dźwignie!$D$5","v":20.45359660911172},{"$f":"V439/Dźwignie!$D$2","v":1.3625676919204766},{"$f":"X439/Dźwignie!$D$3","v":2.0453596609111719},1.5504313689860865,1.0792036740999535,1.6732312298496053]
[428,0.66387605667114258,{"$f":"NORMINV(B440,Dźwignie!$L$8,Dźwignie!$L$9)","v":371153.24663580081},{"$f":"Dźwignie!$L$7*C440","v":556729.86995370127},null,{"$f":"C440*Dźwignie!$G$5","v":371153.24663580081},185576.62331790046,{"$f":"Dźwignie!$G$6","v":50000},135576.62331790046,{"$f":"I440-Dźwignie!$D$6","v":115576.62331790046},{"$f":"IF(J440>0,J440*(1-Dźwignie!$D$9),J440)","v":93617.064887499379},{"$f":"K440/Dźwignie!$D$5","v":9.3617064887499382},{"$f":"I440/Dźwignie!$D$2","v":0.67788311658950229},{"$f":"K440/Dźwignie!$D$3","v":0.93617064887499379},1.3687951416429649,1.1730453739333497,1.6056588087667241,null,{"$f":"C440*Dźwignie!$G$8","v":185576.6233179004},371153.24663580087,{"$f":"Dźwignie!$G$9","v":150000},221153.24663580087,{"$f":"V440-Dźwignie!$D$6","v":201153.24663580087},{"$f":"IF(W440>0,W440*(1-Dźwignie!$D$9),W440)","v":162934.12977499873},{"$f":"X440/Dźwignie!$D$5","v":16.293412977499873},{"$f":"V440/Dźwignie!$D$2","v":1.1057662331790044},{"$f":"X440/Dźwignie!$D$3","v":1.6293412977499873},1.6782627082433146,1.0994266825641203,1.8451268017950235]
[429,0.18315762281417847,{"$f":"NORMINV(B441,Dźwignie!$L$8,Dźwignie!$L$9)","v":304830.15131941217},{"$f":"Dźwignie!$L$7*C441","v":457245.22697911825},null,{"$f":"C441*Dźwignie!$G$5","v":304830.15131941217},152415.07565970608,{"$f":"Dźwignie!$G$6","v":50000},102415.07565970608,{"$f":"I441-Dźwignie!$D$6","v":82415.075659706083},{"$f":"IF(J441>0,J441*(1-Dźwignie!$D$9),J441)","v":66756.211284361925},{"$f":"K441/Dźwignie!$D$5","v":6.6756211284361928},{"$f":"I441/Dźwignie!$D$2","v":0.51207537829853045},{"$f":"K441/Dźwignie!$D$3","v":0.66756211284361922},1.4882093742344602,1.2426740476776421,1.8493591668717475,null,{"$f":"C441*Dźwignie!$G$8","v":152415.07565970608},304830.15131941217,{"$f":"Dźwignie!$G$9","v":150000},154830.15131941217,{"$f":"V441-Dźwignie!$D$6","v":134830.15131941217},{"$f":"IF(W441>0,W441*(1-Dźwignie!$D$9),W441)","v":109212.42256872386},{"$f":"X441/Dźwignie!$D$5","v":10.921242256872386},{"$f":"V441/Dźwignie!$D$2","v":0.77415075659706079},{"$f":"X441/Dźwignie!$D$3","v":1.0921242256872385},1.9688035484157886,1.1483347738193965,2.2608455774648699]
[430,0.3686600923538208,{"$f":"NORMINV(B442,Dźwignie!$L$8,Dźwignie!$L$9)","v":333229.78897760564},{"$f":"Dźwignie!$L$7*C442","v":499844.68346640846},null,{"$f":"C442*Dźwignie!$G$5","v":333229.78897760564},166614.89448880282,{"$f":"Dźwignie!$G$6","v":50000},116614.89448880282,{"$f":"I442-Dźwignie!$D$6","v":96614.89448880282},{"$f":"IF(J442>0,J442*(1-Dźwignie!$D$9),J442)","v":78258.064535930287},{"$f":"K442/Dźwignie!$D$5","v":7.825806453593029},{"$f":"I442/Dźwignie!$D$2","v":0.58307447244401411},{"$f":"K442/Dźwignie!$D$3","v":0.78258064535930283},1.4287616965155419,1.2070074195683969,1.7245259684893892,null,{"$f":"C442*Dźwignie!$G$8","v":166614.89448880282},333229.78897760564,{"$f":"Dźwignie!$G$9","v":150000},183229.78897760564,{"$f":"V442-Dźwignie!$D$6","v":163229.78897760564},{"$f":"IF(W442>0,W442*(1-Dźwignie!$D$9),W442)","v":132216.12907186057},{"$f":"X442/Dźwignie!$D$5","v":13.221612907186058},{"$f":"V442/Dźwignie!$D$2","v":0.91614894488802823},{"$f":"X442/Dźwignie!$D$3","v":1.3221612907186058},1.8186441780944964,1.1225266547562829,2.0414765654284048]
[431,0.7696111798286438,{"$f":"NORMINV(B443,Dźwignie!$L$8,Dźwignie!$L$9)","v":386878.34790696745},{"$f":"Dźwignie!$L$7*C443","v":580317.5218604512},null,{"$f":"C443*Dźwignie!$G$5","v":386878.34790696745},193439.17395348375,{"$f":"Dźwignie!$G$6","v":50000},143439.17395348375,{"$f":"I443-Dźwignie!$D$6","v":123439.17395348375},{"$f":"IF(J443>0,J443*(1-Dźwignie!$D$9),J443)","v":99985.73090232184},{"$f":"K443/Dźwignie!$D$5","v":9.9985730902321848},{"$f":"I443/Dźwignie!$D$2","v":0.71719586976741878},{"$f":"K443/Dźwignie!$D$3","v":0.99985730902321845},1.3485798099772563,1.1620231192371451,1.5670809173300078,null,{"$f":"C443*Dźwignie!$G$8","v":193439.17395348373},386878.34790696751,{"$f":"Dźwignie!$G$9","v":150000},236878.34790696751,{"$f":"V443-Dźwignie!$D$6","v":216878.34790696751},{"$f":"IF(W443>0,W443*(1-Dźwignie!$D$9),W443)","v":175671.46180464368},{"$f":"X443/Dźwignie!$D$5","v":17.56714618046437},{"$f":"V443/Dźwignie!$D$2","v":1.1843917395348376},{"$f":"X443/Dźwignie!$D$3","v":1.7567146180464368},1.6332364326473248,1.0922175966066434,1.783849571156469]
[432,0.1318824291229248,{"$f":"NORMINV(B444,Dźwignie!$L$8,Dźwignie!$L$9)","v":294123.15814528166},{"$f":"Dźwignie!$L$7*C444","v":441184.73721792246},null,{"$f":"C444*Dźwignie!$G$5","v":294123.15814528166},147061.5790726408,{"$f":"Dźwignie!$G$6","v":50000},97061.579072640801,{"$f":"I444-Dźwignie!$D$6","v":77061.579072640801},{"$f":"IF(J444>0,J444*(1-Dźwignie!$D$9),J444)","v":62419.879048839051},{"$f":"K444/Dźwignie!$D$5","v":6.2419879048839055},{"$f":"I444/Dźwignie!$D$2","v":0.48530789536320401},{"$f":"K444/Dźwignie!$D$3","v":0.62419879048839055},1.515136890185766,1.2595327041137756,1.9083644643982145,null,{"$f":"C444*Dźwignie!$G$8","v":147061.57907264083},294123.1581452816,{"$f":"Dźwignie!$G$9","v":150000},144123.1581452816,{"$f":"V444-Dźwignie!$D$6","v":124123.1581452816},{"$f":"IF(W444>0,W444*(1-Dźwignie!$D$9),W444)","v":100539.7580976781},{"$f":"X444/Dźwignie!$D$5","v":10.05397580976781},{"$f":"V444/Dźwignie!$D$2","v":0.72061579072640802},{"$f":"X444/Dźwignie!$D$3","v":1.005397580976781},2.0407765270366496,1.1611302862322495,2.3696074329741208]
[433,3.7195146083831787E-2,{"$f":"NORMINV(B445,Dźwignie!$L$8,Dźwignie!$L$9)","v":260789.72907327386},{"$f":"Dźwignie!$L$7*C445","v":391184.59360991081},null,{"$f":"C445*Dźwignie!$G$5","v":260789.72907327386},130394.86453663695,{"$f":"Dźwignie!$G$6","v":50000},80394.864536636946,{"$f":"I445-Dźwignie!$D$6","v":60394.864536636946},{"$f":"IF(J445>0,J445*(1-Dźwignie!$D$9),J445)","v":48919.840274675931},{"$f":"K445/Dźwignie!$D$5","v":4.8919840274675934},{"$f":"I445/Dźwignie!$D$2","v":0.40197432268318473},{"$f":"K445/Dźwignie!$D$3","v":0.4891984027467593},1.6219302723896547,1.3311539839263573,2.1590389437422508,null,{"$f":"C445*Dźwignie!$G$8","v":130394.86453663693},260789.72907327389,{"$f":"Dźwignie!$G$9","v":150000},110789.72907327389,{"$f":"V445-Dźwignie!$D$6","v":90789.729073273891},{"$f":"IF(W445>0,W445*(1-Dźwignie!$D$9),W445)","v":73539.680549351862},{"$f":"X445/Dźwignie!$D$5","v":7.3539680549351862},{"$f":"V445/Dźwignie!$D$2","v":0.55394864536636945},{"$f":"X445/Dźwignie!$D$3","v":0.7353968054935186},2.353916118892152,1.2202892354030328,2.8724585009257786]
[434,0.28237760066986084,{"$f":"NORMINV(B446,Dźwignie!$L$8,Dźwignie!$L$9)","v":321210.35708564502},{"$f":"Dźwignie!$L$7*C446","v":481815.53562846757},null,{"$f":"C446*Dźwignie!$G$5","v":321210.35708564502},160605.17854282254,{"$f":"Dźwignie!$G$6","v":50000},110605.17854282254,{"$f":"I446-Dźwignie!$D$6","v":90605.178542822541},{"$f":"IF(J446>0,J446*(1-Dźwignie!$D$9),J446)","v":73390.19461968627},{"$f":"K446/Dźwignie!$D$5","v":7.3390194619686273},{"$f":"I446/Dźwignie!$D$2","v":0.55302589271411273},{"$f":"K446/Dźwignie!$D$3","v":0.73390194619686266},1.4520583996041534,1.2207379348692242,1.7725827720422849,null,{"$f":"C446*Dźwignie!$G$8","v":160605.17854282251},321210.35708564508,{"$f":"Dźwignie!$G$9","v":150000},171210.35708564508,{"$f":"V446-Dźwignie!$D$6","v":151210.35708564508},{"$f":"IF(W446>0,W446*(1-Dźwignie!$D$9),W446)","v":122480.38923937253},{"$f":"X446/Dźwignie!$D$5","v":12.248038923937253},{"$f":"V446/Dźwignie!$D$2","v":0.85605178542822546},{"$f":"X446/Dźwignie!$D$3","v":1.2248038923937252},1.8761152219603459,1.132266072149225,2.1242616132684122]
[435,0.85096842050552368,{"$f":"NORMINV(B447,Dźwignie!$L$8,Dźwignie!$L$9)","v":402029.7924035294},{"$f":"Dźwignie!$L$7*C447","v":603044.6886052941},null,{"$f":"C447*Dźwignie!$G$5","v":402029.7924035294},201014.8962017647,{"$f":"Dźwignie!$G$6","v":50000},151014.8962017647,{"$f":"I447-Dźwignie!$D$6","v":131014.8962017647},{"$f":"IF(J447>0,J447*(1-Dźwignie!$D$9),J447)","v":106122.06592342941},{"$f":"K447/Dźwignie!$D$5","v":10.612206592342941},{"$f":"I447/Dźwignie!$D$2","v":0.75507448100882346},{"$f":"K447/Dźwignie!$D$3","v":1.0612206592342941},1.3310931653603038,1.152654397170225,1.5342903900957876,null,{"$f":"C447*Dźwignie!$G$8","v":201014.8962017647},402029.7924035294,{"$f":"Dźwignie!$G$9","v":150000},252029.7924035294,{"$f":"V447-Dźwignie!$D$6","v":232029.7924035294},{"$f":"IF(W447>0,W447*(1-Dźwignie!$D$9),W447)","v":187944.13184685883},{"$f":"X447/Dźwignie!$D$5","v":18.794413184685883},{"$f":"V447/Dźwignie!$D$2","v":1.2601489620176469},{"$f":"X447/Dźwignie!$D$3","v":1.8794413184685883},1.5951677322331494,1.0861958276686188,1.7326645351832595]
[436,0.67028141021728516,{"$f":"NORMINV(B448,Dźwignie!$L$8,Dźwignie!$L$9)","v":372034.51778272039},{"$f":"Dźwignie!$L$7*C448","v":558051.77667408064},null,{"$f":"C448*Dźwignie!$G$5","v":372034.51778272039},186017.25889136025,{"$f":"Dźwignie!$G$6","v":50000},136017.25889136025,{"$f":"I448-Dźwignie!$D$6","v":116017.25889136025},{"$f":"IF(J448>0,J448*(1-Dźwignie!$D$9),J448)","v":93973.979702001816},{"$f":"K448/Dźwignie!$D$5","v":9.3973979702001813},{"$f":"I448/Dźwignie!$D$2","v":0.68008629445680124},{"$f":"K448/Dźwignie!$D$3","v":0.9397397970200182},1.3676004090035074,1.1723881445839728,1.6033585060439044,null,{"$f":"C448*Dźwignie!$G$8","v":186017.25889136019},372034.51778272045,{"$f":"Dźwignie!$G$9","v":150000},222034.51778272045,{"$f":"V448-Dźwignie!$D$6","v":202034.51778272045},{"$f":"IF(W448>0,W448*(1-Dźwignie!$D$9),W448)","v":163647.95940400357},{"$f":"X448/Dźwignie!$D$5","v":16.364795940400356},{"$f":"V448/Dźwignie!$D$2","v":1.1101725889136023},{"$f":"X448/Dźwignie!$D$3","v":1.6364795940400358},1.6755706342325911,1.0989929850576778,1.8414403729902618]
[437,0.32458609342575073,{"$f":"NORMINV(B449,Dźwignie!$L$8,Dźwignie!$L$9)","v":327254.37480046914},{"$f":"Dźwignie!$L$7*C449","v":490881.56220070372},null,{"$f":"C449*Dźwignie!$G$5","v":327254.37480046914},163627.18740023457,{"$f":"Dźwignie!$G$6","v":50000},113627.18740023457,{"$f":"I449-Dźwignie!$D$6","v":93627.187400234572},{"$f":"IF(J449>0,J449*(1-Dźwignie!$D$9),J449)","v":75838.021794190005},{"$f":"K449/Dźwignie!$D$5","v":7.583802179419},{"$f":"I449/Dźwignie!$D$2","v":0.56813593700117282},{"$f":"K449/Dźwignie!$D$3","v":0.75838021794190003},1.4400355332556334,1.213613166809173,1.7476460838321053,null,{"$f":"C449*Dźwignie!$G$8","v":163627.18740023457},327254.37480046914,{"$f":"Dźwignie!$G$9","v":150000},177254.37480046914,{"$f":"V449-Dźwignie!$D$6","v":157254.37480046914},{"$f":"IF(W449>0,W449*(1-Dźwignie!$D$9),W449)","v":127376.04358838001},{"$f":"X449/Dźwignie!$D$5","v":12.737604358838},{"$f":"V449/Dźwignie!$D$2","v":0.88627187400234575},{"$f":"X449/Dźwignie!$D$3","v":1.2737604358838002},1.8462414547954107,1.1271824712372984,2.0810510055170361]
[438,0.962441086769104,{"$f":"NORMINV(B450,Dźwignie!$L$8,Dźwignie!$L$9)","v":438987.2120940148},{"$f":"Dźwignie!$L$7*C450","v":658480.81814102223},null,{"$f":"C450*Dźwignie!$G$5","v":438987.2120940148},219493.60604700743,{"$f":"Dźwignie!$G$6","v":50000},169493.60604700743,{"$f":"I450-Dźwignie!$D$6","v":149493.60604700743},{"$f":"IF(J450>0,J450*(1-Dźwignie!$D$9),J450)","v":121089.82089807602},{"$f":"K450/Dźwignie!$D$5","v":12.108982089807602},{"$f":"I450/Dźwignie!$D$2","v":0.84746803023503714},{"$f":"K450/Dźwignie!$D$3","v":1.2108982089807603},1.2949963787196372,1.1337849860529225,1.468247451185229,null,{"$f":"C450*Dźwignie!$G$8","v":219493.6060470074},438987.21209401486,{"$f":"Dźwignie!$G$9","v":150000},288987.21209401486,{"$f":"V450-Dźwignie!$D$6","v":268987.21209401486},{"$f":"IF(W450>0,W450*(1-Dźwignie!$D$9),W450)","v":217879.64179615205},{"$f":"X450/Dźwignie!$D$5","v":21.787964179615205},{"$f":"V450/Dźwignie!$D$2","v":1.4449360604700743},{"$f":"X450/Dźwignie!$D$3","v":2.1787964179615207},1.5190541093949901,1.0743529770218583,1.6320003046857952]
[439,0.43406897783279419,{"$f":"NORMINV(B451,Dźwignie!$L$8,Dźwignie!$L$9)","v":341698.7931798856},{"$f":"Dźwignie!$L$7*C451","v":512548.1897698284},null,{"$f":"C451*Dźwignie!$G$5","v":341698.7931798856},170849.3965899428,{"$f":"Dźwignie!$G$6","v":50000},120849.3965899428,{"$f":"I451-Dźwignie!$D$6","v":100849.3965899428},{"$f":"IF(J451>0,J451*(1-Dźwignie!$D$9),J451)","v":81688.011237853672},{"$f":"K451/Dźwignie!$D$5","v":8.1688011237853679},{"$f":"I451/Dźwignie!$D$2","v":0.60424698294971402},{"$f":"K451/Dźwignie!$D$3","v":0.81688011237853675},1.4137381022236817,1.1983155147801301,1.6941043017304553,null,{"$f":"C451*Dźwignie!$G$8","v":170849.3965899428},341698.7931798856,{"$f":"Dźwignie!$G$9","v":150000},191698.7931798856,{"$f":"V451-Dźwignie!$D$6","v":171698.7931798856},{"$f":"IF(W451>0,W451*(1-Dźwignie!$D$9),W451)","v":139076.02247570734},{"$f":"X451/Dźwignie!$D$5","v":13.907602247570734},{"$f":"V451/Dźwignie!$D$2","v":0.95849396589942804},{"$f":"X451/Dźwignie!$D$3","v":1.3907602247570734},1.7824775394347088,1.1164830551781828,1.9901059690145535]
[440,0.30110669136047363,{"$f":"NORMINV(B452,Dźwignie!$L$8,Dźwignie!$L$9)","v":323938.98991319799},{"$f":"Dźwignie!$L$7*C452","v":485908.48486979702},null,{"$f":"C452*Dźwignie!$G$5","v":323938.98991319799},161969.49495659902,{"$f":"Dźwignie!$G$6","v":50000},111969.49495659902,{"$f":"I452-Dźwignie!$D$6","v":91969.494956599025},{"$f":"IF(J452>0,J452*(1-Dźwignie!$D$9),J452)","v":74495.290914845216},{"$f":"K452/Dźwignie!$D$5","v":7.4495290914845214},{"$f":"I452/Dźwignie!$D$2","v":0.55984747478299512},{"$f":"K452/Dźwignie!$D$3","v":0.74495290914845214},1.446550196724391,1.2174634101169972,1.7611219354094902,null,{"$f":"C452*Dźwignie!$G$8","v":161969.494956599},323938.98991319805,{"$f":"Dźwignie!$G$9","v":150000},173938.98991319805,{"$f":"V452-Dźwignie!$D$6","v":153938.98991319805},{"$f":"IF(W452>0,W452*(1-Dźwignie!$D$9),W452)","v":124690.58182969043},{"$f":"X452/Dźwignie!$D$5","v":12.469058182969043},{"$f":"V452/Dźwignie!$D$2","v":0.86969494956599025},{"$f":"X452/Dźwignie!$D$3","v":1.2469058182969044},1.862371341094113,1.1299216008321054,2.1043336070728951]
[441,0.5417293906211853,{"$f":"NORMINV(B453,Dźwignie!$L$8,Dźwignie!$L$9)","v":355239.57727929228},{"$f":"Dźwignie!$L$7*C453","v":532859.36591893842},null,{"$f":"C453*Dźwignie!$G$5","v":355239.57727929228},177619.78863964614,{"$f":"Dźwignie!$G$6","v":50000},127619.78863964614,{"$f":"I453-Dźwignie!$D$6","v":107619.78863964614},{"$f":"IF(J453>0,J453*(1-Dźwignie!$D$9),J453)","v":87172.028798113373},{"$f":"K453/Dźwignie!$D$5","v":8.717202879811337},{"$f":"I453/Dźwignie!$D$2","v":0.63809894319823068},{"$f":"K453/Dźwignie!$D$3","v":0.87172028798113377},1.3917887698527898,1.1858394283505607,1.6504379992269622,null,{"$f":"C453*Dźwignie!$G$8","v":177619.78863964614},355239.57727929228,{"$f":"Dźwignie!$G$9","v":150000},205239.57727929228,{"$f":"V453-Dźwignie!$D$6","v":185239.57727929228},{"$f":"IF(W453>0,W453*(1-Dźwignie!$D$9),W453)","v":150044.05759622675},{"$f":"X453/Dźwignie!$D$5","v":15.004405759622674},{"$f":"V453/Dźwignie!$D$2","v":1.0261978863964614},{"$f":"X453/Dźwignie!$D$3","v":1.5004405759622674},1.7308531911263798,1.1079682878451256,1.917730446683567]
[442,0.23215377330780029,{"$f":"NORMINV(B454,Dźwignie!$L$8,Dźwignie!$L$9)","v":313411.3840068315},{"$f":"Dźwignie!$L$7*C454","v":470117.07601024723},null,{"$f":"C454*Dźwignie!$G$5","v":313411.3840068315},156705.69200341572,{"$f":"Dźwignie!$G$6","v":50000},106705.69200341572,{"$f":"I454-Dźwignie!$D$6","v":86705.692003415723},{"$f":"IF(J454>0,J454*(1-Dźwignie!$D$9),J454)","v":70231.610522766743},{"$f":"K454/Dźwignie!$D$5","v":7.0231610522766745},{"$f":"I454/Dźwignie!$D$2","v":0.53352846001707865},{"$f":"K454/Dźwignie!$D$3","v":0.70231610522766741},1.4685785646598821,1.2306653639211149,1.8073287737239023,null,{"$f":"C454*Dźwignie!$G$8","v":156705.69200341575},313411.38400683145,{"$f":"Dźwignie!$G$9","v":150000},163411.38400683145,{"$f":"V454-Dźwignie!$D$6","v":143411.38400683145},{"$f":"IF(W454>0,W454*(1-Dźwignie!$D$9),W454)","v":116163.22104553347},{"$f":"X454/Dźwignie!$D$5","v":11.616322104553348},{"$f":"V454/Dźwignie!$D$2","v":0.8170569200341572},{"$f":"X454/Dźwignie!$D$3","v":1.1616322104553347},1.9179287043657205,1.1394589428064323,2.1854010138546744]
[443,0.11150318384170532,{"$f":"NORMINV(B455,Dźwignie!$L$8,Dźwignie!$L$9)","v":289071.35864246008},{"$f":"Dźwignie!$L$7*C455","v":433607.03796369012},null,{"$f":"C455*Dźwignie!$G$5","v":289071.35864246008},144535.67932123004,{"$f":"Dźwignie!$G$6","v":50000},94535.67932123004,{"$f":"I455-Dźwignie!$D$6","v":74535.67932123004},{"$f":"IF(J455>0,J455*(1-Dźwignie!$D$9),J455)","v":60373.900250196333},{"$f":"K455/Dźwignie!$D$5","v":6.0373900250196337},{"$f":"I455/Dźwignie!$D$2","v":0.47267839660615019},{"$f":"K455/Dźwignie!$D$3","v":0.60373900250196333},1.5289008378529885,1.2683278690438311,1.9391475416534087,null,{"$f":"C455*Dźwignie!$G$8","v":144535.67932123004},289071.35864246008,{"$f":"Dźwignie!$G$9","v":150000},139071.35864246008,{"$f":"V455-Dźwignie!$D$6","v":119071.35864246008},{"$f":"IF(W455>0,W455*(1-Dźwignie!$D$9),W455)","v":96447.800500392666},{"$f":"X455/Dźwignie!$D$5","v":9.644780050039266},{"$f":"V455/Dźwignie!$D$2","v":0.69535679321230037},{"$f":"X455/Dźwignie!$D$3","v":0.96447800500392666},2.0785829768560502,1.1679665053630128,2.4277152955856089]
[444,5.9087276458740234E-2,{"$f":"NORMINV(B456,Dźwignie!$L$8,Dźwignie!$L$9)","v":271875.91484705819},{"$f":"Dźwignie!$L$7*C456","v":407813.87227058725},null,{"$f":"C456*Dźwignie!$G$5","v":271875.91484705819},135937.95742352906,{"$f":"Dźwignie!$G$6","v":50000},85937.957423529064,{"$f":"I456-Dźwignie!$D$6","v":65937.957423529064},{"$f":"IF(J456>0,J456*(1-Dźwignie!$D$9),J456)","v":53409.745513058544},{"$f":"K456/Dźwignie!$D$5","v":5.3409745513058544},{"$f":"I456/Dźwignie!$D$2","v":0.42968978711764533},{"$f":"K456/Dźwignie!$D$3","v":0.53409745513058549},1.5818150849639629,1.3033154313764543,2.0616040098175903,null,{"$f":"C456*Dźwignie!$G$8","v":135937.95742352909},271875.91484705813,{"$f":"Dźwignie!$G$9","v":150000},121875.91484705813,{"$f":"V456-Dźwignie!$D$6","v":101875.91484705813},{"$f":"IF(W456>0,W456*(1-Dźwignie!$D$9),W456)","v":82519.491026117088},{"$f":"X456/Dźwignie!$D$5","v":8.2519491026117091},{"$f":"V456/Dźwignie!$D$2","v":0.60937957423529066},{"$f":"X456/Dźwignie!$D$3","v":0.82519491026117087},2.2307599921463952,1.196317255457535,2.6686966713890476]
[445,0.1469380259513855,{"$f":"NORMINV(B457,Dźwignie!$L$8,Dźwignie!$L$9)","v":297517.17300398857},{"$f":"Dźwignie!$L$7*C457","v":446275.75950598286},null,{"$f":"C457*Dźwignie!$G$5","v":297517.17300398857},148758.58650199429,{"$f":"Dźwignie!$G$6","v":50000},98758.586501994287,{"$f":"I457-Dźwignie!$D$6","v":78758.586501994287},{"$f":"IF(J457>0,J457*(1-Dźwignie!$D$9),J457)","v":63794.455066615374},{"$f":"K457/Dźwignie!$D$5","v":6.3794455066615372},{"$f":"I457/Dźwignie!$D$2","v":0.49379293250997142},{"$f":"K457/Dźwignie!$D$3","v":0.63794455066615374},1.5062850914638224,1.2539405655724098,1.8887919795034345,null,{"$f":"C457*Dźwignie!$G$8","v":148758.58650199429},297517.17300398857,{"$f":"Dźwignie!$G$9","v":150000},147517.17300398857,{"$f":"V457-Dźwignie!$D$6","v":127517.17300398857},{"$f":"IF(W457>0,W457*(1-Dźwignie!$D$9),W457)","v":103288.91013323075},{"$f":"X457/Dźwignie!$D$5","v":10.328891013323075},{"$f":"V457/Dźwignie!$D$2","v":0.73758586501994283},{"$f":"X457/Dźwignie!$D$3","v":1.0328891013323074},2.0168307658386615,1.156841620064573,2.3331537705488707]
[446,2.9076695442199707E-2,{"$f":"NORMINV(B458,Dźwignie!$L$8,Dźwignie!$L$9)","v":255273.00778439324},{"$f":"Dźwignie!$L$7*C458","v":382909.51167658984},null,{"$f":"C458*Dźwignie!$G$5","v":255273.00778439324},127636.5038921966,{"$f":"Dźwignie!$G$6","v":50000},77636.503892196604,{"$f":"I458-Dźwignie!$D$6","v":57636.503892196604},{"$f":"IF(J458>0,J458*(1-Dźwignie!$D$9),J458)","v":46685.568152679254},{"$f":"K458/Dźwignie!$D$5","v":4.6685568152679258},{"$f":"I458/Dźwignie!$D$2","v":0.38818251946098303},{"$f":"K458/Dźwignie!$D$3","v":0.46685568152679252},1.6440269395621974,1.3470023101576047,2.2145080855516168,null,{"$f":"C458*Dźwignie!$G$8","v":127636.50389219662},255273.00778439321,{"$f":"Dźwignie!$G$9","v":150000},105273.00778439321,{"$f":"V458-Dźwignie!$D$6","v":85273.007784393209},{"$f":"IF(W458>0,W458*(1-Dźwignie!$D$9),W458)","v":69071.136305358508},{"$f":"X458/Dźwignie!$D$5","v":6.9071136305358509},{"$f":"V458/Dźwignie!$D$2","v":0.52636503892196607},{"$f":"X458/Dźwignie!$D$3","v":0.69071136305358505},2.4248666695950298,1.234540806283843,2.9935968534126651]
[447,0.13308793306350708,{"$f":"NORMINV(B459,Dźwignie!$L$8,Dźwignie!$L$9)","v":294404.38575199834},{"$f":"Dźwignie!$L$7*C459","v":441606.57862799754},null,{"$f":"C459*Dźwignie!$G$5","v":294404.38575199834},147202.1928759992,{"$f":"Dźwignie!$G$6","v":50000},97202.192875999201,{"$f":"I459-Dźwignie!$D$6","v":77202.192875999201},{"$f":"IF(J459>0,J459*(1-Dźwignie!$D$9),J459)","v":62533.776229559357},{"$f":"K459/Dźwignie!$D$5","v":6.2533776229559352},{"$f":"I459/Dźwignie!$D$2","v":0.48601096437999602},{"$f":"K459/Dźwignie!$D$3","v":0.62533776229559357},1.5143916872717571,1.2590599988801308,1.9067099960804579,null,{"$f":"C459*Dźwignie!$G$8","v":147202.19287599917},294404.3857519984,{"$f":"Dźwignie!$G$9","v":150000},144404.3857519984,{"$f":"V459-Dźwignie!$D$6","v":124404.3857519984},{"$f":"IF(W459>0,W459*(1-Dźwignie!$D$9),W459)","v":100767.55245911871},{"$f":"X459/Dźwignie!$D$5","v":10.076755245911871},{"$f":"V459/Dźwignie!$D$2","v":0.72202192875999205},{"$f":"X459/Dźwignie!$D$3","v":1.007675524591187},2.0387496142784163,1.1607660363346854,2.3665113088448262]
[448,7.2724819183349609E-3,{"$f":"NORMINV(B460,Dźwignie!$L$8,Dźwignie!$L$9)","v":227824.2486217118},{"$f":"Dźwignie!$L$7*C460","v":341736.37293256773},null,{"$f":"C460*Dźwignie!$G$5","v":227824.2486217118},113912.12431085593,{"$f":"Dźwignie!$G$6","v":50000},63912.124310855928,{"$f":"I460-Dźwignie!$D$6","v":43912.124310855928},{"$f":"IF(J460>0,J460*(1-Dźwignie!$D$9),J460)","v":35568.820691793306},{"$f":"K460/Dźwignie!$D$5","v":3.5568820691793306},{"$f":"I460/Dźwignie!$D$2","v":0.31956062155427967},{"$f":"K460/Dźwignie!$D$3","v":0.35568820691793307},1.7823241761893236,1.4554550779283437,2.5940927727492031,null,{"$f":"C460*Dźwignie!$G$8","v":113912.1243108559},227824.24862171183,{"$f":"Dźwignie!$G$9","v":150000},77824.248621711828,{"$f":"V460-Dźwignie!$D$6","v":57824.248621711828},{"$f":"IF(W460>0,W460*(1-Dźwignie!$D$9),W460)","v":46837.641383586582},{"$f":"X460/Dźwignie!$D$5","v":4.6837641383586579},{"$f":"V460/Dźwignie!$D$2","v":0.38912124310855911},{"$f":"X460/Dźwignie!$D$3","v":0.46837641383586581},2.9274198293788882,1.3458756573015012,3.9399430870627596]
[449,0.51356405019760132,{"$f":"NORMINV(B461,Dźwignie!$L$8,Dźwignie!$L$9)","v":351700.32925402862},{"$f":"Dźwignie!$L$7*C461","v":527550.49388104293},null,{"$f":"C461*Dźwignie!$G$5","v":351700.32925402862},{"$f":"$D461-F461","v":175850.16462701431},{"$f":"Dźwignie!$G$6","v":50000},{"$f":"G461-H461","v":125850.16462701431},{"$f":"I461-Dźwignie!$D$6","v":105850.16462701431},{"$f":"IF(J461>0,J461*(1-Dźwignie!$D$9),J461)","v":85738.633347881594},{"$f":"K461/Dźwignie!$D$5","v":8.5738633347881592},{"$f":"I461/Dźwignie!$D$2","v":0.62925082313507152},{"$f":"K461/Dźwignie!$D$3","v":0.85738633347881599},{"$f":"IF(I461<>0,G461/I461,\"N   \")","v":1.3972978513630587},{"$f":"IF(J461<>0,I461/J461,\"N   \")","v":1.1889463287135573},{"$f":"IF(ISTEXT(O461),O461,IF(ISTEXT(P461),P461,O461*P461))","v":1.6613121504974506},null,{"$f":"C461*Dźwignie!$G$8","v":175850.16462701431},{"$f":"$D461-S461","v":351700.32925402862},{"$f":"Dźwignie!$G$9","v":150000},{"$f":"T461-U461","v":201700.32925402862},{"$f":"V461-Dźwignie!$D$6","v":181700.32925402862},{"$f":"IF(W461>0,W461*(1-Dźwignie!$D$9),W461)","v":147177.26669576319},{"$f":"X461/Dźwignie!$D$5","v":14.717726669576319},{"$f":"V461/Dźwignie!$D$2","v":1.008501646270143},{"$f":"X461/Dźwignie!$D$3","v":1.4717726669576319},{"$f":"IF(V461<>0,T461/V461,\"N   \")","v":1.7436775168129974},{"$f":"IF(W461<>0,V461/W461,\"N   \")","v":1.1100713470476915},{"$f":"IF(ISTEXT(AB461),AB461,IF(ISTEXT(AC461),AC461,AB461*AC461))","v":1.9356064499053778}]
[450,0.54565370082855225,{"$f":"NORMINV(B462,Dźwignie!$L$8,Dźwignie!$L$9)","v":355734.3891145431},{"$f":"Dźwignie!$L$7*C462","v":533601.58367181465},null,{"$f":"C462*Dźwignie!$G$5","v":355734.3891145431},177867.19455727155,{"$f":"Dźwignie!$G$6","v":50000},127867.19455727155,{"$f":"I462-Dźwignie!$D$6","v":107867.19455727155},{"$f":"IF(J462>0,J462*(1-Dźwignie!$D$9),J462)","v":87372.427591389962},{"$f":"K462/Dźwignie!$D$5","v":8.7372427591389954},{"$f":"I462/Dźwignie!$D$2","v":0.63933597278635779},{"$f":"K462/Dźwignie!$D$3","v":0.87372427591389967},1.3910307109897924,1.1854131840740616,1.6489461442592155,null,{"$f":"C462*Dźwignie!$G$8","v":177867.19455727155},355734.3891145431,{"$f":"Dźwignie!$G$9","v":150000},205734.3891145431,{"$f":"V462-Dźwignie!$D$6","v":185734.3891145431},{"$f":"IF(W462>0,W462*(1-Dźwignie!$D$9),W462)","v":150444.85518277992},{"$f":"X462/Dźwignie!$D$5","v":15.044485518277993},{"$f":"V462/Dźwignie!$D$2","v":1.0286719455727156},{"$f":"X462/Dźwignie!$D$3","v":1.5044485518277992},1.7290954159174972,1.1076806513610462,1.9152855365688923]
[451,0.98399168252944946,{"$f":"NORMINV(B463,Dźwignie!$L$8,Dźwignie!$L$9)","v":457210.1436806866},{"$f":"Dźwignie!$L$7*C463","v":685815.2155210299},null,{"$f":"C463*Dźwignie!$G$5","v":457210.1436806866},228605.0718403433,{"$f":"Dźwignie!$G$6","v":50000},178605.0718403433,{"$f":"I463-Dźwignie!$D$6","v":158605.0718403433},{"$f":"IF(J463>0,J463*(1-Dźwignie!$D$9),J463)","v":128470.10819067807},{"$f":"K463/Dźwignie!$D$5","v":12.847010819067808},{"$f":"I463/Dźwignie!$D$2","v":0.89302535920171644},{"$f":"K463/Dźwignie!$D$3","v":1.2847010819067808},1.2799472572911896,1.1260993722832056,1.4413478029912192,null,{"$f":"C463*Dźwignie!$G$8","v":228605.0718403433},457210.1436806866,{"$f":"Dźwignie!$G$9","v":150000},307210.1436806866,{"$f":"V463-Dźwignie!$D$6","v":287210.1436806866},{"$f":"IF(W463>0,W463*(1-Dźwignie!$D$9),W463)","v":232640.21638135615},{"$f":"X463/Dźwignie!$D$5","v":23.264021638135613},{"$f":"V463/Dźwignie!$D$2","v":1.5360507184034329},{"$f":"X463/Dźwignie!$D$3","v":2.3264021638135617},1.4882651275861176,1.0696354235393424,1.5919011000844103]
[452,0.50265693664550781,{"$f":"NORMINV(B464,Dźwignie!$L$8,Dźwignie!$L$9)","v":350333.00008769805},{"$f":"Dźwignie!$L$7*C464","v":525499.5001315471},null,{"$f":"C464*Dźwignie!$G$5","v":350333.00008769805},175166.50004384905,{"$f":"Dźwignie!$G$6","v":50000},125166.50004384905,{"$f":"I464-Dźwignie!$D$6","v":105166.50004384905},{"$f":"IF(J464>0,J464*(1-Dźwignie!$D$9),J464)","v":85184.865035517738},{"$f":"K464/Dźwignie!$D$5","v":8.5184865035517738},{"$f":"I464/Dźwignie!$D$2","v":0.6258325002192453},{"$f":"K464/Dźwignie!$D$3","v":0.85184865035517743},1.399467908605607,1.1901746277727321,1.6656111972045622,null,{"$f":"C464*Dźwignie!$G$8","v":175166.50004384902},350333.00008769811,{"$f":"Dźwignie!$G$9","v":150000},200333.00008769811,{"$f":"V464-Dźwignie!$D$6","v":180333.00008769811},{"$f":"IF(W464>0,W464*(1-Dźwignie!$D$9),W464)","v":146069.73007103548},{"$f":"X464/Dźwignie!$D$5","v":14.606973007103548},{"$f":"V464/Dźwignie!$D$2","v":1.0016650004384906},{"$f":"X464/Dźwignie!$D$3","v":1.4606973007103548},1.7487533253849128,1.1109059350771837,1.942700448156061]
[453,0.13312357664108276,{"$f":"NORMINV(B465,Dźwignie!$L$8,Dźwignie!$L$9)","v":294412.67415696575},{"$f":"Dźwignie!$L$7*C465","v":441619.01123544865},null,{"$f":"C465*Dźwignie!$G$5","v":294412.67415696575},147206.3370784829,{"$f":"Dźwignie!$G$6","v":50000},97206.337078482902,{"$f":"I465-Dźwignie!$D$6","v":77206.337078482902},{"$f":"IF(J465>0,J465*(1-Dźwignie!$D$9),J465)","v":62537.133033571154},{"$f":"K465/Dźwignie!$D$5","v":6.2537133033571157},{"$f":"I465/Dźwignie!$D$2","v":0.48603168539241454},{"$f":"K465/Dźwignie!$D$3","v":0.62537133033571157},1.5143697571860029,1.2590460933235224,1.906661326632328,null,{"$f":"C465*Dźwignie!$G$8","v":147206.33707848287},294412.6741569658,{"$f":"Dźwignie!$G$9","v":150000},144412.6741569658,{"$f":"V465-Dźwignie!$D$6","v":124412.6741569658},{"$f":"IF(W465>0,W465*(1-Dźwignie!$D$9),W465)","v":100774.26606714231},{"$f":"X465/Dźwignie!$D$5","v":10.07742660671423},{"$f":"V465/Dźwignie!$D$2","v":0.72206337078482907},{"$f":"X465/Dźwignie!$D$3","v":1.007742660671423},2.0386899963985239,1.1607553260591996,2.366420271503197]
[454,0.61983644962310791,{"$f":"NORMINV(B466,Dźwignie!$L$8,Dźwignie!$L$9)","v":365252.5637278069},{"$f":"Dźwignie!$L$7*C466","v":547878.84559171041},null,{"$f":"C466*Dźwignie!$G$5","v":365252.5637278069},182626.28186390351,{"$f":"Dźwignie!$G$6","v":50000},132626.28186390351,{"$f":"I466-Dźwignie!$D$6","v":112626.28186390351},{"$f":"IF(J466>0,J466*(1-Dźwignie!$D$9),J466)","v":91227.288309761847},{"$f":"K466/Dźwignie!$D$5","v":9.1227288309761843},{"$f":"I466/Dźwignie!$D$2","v":0.66313140931951753},{"$f":"K466/Dźwignie!$D$3","v":0.91227288309761845},1.3769991837010727,1.177578445004229,1.6215245575148018,null,{"$f":"C466*Dźwignie!$G$8","v":182626.28186390345},365252.56372780696,{"$f":"Dźwignie!$G$9","v":150000},215252.56372780696,{"$f":"V466-Dźwignie!$D$6","v":195252.56372780696},{"$f":"IF(W466>0,W466*(1-Dźwignie!$D$9),W466)","v":158154.57661952364},{"$f":"X466/Dźwignie!$D$5","v":15.815457661952363},{"$f":"V466/Dźwignie!$D$2","v":1.0762628186390348},{"$f":"X466/Dźwignie!$D$3","v":1.5815457661952363},1.6968558116208052,1.1024314335143948,1.8706671848723562]
[455,0.21285945177078247,{"$f":"NORMINV(B467,Dźwignie!$L$8,Dźwignie!$L$9)","v":310173.05747291667},{"$f":"Dźwignie!$L$7*C467","v":465259.586209375},null,{"$f":"C467*Dźwignie!$G$5","v":310173.05747291667},155086.52873645833,{"$f":"Dźwignie!$G$6","v":50000},105086.52873645833,{"$f":"I467-Dźwignie!$D$6","v":85086.528736458335},{"$f":"IF(J467>0,J467*(1-Dźwignie!$D$9),J467)","v":68920.088276531256},{"$f":"K467/Dźwignie!$D$5","v":6.8920088276531253},{"$f":"I467/Dźwignie!$D$2","v":0.5254326436822917},{"$f":"K467/Dźwignie!$D$3","v":0.68920088276531255},1.4757983787378941,1.2350548353188404,1.8226919236159416,null,{"$f":"C467*Dźwignie!$G$8","v":155086.52873645833},310173.05747291667,{"$f":"Dźwignie!$G$9","v":150000},160173.05747291667,{"$f":"V467-Dźwignie!$D$6","v":140173.05747291667},{"$f":"IF(W467>0,W467*(1-Dźwignie!$D$9),W467)","v":113540.17655306251},{"$f":"X467/Dźwignie!$D$5","v":11.354017655306251},{"$f":"V467/Dźwignie!$D$2","v":0.8008652873645834},{"$f":"X467/Dźwignie!$D$3","v":1.1354017655306252},1.9364870869457129,1.1426807716159311,2.2127865587354139]
[456,0.71180558204650879,{"$f":"NORMINV(B468,Dźwignie!$L$8,Dźwignie!$L$9)","v":377933.36238198192},{"$f":"Dźwignie!$L$7*C468","v":566900.04357297288},null,{"$f":"C468*Dźwignie!$G$5","v":377933.36238198192},188966.68119099096,{"$f":"Dźwignie!$G$6","v":50000},138966.68119099096,{"$f":"I468-Dźwignie!$D$6","v":118966.68119099096},{"$f":"IF(J468>0,J468*(1-Dźwignie!$D$9),J468)","v":96363.011764702678},{"$f":"K468/Dźwignie!$D$5","v":9.6363011764702673},{"$f":"I468/Dźwignie!$D$2","v":0.6948334059549548},{"$f":"K468/Dźwignie!$D$3","v":0.96363011764702677},1.3597984752278982,1.1681142972114327,1.588400040240014,null,{"$f":"C468*Dźwignie!$G$8","v":188966.68119099096},377933.36238198192,{"$f":"Dźwignie!$G$9","v":150000},227933.36238198192,{"$f":"V468-Dźwignie!$D$6","v":207933.36238198192},{"$f":"IF(W468>0,W468*(1-Dźwignie!$D$9),W468)","v":168426.02352940536},{"$f":"X468/Dźwignie!$D$5","v":16.842602352940535},{"$f":"V468/Dźwignie!$D$2","v":1.1396668119099096},{"$f":"X468/Dźwignie!$D$3","v":1.6842602352940537},1.6580870761193029,1.0961846611380197,1.8175696196731681]
[457,6.8421781063079834E-2,{"$f":"NORMINV(B469,Dźwignie!$L$8,Dźwignie!$L$9)","v":275617.56482400768},{"$f":"Dźwignie!$L$7*C469","v":413426.34723601153},null,{"$f":"C469*Dźwignie!$G$5","v":275617.56482400768},137808.78241200384,{"$f":"Dźwignie!$G$6","v":50000},87808.782412003842,{"$f":"I469-Dźwignie!$D$6","v":67808.782412003842},{"$f":"IF(J469>0,J469*(1-Dźwignie!$D$9),J469)","v":54925.113753723119},{"$f":"K469/Dźwignie!$D$5","v":5.4925113753723123},{"$f":"I469/Dźwignie!$D$2","v":0.43904391206001919},{"$f":"K469/Dźwignie!$D$3","v":0.5492511375372312},1.5694191244492737,1.2949470450373328,2.032314657630665,null,{"$f":"C469*Dźwignie!$G$8","v":137808.78241200384},275617.56482400768,{"$f":"Dźwignie!$G$9","v":150000},125617.56482400768,{"$f":"V469-Dźwignie!$D$6","v":105617.56482400768},{"$f":"IF(W469>0,W469*(1-Dźwignie!$D$9),W469)","v":85550.227507446223},{"$f":"X469/Dźwignie!$D$5","v":8.555022750744623},{"$f":"V469/Dźwignie!$D$2","v":0.62808782412003838},{"$f":"X469/Dźwignie!$D$3","v":0.85550227507446219},2.194100524159599,1.189362442064692,2.6095807575498813]
[458,0.3757094144821167,{"$f":"NORMINV(B470,Dźwignie!$L$8,Dźwignie!$L$9)","v":334161.54609875707},{"$f":"Dźwignie!$L$7*C470","v":501242.3191481356},null,{"$f":"C470*Dźwignie!$G$5","v":334161.54609875707},167080.77304937853,{"$f":"Dźwignie!$G$6","v":50000},117080.77304937853,{"$f":"I470-Dźwignie!$D$6","v":97080.773049378535},{"$f":"IF(J470>0,J470*(1-Dźwignie!$D$9),J470)","v":78635.426169996615},{"$f":"K470/Dźwignie!$D$5","v":7.8635426169996618},{"$f":"I470/Dźwignie!$D$2","v":0.5854038652468927},{"$f":"K470/Dźwignie!$D$3","v":0.78635426169996614},1.427055601852856,1.2060140166974909,1.7210490584412181,null,{"$f":"C470*Dźwignie!$G$8","v":167080.77304937853},334161.54609875707,{"$f":"Dźwignie!$G$9","v":150000},184161.54609875707,{"$f":"V470-Dźwignie!$D$6","v":164161.54609875707},{"$f":"IF(W470>0,W470*(1-Dźwignie!$D$9),W470)","v":132970.85233999323},{"$f":"X470/Dźwignie!$D$5","v":13.297085233999324},{"$f":"V470/Dźwignie!$D$2","v":0.92080773049378539},{"$f":"X470/Dźwignie!$D$3","v":1.3297085233999324},1.8145022844213208,1.1218312112385218,2.035565295527435]
[459,0.5099378228187561,{"$f":"NORMINV(B471,Dźwignie!$L$8,Dźwignie!$L$9)","v":351245.65022504644},{"$f":"Dźwignie!$L$7*C471","v":526868.4753375696},null,{"$f":"C471*Dźwignie!$G$5","v":351245.65022504644},175622.82511252316,{"$f":"Dźwignie!$G$6","v":50000},125622.82511252316,{"$f":"I471-Dźwignie!$D$6","v":105622.82511252316},{"$f":"IF(J471>0,J471*(1-Dźwignie!$D$9),J471)","v":85554.488341143762},{"$f":"K471/Dźwignie!$D$5","v":8.555448834114376},{"$f":"I471/Dźwignie!$D$2","v":0.62811412556261581},{"$f":"K471/Dźwignie!$D$3","v":0.85554488341143764},1.3980168409300928,1.1893530113277448,1.6627355396471069,null,{"$f":"C471*Dźwignie!$G$8","v":175622.82511252322},351245.65022504638,{"$f":"Dźwignie!$G$9","v":150000},201245.65022504638,{"$f":"V471-Dźwignie!$D$6","v":181245.65022504638},{"$f":"IF(W471>0,W471*(1-Dźwignie!$D$9),W471)","v":146808.97668228758},{"$f":"X471/Dźwignie!$D$5","v":14.680897668228758},{"$f":"V471/Dźwignie!$D$2","v":1.0062282511252318},{"$f":"X471/Dźwignie!$D$3","v":1.4680897668228758},1.7453577249111221,1.1103474757886145,1.9379535442032234]
[460,0.37647867202758789,{"$f":"NORMINV(B472,Dźwignie!$L$8,Dźwignie!$L$9)","v":334262.88628727291},{"$f":"Dźwignie!$L$7*C472","v":501394.32943090936},null,{"$f":"C472*Dźwignie!$G$5","v":334262.88628727291},167131.44314363645,{"$f":"Dźwignie!$G$6","v":50000},117131.44314363645,{"$f":"I472-Dźwignie!$D$6","v":97131.443143636454},{"$f":"IF(J472>0,J472*(1-Dźwignie!$D$9),J472)","v":78676.468946345529},{"$f":"K472/Dźwignie!$D$5","v":7.8676468946345528},{"$f":"I472/Dźwignie!$D$2","v":0.5856572157181823},{"$f":"K472/Dźwignie!$D$3","v":0.78676468946345524},1.4268708611289438,1.2059065463531136,1.7206729122358977,null,{"$f":"C472*Dźwignie!$G$8","v":167131.44314363645},334262.88628727291,{"$f":"Dźwignie!$G$9","v":150000},184262.88628727291,{"$f":"V472-Dźwignie!$D$6","v":164262.88628727291},{"$f":"IF(W472>0,W472*(1-Dźwignie!$D$9),W472)","v":133052.93789269106},{"$f":"X472/Dźwignie!$D$5","v":13.305293789269106},{"$f":"V472/Dźwignie!$D$2","v":0.92131443143636449},{"$f":"X472/Dźwignie!$D$3","v":1.3305293789269106},1.8140543276096535,1.1217560488071712,2.0349264148609545]
[461,0.65667790174484253,{"$f":"NORMINV(B473,Dźwignie!$L$8,Dźwignie!$L$9)","v":370170.66552036116},{"$f":"Dźwignie!$L$7*C473","v":555255.99828054174},null,{"$f":"C473*Dźwignie!$G$5","v":370170.66552036116},185085.33276018058,{"$f":"Dźwignie!$G$6","v":50000},135085.33276018058,{"$f":"I473-Dźwignie!$D$6","v":115085.33276018058},{"$f":"IF(J473>0,J473*(1-Dźwignie!$D$9),J473)","v":93219.119535746271},{"$f":"K473/Dźwignie!$D$5","v":9.3219119535746273},{"$f":"I473/Dźwignie!$D$2","v":0.67542666380090288},{"$f":"K473/Dźwignie!$D$3","v":0.93219119535746275},1.3701364091745318,1.1737840915112685,1.6082443202894394,null,{"$f":"C473*Dźwignie!$G$8","v":185085.33276018058},370170.66552036116,{"$f":"Dźwignie!$G$9","v":150000},220170.66552036116,{"$f":"V473-Dźwignie!$D$6","v":200170.66552036116},{"$f":"IF(W473>0,W473*(1-Dźwignie!$D$9),W473)","v":162138.23907149254},{"$f":"X473/Dźwignie!$D$5","v":16.213823907149255},{"$f":"V473/Dźwignie!$D$2","v":1.1008533276018058},{"$f":"X473/Dźwignie!$D$3","v":1.6213823907149254},1.6812896697454374,1.0999147399945355,1.8492752899535512]
[462,0.11411488056182861,{"$f":"NORMINV(B474,Dźwignie!$L$8,Dźwignie!$L$9)","v":289753.42682866391},{"$f":"Dźwignie!$L$7*C474","v":434630.14024299587},null,{"$f":"C474*Dźwignie!$G$5","v":289753.42682866391},144876.71341433196,{"$f":"Dźwignie!$G$6","v":50000},94876.713414331956,{"$f":"I474-Dźwignie!$D$6","v":74876.713414331956},{"$f":"IF(J474>0,J474*(1-Dźwignie!$D$9),J474)","v":60650.137865608885},{"$f":"K474/Dźwignie!$D$5","v":6.0650137865608889},{"$f":"I474/Dźwignie!$D$2","v":0.4743835670716598},{"$f":"K474/Dźwignie!$D$3","v":0.60650137865608889},1.526999705203185,1.2671057407304933,1.9348700925567266,null,{"$f":"C474*Dźwignie!$G$8","v":144876.71341433196},289753.42682866391,{"$f":"Dźwignie!$G$9","v":150000},139753.42682866391,{"$f":"V474-Dźwignie!$D$6","v":119753.42682866391},{"$f":"IF(W474>0,W474*(1-Dźwignie!$D$9),W474)","v":97000.275731217771},{"$f":"X474/Dźwignie!$D$5","v":9.7000275731217762},{"$f":"V474/Dźwignie!$D$2","v":0.69876713414331959},{"$f":"X474/Dźwignie!$D$3","v":0.97000275731217767},2.0733189403927694,1.1670098345378861,2.4195835935720313]
[463,3.5199940204620361E-2,{"$f":"NORMINV(B475,Dźwignie!$L$8,Dźwignie!$L$9)","v":259533.54168639652},{"$f":"Dźwignie!$L$7*C475","v":389300.31252959475},null,{"$f":"C475*Dźwignie!$G$5","v":259533.54168639652},129766.77084319823,{"$f":"Dźwignie!$G$6","v":50000},79766.770843198232,{"$f":"I475-Dźwignie!$D$6","v":59766.770843198232},{"$f":"IF(J475>0,J475*(1-Dźwignie!$D$9),J475)","v":48411.084382990572},{"$f":"K475/Dźwignie!$D$5","v":4.8411084382990568},{"$f":"I475/Dźwignie!$D$2","v":0.39883385421599116},{"$f":"K475/Dźwignie!$D$3","v":0.48411084382990571},1.6268274304131936,1.3346341071775689,2.171219375121491,null,{"$f":"C475*Dźwignie!$G$8","v":129766.77084319826},259533.54168639649,{"$f":"Dźwignie!$G$9","v":150000},109533.54168639649,{"$f":"V475-Dźwignie!$D$6","v":89533.541686396493},{"$f":"IF(W475>0,W475*(1-Dźwignie!$D$9),W475)","v":72522.168765981158},{"$f":"X475/Dźwignie!$D$5","v":7.2522168765981156},{"$f":"V475/Dźwignie!$D$2","v":0.54766770843198243},{"$f":"X475/Dźwignie!$D$3","v":0.72522168765981154},2.3694435301787493,1.2233799716094416,2.8987297586802532]
[464,0.82925677299499512,{"$f":"NORMINV(B476,Dźwignie!$L$8,Dźwignie!$L$9)","v":397561.61610204336},{"$f":"Dźwignie!$L$7*C476","v":596342.42415306508},null,{"$f":"C476*Dźwignie!$G$5","v":397561.61610204336},198780.80805102171,{"$f":"Dźwignie!$G$6","v":50000},148780.80805102171,{"$f":"I476-Dźwignie!$D$6","v":128780.80805102171},{"$f":"IF(J476>0,J476*(1-Dźwignie!$D$9),J476)","v":104312.4545213276},{"$f":"K476/Dźwignie!$D$5","v":10.43124545213276},{"$f":"I476/Dźwignie!$D$2","v":0.74390404025510859},{"$f":"K476/Dźwignie!$D$3","v":1.043124545213276},1.336064850399612,1.1553026441026537,1.5435592543592882,null,{"$f":"C476*Dźwignie!$G$8","v":198780.80805102168},397561.61610204342,{"$f":"Dźwignie!$G$9","v":150000},247561.61610204342,{"$f":"V476-Dźwignie!$D$6","v":227561.61610204342},{"$f":"IF(W476>0,W476*(1-Dźwignie!$D$9),W476)","v":184324.90904265517},{"$f":"X476/Dźwignie!$D$5","v":18.432490904265517},{"$f":"V476/Dźwignie!$D$2","v":1.2378080805102172},{"$f":"X476/Dźwignie!$D$3","v":1.8432490904265517},1.6059097624333285,1.0878882842483926,1.7470504161113374]
[465,0.46265023946762085,{"$f":"NORMINV(B477,Dźwignie!$L$8,Dźwignie!$L$9)","v":345312.04229065531},{"$f":"Dźwignie!$L$7*C477","v":517968.06343598297},null,{"$f":"C477*Dźwignie!$G$5","v":345312.04229065531},172656.02114532766,{"$f":"Dźwignie!$G$6","v":50000},122656.02114532766,{"$f":"I477-Dźwignie!$D$6","v":102656.02114532766},{"$f":"IF(J477>0,J477*(1-Dźwignie!$D$9),J477)","v":83151.377127715401},{"$f":"K477/Dźwignie!$D$5","v":8.3151377127715396},{"$f":"I477/Dźwignie!$D$2","v":0.61328010572663827},{"$f":"K477/Dźwignie!$D$3","v":0.83151377127715398},1.4076440726929993,1.1948253962783779,1.6818888869743227,null,{"$f":"C477*Dźwignie!$G$8","v":172656.02114532766},345312.04229065531,{"$f":"Dźwignie!$G$9","v":150000},195312.04229065531,{"$f":"V477-Dźwignie!$D$6","v":175312.04229065531},{"$f":"IF(W477>0,W477*(1-Dźwignie!$D$9),W477)","v":142002.7542554308},{"$f":"X477/Dźwignie!$D$5","v":14.200275425543079},{"$f":"V477/Dźwignie!$D$2","v":0.97656021145327654},{"$f":"X477/Dźwignie!$D$3","v":1.4200275425543081},1.7680017997905946,1.1140822942832493,1.9696995014076197]
[466,0.45327794551849365,{"$f":"NORMINV(B478,Dźwignie!$L$8,Dźwignie!$L$9)","v":344130.80810652632},{"$f":"Dźwignie!$L$7*C478","v":516196.21215978952},null,{"$f":"C478*Dźwignie!$G$5","v":344130.80810652632},172065.40405326319,{"$f":"Dźwignie!$G$6","v":50000},122065.40405326319,{"$f":"I478-Dźwignie!$D$6","v":102065.40405326319},{"$f":"IF(J478>0,J478*(1-Dźwignie!$D$9),J478)","v":82672.977283143191},{"$f":"K478/Dźwignie!$D$5","v":8.2672977283143183},{"$f":"I478/Dźwignie!$D$2","v":0.61032702026631591},{"$f":"K478/Dźwignie!$D$3","v":0.8267297728314319},1.4096164706765115,1.1959527832718218,1.6858347414513764,null,{"$f":"C478*Dźwignie!$G$8","v":172065.40405326316},344130.80810652638,{"$f":"Dźwignie!$G$9","v":150000},194130.80810652638,{"$f":"V478-Dźwignie!$D$6","v":174130.80810652638},{"$f":"IF(W478>0,W478*(1-Dźwignie!$D$9),W478)","v":141045.95456628638},{"$f":"X478/Dźwignie!$D$5","v":14.104595456628639},{"$f":"V478/Dźwignie!$D$2","v":0.97065404053263193},{"$f":"X478/Dźwignie!$D$3","v":1.4104595456628639},1.7726748858825629,1.1148561832192543,1.9762775573636613]
[467,0.99647051095962524,{"$f":"NORMINV(B479,Dźwignie!$L$8,Dźwignie!$L$9)","v":484702.45129140862},{"$f":"Dźwignie!$L$7*C479","v":727053.67693711293},null,{"$f":"C479*Dźwignie!$G$5","v":484702.45129140862},242351.22564570431,{"$f":"Dźwignie!$G$6","v":50000},192351.22564570431,{"$f":"I479-Dźwignie!$D$6","v":172351.22564570431},{"$f":"IF(J479>0,J479*(1-Dźwignie!$D$9),J479)","v":139604.49277302049},{"$f":"K479/Dźwignie!$D$5","v":13.96044927730205},{"$f":"I479/Dźwignie!$D$2","v":0.96175612822852152},{"$f":"K479/Dźwignie!$D$3","v":1.3960449277302049},1.2599411562476657,1.116042110667163,1.4061473873350705,null,{"$f":"C479*Dźwignie!$G$8","v":242351.22564570431},484702.45129140862,{"$f":"Dźwignie!$G$9","v":150000},334702.45129140862,{"$f":"V479-Dźwignie!$D$6","v":314702.45129140862},{"$f":"IF(W479>0,W479*(1-Dźwignie!$D$9),W479)","v":254908.98554604099},{"$f":"X479/Dźwignie!$D$5","v":25.490898554604097},{"$f":"V479/Dźwignie!$D$2","v":1.673512256457043},{"$f":"X479/Dźwignie!$D$3","v":2.54908985546041},1.4481592513626456,1.0635520947419643,1.5401928053066964]
[468,0.25916576385498047,{"$f":"NORMINV(B480,Dźwignie!$L$8,Dźwignie!$L$9)","v":317704.02789030608},{"$f":"Dźwignie!$L$7*C480","v":476556.04183545912},null,{"$f":"C480*Dźwignie!$G$5","v":317704.02789030608},158852.01394515304,{"$f":"Dźwignie!$G$6","v":50000},108852.01394515304,{"$f":"I480-Dźwignie!$D$6","v":88852.013945153041},{"$f":"IF(J480>0,J480*(1-Dźwignie!$D$9),J480)","v":71970.13129557397},{"$f":"K480/Dźwignie!$D$5","v":7.1970131295573969},{"$f":"I480/Dźwignie!$D$2","v":0.54426006972576524},{"$f":"K480/Dźwignie!$D$3","v":0.71970131295573969},1.4593392275240158,1.2250933784387339,1.7878268245355686,null,{"$f":"C480*Dźwignie!$G$8","v":158852.01394515304},317704.02789030608,{"$f":"Dźwignie!$G$9","v":150000},167704.02789030608,{"$f":"V480-Dźwignie!$D$6","v":147704.02789030608},{"$f":"IF(W480>0,W480*(1-Dźwignie!$D$9),W480)","v":119640.26259114794},{"$f":"X480/Dźwignie!$D$5","v":11.964026259114794},{"$f":"V480/Dźwignie!$D$2","v":0.83852013945153037},{"$f":"X480/Dźwignie!$D$3","v":1.1964026259114795},1.8944328999546383,1.1354059214610803,2.1509503324191828]
[469,0.48176115751266479,{"$f":"NORMINV(B481,Dźwignie!$L$8,Dźwignie!$L$9)","v":347713.30319646373},{"$f":"Dźwignie!$L$7*C481","v":521569.9547946956},null,{"$f":"C481*Dźwignie!$G$5","v":347713.30319646373},173856.65159823187,{"$f":"Dźwignie!$G$6","v":50000},123856.65159823187,{"$f":"I481-Dźwignie!$D$6","v":103856.65159823187},{"$f":"IF(J481>0,J481*(1-Dźwignie!$D$9),J481)","v":84123.887794567825},{"$f":"K481/Dźwignie!$D$5","v":8.4123887794567818},{"$f":"I481/Dźwignie!$D$2","v":0.61928325799115935},{"$f":"K481/Dźwignie!$D$3","v":0.8412388779456782},1.4036924892995717,1.1925731254784695,1.6740059391746434,null,{"$f":"C481*Dźwignie!$G$8","v":173856.65159823187},347713.30319646373,{"$f":"Dźwignie!$G$9","v":150000},197713.30319646373,{"$f":"V481-Dźwignie!$D$6","v":177713.30319646373},{"$f":"IF(W481>0,W481*(1-Dźwignie!$D$9),W481)","v":143947.77558913562},{"$f":"X481/Dźwignie!$D$5","v":14.394777558913562},{"$f":"V481/Dźwignie!$D$2","v":0.98856651598231871},{"$f":"X481/Dźwignie!$D$3","v":1.4394777558913563},1.7586742903736123,1.1125408151233891,1.9565969285488065]
[470,0.71943151950836182,{"$f":"NORMINV(B482,Dźwignie!$L$8,Dźwignie!$L$9)","v":379057.67819096881},{"$f":"Dźwignie!$L$7*C482","v":568586.51728645316},null,{"$f":"C482*Dźwignie!$G$5","v":379057.67819096881},189528.83909548435,{"$f":"Dźwignie!$G$6","v":50000},139528.83909548435,{"$f":"I482-Dźwignie!$D$6","v":119528.83909548435},{"$f":"IF(J482>0,J482*(1-Dźwignie!$D$9),J482)","v":96818.359667342331},{"$f":"K482/Dźwignie!$D$5","v":9.6818359667342335},{"$f":"I482/Dźwignie!$D$2","v":0.69764419547742174},{"$f":"K482/Dźwignie!$D$3","v":0.96818359667342335},1.3583488569397706,1.167323636298544,1.5856327270449038,null,{"$f":"C482*Dźwignie!$G$8","v":189528.83909548441},379057.67819096876,{"$f":"Dźwignie!$G$9","v":150000},229057.67819096876,{"$f":"V482-Dźwignie!$D$6","v":209057.67819096876},{"$f":"IF(W482>0,W482*(1-Dźwignie!$D$9),W482)","v":169336.71933468469},{"$f":"X482/Dźwignie!$D$5","v":16.933671933468467},{"$f":"V482/Dźwignie!$D$2","v":1.1452883909548437},{"$f":"X482/Dźwignie!$D$3","v":1.6933671933468468},1.6548568953665146,1.0956673783668951,1.8131727161186082]
[471,0.47755080461502075,{"$f":"NORMINV(B483,Dźwignie!$L$8,Dźwignie!$L$9)","v":347184.92407892831},{"$f":"Dźwignie!$L$7*C483","v":520777.38611839246},null,{"$f":"C483*Dźwignie!$G$5","v":347184.92407892831},173592.46203946415,{"$f":"Dźwignie!$G$6","v":50000},123592.46203946415,{"$f":"I483-Dźwignie!$D$6","v":103592.46203946415},{"$f":"IF(J483>0,J483*(1-Dźwignie!$D$9),J483)","v":83909.894251965976},{"$f":"K483/Dźwignie!$D$5","v":8.3909894251965973},{"$f":"I483/Dźwignie!$D$2","v":0.61796231019732073},{"$f":"K483/Dźwignie!$D$3","v":0.83909894251965977},1.404555416850864,1.193064240450052,1.6757248415751822,null,{"$f":"C483*Dźwignie!$G$8","v":173592.46203946415},347184.92407892831,{"$f":"Dźwignie!$G$9","v":150000},197184.92407892831,{"$f":"V483-Dźwignie!$D$6","v":177184.92407892831},{"$f":"IF(W483>0,W483*(1-Dźwignie!$D$9),W483)","v":143519.78850393195},{"$f":"X483/Dźwignie!$D$5","v":14.351978850393195},{"$f":"V483/Dźwignie!$D$2","v":0.98592462039464157},{"$f":"X483/Dźwignie!$D$3","v":1.4351978850393194},1.7607072432168225,1.1128764205192245,1.9594495744134091]
[472,0.22730183601379395,{"$f":"NORMINV(B484,Dźwignie!$L$8,Dźwignie!$L$9)","v":312611.89547504997},{"$f":"Dźwignie!$L$7*C484","v":468917.84321257495},null,{"$f":"C484*Dźwignie!$G$5","v":312611.89547504997},156305.94773752498,{"$f":"Dźwignie!$G$6","v":50000},106305.94773752498,{"$f":"I484-Dźwignie!$D$6","v":86305.947737524984},{"$f":"IF(J484>0,J484*(1-Dźwignie!$D$9),J484)","v":69907.81766739524},{"$f":"K484/Dźwignie!$D$5","v":6.9907817667395244},{"$f":"I484/Dźwignie!$D$2","v":0.53152973868762488},{"$f":"K484/Dźwignie!$D$3","v":0.69907817667395244},1.4703405694990148,1.2317337393805619,1.8110680878319665,null,{"$f":"C484*Dźwignie!$G$8","v":156305.94773752498},312611.89547504997,{"$f":"Dźwignie!$G$9","v":150000},162611.89547504997,{"$f":"V484-Dźwignie!$D$6","v":142611.89547504997},{"$f":"IF(W484>0,W484*(1-Dźwignie!$D$9),W484)","v":115515.63533479048},{"$f":"X484/Dźwignie!$D$5","v":11.551563533479047},{"$f":"V484/Dźwignie!$D$2","v":0.81305947737524986},{"$f":"X484/Dźwignie!$D$3","v":1.1551563533479048},1.9224417411887,1.1402407557474685,2.1920464238534825]
[473,0.59322208166122437,{"$f":"NORMINV(B485,Dźwignie!$L$8,Dźwignie!$L$9)","v":361792.06387217384},{"$f":"Dźwignie!$L$7*C485","v":542688.09580826072},null,{"$f":"C485*Dźwignie!$G$5","v":361792.06387217384},180896.03193608689,{"$f":"Dźwignie!$G$6","v":50000},130896.03193608689,{"$f":"I485-Dźwignie!$D$6","v":110896.03193608689},{"$f":"IF(J485>0,J485*(1-Dźwignie!$D$9),J485)","v":89825.785868230392},{"$f":"K485/Dźwignie!$D$5","v":8.9825785868230383},{"$f":"I485/Dźwignie!$D$2","v":0.65448015968043449},{"$f":"K485/Dźwignie!$D$3","v":0.8982578586823039},1.381982549512377,1.1803491040285974,1.6312218641000908,null,{"$f":"C485*Dźwignie!$G$8","v":180896.03193608692},361792.06387217378,{"$f":"Dźwignie!$G$9","v":150000},211792.06387217378,{"$f":"V485-Dźwignie!$D$6","v":191792.06387217378},{"$f":"IF(W485>0,W485*(1-Dźwignie!$D$9),W485)","v":155351.57173646078},{"$f":"X485/Dźwignie!$D$5","v":15.535157173646079},{"$f":"V485/Dźwignie!$D$2","v":1.058960319360869},{"$f":"X485/Dźwignie!$D$3","v":1.5535157173646079},1.7082418352112188,1.1042796015445648,1.8863766131288009]
[474,0.58744132518768311,{"$f":"NORMINV(B486,Dźwignie!$L$8,Dźwignie!$L$9)","v":361048.3999863608},{"$f":"Dźwignie!$L$7*C486","v":541572.59997954126},null,{"$f":"C486*Dźwignie!$G$5","v":361048.3999863608},180524.19999318046,{"$f":"Dźwignie!$G$6","v":50000},130524.19999318046,{"$f":"I486-Dźwignie!$D$6","v":110524.19999318046},{"$f":"IF(J486>0,J486*(1-Dźwignie!$D$9),J486)","v":89524.601994476179},{"$f":"K486/Dźwignie!$D$5","v":8.9524601994476178},{"$f":"I486/Dźwignie!$D$2","v":0.65262099996590228},{"$f":"K486/Dźwignie!$D$3","v":0.89524601994476183},1.3830707256019372,1.1809558449754356,1.6333454574140247,null,{"$f":"C486*Dźwignie!$G$8","v":180524.1999931804},361048.39998636086,{"$f":"Dźwignie!$G$9","v":150000},211048.39998636086,{"$f":"V486-Dźwignie!$D$6","v":191048.39998636086},{"$f":"IF(W486>0,W486*(1-Dźwignie!$D$9),W486)","v":154749.2039889523},{"$f":"X486/Dźwignie!$D$5","v":15.474920398895231},{"$f":"V486/Dźwignie!$D$2","v":1.0552419999318043},{"$f":"X486/Dźwignie!$D$3","v":1.5474920398895231},1.7107374422629777,1.1046855142541252,1.8898268711600643]
[475,0.51634365320205688,{"$f":"NORMINV(B487,Dźwignie!$L$8,Dźwignie!$L$9)","v":352048.94647356501},{"$f":"Dźwignie!$L$7*C487","v":528073.41971034755},null,{"$f":"C487*Dźwignie!$G$5","v":352048.94647356501},176024.47323678253,{"$f":"Dźwignie!$G$6","v":50000},126024.47323678253,{"$f":"I487-Dźwignie!$D$6","v":106024.47323678253},{"$f":"IF(J487>0,J487*(1-Dźwignie!$D$9),J487)","v":85879.823321793854},{"$f":"K487/Dźwignie!$D$5","v":8.5879823321793847},{"$f":"I487/Dźwignie!$D$2","v":0.63012236618391271},{"$f":"K487/Dźwignie!$D$3","v":0.85879823321793858},1.3967483355876198,1.1886356931510931,1.660224926028826,null,{"$f":"C487*Dźwignie!$G$8","v":176024.47323678251},352048.94647356507,{"$f":"Dźwignie!$G$9","v":150000},202048.94647356507,{"$f":"V487-Dźwignie!$D$6","v":182048.94647356507},{"$f":"IF(W487>0,W487*(1-Dźwignie!$D$9),W487)","v":147459.64664358771},{"$f":"X487/Dźwignie!$D$5","v":14.745964664358771},{"$f":"V487/Dźwignie!$D$2","v":1.0102447323678254},{"$f":"X487/Dźwignie!$D$3","v":1.4745964664358771},1.7423943683845198,1.109860564355994,1.9338147970259489]
[476,0.43245649337768555,{"$f":"NORMINV(B488,Dźwignie!$L$8,Dźwignie!$L$9)","v":341493.82335852983},{"$f":"Dźwignie!$L$7*C488","v":512240.73503779474},null,{"$f":"C488*Dźwignie!$G$5","v":341493.82335852983},170746.91167926491,{"$f":"Dźwignie!$G$6","v":50000},120746.91167926491,{"$f":"I488-Dźwignie!$D$6","v":100746.91167926491},{"$f":"IF(J488>0,J488*(1-Dźwignie!$D$9),J488)","v":81604.998460204588},{"$f":"K488/Dźwignie!$D$5","v":8.1604998460204587},{"$f":"I488/Dźwignie!$D$2","v":0.60373455839632462},{"$f":"K488/Dźwignie!$D$3","v":0.81604998460204592},1.4140892657595496,1.1985172514634637,1.6948103801221228,null,{"$f":"C488*Dźwignie!$G$8","v":170746.91167926491},341493.82335852983,{"$f":"Dźwignie!$G$9","v":150000},191493.82335852983,{"$f":"V488-Dźwignie!$D$6","v":171493.82335852983},{"$f":"IF(W488>0,W488*(1-Dźwignie!$D$9),W488)","v":138909.99692040918},{"$f":"X488/Dźwignie!$D$5","v":13.890999692040918},{"$f":"V488/Dźwignie!$D$2","v":0.95746911679264912},{"$f":"X488/Dźwignie!$D$3","v":1.3890999692040917},1.783315082278963,1.11662227599992,1.9912893459993202]
[477,0.26315850019454956,{"$f":"NORMINV(B489,Dźwignie!$L$8,Dźwignie!$L$9)","v":318318.09271403024},{"$f":"Dźwignie!$L$7*C489","v":477477.13907104533},null,{"$f":"C489*Dźwignie!$G$5","v":318318.09271403024},159159.04635701509,{"$f":"Dźwignie!$G$6","v":50000},109159.04635701509,{"$f":"I489-Dźwignie!$D$6","v":89159.04635701509},{"$f":"IF(J489>0,J489*(1-Dźwignie!$D$9),J489)","v":72218.827549182228},{"$f":"K489/Dźwignie!$D$5","v":7.221882754918223},{"$f":"I489/Dźwignie!$D$2","v":0.5457952317850755},{"$f":"K489/Dźwignie!$D$3","v":0.7221882754918223},1.4580472408715466,1.2243182359747884,1.7851138259117594,null,{"$f":"C489*Dźwignie!$G$8","v":159159.04635701512},318318.09271403018,{"$f":"Dźwignie!$G$9","v":150000},168318.09271403018,{"$f":"V489-Dźwignie!$D$6","v":148318.09271403018},{"$f":"IF(W489>0,W489*(1-Dźwignie!$D$9),W489)","v":120137.65509836446},{"$f":"X489/Dźwignie!$D$5","v":12.013765509836446},{"$f":"V489/Dźwignie!$D$2","v":0.84159046357015088},{"$f":"X489/Dźwignie!$D$3","v":1.2013765509836445},1.8911697939380032,1.1348453154569733,2.1461851813842725]
[478,0.97143089771270752,{"$f":"NORMINV(B490,Dźwignie!$L$8,Dźwignie!$L$9)","v":445112.60498982528},{"$f":"Dźwignie!$L$7*C490","v":667668.90748473792},null,{"$f":"C490*Dźwignie!$G$5","v":445112.60498982528},222556.30249491264,{"$f":"Dźwignie!$G$6","v":50000},172556.30249491264,{"$f":"I490-Dźwignie!$D$6","v":152556.30249491264},{"$f":"IF(J490>0,J490*(1-Dźwignie!$D$9),J490)","v":123570.60502087924},{"$f":"K490/Dźwignie!$D$5","v":12.357060502087924},{"$f":"I490/Dźwignie!$D$2","v":0.86278151247456325},{"$f":"K490/Dźwignie!$D$3","v":1.2357060502087924},1.2897604971656953,1.1310991396154673,1.4588469886541353,null,{"$f":"C490*Dźwignie!$G$8","v":222556.30249491264},445112.60498982528,{"$f":"Dźwignie!$G$9","v":150000},295112.60498982528,{"$f":"V490-Dźwignie!$D$6","v":275112.60498982528},{"$f":"IF(W490>0,W490*(1-Dźwignie!$D$9),W490)","v":222841.21004175849},{"$f":"X490/Dźwignie!$D$5","v":22.284121004175848},{"$f":"V490/Dźwignie!$D$2","v":1.4755630249491265},{"$f":"X490/Dźwignie!$D$3","v":2.228412100417585},1.5082805595686826,1.0726975050842897,1.6179287932164623]
[479,0.43297845125198364,{"$f":"NORMINV(B491,Dźwignie!$L$8,Dźwignie!$L$9)","v":341560.18714631209},{"$f":"Dźwignie!$L$7*C491","v":512340.28071946814},null,{"$f":"C491*Dźwignie!$G$5","v":341560.18714631209},170780.09357315605,{"$f":"Dźwignie!$G$6","v":50000},120780.09357315605,{"$f":"I491-Dźwignie!$D$6","v":100780.09357315605},{"$f":"IF(J491>0,J491*(1-Dźwignie!$D$9),J491)","v":81631.875794256397},{"$f":"K491/Dźwignie!$D$5","v":8.1631875794256405},{"$f":"I491/Dźwignie!$D$2","v":0.60390046786578022},{"$f":"K491/Dźwignie!$D$3","v":0.81631875794256392},1.4139755030883063,1.1984518895637069,1.6945816134729736,null,{"$f":"C491*Dźwignie!$G$8","v":170780.09357315605},341560.18714631209,{"$f":"Dźwignie!$G$9","v":150000},191560.18714631209,{"$f":"V491-Dźwignie!$D$6","v":171560.18714631209},{"$f":"IF(W491>0,W491*(1-Dźwignie!$D$9),W491)","v":138963.75158851279},{"$f":"X491/Dźwignie!$D$5","v":13.89637515885128},{"$f":"V491/Dźwignie!$D$2","v":0.95780093573156044},{"$f":"X491/Dźwignie!$D$3","v":1.389637515885128},1.7830437119244995,1.1165771635755057,1.9909058903917989]
[480,0.72674155235290527,{"$f":"NORMINV(B492,Dźwignie!$L$8,Dźwignie!$L$9)","v":380149.38323331118},{"$f":"Dźwignie!$L$7*C492","v":570224.0748499668},null,{"$f":"C492*Dźwignie!$G$5","v":380149.38323331118},190074.69161665562,{"$f":"Dźwignie!$G$6","v":50000},140074.69161665562,{"$f":"I492-Dźwignie!$D$6","v":120074.69161665562},{"$f":"IF(J492>0,J492*(1-Dźwignie!$D$9),J492)","v":97260.50020949106},{"$f":"K492/Dźwignie!$D$5","v":9.7260500209491063},{"$f":"I492/Dźwignie!$D$2","v":0.70037345808327811},{"$f":"K492/Dźwignie!$D$3","v":0.97260500209491063},1.3569524189054487,1.1665629928399148,1.582970474939702,null,{"$f":"C492*Dźwignie!$G$8","v":190074.69161665559},380149.38323331124,{"$f":"Dźwignie!$G$9","v":150000},230149.38323331124,{"$f":"V492-Dźwignie!$D$6","v":210149.38323331124},{"$f":"IF(W492>0,W492*(1-Dźwignie!$D$9),W492)","v":170221.00041898212},{"$f":"X492/Dźwignie!$D$5","v":17.022100041898213},{"$f":"V492/Dźwignie!$D$2","v":1.1507469161665562},{"$f":"X492/Dźwignie!$D$3","v":1.7022100041898212},1.651750606031124,1.0951703958978347,1.8089483651315945]
[481,0.49773496389389038,{"$f":"NORMINV(B493,Dźwignie!$L$8,Dźwignie!$L$9)","v":349716.11829749623},{"$f":"Dźwignie!$L$7*C493","v":524574.17744624428},null,{"$f":"C493*Dźwignie!$G$5","v":349716.11829749623},174858.05914874806,{"$f":"Dźwignie!$G$6","v":50000},124858.05914874806,{"$f":"I493-Dźwignie!$D$6","v":104858.05914874806},{"$f":"IF(J493>0,J493*(1-Dźwignie!$D$9),J493)","v":84935.027910485936},{"$f":"K493/Dźwignie!$D$5","v":8.4935027910485932},{"$f":"I493/Dźwignie!$D$2","v":0.62429029574374029},{"$f":"K493/Dźwignie!$D$3","v":0.84935027910485938},1.4004547270787955,1.1907340280981997,1.667569098343699,null,{"$f":"C493*Dźwignie!$G$8","v":174858.05914874811},349716.11829749617,{"$f":"Dźwignie!$G$9","v":150000},199716.11829749617,{"$f":"V493-Dźwignie!$D$6","v":179716.11829749617},{"$f":"IF(W493>0,W493*(1-Dźwignie!$D$9),W493)","v":145570.0558209719},{"$f":"X493/Dźwignie!$D$5","v":14.55700558209719},{"$f":"V493/Dźwignie!$D$2","v":0.99858059148748091},{"$f":"X493/Dźwignie!$D$3","v":1.4557005582097191},1.7510660695726157,1.1112866235341934,1.9459363000406431]
[482,0.16540658473968506,{"$f":"NORMINV(B494,Dźwignie!$L$8,Dźwignie!$L$9)","v":301376.13670713629},{"$f":"Dźwignie!$L$7*C494","v":452064.20506070444},null,{"$f":"C494*Dźwignie!$G$5","v":301376.13670713629},150688.06835356815,{"$f":"Dźwignie!$G$6","v":50000},100688.06835356815,{"$f":"I494-Dźwignie!$D$6","v":80688.068353568146},{"$f":"IF(J494>0,J494*(1-Dźwignie!$D$9),J494)","v":65357.335366390202},{"$f":"K494/Dźwignie!$D$5","v":6.5357335366390199},{"$f":"I494/Dźwignie!$D$2","v":0.50344034176784069},{"$f":"K494/Dźwignie!$D$3","v":0.65357335366390201},1.4965831683693047,1.2478681223642847,1.8675384282749965,null,{"$f":"C494*Dźwignie!$G$8","v":150688.06835356815},301376.13670713629,{"$f":"Dźwignie!$G$9","v":150000},151376.13670713629,{"$f":"V494-Dźwignie!$D$6","v":131376.13670713629},{"$f":"IF(W494>0,W494*(1-Dźwignie!$D$9),W494)","v":106414.6707327804},{"$f":"X494/Dźwignie!$D$5","v":10.64146707327804},{"$f":"V494/Dźwignie!$D$2","v":0.7568806835356815},{"$f":"X494/Dźwignie!$D$3","v":1.0641467073278041},1.9909091569049706,1.1522346485540522,2.2939945127094434]
[483,0.40793615579605103,{"$f":"NORMINV(B495,Dźwignie!$L$8,Dźwignie!$L$9)","v":338357.14111088921},{"$f":"Dźwignie!$L$7*C495","v":507535.71166633384},null,{"$f":"C495*Dźwignie!$G$5","v":338357.14111088921},169178.57055544463,{"$f":"Dźwignie!$G$6","v":50000},119178.57055544463,{"$f":"I495-Dźwignie!$D$6","v":99178.570555444632},{"$f":"IF(J495>0,J495*(1-Dźwignie!$D$9),J495)","v":80334.642149910156},{"$f":"K495/Dźwignie!$D$5","v":8.0334642149910156},{"$f":"I495/Dźwignie!$D$2","v":0.59589285277722315},{"$f":"K495/Dźwignie!$D$3","v":0.80334642149910152},1.4195385107152199,1.2016564655851663,1.7057976295480817,null,{"$f":"C495*Dźwignie!$G$8","v":169178.5705554446},338357.14111088926,{"$f":"Dźwignie!$G$9","v":150000},188357.14111088926,{"$f":"V495-Dźwignie!$D$6","v":168357.14111088926},{"$f":"IF(W495>0,W495*(1-Dźwignie!$D$9),W495)","v":136369.28429982031},{"$f":"X495/Dźwignie!$D$5","v":13.636928429982031},{"$f":"V495/Dźwignie!$D$2","v":0.9417857055544463},{"$f":"X495/Dźwignie!$D$3","v":1.3636928429982031},1.7963595068141975,1.1187950797217856,2.0097581776351774]
[484,0.38121414184570313,{"$f":"NORMINV(B496,Dźwignie!$L$8,Dźwignie!$L$9)","v":334885.32176861994},{"$f":"Dźwignie!$L$7*C496","v":502327.9826529299},null,{"$f":"C496*Dźwignie!$G$5","v":334885.32176861994},167442.66088430997,{"$f":"Dźwignie!$G$6","v":50000},117442.66088430997,{"$f":"I496-Dźwignie!$D$6","v":97442.660884309968},{"$f":"IF(J496>0,J496*(1-Dźwignie!$D$9),J496)","v":78928.55531629108},{"$f":"K496/Dźwignie!$D$5","v":7.8928555316291078},{"$f":"I496/Dźwignie!$D$2","v":0.58721330442154984},{"$f":"K496/Dźwignie!$D$3","v":0.78928555316291082},1.4257396726497353,1.2052489106772777,1.7183711873704719,null,{"$f":"C496*Dźwignie!$G$8","v":167442.66088430997},334885.32176861994,{"$f":"Dźwignie!$G$9","v":150000},184885.32176861994,{"$f":"V496-Dźwignie!$D$6","v":164885.32176861994},{"$f":"IF(W496>0,W496*(1-Dźwignie!$D$9),W496)","v":133557.11063258216},{"$f":"X496/Dźwignie!$D$5","v":13.355711063258216},{"$f":"V496/Dźwignie!$D$2","v":0.92442660884309968},{"$f":"X496/Dźwignie!$D$3","v":1.3355711063258215},1.8113137298574833,1.121296424602704,2.0310196091229842]
[485,4.6280086040496826E-2,{"$f":"NORMINV(B497,Dźwignie!$L$8,Dźwignie!$L$9)","v":265897.76491890918},{"$f":"Dźwignie!$L$7*C497","v":398846.64737836376},null,{"$f":"C497*Dźwignie!$G$5","v":265897.76491890918},132948.88245945459,{"$f":"Dźwignie!$G$6","v":50000},82948.882459454588,{"$f":"I497-Dźwignie!$D$6","v":62948.882459454588},{"$f":"IF(J497>0,J497*(1-Dźwignie!$D$9),J497)","v":50988.594792158219},{"$f":"K497/Dźwignie!$D$5","v":5.0988594792158217},{"$f":"I497/Dźwignie!$D$2","v":0.41474441229727294},{"$f":"K497/Dźwignie!$D$3","v":0.50988594792158215},1.60278087561264,1.3177181106095412,2.1120133871333944,null,{"$f":"C497*Dźwignie!$G$8","v":132948.88245945459},265897.76491890918,{"$f":"Dźwignie!$G$9","v":150000},115897.76491890918,{"$f":"V497-Dźwignie!$D$6","v":95897.764918909175},{"$f":"IF(W497>0,W497*(1-Dźwignie!$D$9),W497)","v":77677.189584316438},{"$f":"X497/Dźwignie!$D$5","v":7.7677189584316437},{"$f":"V497/Dźwignie!$D$2","v":0.57948882459454587},{"$f":"X497/Dźwignie!$D$3","v":0.77677189584316442},2.2942441133782978,1.2085554341846438,2.772721190569472]
[486,0.23388254642486572,{"$f":"NORMINV(B498,Dźwignie!$L$8,Dźwignie!$L$9)","v":313693.99050373497},{"$f":"Dźwignie!$L$7*C498","v":470540.98575560248},null,{"$f":"C498*Dźwignie!$G$5","v":313693.99050373497},156846.99525186751,{"$f":"Dźwignie!$G$6","v":50000},106846.99525186751,{"$f":"I498-Dźwignie!$D$6","v":86846.995251867513},{"$f":"IF(J498>0,J498*(1-Dźwignie!$D$9),J498)","v":70346.066154012689},{"$f":"K498/Dźwignie!$D$5","v":7.0346066154012687},{"$f":"I498/Dźwignie!$D$2","v":0.53423497625933758},{"$f":"K498/Dźwignie!$D$3","v":0.70346066154012687},1.467958877852731,1.2302900629088827,1.8060152201810893,null,{"$f":"C498*Dźwignie!$G$8","v":156846.99525186748},313693.99050373503,{"$f":"Dźwignie!$G$9","v":150000},163693.99050373503,{"$f":"V498-Dźwignie!$D$6","v":143693.99050373503},{"$f":"IF(W498>0,W498*(1-Dźwignie!$D$9),W498)","v":116392.13230802538},{"$f":"X498/Dźwignie!$D$5","v":11.639213230802538},{"$f":"V498/Dźwignie!$D$2","v":0.81846995251867516},{"$f":"X498/Dźwignie!$D$3","v":1.1639213230802539},1.9163439631375927,1.1391846654817492,2.183069656594868]
[487,0.31017428636550903,{"$f":"NORMINV(B499,Dźwignie!$L$8,Dźwignie!$L$9)","v":325232.1805109476},{"$f":"Dźwignie!$L$7*C499","v":487848.2707664214},null,{"$f":"C499*Dźwignie!$G$5","v":325232.1805109476},162616.0902554738,{"$f":"Dźwignie!$G$6","v":50000},112616.0902554738,{"$f":"I499-Dźwignie!$D$6","v":92616.090255473799},{"$f":"IF(J499>0,J499*(1-Dźwignie!$D$9),J499)","v":75019.033106933784},{"$f":"K499/Dźwignie!$D$5","v":7.5019033106933781},{"$f":"I499/Dźwignie!$D$2","v":0.56308045127736894},{"$f":"K499/Dźwignie!$D$3","v":0.75019033106933786},1.4439862890513526,1.2159451985592531,1.755808194957386,null,{"$f":"C499*Dźwignie!$G$8","v":162616.0902554738},325232.1805109476,{"$f":"Dźwignie!$G$9","v":150000},175232.1805109476,{"$f":"V499-Dźwignie!$D$6","v":155232.1805109476},{"$f":"IF(W499>0,W499*(1-Dźwignie!$D$9),W499)","v":125738.06621386757},{"$f":"X499/Dźwignie!$D$5","v":12.573806621386757},{"$f":"V499/Dźwignie!$D$2","v":0.876160902554738},{"$f":"X499/Dźwignie!$D$3","v":1.2573806621386756},1.8560071532673119,1.1288392647334458,2.0951337502342882]
[488,0.6015017032623291,{"$f":"NORMINV(B500,Dźwignie!$L$8,Dźwignie!$L$9)","v":362861.80008707946},{"$f":"Dźwignie!$L$7*C500","v":544292.70013061923},null,{"$f":"C500*Dźwignie!$G$5","v":362861.80008707946},181430.90004353976,{"$f":"Dźwignie!$G$6","v":50000},131430.90004353976,{"$f":"I500-Dźwignie!$D$6","v":111430.90004353976},{"$f":"IF(J500>0,J500*(1-Dźwignie!$D$9),J500)","v":90259.029035267216},{"$f":"K500/Dźwignie!$D$5","v":9.0259029035267222},{"$f":"I500/Dźwignie!$D$2","v":0.65715450021769883},{"$f":"K500/Dźwignie!$D$3","v":0.90259029035267213},1.3804280422901787,1.1794834286736025,1.6281920003576087,null,{"$f":"C500*Dźwignie!$G$8","v":181430.90004353973},362861.80008707952,{"$f":"Dźwignie!$G$9","v":150000},212861.80008707952,{"$f":"V500-Dźwignie!$D$6","v":192861.80008707952},{"$f":"IF(W500>0,W500*(1-Dźwignie!$D$9),W500)","v":156218.05807053443},{"$f":"X500/Dźwignie!$D$5","v":15.621805807053443},{"$f":"V500/Dźwignie!$D$2","v":1.0643090004353977},{"$f":"X500/Dźwignie!$D$3","v":1.5621805807053444},1.7046825684018296,1.1037011994649524,1.8814601954520951]
[489,0.8544115424156189,{"$f":"NORMINV(B501,Dźwignie!$L$8,Dźwignie!$L$9)","v":402777.16521000466},{"$f":"Dźwignie!$L$7*C501","v":604165.74781500699},null,{"$f":"C501*Dźwignie!$G$5","v":402777.16521000466},201388.58260500233,{"$f":"Dźwignie!$G$6","v":50000},151388.58260500233,{"$f":"I501-Dźwignie!$D$6","v":131388.58260500233},{"$f":"IF(J501>0,J501*(1-Dźwignie!$D$9),J501)","v":106424.7519100519},{"$f":"K501/Dźwignie!$D$5","v":10.64247519100519},{"$f":"I501/Dźwignie!$D$2","v":0.75694291302501171},{"$f":"K501/Dźwignie!$D$3","v":1.064247519100519},1.3302758975586568,1.1522202279944418,1.5327707979805463,null,{"$f":"C501*Dźwignie!$G$8","v":201388.58260500233},402777.16521000466,{"$f":"Dźwignie!$G$9","v":150000},252777.16521000466,{"$f":"V501-Dźwignie!$D$6","v":232777.16521000466},{"$f":"IF(W501>0,W501*(1-Dźwignie!$D$9),W501)","v":188549.5038201038},{"$f":"X501/Dźwignie!$D$5","v":18.854950382010379},{"$f":"V501/Dźwignie!$D$2","v":1.2638858260500234},{"$f":"X501/Dźwignie!$D$3","v":1.885495038201038},1.5934080314390011,1.085919080516152,1.730312184387292]
[490,0.65250575542449951,{"$f":"NORMINV(B502,Dźwignie!$L$8,Dźwignie!$L$9)","v":369604.71837050322},{"$f":"Dźwignie!$L$7*C502","v":554407.0775557548},null,{"$f":"C502*Dźwignie!$G$5","v":369604.71837050322},184802.35918525158,{"$f":"Dźwignie!$G$6","v":50000},134802.35918525158,{"$f":"I502-Dźwignie!$D$6","v":114802.35918525158},{"$f":"IF(J502>0,J502*(1-Dźwignie!$D$9),J502)","v":92989.910940053785},{"$f":"K502/Dźwignie!$D$5","v":9.2989910940053786},{"$f":"I502/Dźwignie!$D$2","v":0.67401179592625793},{"$f":"K502/Dźwignie!$D$3","v":0.92989910940053788},1.3709133898115813,1.1742124477400928,1.6097435670903248,null,{"$f":"C502*Dźwignie!$G$8","v":184802.35918525161},369604.71837050316,{"$f":"Dźwignie!$G$9","v":150000},219604.71837050316,{"$f":"V502-Dźwignie!$D$6","v":199604.71837050316},{"$f":"IF(W502>0,W502*(1-Dźwignie!$D$9),W502)","v":161679.82188010757},{"$f":"X502/Dźwignie!$D$5","v":16.167982188010757},{"$f":"V502/Dźwignie!$D$2","v":1.0980235918525159},{"$f":"X502/Dźwignie!$D$3","v":1.6167982188010757},1.6830454332357718,1.1001980322072162,1.8516832737613378]
[491,0.77525192499160767,{"$f":"NORMINV(B503,Dźwignie!$L$8,Dźwignie!$L$9)","v":387812.76440042508},{"$f":"Dźwignie!$L$7*C503","v":581719.14660063758},null,{"$f":"C503*Dźwignie!$G$5","v":387812.76440042508},193906.38220021251,{"$f":"Dźwignie!$G$6","v":50000},143906.38220021251,{"$f":"I503-Dźwignie!$D$6","v":123906.38220021251},{"$f":"IF(J503>0,J503*(1-Dźwignie!$D$9),J503)","v":100364.16958217214},{"$f":"K503/Dźwignie!$D$5","v":10.036416958217213},{"$f":"I503/Dźwignie!$D$2","v":0.71953191100106251},{"$f":"K503/Dźwignie!$D$3","v":1.0036416958217214},1.3474481064393415,1.1614121859169713,1.5649426507093995,null,{"$f":"C503*Dźwignie!$G$8","v":193906.38220021254},387812.76440042502,{"$f":"Dźwignie!$G$9","v":150000},237812.76440042502,{"$f":"V503-Dźwignie!$D$6","v":217812.76440042502},{"$f":"IF(W503>0,W503*(1-Dźwignie!$D$9),W503)","v":176428.33916434427},{"$f":"X503/Dźwignie!$D$5","v":17.642833916434427},{"$f":"V503/Dźwignie!$D$2","v":1.189063822002125},{"$f":"X503/Dźwignie!$D$3","v":1.7642833916434428},1.6307483131873972,1.091821983229744,1.7804868574528236]
[492,0.2934269905090332,{"$f":"NORMINV(B504,Dźwignie!$L$8,Dźwignie!$L$9)","v":322829.96769963304},{"$f":"Dźwignie!$L$7*C504","v":484244.95154944959},null,{"$f":"C504*Dźwignie!$G$5","v":322829.96769963304},161414.98384981655,{"$f":"Dźwignie!$G$6","v":50000},111414.98384981655,{"$f":"I504-Dźwignie!$D$6","v":91414.983849816548},{"$f":"IF(J504>0,J504*(1-Dźwignie!$D$9),J504)","v":74046.136918351403},{"$f":"K504/Dźwignie!$D$5","v":7.4046136918351406},{"$f":"I504/Dźwignie!$D$2","v":0.5570749192490827},{"$f":"K504/Dźwignie!$D$3","v":0.74046136918351402},1.4487726719720053,1.2187825141757671,1.7657387996151845,null,{"$f":"C504*Dźwignie!$G$8","v":161414.98384981652},322829.9676996331,{"$f":"Dźwignie!$G$9","v":150000},172829.9676996331,{"$f":"V504-Dźwignie!$D$6","v":152829.9676996331},{"$f":"IF(W504>0,W504*(1-Dźwignie!$D$9),W504)","v":123792.27383670282},{"$f":"X504/Dźwignie!$D$5","v":12.379227383670282},{"$f":"V504/Dźwignie!$D$2","v":0.86414983849816551},{"$f":"X504/Dźwignie!$D$3","v":1.2379227383670282},1.8679050398290298,1.1308643867497723,2.1123472873730647]
[493,0.76716107130050659,{"$f":"NORMINV(B505,Dźwignie!$L$8,Dźwignie!$L$9)","v":386476.47270879382},{"$f":"Dźwignie!$L$7*C505","v":579714.70906319073},null,{"$f":"C505*Dźwignie!$G$5","v":386476.47270879382},193238.23635439691,{"$f":"Dźwignie!$G$6","v":50000},143238.23635439691,{"$f":"I505-Dźwignie!$D$6","v":123238.23635439691},{"$f":"IF(J505>0,J505*(1-Dźwignie!$D$9),J505)","v":99822.9714470615},{"$f":"K505/Dźwignie!$D$5","v":9.9822971447061501},{"$f":"I505/Dźwignie!$D$2","v":0.7161911817719846},{"$f":"K505/Dźwignie!$D$3","v":0.99822971447061504},1.3490688050381401,1.1622872948496754,1.5680055319738639,null,{"$f":"C505*Dźwignie!$G$8","v":193238.23635439691},386476.47270879382,{"$f":"Dźwignie!$G$9","v":150000},236476.47270879382,{"$f":"V505-Dźwignie!$D$6","v":216476.47270879382},{"$f":"IF(W505>0,W505*(1-Dźwignie!$D$9),W505)","v":175345.942894123},{"$f":"X505/Dźwignie!$D$5","v":17.534594289412301},{"$f":"V505/Dźwignie!$D$2","v":1.1823823635439692},{"$f":"X505/Dźwignie!$D$3","v":1.75345942894123},1.6343125736009931,1.0923887928777563,1.785304739460928]
[494,0.19868099689483643,{"$f":"NORMINV(B506,Dźwignie!$L$8,Dźwignie!$L$9)","v":307682.90086374019},{"$f":"Dźwignie!$L$7*C506","v":461524.35129561031},null,{"$f":"C506*Dźwignie!$G$5","v":307682.90086374019},153841.45043187012,{"$f":"Dźwignie!$G$6","v":50000},103841.45043187012,{"$f":"I506-Dźwignie!$D$6","v":83841.450431870122},{"$f":"IF(J506>0,J506*(1-Dźwignie!$D$9),J506)","v":67911.574849814802},{"$f":"K506/Dźwignie!$D$5","v":6.79115748498148},{"$f":"I506/Dźwignie!$D$2","v":0.5192072521593506},{"$f":"K506/Dźwignie!$D$3","v":0.67911574849814804},1.4815032897947122,1.2385454914839775,1.8349092201939214,null,{"$f":"C506*Dźwignie!$G$8","v":153841.45043187009},307682.90086374024,{"$f":"Dźwignie!$G$9","v":150000},157682.90086374024,{"$f":"V506-Dźwignie!$D$6","v":137682.90086374024},{"$f":"IF(W506>0,W506*(1-Dźwignie!$D$9),W506)","v":111523.1496996296},{"$f":"X506/Dźwignie!$D$5","v":11.15231496996296},{"$f":"V506/Dźwignie!$D$2","v":0.78841450431870119},{"$f":"X506/Dźwignie!$D$3","v":1.115231496996296},1.9512762587341075,1.1452613205745372,2.2347212248835664]
[495,0.53345471620559692,{"$f":"NORMINV(B507,Dźwignie!$L$8,Dźwignie!$L$9)","v":354197.85329841176},{"$f":"Dźwignie!$L$7*C507","v":531296.77994761767},null,{"$f":"C507*Dźwignie!$G$5","v":354197.85329841176},177098.92664920591,{"$f":"Dźwignie!$G$6","v":50000},127098.92664920591,{"$f":"I507-Dźwignie!$D$6","v":107098.92664920591},{"$f":"IF(J507>0,J507*(1-Dźwignie!$D$9),J507)","v":86750.130585856794},{"$f":"K507/Dźwignie!$D$5","v":8.6750130585856802},{"$f":"I507/Dźwignie!$D$2","v":0.63549463324602951},{"$f":"K507/Dźwignie!$D$3","v":0.86750130585856788},1.3933943528728643,1.1867432347432241,1.6536013216012844,null,{"$f":"C507*Dźwignie!$G$8","v":177098.92664920588},354197.85329841182,{"$f":"Dźwignie!$G$9","v":150000},204197.85329841182,{"$f":"V507-Dźwignie!$D$6","v":184197.85329841182},{"$f":"IF(W507>0,W507*(1-Dźwignie!$D$9),W507)","v":149200.26117171359},{"$f":"X507/Dźwignie!$D$5","v":14.920026117171359},{"$f":"V507/Dźwignie!$D$2","v":1.020989266492059},{"$f":"X507/Dźwignie!$D$3","v":1.4920026117171359},1.7345816695770653,1.1085788984065887,1.9229206364560045]
[496,7.863306999206543E-2,{"$f":"NORMINV(B508,Dźwignie!$L$8,Dźwignie!$L$9)","v":279283.68868760922},{"$f":"Dźwignie!$L$7*C508","v":418925.5330314138},null,{"$f":"C508*Dźwignie!$G$5","v":279283.68868760922},139641.84434380458,{"$f":"Dźwignie!$G$6","v":50000},89641.84434380458,{"$f":"I508-Dźwignie!$D$6","v":69641.84434380458},{"$f":"IF(J508>0,J508*(1-Dźwignie!$D$9),J508)","v":56409.893918481714},{"$f":"K508/Dźwignie!$D$5","v":5.6409893918481711},{"$f":"I508/Dźwignie!$D$2","v":0.44820922171902289},{"$f":"K508/Dźwignie!$D$3","v":0.56409893918481713},1.5577752261347315,1.2871836636213272,2.0051428226746451,null,{"$f":"C508*Dźwignie!$G$8","v":139641.84434380461},279283.68868760916,{"$f":"Dźwignie!$G$9","v":150000},129283.68868760916,{"$f":"V508-Dźwignie!$D$6","v":109283.68868760916},{"$f":"IF(W508>0,W508*(1-Dźwignie!$D$9),W508)","v":88519.787836963427},{"$f":"X508/Dźwignie!$D$5","v":8.8519787836963424},{"$f":"V508/Dźwignie!$D$2","v":0.64641844343804578},{"$f":"X508/Dźwignie!$D$3","v":0.88519787836963426},2.1602391726495993,1.1830099280156128,2.5555843881327092]
[497,0.48209947347640991,{"$f":"NORMINV(B509,Dźwignie!$L$8,Dźwignie!$L$9)","v":347755.74836229323},{"$f":"Dźwignie!$L$7*C509","v":521633.62254343985},null,{"$f":"C509*Dźwignie!$G$5","v":347755.74836229323},173877.87418114662,{"$f":"Dźwignie!$G$6","v":50000},123877.87418114662,{"$f":"I509-Dźwignie!$D$6","v":103877.87418114662},{"$f":"IF(J509>0,J509*(1-Dźwignie!$D$9),J509)","v":84141.078086728769},{"$f":"K509/Dźwignie!$D$5","v":8.4141078086728776},{"$f":"I509/Dźwignie!$D$2","v":0.61938937090573309},{"$f":"K509/Dźwignie!$D$3","v":0.84141078086728771},1.4036233292709317,1.1925337821711981,1.6738682375991931,null,{"$f":"C509*Dźwignie!$G$8","v":173877.87418114662},347755.74836229323,{"$f":"Dźwignie!$G$9","v":150000},197755.74836229323,{"$f":"V509-Dźwignie!$D$6","v":177755.74836229323},{"$f":"IF(W509>0,W509*(1-Dźwignie!$D$9),W509)","v":143982.15617345754},{"$f":"X509/Dźwignie!$D$5","v":14.398215617345754},{"$f":"V509/Dźwignie!$D$2","v":0.98877874181146619},{"$f":"X509/Dźwignie!$D$3","v":1.4398215617345753},1.7585114528514054,1.1125139422171426,1.9563685088457119]
[498,9.2195868492126465E-2,{"$f":"NORMINV(B510,Dźwignie!$L$8,Dźwignie!$L$9)","v":283632.31940385181},{"$f":"Dźwignie!$L$7*C510","v":425448.47910577769},null,{"$f":"C510*Dźwignie!$G$5","v":283632.31940385181},141816.15970192588,{"$f":"Dźwignie!$G$6","v":50000},91816.159701925877,{"$f":"I510-Dźwignie!$D$6","v":71816.159701925877},{"$f":"IF(J510>0,J510*(1-Dźwignie!$D$9),J510)","v":58171.089358559962},{"$f":"K510/Dźwignie!$D$5","v":5.8171089358559964},{"$f":"I510/Dźwignie!$D$2","v":0.45908079850962941},{"$f":"K510/Dźwignie!$D$3","v":0.58171089358559958},1.5445664484587589,1.2784888538040786,1.9747109883142751,null,{"$f":"C510*Dźwignie!$G$8","v":141816.15970192591},283632.31940385175,{"$f":"Dźwignie!$G$9","v":150000},133632.31940385175,{"$f":"V510-Dźwignie!$D$6","v":113632.31940385175},{"$f":"IF(W510>0,W510*(1-Dźwignie!$D$9),W510)","v":92042.178717119925},{"$f":"X510/Dźwignie!$D$5","v":9.2042178717119931},{"$f":"V510/Dźwignie!$D$2","v":0.66816159701925881},{"$f":"X510/Dźwignie!$D$3","v":0.92042178717119927},2.122482949253341,1.1760062639302429,2.496053243407065]
[499,0.98791986703872681,{"$f":"NORMINV(B511,Dźwignie!$L$8,Dźwignie!$L$9)","v":462728.55280319165},{"$f":"Dźwignie!$L$7*C511","v":694092.8292047875},null,{"$f":"C511*Dźwignie!$G$5","v":462728.55280319165},231364.27640159585,{"$f":"Dźwignie!$G$6","v":50000},181364.27640159585,{"$f":"I511-Dźwignie!$D$6","v":161364.27640159585},{"$f":"IF(J511>0,J511*(1-Dźwignie!$D$9),J511)","v":130705.06388529265},{"$f":"K511/Dźwignie!$D$5","v":13.070506388529266},{"$f":"I511/Dźwignie!$D$2","v":0.90682138200797924},{"$f":"K511/Dźwignie!$D$3","v":1.3070506388529266},1.275688250145165,1.1239431703596212,1.4338010962586742,null,{"$f":"C511*Dźwignie!$G$8","v":231364.27640159582},462728.55280319171,{"$f":"Dźwignie!$G$9","v":150000},312728.55280319171,{"$f":"V511-Dźwignie!$D$6","v":292728.55280319171},{"$f":"IF(W511>0,W511*(1-Dźwignie!$D$9),W511)","v":237110.1277705853},{"$f":"X511/Dźwignie!$D$5","v":23.711012777058531},{"$f":"V511/Dźwignie!$D$2","v":1.5636427640159585},{"$f":"X511/Dźwignie!$D$3","v":2.3711012777058529},1.479649199458928,1.0683226825961405,1.5807428020671936]
[500,0.56020832061767578,{"$f":"NORMINV(B512,Dźwignie!$L$8,Dźwignie!$L$9)","v":357574.87018394057},{"$f":"Dźwignie!$L$7*C512","v":536362.30527591088},null,{"$f":"C512*Dźwignie!$G$5","v":357574.87018394057},178787.43509197031,{"$f":"Dźwignie!$G$6","v":50000},128787.43509197031,{"$f":"I512-Dźwignie!$D$6","v":108787.43509197031},{"$f":"IF(J512>0,J512*(1-Dźwignie!$D$9),J512)","v":88117.822424495957},{"$f":"K512/Dźwignie!$D$5","v":8.8117822424495955},{"$f":"I512/Dźwignie!$D$2","v":0.64393717545985152},{"$f":"K512/Dźwignie!$D$3","v":0.88117822424495962},1.3882366316581565,1.1838447609605993,1.6434566633620977,null,{"$f":"C512*Dźwignie!$G$8","v":178787.43509197028},357574.87018394063,{"$f":"Dźwignie!$G$9","v":150000},207574.87018394063,{"$f":"V512-Dźwignie!$D$6","v":187574.87018394063},{"$f":"IF(W512>0,W512*(1-Dźwignie!$D$9),W512)","v":151935.64484899191},{"$f":"X512/Dźwignie!$D$5","v":15.193564484899191},{"$f":"V512/Dźwignie!$D$2","v":1.037874350919703},{"$f":"X512/Dźwignie!$D$3","v":1.5193564484899191},1.7226308264920451,1.1066240908517622,1.9063047722399791]
[501,0.75246161222457886,{"$f":"NORMINV(B513,Dźwignie!$L$8,Dźwignie!$L$9)","v":384112.82487280236},{"$f":"Dźwignie!$L$7*C513","v":576169.23730920348},null,{"$f":"C513*Dźwignie!$G$5","v":384112.82487280236},192056.41243640112,{"$f":"Dźwignie!$G$6","v":50000},142056.41243640112,{"$f":"I513-Dźwignie!$D$6","v":122056.41243640112},{"$f":"IF(J513>0,J513*(1-Dźwignie!$D$9),J513)","v":98865.694073484919},{"$f":"K513/Dźwignie!$D$5","v":9.8865694073484924},{"$f":"I513/Dźwignie!$D$2","v":0.71028206218200562},{"$f":"K513/Dźwignie!$D$3","v":0.98865694073484922},1.3519728475642385,1.1638586584741808,1.5735053046596328,null,{"$f":"C513*Dźwignie!$G$8","v":192056.41243640118},384112.8248728023,{"$f":"Dźwignie!$G$9","v":150000},234112.8248728023,{"$f":"V513-Dźwignie!$D$6","v":214112.8248728023},{"$f":"IF(W513>0,W513*(1-Dźwignie!$D$9),W513)","v":173431.38814696987},{"$f":"X513/Dźwignie!$D$5","v":17.343138814696985},{"$f":"V513/Dźwignie!$D$2","v":1.1705641243640115},{"$f":"X513/Dźwignie!$D$3","v":1.7343138814696988},1.640716714607573,1.0934086970823975,1.7939739252003781]
[502,0.38584578037261963,{"$f":"NORMINV(B514,Dźwignie!$L$8,Dźwignie!$L$9)","v":335491.85130362283},{"$f":"Dźwignie!$L$7*C514","v":503237.77695543424},null,{"$f":"C514*Dźwignie!$G$5","v":335491.85130362283},167745.92565181141,{"$f":"Dźwignie!$G$6","v":50000},117745.92565181141,{"$f":"I514-Dźwignie!$D$6","v":97745.925651811413},{"$f":"IF(J514>0,J514*(1-Dźwignie!$D$9),J514)","v":79174.199777967253},{"$f":"K514/Dźwignie!$D$5","v":7.9174199777967251},{"$f":"I514/Dźwignie!$D$2","v":0.58872962825905706},{"$f":"K514/Dźwignie!$D$3","v":0.79174199777967258},1.4246431434736511,1.2046121090636923,1.7161423817229231,null,{"$f":"C514*Dźwignie!$G$8","v":167745.92565181141},335491.85130362283,{"$f":"Dźwignie!$G$9","v":150000},185491.85130362283,{"$f":"V514-Dźwignie!$D$6","v":165491.85130362283},{"$f":"IF(W514>0,W514*(1-Dźwignie!$D$9),W514)","v":134048.39955593451},{"$f":"X514/Dźwignie!$D$5","v":13.404839955593451},{"$f":"V514/Dźwignie!$D$2","v":0.92745925651811412},{"$f":"X514/Dźwignie!$D$3","v":1.3404839955593451},1.8086608600098131,1.120851871813958,2.0272409104186422]
[503,4.2761147022247314E-2,{"$f":"NORMINV(B515,Dźwignie!$L$8,Dźwignie!$L$9)","v":264024.70493884804},{"$f":"Dźwignie!$L$7*C515","v":396037.05740827206},null,{"$f":"C515*Dźwignie!$G$5","v":264024.70493884804},132012.35246942402,{"$f":"Dźwignie!$G$6","v":50000},82012.352469424019,{"$f":"I515-Dźwignie!$D$6","v":62012.352469424019},{"$f":"IF(J515>0,J515*(1-Dźwignie!$D$9),J515)","v":50230.005500233456},{"$f":"K515/Dźwignie!$D$5","v":5.0230005500233457},{"$f":"I515/Dźwignie!$D$2","v":0.41006176234712011},{"$f":"K515/Dźwignie!$D$3","v":0.50230005500233454},1.60966425781581,1.3225163891316856,2.1288073619608996,null,{"$f":"C515*Dźwignie!$G$8","v":132012.35246942402},264024.70493884804,{"$f":"Dźwignie!$G$9","v":150000},114024.70493884804,{"$f":"V515-Dźwignie!$D$6","v":94024.704938848037},{"$f":"IF(W515>0,W515*(1-Dźwignie!$D$9),W515)","v":76160.011000466911},{"$f":"X515/Dźwignie!$D$5","v":7.6160011000466907},{"$f":"V515/Dźwignie!$D$2","v":0.57012352469424021},{"$f":"X515/Dźwignie!$D$3","v":0.7616001100046691},2.315504390740986,1.2127100533100066,2.8080354531350555]
[504,0.83831143379211426,{"$f":"NORMINV(B516,Dźwignie!$L$8,Dźwignie!$L$9)","v":399377.08686947776},{"$f":"Dźwignie!$L$7*C516","v":599065.63030421664},null,{"$f":"C516*Dźwignie!$G$5","v":399377.08686947776},199688.54343473888,{"$f":"Dźwignie!$G$6","v":50000},149688.54343473888,{"$f":"I516-Dźwignie!$D$6","v":129688.54343473888},{"$f":"IF(J516>0,J516*(1-Dźwignie!$D$9),J516)","v":105047.7201821385},{"$f":"K516/Dźwignie!$D$5","v":10.504772018213849},{"$f":"I516/Dźwignie!$D$2","v":0.74844271717369437},{"$f":"K516/Dźwignie!$D$3","v":1.050477201821385},1.334026899138069,1.1542156266876749,1.539754693406862,null,{"$f":"C516*Dźwignie!$G$8","v":199688.54343473888},399377.08686947776,{"$f":"Dźwignie!$G$9","v":150000},249377.08686947776,{"$f":"V516-Dźwignie!$D$6","v":229377.08686947776},{"$f":"IF(W516>0,W516*(1-Dźwignie!$D$9),W516)","v":185795.44036427699},{"$f":"X516/Dźwignie!$D$5","v":18.579544036427698},{"$f":"V516/Dźwignie!$D$2","v":1.2468854343473887},{"$f":"X516/Dźwignie!$D$3","v":1.85795440364277},1.6014987258172158,1.0871926672055983,1.7411376712475859]
[505,0.84027141332626343,{"$f":"NORMINV(B517,Dźwignie!$L$8,Dźwignie!$L$9)","v":399778.69994168647},{"$f":"Dźwignie!$L$7*C517","v":599668.04991252976},null,{"$f":"C517*Dźwignie!$G$5","v":399778.69994168647},199889.34997084329,{"$f":"Dźwignie!$G$6","v":50000},149889.34997084329,{"$f":"I517-Dźwignie!$D$6","v":129889.34997084329},{"$f":"IF(J517>0,J517*(1-Dźwignie!$D$9),J517)","v":105210.37347638307},{"$f":"K517/Dźwignie!$D$5","v":10.521037347638307},{"$f":"I517/Dźwignie!$D$2","v":0.74944674985421644},{"$f":"K517/Dźwignie!$D$3","v":1.0521037347638307},1.3335794038050475,1.1539772121770528,1.5389202426196849,null,{"$f":"C517*Dźwignie!$G$8","v":199889.34997084324},399778.69994168653,{"$f":"Dźwignie!$G$9","v":150000},249778.69994168653,{"$f":"V517-Dźwignie!$D$6","v":229778.69994168653},{"$f":"IF(W517>0,W517*(1-Dźwignie!$D$9),W517)","v":186120.74695276609},{"$f":"X517/Dźwignie!$D$5","v":18.612074695276608},{"$f":"V517/Dźwignie!$D$2","v":1.2488934997084327},{"$f":"X517/Dźwignie!$D$3","v":1.8612074695276608},1.6005315907041677,1.0870402696380284,1.739842291923241]
[506,0.60605895519256592,{"$f":"NORMINV(B518,Dźwignie!$L$8,Dźwignie!$L$9)","v":363453.0923603772},{"$f":"Dźwignie!$L$7*C518","v":545179.63854056573},null,{"$f":"C518*Dźwignie!$G$5","v":363453.0923603772},181726.54618018854,{"$f":"Dźwignie!$G$6","v":50000},131726.54618018854,{"$f":"I518-Dźwignie!$D$6","v":111726.54618018854},{"$f":"IF(J518>0,J518*(1-Dźwignie!$D$9),J518)","v":90498.50240595272},{"$f":"K518/Dźwignie!$D$5","v":9.0498502405952728},{"$f":"I518/Dźwignie!$D$2","v":0.65863273090094265},{"$f":"K518/Dźwignie!$D$3","v":0.90498502405952719},1.3795742122594263,1.1790084870944164,1.6265297048304574,null,{"$f":"C518*Dźwignie!$G$8","v":181726.5461801886},363453.09236037714,{"$f":"Dźwignie!$G$9","v":150000},213453.09236037714,{"$f":"V518-Dźwignie!$D$6","v":193453.09236037714},{"$f":"IF(W518>0,W518*(1-Dźwignie!$D$9),W518)","v":156697.0048119055},{"$f":"X518/Dźwignie!$D$5","v":15.669700481190549},{"$f":"V518/Dźwignie!$D$2","v":1.0672654618018858},{"$f":"X518/Dźwignie!$D$3","v":1.5669700481190549},1.7027305078661124,1.1033842351961098,1.8787659991669341]
[507,0.18119388818740845,{"$f":"NORMINV(B519,Dźwignie!$L$8,Dźwignie!$L$9)","v":304458.76788796892},{"$f":"Dźwignie!$L$7*C519","v":456688.15183195338},null,{"$f":"C519*Dźwignie!$G$5","v":304458.76788796892},152229.38394398446,{"$f":"Dźwignie!$G$6","v":50000},102229.38394398446,{"$f":"I519-Dźwignie!$D$6","v":82229.38394398446},{"$f":"IF(J519>0,J519*(1-Dźwignie!$D$9),J519)","v":66605.800994627411},{"$f":"K519/Dźwignie!$D$5","v":6.6605800994627407},{"$f":"I519/Dźwignie!$D$2","v":0.51114691971992232},{"$f":"K519/Dźwignie!$D$3","v":0.66605800994627407},1.4890961685477533,1.2432220581103248,1.8512772033861369,null,{"$f":"C519*Dźwignie!$G$8","v":152229.38394398446},304458.76788796892,{"$f":"Dźwignie!$G$9","v":150000},154458.76788796892,{"$f":"V519-Dźwignie!$D$6","v":134458.76788796892},{"$f":"IF(W519>0,W519*(1-Dźwignie!$D$9),W519)","v":108911.60198925484},{"$f":"X519/Dźwignie!$D$5","v":10.891160198925483},{"$f":"V519/Dźwignie!$D$2","v":0.77229383943984464},{"$f":"X519/Dźwignie!$D$3","v":1.0891160198925482},1.9711329570413061,1.148744483637274,2.2643281109168281]
[508,0.27579641342163086,{"$f":"NORMINV(B520,Dźwignie!$L$8,Dźwignie!$L$9)","v":320231.24955781526},{"$f":"Dźwignie!$L$7*C520","v":480346.87433672289},null,{"$f":"C520*Dźwignie!$G$5","v":320231.24955781526},160115.62477890763,{"$f":"Dźwignie!$G$6","v":50000},110115.62477890763,{"$f":"I520-Dźwignie!$D$6","v":90115.62477890763},{"$f":"IF(J520>0,J520*(1-Dźwignie!$D$9),J520)","v":72993.656070915182},{"$f":"K520/Dźwignie!$D$5","v":7.2993656070915183},{"$f":"I520/Dźwignie!$D$2","v":0.5505781238945382},{"$f":"K520/Dźwignie!$D$3","v":0.7299365607091518},1.4540681678952556,1.2219370952492268,1.7767798333722937,null,{"$f":"C520*Dźwignie!$G$8","v":160115.62477890763},320231.24955781526,{"$f":"Dźwignie!$G$9","v":150000},170231.24955781526,{"$f":"V520-Dźwignie!$D$6","v":150231.24955781526},{"$f":"IF(W520>0,W520*(1-Dźwignie!$D$9),W520)","v":121687.31214183036},{"$f":"X520/Dźwignie!$D$5","v":12.168731214183037},{"$f":"V520/Dźwignie!$D$2","v":0.85115624778907628},{"$f":"X520/Dźwignie!$D$3","v":1.2168731214183037},1.8811543144377603,1.1331280945799707,2.1315888039297501]
[509,0.21946686506271362,{"$f":"NORMINV(B521,Dźwignie!$L$8,Dźwignie!$L$9)","v":311300.24848316523},{"$f":"Dźwignie!$L$7*C521","v":466950.37272474787},null,{"$f":"C521*Dźwignie!$G$5","v":311300.24848316523},155650.12424158264,{"$f":"Dźwignie!$G$6","v":50000},105650.12424158264,{"$f":"I521-Dźwignie!$D$6","v":85650.124241582642},{"$f":"IF(J521>0,J521*(1-Dźwignie!$D$9),J521)","v":69376.600635681942},{"$f":"K521/Dźwignie!$D$5","v":6.9376600635681944},{"$f":"I521/Dźwignie!$D$2","v":0.52825062120791322},{"$f":"K521/Dźwignie!$D$3","v":0.6937660063568194},1.4732602101410552,1.2335081259612477,1.817278440864367,null,{"$f":"C521*Dźwignie!$G$8","v":155650.12424158261},311300.24848316528,{"$f":"Dźwignie!$G$9","v":150000},161300.24848316528,{"$f":"V521-Dźwignie!$D$6","v":141300.24848316528},{"$f":"IF(W521>0,W521*(1-Dźwignie!$D$9),W521)","v":114453.20127136388},{"$f":"X521/Dźwignie!$D$5","v":11.445320127136389},{"$f":"V521/Dźwignie!$D$2","v":0.80650124241582644},{"$f":"X521/Dźwignie!$D$3","v":1.1445320127136389},1.9299427707679899,1.1415425677923194,2.2031118262347151]
[510,0.64352142810821533,{"$f":"NORMINV(B522,Dźwignie!$L$8,Dźwignie!$L$9)","v":368394.37348452362},{"$f":"Dźwignie!$L$7*C522","v":552591.56022678548},null,{"$f":"C522*Dźwignie!$G$5","v":368394.37348452362},184197.18674226187,{"$f":"Dźwignie!$G$6","v":50000},134197.18674226187,{"$f":"I522-Dźwignie!$D$6","v":114197.18674226187},{"$f":"IF(J522>0,J522*(1-Dźwignie!$D$9),J522)","v":92499.721261232116},{"$f":"K522/Dźwignie!$D$5","v":9.2499721261232111},{"$f":"I522/Dźwignie!$D$2","v":0.67098593371130932},{"$f":"K522/Dźwignie!$D$3","v":0.92499721261232115},1.3725860520163484,1.1751356628875556,1.6129748201064444,null,{"$f":"C522*Dźwignie!$G$8","v":184197.18674226181},368394.37348452368,{"$f":"Dźwignie!$G$9","v":150000},218394.37348452368,{"$f":"V522-Dźwignie!$D$6","v":198394.37348452368},{"$f":"IF(W522>0,W522*(1-Dźwignie!$D$9),W522)","v":160699.44252246417},{"$f":"X522/Dźwignie!$D$5","v":16.069944252246419},{"$f":"V522/Dźwignie!$D$2","v":1.0919718674226184},{"$f":"X522/Dźwignie!$D$3","v":1.6069944252246418},1.6868308812480906,1.1008093105098071,1.8568791393333608]
[511,0.79365998506546021,{"$f":"NORMINV(B523,Dźwignie!$L$8,Dźwignie!$L$9)","v":390959.3237833592},{"$f":"Dźwignie!$L$7*C523","v":586438.98567503877},null,{"$f":"C523*Dźwignie!$G$5","v":390959.3237833592},195479.66189167957,{"$f":"Dźwignie!$G$6","v":50000},145479.66189167957,{"$f":"I523-Dźwignie!$D$6","v":125479.66189167957},{"$f":"IF(J523>0,J523*(1-Dźwignie!$D$9),J523)","v":101638.52613226046},{"$f":"K523/Dźwignie!$D$5","v":10.163852613226046},{"$f":"I523/Dźwignie!$D$2","v":0.7273983094583979},{"$f":"K523/Dźwignie!$D$3","v":1.0163852613226045},1.3436906530428199,1.159388379746074,1.557859329111259,null,{"$f":"C523*Dźwignie!$G$8","v":195479.6618916796},390959.32378335914,{"$f":"Dźwignie!$G$9","v":150000},240959.32378335914,{"$f":"V523-Dźwignie!$D$6","v":220959.32378335914},{"$f":"IF(W523>0,W523*(1-Dźwignie!$D$9),W523)","v":178977.05226452093},{"$f":"X523/Dźwignie!$D$5","v":17.897705226452093},{"$f":"V523/Dźwignie!$D$2","v":1.2047966189167958},{"$f":"X523/Dźwignie!$D$3","v":1.7897705226452092},1.6225117071413326,1.0905143972091855,1.7693723762780769]
[512,0.51383757591247559,{"$f":"NORMINV(B524,Dźwignie!$L$8,Dźwignie!$L$9)","v":351734.63084941125},{"$f":"Dźwignie!$L$7*C524","v":527601.94627411687},null,{"$f":"C524*Dźwignie!$G$5","v":351734.63084941125},175867.31542470562,{"$f":"Dźwignie!$G$6","v":50000},125867.31542470562,{"$f":"I524-Dźwignie!$D$6","v":105867.31542470562},{"$f":"IF(J524>0,J524*(1-Dźwignie!$D$9),J524)","v":85752.525494011556},{"$f":"K524/Dźwignie!$D$5","v":8.5752525494011564},{"$f":"I524/Dźwignie!$D$2","v":0.62933657712352808},{"$f":"K524/Dźwignie!$D$3","v":0.85752525494011556},1.3972437151876034,1.1889157188861021,1.6612050161013576,null,{"$f":"C524*Dźwignie!$G$8","v":175867.31542470562},351734.63084941125,{"$f":"Dźwignie!$G$9","v":150000},201734.63084941125,{"$f":"V524-Dźwignie!$D$6","v":181734.63084941125},{"$f":"IF(W524>0,W524*(1-Dźwignie!$D$9),W524)","v":147205.05098802311},{"$f":"X524/Dźwignie!$D$5","v":14.720505098802311},{"$f":"V524/Dźwignie!$D$2","v":1.0086731542470562},{"$f":"X524/Dźwignie!$D$3","v":1.472050509880231},1.7435510669061596,1.1100505715752789,1.9354298583898697]
[513,0.52902501821517944,{"$f":"NORMINV(B525,Dźwignie!$L$8,Dźwignie!$L$9)","v":353640.96179431106},{"$f":"Dźwignie!$L$7*C525","v":530461.44269146654},null,{"$f":"C525*Dźwignie!$G$5","v":353640.96179431106},{"$f":"$D525-F525","v":176820.48089715547},{"$f":"Dźwignie!$G$6","v":50000},{"$f":"G525-H525","v":126820.48089715547},{"$f":"I525-Dźwignie!$D$6","v":106820.48089715547},{"$f":"IF(J525>0,J525*(1-Dźwignie!$D$9),J525)","v":86524.589526695941},{"$f":"K525/Dźwignie!$D$5","v":8.6524589526695941},{"$f":"I525/Dźwignie!$D$2","v":0.63410240448577737},{"$f":"K525/Dźwignie!$D$3","v":0.86524589526695939},{"$f":"IF(I525<>0,G525/I525,\"N   \")","v":1.3942580854944659},{"$f":"IF(J525<>0,I525/J525,\"N   \")","v":1.1872300127468587},{"$f":"IF(ISTEXT(O525),O525,IF(ISTEXT(P525),P525,O525*P525))","v":1.6553050446140056},null,{"$f":"C525*Dźwignie!$G$8","v":176820.48089715553},{"$f":"$D525-S525","v":353640.96179431101},{"$f":"Dźwignie!$G$9","v":150000},{"$f":"T525-U525","v":203640.96179431101},{"$f":"V525-Dźwignie!$D$6","v":183640.96179431101},{"$f":"IF(W525>0,W525*(1-Dźwignie!$D$9),W525)","v":148749.17905339191},{"$f":"X525/Dźwignie!$D$5","v":14.874917905339192},{"$f":"V525/Dźwignie!$D$2","v":1.018204808971555},{"$f":"X525/Dźwignie!$D$3","v":1.4874917905339191},{"$f":"IF(V525<>0,T525/V525,\"N   \")","v":1.7365905104666937},{"$f":"IF(W525<>0,V525/W525,\"N   \")","v":1.108908164085969},{"$f":"IF(ISTEXT(AB525),AB525,IF(ISTEXT(AC525),AC525,AB525*AC525))","v":1.9257193947307372}]
[514,0.89380204677581787,{"$f":"NORMINV(B526,Dźwignie!$L$8,Dźwignie!$L$9)","v":412350.21697045694},{"$f":"Dźwignie!$L$7*C526","v":618525.32545568538},null,{"$f":"C526*Dźwignie!$G$5","v":412350.21697045694},206175.10848522844,{"$f":"Dźwignie!$G$6","v":50000},156175.10848522844,{"$f":"I526-Dźwignie!$D$6","v":136175.10848522844},{"$f":"IF(J526>0,J526*(1-Dźwignie!$D$9),J526)","v":110301.83787303504},{"$f":"K526/Dźwignie!$D$5","v":11.030183787303503},{"$f":"I526/Dźwignie!$D$2","v":0.78087554242614221},{"$f":"K526/Dźwignie!$D$3","v":1.1030183787303505},1.3201534513723687,1.1468697196020188,1.5140440186070658,null,{"$f":"C526*Dźwignie!$G$8","v":206175.10848522847},412350.21697045688,{"$f":"Dźwignie!$G$9","v":150000},262350.21697045688,{"$f":"V526-Dźwignie!$D$6","v":242350.21697045688},{"$f":"IF(W526>0,W526*(1-Dźwignie!$D$9),W526)","v":196303.67574607008},{"$f":"X526/Dźwignie!$D$5","v":19.630367574607007},{"$f":"V526/Dźwignie!$D$2","v":1.3117510848522844},{"$f":"X526/Dźwignie!$D$3","v":1.9630367574607008},1.5717548158799175,1.0825251994820291,1.7014641955972476]
[515,0.75595289468765259,{"$f":"NORMINV(B527,Dźwignie!$L$8,Dźwignie!$L$9)","v":384667.15903359407},{"$f":"Dźwignie!$L$7*C527","v":577000.73855039105},null,{"$f":"C527*Dźwignie!$G$5","v":384667.15903359407},192333.57951679698,{"$f":"Dźwignie!$G$6","v":50000},142333.57951679698,{"$f":"I527-Dźwignie!$D$6","v":122333.57951679698},{"$f":"IF(J527>0,J527*(1-Dźwignie!$D$9),J527)","v":99090.199408605564},{"$f":"K527/Dźwignie!$D$5","v":9.9090199408605564},{"$f":"I527/Dźwignie!$D$2","v":0.71166789758398485},{"$f":"K527/Dźwignie!$D$3","v":0.99090199408605562},1.3512874486101112,1.1634874094177381,1.5722059329620832,null,{"$f":"C527*Dźwignie!$G$8","v":192333.57951679704},384667.15903359401,{"$f":"Dźwignie!$G$9","v":150000},234667.15903359401,{"$f":"V527-Dźwignie!$D$6","v":214667.15903359401},{"$f":"IF(W527>0,W527*(1-Dźwignie!$D$9),W527)","v":173880.39881721116},{"$f":"X527/Dźwignie!$D$5","v":17.388039881721117},{"$f":"V527/Dźwignie!$D$2","v":1.1733357951679702},{"$f":"X527/Dźwignie!$D$3","v":1.7388039881721116},1.6392032043074531,1.093167488171165,1.7919236494549036]
[516,0.73755455017089844,{"$f":"NORMINV(B528,Dźwignie!$L$8,Dźwignie!$L$9)","v":381791.21864565619},{"$f":"Dźwignie!$L$7*C528","v":572686.82796848426},null,{"$f":"C528*Dźwignie!$G$5","v":381791.21864565619},190895.60932282807,{"$f":"Dźwignie!$G$6","v":50000},140895.60932282807,{"$f":"I528-Dźwignie!$D$6","v":120895.60932282807},{"$f":"IF(J528>0,J528*(1-Dźwignie!$D$9),J528)","v":97925.443551490738},{"$f":"K528/Dźwignie!$D$5","v":9.7925443551490741},{"$f":"I528/Dźwignie!$D$2","v":0.70447804661414037},{"$f":"K528/Dźwignie!$D$3","v":0.97925443551490743},1.3548726623938803,1.16543197980494,1.57901192931729,null,{"$f":"C528*Dźwignie!$G$8","v":190895.6093228281},381791.21864565613,{"$f":"Dźwignie!$G$9","v":150000},231791.21864565613,{"$f":"V528-Dźwignie!$D$6","v":211791.21864565613},{"$f":"IF(W528>0,W528*(1-Dźwignie!$D$9),W528)","v":171550.88710298148},{"$f":"X528/Dźwignie!$D$5","v":17.155088710298148},{"$f":"V528/Dźwignie!$D$2","v":1.1589560932282807},{"$f":"X528/Dźwignie!$D$3","v":1.7155088710298148},1.6471340928118074,1.0944326215595446,1.8026772832561286]
[517,0.77608698606491089,{"$f":"NORMINV(B529,Dźwignie!$L$8,Dźwignie!$L$9)","v":387952.21743644285},{"$f":"Dźwignie!$L$7*C529","v":581928.32615466428},null,{"$f":"C529*Dźwignie!$G$5","v":387952.21743644285},193976.10871822143,{"$f":"Dźwignie!$G$6","v":50000},143976.10871822143,{"$f":"I529-Dźwignie!$D$6","v":123976.10871822143},{"$f":"IF(J529>0,J529*(1-Dźwignie!$D$9),J529)","v":100420.64806175936},{"$f":"K529/Dźwignie!$D$5","v":10.042064806175937},{"$f":"I529/Dźwignie!$D$2","v":0.71988054359110709},{"$f":"K529/Dźwignie!$D$3","v":1.0042064806175937},1.3472798400035664,1.1613214046381866,1.564624916233653,null,{"$f":"C529*Dźwignie!$G$8","v":193976.10871822143},387952.21743644285,{"$f":"Dźwignie!$G$9","v":150000},237952.21743644285,{"$f":"V529-Dźwignie!$D$6","v":217952.21743644285},{"$f":"IF(W529>0,W529*(1-Dźwignie!$D$9),W529)","v":176541.29612351872},{"$f":"X529/Dźwignie!$D$5","v":17.654129612351873},{"$f":"V529/Dźwignie!$D$2","v":1.1897610871822142},{"$f":"X529/Dźwignie!$D$3","v":1.7654129612351872},1.6303786601192951,1.0917632324884798,1.7799874761520782]
[518,0.64797747135162354,{"$f":"NORMINV(B530,Dźwignie!$L$8,Dźwignie!$L$9)","v":368993.28852467221},{"$f":"Dźwignie!$L$7*C530","v":553489.93278700835},null,{"$f":"C530*Dźwignie!$G$5","v":368993.28852467221},184496.64426233614,{"$f":"Dźwignie!$G$6","v":50000},134496.64426233614,{"$f":"I530-Dźwignie!$D$6","v":114496.64426233614},{"$f":"IF(J530>0,J530*(1-Dźwignie!$D$9),J530)","v":92742.281852492277},{"$f":"K530/Dźwignie!$D$5","v":9.2742281852492283},{"$f":"I530/Dźwignie!$D$2","v":0.6724832213116807},{"$f":"K530/Dźwignie!$D$3","v":0.92742281852492281},1.3717564871170678,1.1746776084910904,1.6113716297188163,null,{"$f":"C530*Dźwignie!$G$8","v":184496.64426233611},368993.28852467227,{"$f":"Dźwignie!$G$9","v":150000},218993.28852467227,{"$f":"V530-Dźwignie!$D$6","v":198993.28852467227},{"$f":"IF(W530>0,W530*(1-Dźwignie!$D$9),W530)","v":161184.56370498455},{"$f":"X530/Dźwignie!$D$5","v":16.118456370498457},{"$f":"V530/Dźwignie!$D$2","v":1.0949664426233614},{"$f":"X530/Dźwignie!$D$3","v":1.6118456370498455},1.6849524979077186,1.100505902225543,1.8543001689171164]
[519,0.2573426365852356,{"$f":"NORMINV(B531,Dźwignie!$L$8,Dźwignie!$L$9)","v":317422.01659678284},{"$f":"Dźwignie!$L$7*C531","v":476133.02489517425},null,{"$f":"C531*Dźwignie!$G$5","v":317422.01659678284},158711.00829839142,{"$f":"Dźwignie!$G$6","v":50000},108711.00829839142,{"$f":"I531-Dźwignie!$D$6","v":88711.008298391418},{"$f":"IF(J531>0,J531*(1-Dźwignie!$D$9),J531)","v":71855.916721697053},{"$f":"K531/Dźwignie!$D$5","v":7.1855916721697053},{"$f":"I531/Dźwignie!$D$2","v":0.5435550414919571},{"$f":"K531/Dźwignie!$D$3","v":0.71855916721697055},1.4599350220610532,1.2254511630927167,1.7890790708245088,null,{"$f":"C531*Dźwignie!$G$8","v":158711.00829839142},317422.01659678284,{"$f":"Dźwignie!$G$9","v":150000},167422.01659678284,{"$f":"V531-Dźwignie!$D$6","v":147422.01659678284},{"$f":"IF(W531>0,W531*(1-Dźwignie!$D$9),W531)","v":119411.83344339411},{"$f":"X531/Dźwignie!$D$5","v":11.941183344339411},{"$f":"V531/Dźwignie!$D$2","v":0.83711008298391421},{"$f":"X531/Dźwignie!$D$3","v":1.194118334433941},1.8959395129092143,1.1356649465371407,2.1531520455656952]
[520,0.19163727760314941,{"$f":"NORMINV(B532,Dźwignie!$L$8,Dźwignie!$L$9)","v":306406.06503957452},{"$f":"Dźwignie!$L$7*C532","v":459609.09755936178},null,{"$f":"C532*Dźwignie!$G$5","v":306406.06503957452},153203.03251978726,{"$f":"Dźwignie!$G$6","v":50000},103203.03251978726,{"$f":"I532-Dźwignie!$D$6","v":83203.032519787259},{"$f":"IF(J532>0,J532*(1-Dźwignie!$D$9),J532)","v":67394.45634102769},{"$f":"K532/Dźwignie!$D$5","v":6.7394456341027693},{"$f":"I532/Dźwignie!$D$2","v":0.51601516259893632},{"$f":"K532/Dźwignie!$D$3","v":0.67394456341027686},1.4844818875880748,1.2403758540320464,1.8413154891121626,null,{"$f":"C532*Dźwignie!$G$8","v":153203.03251978726},306406.06503957452,{"$f":"Dźwignie!$G$9","v":150000},156406.06503957452,{"$f":"V532-Dźwignie!$D$6","v":136406.06503957452},{"$f":"IF(W532>0,W532*(1-Dźwignie!$D$9),W532)","v":110488.91268205536},{"$f":"X532/Dźwignie!$D$5","v":11.048891268205537},{"$f":"V532/Dźwignie!$D$2","v":0.78203032519787263},{"$f":"X532/Dźwignie!$D$3","v":1.1048891268205536},1.9590420931697654,1.146621046462982,2.2462788949353469]
[521,0.78908294439315796,{"$f":"NORMINV(B533,Dźwignie!$L$8,Dźwignie!$L$9)","v":390162.16601397377},{"$f":"Dźwignie!$L$7*C533","v":585243.24902096065},null,{"$f":"C533*Dźwignie!$G$5","v":390162.16601397377},195081.08300698688,{"$f":"Dźwignie!$G$6","v":50000},145081.08300698688,{"$f":"I533-Dźwignie!$D$6","v":125081.08300698688},{"$f":"IF(J533>0,J533*(1-Dźwignie!$D$9),J533)","v":101315.67723565939},{"$f":"K533/Dźwignie!$D$5","v":10.131567723565938},{"$f":"I533/Dźwignie!$D$2","v":0.72540541503493439},{"$f":"K533/Dźwignie!$D$3","v":1.013156772356594},1.3446348687484782,1.1598962810298246,1.5596369836043862,null,{"$f":"C533*Dźwignie!$G$8","v":195081.08300698688},390162.16601397377,{"$f":"Dźwignie!$G$9","v":150000},240162.16601397377,{"$f":"V533-Dźwignie!$D$6","v":220162.16601397377},{"$f":"IF(W533>0,W533*(1-Dźwignie!$D$9),W533)","v":178331.35447131877},{"$f":"X533/Dźwignie!$D$5","v":17.833135447131877},{"$f":"V533/Dźwignie!$D$2","v":1.2008108300698688},{"$f":"X533/Dźwignie!$D$3","v":1.7833135447131878},1.6245779778288321,1.090842129517978,1.7721581009028136]
[522,0.73325717449188232,{"$f":"NORMINV(B534,Dźwignie!$L$8,Dźwignie!$L$9)","v":381134.69812099397},{"$f":"Dźwignie!$L$7*C534","v":571702.04718149093},null,{"$f":"C534*Dźwignie!$G$5","v":381134.69812099397},190567.34906049696,{"$f":"Dźwignie!$G$6","v":50000},140567.34906049696,{"$f":"I534-Dźwignie!$D$6","v":120567.34906049696},{"$f":"IF(J534>0,J534*(1-Dźwignie!$D$9),J534)","v":97659.552739002538},{"$f":"K534/Dźwignie!$D$5","v":9.7659552739002535},{"$f":"I534/Dźwignie!$D$2","v":0.70283674530248474},{"$f":"K534/Dźwignie!$D$3","v":0.97659552739002542},1.3557013796886868,1.1658823898497148,1.5805883644740018,null,{"$f":"C534*Dźwignie!$G$8","v":190567.34906049698},381134.69812099391,{"$f":"Dźwignie!$G$9","v":150000},231134.69812099391,{"$f":"V534-Dźwignie!$D$6","v":211134.69812099391},{"$f":"IF(W534>0,W534*(1-Dźwignie!$D$9),W534)","v":171019.10547800508},{"$f":"X534/Dźwignie!$D$5","v":17.101910547800507},{"$f":"V534/Dźwignie!$D$2","v":1.1556734906049695},{"$f":"X534/Dźwignie!$D$3","v":1.7101910547800507},1.6489722279667345,1.0947262585353863,1.8051731975507834]
[523,0.87870079278945923,{"$f":"NORMINV(B535,Dźwignie!$L$8,Dźwignie!$L$9)","v":408425.83407760761},{"$f":"Dźwignie!$L$7*C535","v":612638.75111641141},null,{"$f":"C535*Dźwignie!$G$5","v":408425.83407760761},204212.9170388038,{"$f":"Dźwignie!$G$6","v":50000},154212.9170388038,{"$f":"I535-Dźwignie!$D$6","v":134212.9170388038},{"$f":"IF(J535>0,J535*(1-Dźwignie!$D$9),J535)","v":108712.46280143109},{"$f":"K535/Dźwignie!$D$5","v":10.871246280143108},{"$f":"I535/Dźwignie!$D$2","v":0.77106458519401899},{"$f":"K535/Dźwignie!$D$3","v":1.087124628014311},1.3242270554250573,1.1490169533698278,1.5215593367943974,null,{"$f":"C535*Dźwignie!$G$8","v":204212.9170388038},408425.83407760761,{"$f":"Dźwignie!$G$9","v":150000},258425.83407760761,{"$f":"V535-Dźwignie!$D$6","v":238425.83407760761},{"$f":"IF(W535>0,W535*(1-Dźwignie!$D$9),W535)","v":193124.92560286217},{"$f":"X535/Dźwignie!$D$5","v":19.312492560286216},{"$f":"V535/Dźwignie!$D$2","v":1.292129170388038},{"$f":"X535/Dźwignie!$D$3","v":1.9312492560286219},1.5804373256079098,1.0838835274599061,1.7130099834092016]
[524,0.94597101211547852,{"$f":"NORMINV(B536,Dźwignie!$L$8,Dźwignie!$L$9)","v":430349.17771638761},{"$f":"Dźwignie!$L$7*C536","v":645523.76657458139},null,{"$f":"C536*Dźwignie!$G$5","v":430349.17771638761},215174.58885819378,{"$f":"Dźwignie!$G$6","v":50000},165174.58885819378,{"$f":"I536-Dźwignie!$D$6","v":145174.58885819378},{"$f":"IF(J536>0,J536*(1-Dźwignie!$D$9),J536)","v":117591.41697513696},{"$f":"K536/Dźwignie!$D$5","v":11.759141697513696},{"$f":"I536/Dźwignie!$D$2","v":0.82587294429096891},{"$f":"K536/Dźwignie!$D$3","v":1.1759141697513695},1.3027100012516222,1.13776515681774,1.4821780488620901,null,{"$f":"C536*Dźwignie!$G$8","v":215174.58885819381},430349.17771638755,{"$f":"Dźwignie!$G$9","v":150000},280349.17771638755,{"$f":"V536-Dźwignie!$D$6","v":260349.17771638755},{"$f":"IF(W536>0,W536*(1-Dźwignie!$D$9),W536)","v":210882.83395027393},{"$f":"X536/Dźwignie!$D$5","v":21.088283395027393},{"$f":"V536/Dźwignie!$D$2","v":1.4017458885819378},{"$f":"X536/Dźwignie!$D$3","v":2.1088283395027392},1.5350470481912595,1.0768199084607331,1.6529692219162304]
[525,0.92085713148117065,{"$f":"NORMINV(B537,Dźwignie!$L$8,Dźwignie!$L$9)","v":420543.02739294089},{"$f":"Dźwignie!$L$7*C537","v":630814.54108941136},null,{"$f":"C537*Dźwignie!$G$5","v":420543.02739294089},210271.51369647047,{"$f":"Dźwignie!$G$6","v":50000},160271.51369647047,{"$f":"I537-Dźwignie!$D$6","v":140271.51369647047},{"$f":"IF(J537>0,J537*(1-Dźwignie!$D$9),J537)","v":113619.92609414109},{"$f":"K537/Dźwignie!$D$5","v":11.361992609414109},{"$f":"I537/Dźwignie!$D$2","v":0.8013575684823524},{"$f":"K537/Dźwignie!$D$3","v":1.1361992609414109},1.3119705981856034,1.1425806243402878,1.4990321851910076,null,{"$f":"C537*Dźwignie!$G$8","v":210271.51369647044},420543.02739294094,{"$f":"Dźwignie!$G$9","v":150000},270543.02739294094,{"$f":"V537-Dźwignie!$D$6","v":250543.02739294094},{"$f":"IF(W537>0,W537*(1-Dźwignie!$D$9),W537)","v":202939.85218828218},{"$f":"X537/Dźwignie!$D$5","v":20.293985218828219},{"$f":"V537/Dźwignie!$D$2","v":1.3527151369647048},{"$f":"X537/Dźwignie!$D$3","v":2.0293985218828219},1.554440457939201,1.0798266078609837,1.6785261668183615]
[526,0.40360844135284424,{"$f":"NORMINV(B538,Dźwignie!$L$8,Dźwignie!$L$9)","v":337799.10022298101},{"$f":"Dźwignie!$L$7*C538","v":506698.65033447149},null,{"$f":"C538*Dźwignie!$G$5","v":337799.10022298101},168899.55011149048,{"$f":"Dźwignie!$G$6","v":50000},118899.55011149048,{"$f":"I538-Dźwignie!$D$6","v":98899.550111490476},{"$f":"IF(J538>0,J538*(1-Dźwignie!$D$9),J538)","v":80108.635590307298},{"$f":"K538/Dźwignie!$D$5","v":8.0108635590307298},{"$f":"I538/Dźwignie!$D$2","v":0.59449775055745235},{"$f":"K538/Dźwignie!$D$3","v":0.80108635590307298},1.4205230377500646,1.2022253890685428,1.7077888617398997,null,{"$f":"C538*Dźwignie!$G$8","v":168899.55011149051},337799.10022298095,{"$f":"Dźwignie!$G$9","v":150000},187799.10022298095,{"$f":"V538-Dźwignie!$D$6","v":167799.10022298095},{"$f":"IF(W538>0,W538*(1-Dźwignie!$D$9),W538)","v":135917.27118061457},{"$f":"X538/Dźwignie!$D$5","v":13.591727118061456},{"$f":"V538/Dźwignie!$D$2","v":0.93899550111490482},{"$f":"X538/Dźwignie!$D$3","v":1.3591727118061456},1.7987258715398495,1.1191901504443282,2.0131162787767898]
[527,0.92062550783157349,{"$f":"NORMINV(B539,Dźwignie!$L$8,Dźwignie!$L$9)","v":420464.57615761744},{"$f":"Dźwignie!$L$7*C539","v":630696.86423642619},null,{"$f":"C539*Dźwignie!$G$5","v":420464.57615761744},210232.28807880875,{"$f":"Dźwignie!$G$6","v":50000},160232.28807880875,{"$f":"I539-Dźwignie!$D$6","v":140232.28807880875},{"$f":"IF(J539>0,J539*(1-Dźwignie!$D$9),J539)","v":113588.15334383509},{"$f":"K539/Dźwignie!$D$5","v":11.358815334383509},{"$f":"I539/Dźwignie!$D$2","v":0.8011614403940438},{"$f":"K539/Dźwignie!$D$3","v":1.135881533438351},1.3120469700551738,1.1426205068319235,1.4991717739117323,null,{"$f":"C539*Dźwignie!$G$8","v":210232.28807880872},420464.5761576175,{"$f":"Dźwignie!$G$9","v":150000},270464.5761576175,{"$f":"V539-Dźwignie!$D$6","v":250464.5761576175},{"$f":"IF(W539>0,W539*(1-Dźwignie!$D$9),W539)","v":202876.30668767018},{"$f":"X539/Dźwignie!$D$5","v":20.287630668767019},{"$f":"V539/Dźwignie!$D$2","v":1.3523228807880876},{"$f":"X539/Dźwignie!$D$3","v":2.0287630668767016},1.554601279513163,1.0798516113808205,1.6787386967369744]
[528,0.91126132011413574,{"$f":"NORMINV(B540,Dźwignie!$L$8,Dźwignie!$L$9)","v":417428.15186971973},{"$f":"Dźwignie!$L$7*C540","v":626142.22780457954},null,{"$f":"C540*Dźwignie!$G$5","v":417428.15186971973},208714.07593485981,{"$f":"Dźwignie!$G$6","v":50000},158714.07593485981,{"$f":"I540-Dźwignie!$D$6","v":138714.07593485981},{"$f":"IF(J540>0,J540*(1-Dźwignie!$D$9),J540)","v":112358.40150723646},{"$f":"K540/Dźwignie!$D$5","v":11.235840150723647},{"$f":"I540/Dźwignie!$D$2","v":0.793570379674299},{"$f":"K540/Dźwignie!$D$3","v":1.1235840150723646},1.31503191954141,1.1441814744841901,1.5046351606946653,null,{"$f":"C540*Dźwignie!$G$8","v":208714.07593485987},417428.15186971967,{"$f":"Dźwignie!$G$9","v":150000},267428.15186971967,{"$f":"V540-Dźwignie!$D$6","v":247428.15186971967},{"$f":"IF(W540>0,W540*(1-Dźwignie!$D$9),W540)","v":200416.80301447294},{"$f":"X540/Dźwignie!$D$5","v":20.041680301447293},{"$f":"V540/Dźwignie!$D$2","v":1.3371407593485984},{"$f":"X540/Dźwignie!$D$3","v":2.0041680301447293},1.5608983158701781,1.0808315458401465,1.6870681396412459]
[529,1.7928481101989746E-3,{"$f":"NORMINV(B541,Dźwignie!$L$8,Dźwignie!$L$9)","v":204375.93294326105},{"$f":"Dźwignie!$L$7*C541","v":306563.89941489161},null,{"$f":"C541*Dźwignie!$G$5","v":204375.93294326105},102187.96647163056,{"$f":"Dźwignie!$G$6","v":50000},52187.966471630556,{"$f":"I541-Dźwignie!$D$6","v":32187.966471630556},{"$f":"IF(J541>0,J541*(1-Dźwignie!$D$9),J541)","v":26072.252842020753},{"$f":"K541/Dźwignie!$D$5","v":2.6072252842020753},{"$f":"I541/Dźwignie!$D$2","v":0.26093983235815277},{"$f":"K541/Dźwignie!$D$3","v":0.26072252842020754},1.9580752686958987,1.6213502184932174,3.1747257647262606,null,{"$f":"C541*Dźwignie!$G$8","v":102187.96647163053},204375.93294326108,{"$f":"Dźwignie!$G$9","v":150000},54375.932943261083,{"$f":"V541-Dźwignie!$D$6","v":34375.932943261083},{"$f":"IF(W541>0,W541*(1-Dźwignie!$D$9),W541)","v":27844.50568404148},{"$f":"X541/Dźwignie!$D$5","v":2.7844505684041478},{"$f":"V541/Dźwignie!$D$2","v":0.27187966471630542},{"$f":"X541/Dźwignie!$D$3","v":0.27844505684041482},3.7585733592197577,1.5818023916037665,5.9453203286320147]
[530,0.48038136959075928,{"$f":"NORMINV(B542,Dźwignie!$L$8,Dźwignie!$L$9)","v":347540.17742778739},{"$f":"Dźwignie!$L$7*C542","v":521310.26614168112},null,{"$f":"C542*Dźwignie!$G$5","v":347540.17742778739},173770.08871389373,{"$f":"Dźwignie!$G$6","v":50000},123770.08871389373,{"$f":"I542-Dźwignie!$D$6","v":103770.08871389373},{"$f":"IF(J542>0,J542*(1-Dźwignie!$D$9),J542)","v":84053.771858253924},{"$f":"K542/Dźwignie!$D$5","v":8.4053771858253921},{"$f":"I542/Dźwignie!$D$2","v":0.61885044356946861},{"$f":"K542/Dźwignie!$D$3","v":0.84053771858253923},1.403974825578252,1.1927337660387123,1.6745681811354927,null,{"$f":"C542*Dźwignie!$G$8","v":173770.0887138937},347540.17742778745,{"$f":"Dźwignie!$G$9","v":150000},197540.17742778745,{"$f":"V542-Dźwignie!$D$6","v":177540.17742778745},{"$f":"IF(W542>0,W542*(1-Dźwignie!$D$9),W542)","v":143807.54371650785},{"$f":"X542/Dźwignie!$D$5","v":14.380754371650784},{"$f":"V542/Dźwignie!$D$2","v":0.98770088713893722},{"$f":"X542/Dźwignie!$D$3","v":1.4380754371650786},1.7593391985022075,1.1126505576921302,1.9575297403831065]
[531,0.98156648874282837,{"$f":"NORMINV(B543,Dźwignie!$L$8,Dźwignie!$L$9)","v":454361.6806132067},{"$f":"Dźwignie!$L$7*C543","v":681542.52091981005},null,{"$f":"C543*Dźwignie!$G$5","v":454361.6806132067},227180.84030660335,{"$f":"Dźwignie!$G$6","v":50000},177180.84030660335,{"$f":"I543-Dźwignie!$D$6","v":157180.84030660335},{"$f":"IF(J543>0,J543*(1-Dźwignie!$D$9),J543)","v":127316.48064834872},{"$f":"K543/Dźwignie!$D$5","v":12.731648064834872},{"$f":"I543/Dźwignie!$D$2","v":0.88590420153301674},{"$f":"K543/Dźwignie!$D$3","v":1.2731648064834873},1.2821975554099263,1.1272419714832111,1.4453469001912391,null,{"$f":"C543*Dźwignie!$G$8","v":227180.84030660335},454361.6806132067,{"$f":"Dźwignie!$G$9","v":150000},304361.6806132067,{"$f":"V543-Dźwignie!$D$6","v":284361.6806132067},{"$f":"IF(W543>0,W543*(1-Dźwignie!$D$9),W543)","v":230332.96129669744},{"$f":"X543/Dźwignie!$D$5","v":23.033296129669743},{"$f":"V543/Dźwignie!$D$2","v":1.5218084030660335},{"$f":"X543/Dźwignie!$D$3","v":2.3033296129669742},1.4928347080282591,1.0703329645431527,1.5978301986167984]
[532,0.10465908050537109,{"$f":"NORMINV(B544,Dźwignie!$L$8,Dźwignie!$L$9)","v":287227.87386304938},{"$f":"Dźwignie!$L$7*C544","v":430841.81079457409},null,{"$f":"C544*Dźwignie!$G$5","v":287227.87386304938},143613.93693152472,{"$f":"Dźwignie!$G$6","v":50000},93613.936931524717,{"$f":"I544-Dźwignie!$D$6","v":73613.936931524717},{"$f":"IF(J544>0,J544*(1-Dźwignie!$D$9),J544)","v":59627.288914535027},{"$f":"K544/Dźwignie!$D$5","v":5.9627288914535024},{"$f":"I544/Dźwignie!$D$2","v":0.46806968465762361},{"$f":"K544/Dźwignie!$D$3","v":0.59627288914535026},1.5341085060504744,1.2716876835238942,1.9509068923336299,null,{"$f":"C544*Dźwignie!$G$8","v":143613.93693152469},287227.87386304943,{"$f":"Dźwignie!$G$9","v":150000},137227.87386304943,{"$f":"V544-Dźwignie!$D$6","v":117227.87386304943},{"$f":"IF(W544>0,W544*(1-Dźwignie!$D$9),W544)","v":94954.577829070055},{"$f":"X544/Dźwignie!$D$5","v":9.495457782907005},{"$f":"V544/Dźwignie!$D$2","v":0.68613936931524722},{"$f":"X544/Dźwignie!$D$3","v":0.94954577829070053},2.0930723895766024,1.1706078882174802,2.4501670498485817]
[533,0.54293745756149292,{"$f":"NORMINV(B545,Dźwignie!$L$8,Dźwignie!$L$9)","v":355391.84416206263},{"$f":"Dźwignie!$L$7*C545","v":533087.76624309388},null,{"$f":"C545*Dźwignie!$G$5","v":355391.84416206263},177695.92208103125,{"$f":"Dźwignie!$G$6","v":50000},127695.92208103125,{"$f":"I545-Dźwignie!$D$6","v":107695.92208103125},{"$f":"IF(J545>0,J545*(1-Dźwignie!$D$9),J545)","v":87233.69688563532},{"$f":"K545/Dźwignie!$D$5","v":8.7233696885635315},{"$f":"I545/Dźwignie!$D$2","v":0.63847961040515622},{"$f":"K545/Dźwignie!$D$3","v":0.87233696885635315},1.391555181913106,1.1857080529469988,1.6499781853144957,null,{"$f":"C545*Dźwignie!$G$8","v":177695.92208103131},355391.84416206257,{"$f":"Dźwignie!$G$9","v":150000},205391.84416206257,{"$f":"V545-Dźwignie!$D$6","v":185391.84416206257},{"$f":"IF(W545>0,W545*(1-Dźwignie!$D$9),W545)","v":150167.3937712707},{"$f":"X545/Dźwignie!$D$5","v":15.01673937712707},{"$f":"V545/Dźwignie!$D$2","v":1.0269592208103129},{"$f":"X545/Dźwignie!$D$3","v":1.5016739377127071},1.7303113743973391,1.1078796108339952,1.9169766920889595]
[534,0.74293386936187744,{"$f":"NORMINV(B546,Dźwignie!$L$8,Dźwignie!$L$9)","v":382620.84528822522},{"$f":"Dźwignie!$L$7*C546","v":573931.26793233783},null,{"$f":"C546*Dźwignie!$G$5","v":382620.84528822522},191310.42264411261,{"$f":"Dźwignie!$G$6","v":50000},141310.42264411261,{"$f":"I546-Dźwignie!$D$6","v":121310.42264411261},{"$f":"IF(J546>0,J546*(1-Dźwignie!$D$9),J546)","v":98261.442341731221},{"$f":"K546/Dźwignie!$D$5","v":9.8261442341731229},{"$f":"I546/Dźwignie!$D$2","v":0.70655211322056299},{"$f":"K546/Dźwignie!$D$3","v":0.9826144234173122},1.3538309422930817,1.1648662956082003,1.5770320346287012,null,{"$f":"C546*Dźwignie!$G$8","v":191310.42264411261},382620.84528822522,{"$f":"Dźwignie!$G$9","v":150000},232620.84528822522,{"$f":"V546-Dźwignie!$D$6","v":212620.84528822522},{"$f":"IF(W546>0,W546*(1-Dźwignie!$D$9),W546)","v":172222.88468346244},{"$f":"X546/Dźwignie!$D$5","v":17.222288468346242},{"$f":"V546/Dźwignie!$D$2","v":1.163104226441126},{"$f":"X546/Dźwignie!$D$3","v":1.7222288468346245},1.6448261324738325,1.0940641543066407,1.7995453116064462]
[535,0.78595000505447388,{"$f":"NORMINV(B547,Dźwignie!$L$8,Dźwignie!$L$9)","v":389622.35804279259},{"$f":"Dźwignie!$L$7*C547","v":584433.53706418886},null,{"$f":"C547*Dźwignie!$G$5","v":389622.35804279259},194811.17902139627,{"$f":"Dźwignie!$G$6","v":50000},144811.17902139627,{"$f":"I547-Dźwignie!$D$6","v":124811.17902139627},{"$f":"IF(J547>0,J547*(1-Dźwignie!$D$9),J547)","v":101097.05500733099},{"$f":"K547/Dźwignie!$D$5","v":10.109705500733099},{"$f":"I547/Dźwignie!$D$2","v":0.72405589510698132},{"$f":"K547/Dźwignie!$D$3","v":1.0109705500733099},1.3452772109024287,1.1602420564953675,1.5608471977337861,null,{"$f":"C547*Dźwignie!$G$8","v":194811.1790213963},389622.35804279253,{"$f":"Dźwignie!$G$9","v":150000},239622.35804279253,{"$f":"V547-Dźwignie!$D$6","v":219622.35804279253},{"$f":"IF(W547>0,W547*(1-Dźwignie!$D$9),W547)","v":177894.11001466197},{"$f":"X547/Dźwignie!$D$5","v":17.789411001466195},{"$f":"V547/Dźwignie!$D$2","v":1.1981117902139626},{"$f":"X547/Dźwignie!$D$3","v":1.7789411001466198},1.6259849924906111,1.0910654096342189,1.774055981890861]
[536,0.16538548469543457,{"$f":"NORMINV(B548,Dźwignie!$L$8,Dźwignie!$L$9)","v":301371.89324837952},{"$f":"Dźwignie!$L$7*C548","v":452057.83987256931},null,{"$f":"C548*Dźwignie!$G$5","v":301371.89324837952},150685.94662418979,{"$f":"Dźwignie!$G$6","v":50000},100685.94662418979,{"$f":"I548-Dźwignie!$D$6","v":80685.94662418979},{"$f":"IF(J548>0,J548*(1-Dźwignie!$D$9),J548)","v":65355.616765593732},{"$f":"K548/Dźwignie!$D$5","v":6.5355616765593734},{"$f":"I548/Dźwignie!$D$2","v":0.50342973312094896},{"$f":"K548/Dźwignie!$D$3","v":0.65355616765593727},1.4965936327402767,1.2478746403404526,1.8675612411915841,null,{"$f":"C548*Dźwignie!$G$8","v":150685.94662418976},301371.89324837958,{"$f":"Dźwignie!$G$9","v":150000},151371.89324837958,{"$f":"V548-Dźwignie!$D$6","v":131371.89324837958},{"$f":"IF(W548>0,W548*(1-Dźwignie!$D$9),W548)","v":106411.23353118746},{"$f":"X548/Dźwignie!$D$5","v":10.641123353118747},{"$f":"V548/Dźwignie!$D$2","v":0.75685946624189793},{"$f":"X548/Dźwignie!$D$3","v":1.0641123353118747},1.9909369353917739,1.1522395659030871,2.29403631017624]
[537,0.18912738561630249,{"$f":"NORMINV(B549,Dźwignie!$L$8,Dźwignie!$L$9)","v":305944.17534798844},{"$f":"Dźwignie!$L$7*C549","v":458916.26302198262},null,{"$f":"C549*Dźwignie!$G$5","v":305944.17534798844},152972.08767399419,{"$f":"Dźwignie!$G$6","v":50000},102972.08767399419,{"$f":"I549-Dźwignie!$D$6","v":82972.087673994189},{"$f":"IF(J549>0,J549*(1-Dźwignie!$D$9),J549)","v":67207.391015935296},{"$f":"K549/Dźwignie!$D$5","v":6.7207391015935301},{"$f":"I549/Dźwignie!$D$2","v":0.51486043836997097},{"$f":"K549/Dźwignie!$D$3","v":0.67207391015935292},1.4855684790843335,1.2410449171603593,1.8436572100612576,null,{"$f":"C549*Dźwignie!$G$8","v":152972.08767399422},305944.17534798838,{"$f":"Dźwignie!$G$9","v":150000},155944.17534798838,{"$f":"V549-Dźwignie!$D$6","v":135944.17534798838},{"$f":"IF(W549>0,W549*(1-Dźwignie!$D$9),W549)","v":110114.78203187059},{"$f":"X549/Dźwignie!$D$5","v":11.011478203187059},{"$f":"V549/Dźwignie!$D$2","v":0.77972087673994184},{"$f":"X549/Dźwignie!$D$3","v":1.1011478203187059},1.9618826715731832,1.1471192123443628,2.2505133049270842]
[538,0.56925666332244873,{"$f":"NORMINV(B550,Dźwignie!$L$8,Dźwignie!$L$9)","v":358724.1001495258},{"$f":"Dźwignie!$L$7*C550","v":538086.15022428869},null,{"$f":"C550*Dźwignie!$G$5","v":358724.1001495258},179362.0500747629,{"$f":"Dźwignie!$G$6","v":50000},129362.0500747629,{"$f":"I550-Dźwignie!$D$6","v":109362.0500747629},{"$f":"IF(J550>0,J550*(1-Dźwignie!$D$9),J550)","v":88583.260560557959},{"$f":"K550/Dźwignie!$D$5","v":8.8583260560557964},{"$f":"I550/Dźwignie!$D$2","v":0.64681025037381445},{"$f":"K550/Dźwignie!$D$3","v":0.88583260560557964},1.3865121182843285,1.1828787955815336,1.6400757845353675,null,{"$f":"C550*Dźwignie!$G$8","v":179362.0500747629},358724.1001495258,{"$f":"Dźwignie!$G$9","v":150000},208724.1001495258,{"$f":"V550-Dźwignie!$D$6","v":188724.1001495258},{"$f":"IF(W550>0,W550*(1-Dźwignie!$D$9),W550)","v":152866.52112111592},{"$f":"X550/Dźwignie!$D$5","v":15.286652112111591},{"$f":"V550/Dźwignie!$D$2","v":1.0436205007476289},{"$f":"X550/Dźwignie!$D$3","v":1.5286652112111592},1.7186520382291406,1.105974806525261,1.9007858554647192]
[539,0.26230388879776001,{"$f":"NORMINV(B551,Dźwignie!$L$8,Dźwignie!$L$9)","v":318187.06182895368},{"$f":"Dźwignie!$L$7*C551","v":477280.59274343052},null,{"$f":"C551*Dźwignie!$G$5","v":318187.06182895368},159093.53091447684,{"$f":"Dźwignie!$G$6","v":50000},109093.53091447684,{"$f":"I551-Dźwignie!$D$6","v":89093.53091447684},{"$f":"IF(J551>0,J551*(1-Dźwignie!$D$9),J551)","v":72165.760040726251},{"$f":"K551/Dźwignie!$D$5","v":7.2165760040726248},{"$f":"I551/Dźwignie!$D$2","v":0.54546765457238422},{"$f":"K551/Dźwignie!$D$3","v":0.72165760040726246},1.4583223182976557,1.2244831896852142,1.7856911638982496,null,{"$f":"C551*Dźwignie!$G$8","v":159093.53091447684},318187.06182895368,{"$f":"Dźwignie!$G$9","v":150000},168187.06182895368,{"$f":"V551-Dźwignie!$D$6","v":148187.06182895368},{"$f":"IF(W551>0,W551*(1-Dźwignie!$D$9),W551)","v":120031.52008145249},{"$f":"X551/Dźwignie!$D$5","v":12.003152008145248},{"$f":"V551/Dźwignie!$D$2","v":0.84093530914476844},{"$f":"X551/Dźwignie!$D$3","v":1.2003152008145248},1.8918640849588659,1.1349645492201281,2.1471986683710895]
[540,0.12035703659057617,{"$f":"NORMINV(B552,Dźwignie!$L$8,Dźwignie!$L$9)","v":291339.80808247562},{"$f":"Dźwignie!$L$7*C552","v":437009.71212371346},null,{"$f":"C552*Dźwignie!$G$5","v":291339.80808247562},145669.90404123784,{"$f":"Dźwignie!$G$6","v":50000},95669.904041237838,{"$f":"I552-Dźwignie!$D$6","v":75669.904041237838},{"$f":"IF(J552>0,J552*(1-Dźwignie!$D$9),J552)","v":61292.622273402652},{"$f":"K552/Dźwignie!$D$5","v":6.1292622273402655},{"$f":"I552/Dźwignie!$D$2","v":0.4783495202061892},{"$f":"K552/Dźwignie!$D$3","v":0.61292622273402653},1.5226303977314313,1.2643058723729925,1.9250705533054737,null,{"$f":"C552*Dźwignie!$G$8","v":145669.90404123781},291339.80808247568,{"$f":"Dźwignie!$G$9","v":150000},141339.80808247568,{"$f":"V552-Dźwignie!$D$6","v":121339.80808247568},{"$f":"IF(W552>0,W552*(1-Dźwignie!$D$9),W552)","v":98285.244546805305},{"$f":"X552/Dźwignie!$D$5","v":9.8285244546805313},{"$f":"V552/Dźwignie!$D$2","v":0.70669904041237841},{"$f":"X552/Dźwignie!$D$3","v":0.98285244546805306},2.0612721358194492,1.16482636915336,2.4010241378035606]
[541,0.42211312055587769,{"$f":"NORMINV(B553,Dźwignie!$L$8,Dźwignie!$L$9)","v":340175.47330508922},{"$f":"Dźwignie!$L$7*C553","v":510263.20995763387},null,{"$f":"C553*Dźwignie!$G$5","v":340175.47330508922},170087.73665254464,{"$f":"Dźwignie!$G$6","v":50000},120087.73665254464,{"$f":"I553-Dźwignie!$D$6","v":100087.73665254464},{"$f":"IF(J553>0,J553*(1-Dźwignie!$D$9),J553)","v":81071.066688561172},{"$f":"K553/Dźwignie!$D$5","v":8.1071066688561171},{"$f":"I553/Dźwignie!$D$2","v":0.60043868326272321},{"$f":"K553/Dźwignie!$D$3","v":0.81071066688561166},1.4163622480842262,1.1998246805143586,1.6993863818002555,null,{"$f":"C553*Dźwignie!$G$8","v":170087.73665254461},340175.47330508928,{"$f":"Dźwignie!$G$9","v":150000},190175.47330508928,{"$f":"V553-Dźwignie!$D$6","v":170175.47330508928},{"$f":"IF(W553>0,W553*(1-Dźwignie!$D$9),W553)","v":137842.13337712231},{"$f":"X553/Dźwignie!$D$5","v":13.784213337712231},{"$f":"V553/Dźwignie!$D$2","v":0.95087736652544641},{"$f":"X553/Dźwignie!$D$3","v":1.3784213337712232},1.7887452435013125,1.1175257492255899,1.9989688684175144]
[542,0.82659828662872314,{"$f":"NORMINV(B554,Dźwignie!$L$8,Dźwignie!$L$9)","v":397040.38377948973},{"$f":"Dźwignie!$L$7*C554","v":595560.57566923462},null,{"$f":"C554*Dźwignie!$G$5","v":397040.38377948973},198520.19188974489,{"$f":"Dźwignie!$G$6","v":50000},148520.19188974489,{"$f":"I554-Dźwignie!$D$6","v":128520.19188974489},{"$f":"IF(J554>0,J554*(1-Dźwignie!$D$9),J554)","v":104101.35543069337},{"$f":"K554/Dźwignie!$D$5","v":10.410135543069337},{"$f":"I554/Dźwignie!$D$2","v":0.74260095944872451},{"$f":"K554/Dźwignie!$D$3","v":1.0410135543069337},1.3366545609981293,1.1556175703282301,1.5446614961488052,null,{"$f":"C554*Dźwignie!$G$8","v":198520.19188974486},397040.38377948978,{"$f":"Dźwignie!$G$9","v":150000},247040.38377948978,{"$f":"V554-Dźwignie!$D$6","v":227040.38377948978},{"$f":"IF(W554>0,W554*(1-Dźwignie!$D$9),W554)","v":183902.71086138673},{"$f":"X554/Dźwignie!$D$5","v":18.390271086138672},{"$f":"V554/Dźwignie!$D$2","v":1.235201918897449},{"$f":"X554/Dźwignie!$D$3","v":1.8390271086138674},1.6071881758971489,1.0880900554653077,1.7487654714551155]
[543,0.87138253450393677,{"$f":"NORMINV(B555,Dźwignie!$L$8,Dźwignie!$L$9)","v":406647.53810726223},{"$f":"Dźwignie!$L$7*C555","v":609971.30716089334},null,{"$f":"C555*Dźwignie!$G$5","v":406647.53810726223},203323.76905363111,{"$f":"Dźwignie!$G$6","v":50000},153323.76905363111,{"$f":"I555-Dźwignie!$D$6","v":133323.76905363111},{"$f":"IF(J555>0,J555*(1-Dźwignie!$D$9),J555)","v":107992.25293344121},{"$f":"K555/Dźwignie!$D$5","v":10.79922529334412},{"$f":"I555/Dźwignie!$D$2","v":0.7666188452681556},{"$f":"K555/Dźwignie!$D$3","v":1.0799225293344121},1.326107297704836,1.1500107605865444,1.5250376620529056,null,{"$f":"C555*Dźwignie!$G$8","v":203323.76905363111},406647.53810726223,{"$f":"Dźwignie!$G$9","v":150000},256647.53810726223,{"$f":"V555-Dźwignie!$D$6","v":236647.53810726223},{"$f":"IF(W555>0,W555*(1-Dźwignie!$D$9),W555)","v":191684.50586688242},{"$f":"X555/Dźwignie!$D$5","v":19.168450586688241},{"$f":"V555/Dźwignie!$D$2","v":1.2832376905363112},{"$f":"X555/Dźwignie!$D$3","v":1.9168450586688242},1.5844591423172336,1.0845138730787678,1.7183679211695255]
[544,0.3998105525970459,{"$f":"NORMINV(B556,Dźwignie!$L$8,Dźwignie!$L$9)","v":337308.12525725027},{"$f":"Dźwignie!$L$7*C556","v":505962.18788587541},null,{"$f":"C556*Dźwignie!$G$5","v":337308.12525725027},168654.06262862514,{"$f":"Dźwignie!$G$6","v":50000},118654.06262862514,{"$f":"I556-Dźwignie!$D$6","v":98654.062628625135},{"$f":"IF(J556>0,J556*(1-Dźwignie!$D$9),J556)","v":79909.790729186367},{"$f":"K556/Dźwignie!$D$5","v":7.9909790729186367},{"$f":"I556/Dźwignie!$D$2","v":0.59327031314312573},{"$f":"K556/Dźwignie!$D$3","v":0.7990979072918637},1.4213930723678194,1.2027285999897268,1.7095500999640438,null,{"$f":"C556*Dźwignie!$G$8","v":168654.06262862514},337308.12525725027,{"$f":"Dźwignie!$G$9","v":150000},187308.12525725027,{"$f":"V556-Dźwignie!$D$6","v":167308.12525725027},{"$f":"IF(W556>0,W556*(1-Dźwignie!$D$9),W556)","v":135519.58145837273},{"$f":"X556/Dźwignie!$D$5","v":13.551958145837274},{"$f":"V556/Dźwignie!$D$2","v":0.93654062628625134},{"$f":"X556/Dźwignie!$D$3","v":1.3551958145837273},1.8008195041938995,1.1195399205462875,2.0160893246434428]
[545,0.51368421316146851,{"$f":"NORMINV(B557,Dźwignie!$L$8,Dźwignie!$L$9)","v":351715.39823629888},{"$f":"Dźwignie!$L$7*C557","v":527573.09735444828},null,{"$f":"C557*Dźwignie!$G$5","v":351715.39823629888},175857.69911814941,{"$f":"Dźwignie!$G$6","v":50000},125857.69911814941,{"$f":"I557-Dźwignie!$D$6","v":105857.69911814941},{"$f":"IF(J557>0,J557*(1-Dźwignie!$D$9),J557)","v":85744.73628570103},{"$f":"K557/Dźwignie!$D$5","v":8.5744736285701038},{"$f":"I557/Dźwignie!$D$2","v":0.62928849559074707},{"$f":"K557/Dźwignie!$D$3","v":0.85744736285701029},1.3972740670641237,1.1889328803347379,1.6612650811715823,null,{"$f":"C557*Dźwignie!$G$8","v":175857.69911814944},351715.39823629882,{"$f":"Dźwignie!$G$9","v":150000},201715.39823629882,{"$f":"V557-Dźwignie!$D$6","v":181715.39823629882},{"$f":"IF(W557>0,W557*(1-Dźwignie!$D$9),W557)","v":147189.47257140206},{"$f":"X557/Dźwignie!$D$5","v":14.718947257140206},{"$f":"V557/Dźwignie!$D$2","v":1.0085769911814941},{"$f":"X557/Dźwignie!$D$3","v":1.4718947257140207},1.7436219609981536,1.1100622192401792,1.9355288635415235]
[546,1.2090086936950684E-2,{"$f":"NORMINV(B558,Dźwignie!$L$8,Dźwignie!$L$9)","v":237287.28447519813},{"$f":"Dźwignie!$L$7*C558","v":355930.9267127972},null,{"$f":"C558*Dźwignie!$G$5","v":237287.28447519813},118643.64223759907,{"$f":"Dźwignie!$G$6","v":50000},68643.642237599066,{"$f":"I558-Dźwignie!$D$6","v":48643.642237599066},{"$f":"IF(J558>0,J558*(1-Dźwignie!$D$9),J558)","v":39401.350212455247},{"$f":"K558/Dźwignie!$D$5","v":3.9401350212455246},{"$f":"I558/Dźwignie!$D$2","v":0.34321821118799534},{"$f":"K558/Dźwignie!$D$3","v":0.39401350212455249},1.7283995774427723,1.4111534227291274,2.4390369795519455,null,{"$f":"C558*Dźwignie!$G$8","v":118643.64223759907},237287.28447519813,{"$f":"Dźwignie!$G$9","v":150000},87287.284475198132,{"$f":"V558-Dźwignie!$D$6","v":67287.284475198132},{"$f":"IF(W558>0,W558*(1-Dźwignie!$D$9),W558)","v":54502.700424910494},{"$f":"X558/Dźwignie!$D$5","v":5.4502700424910495},{"$f":"V558/Dźwignie!$D$2","v":0.43643642237599067},{"$f":"X558/Dźwignie!$D$3","v":0.54502700424910488},2.7184633581151343,1.2972329788010977,3.5264803198093309]
[547,0.18429189920425415,{"$f":"NORMINV(B559,Dźwignie!$L$8,Dźwignie!$L$9)","v":305043.53549947019},{"$f":"Dźwignie!$L$7*C559","v":457565.30324920529},null,{"$f":"C559*Dźwignie!$G$5","v":305043.53549947019},152521.7677497351,{"$f":"Dźwignie!$G$6","v":50000},102521.7677497351,{"$f":"I559-Dźwignie!$D$6","v":82521.767749735096},{"$f":"IF(J559>0,J559*(1-Dźwignie!$D$9),J559)","v":66842.631877285428},{"$f":"K559/Dźwignie!$D$5","v":6.6842631877285426},{"$f":"I559/Dźwignie!$D$2","v":0.51260883874867547},{"$f":"K559/Dźwignie!$D$3","v":0.6684263187728543},1.4877013057563981,1.2423602952938948,1.8482610335286316,null,{"$f":"C559*Dźwignie!$G$8","v":152521.7677497351},305043.53549947019,{"$f":"Dźwignie!$G$9","v":150000},155043.53549947019,{"$f":"V559-Dźwignie!$D$6","v":135043.53549947019},{"$f":"IF(W559>0,W559*(1-Dźwignie!$D$9),W559)","v":109385.26375457086},{"$f":"X559/Dźwignie!$D$5","v":10.938526375457085},{"$f":"V559/Dźwignie!$D$2","v":0.77521767749735093},{"$f":"X559/Dźwignie!$D$3","v":1.0938526375457085},1.9674701980755114,1.1481003879676897,2.2588532977253619]
[548,0.10292816162109375,{"$f":"NORMINV(B560,Dźwignie!$L$8,Dźwignie!$L$9)","v":286747.90708741779},{"$f":"Dźwignie!$L$7*C560","v":430121.86063112668},null,{"$f":"C560*Dźwignie!$G$5","v":286747.90708741779},143373.95354370889,{"$f":"Dźwignie!$G$6","v":50000},93373.953543708893,{"$f":"I560-Dźwignie!$D$6","v":73373.953543708893},{"$f":"IF(J560>0,J560*(1-Dźwignie!$D$9),J560)","v":59432.902370404205},{"$f":"K560/Dźwignie!$D$5","v":5.9432902370404204},{"$f":"I560/Dźwignie!$D$2","v":0.46686976771854444},{"$f":"K560/Dźwignie!$D$3","v":0.59432902370404206},1.5354812354239098,1.272576289460619,1.9540170131121661,null,{"$f":"C560*Dźwignie!$G$8","v":143373.95354370889},286747.90708741779,{"$f":"Dźwignie!$G$9","v":150000},136747.90708741779,{"$f":"V560-Dźwignie!$D$6","v":116747.90708741779},{"$f":"IF(W560>0,W560*(1-Dźwignie!$D$9),W560)","v":94565.804740808409},{"$f":"X560/Dźwignie!$D$5","v":9.456580474080841},{"$f":"V560/Dźwignie!$D$2","v":0.68373953543708887},{"$f":"X560/Dźwignie!$D$3","v":0.94565804740808412},2.0969089267604706,1.1713092808166961,2.4561288869419169]
[549,0.72879427671432495,{"$f":"NORMINV(B561,Dźwignie!$L$8,Dźwignie!$L$9)","v":380458.52387802373},{"$f":"Dźwignie!$L$7*C561","v":570687.78581703559},null,{"$f":"C561*Dźwignie!$G$5","v":380458.52387802373},190229.26193901186,{"$f":"Dźwignie!$G$6","v":50000},140229.26193901186,{"$f":"I561-Dźwignie!$D$6","v":120229.26193901186},{"$f":"IF(J561>0,J561*(1-Dźwignie!$D$9),J561)","v":97385.702170599616},{"$f":"K561/Dźwignie!$D$5","v":9.7385702170599622},{"$f":"I561/Dźwignie!$D$2","v":0.70114630969505931},{"$f":"K561/Dźwignie!$D$3","v":0.9738570217059962},1.3565589614366356,1.1663488544922227,1.5822209907227791,null,{"$f":"C561*Dźwignie!$G$8","v":190229.26193901186},380458.52387802373,{"$f":"Dźwignie!$G$9","v":150000},230458.52387802373,{"$f":"V561-Dźwignie!$D$6","v":210458.52387802373},{"$f":"IF(W561>0,W561*(1-Dźwignie!$D$9),W561)","v":170471.40434119923},{"$f":"X561/Dźwignie!$D$5","v":17.047140434119925},{"$f":"V561/Dźwignie!$D$2","v":1.1522926193901186},{"$f":"X561/Dźwignie!$D$3","v":1.7047140434119923},1.650876337641525,1.0950306009539033,1.807760108108178]
[550,0.64337122440338135,{"$f":"NORMINV(B562,Dźwignie!$L$8,Dźwignie!$L$9)","v":368374.231726231},{"$f":"Dźwignie!$L$7*C562","v":552561.34758934646},null,{"$f":"C562*Dźwignie!$G$5","v":368374.231726231},184187.11586311547,{"$f":"Dźwignie!$G$6","v":50000},134187.11586311547,{"$f":"I562-Dźwignie!$D$6","v":114187.11586311547},{"$f":"IF(J562>0,J562*(1-Dźwignie!$D$9),J562)","v":92491.56384912353},{"$f":"K562/Dźwignie!$D$5","v":9.2491563849123537},{"$f":"I562/Dźwignie!$D$2","v":0.67093557931557735},{"$f":"K562/Dźwignie!$D$3","v":0.92491563849123526},1.3726140149774519,1.1751511092019828,1.6130288822069399,null,{"$f":"C562*Dźwignie!$G$8","v":184187.1158631155},368374.23172623094,{"$f":"Dźwignie!$G$9","v":150000},218374.23172623094,{"$f":"V562-Dźwignie!$D$6","v":198374.23172623094},{"$f":"IF(W562>0,W562*(1-Dźwignie!$D$9),W562)","v":160683.12769824706},{"$f":"X562/Dźwignie!$D$5","v":16.068312769824704},{"$f":"V562/Dźwignie!$D$2","v":1.0918711586311547},{"$f":"X562/Dźwignie!$D$3","v":1.6068312769824706},1.6868942311291122,1.1008195460971024,1.8569661418253698]
[551,0.71061450242996216,{"$f":"NORMINV(B563,Dźwignie!$L$8,Dźwignie!$L$9)","v":377759.0403737626},{"$f":"Dźwignie!$L$7*C563","v":566638.56056064391},null,{"$f":"C563*Dźwignie!$G$5","v":377759.0403737626},188879.5201868813,{"$f":"Dźwignie!$G$6","v":50000},138879.5201868813,{"$f":"I563-Dźwignie!$D$6","v":118879.5201868813},{"$f":"IF(J563>0,J563*(1-Dźwignie!$D$9),J563)","v":96292.411351373856},{"$f":"K563/Dźwignie!$D$5","v":9.6292411351373861},{"$f":"I563/Dźwignie!$D$2","v":0.6943976009344065},{"$f":"K563/Dźwignie!$D$3","v":0.96292411351373852},1.3600242853137612,1.1682375565493497,1.5888314479227239,null,{"$f":"C563*Dźwignie!$G$8","v":188879.5201868813},377759.0403737626,{"$f":"Dźwignie!$G$9","v":150000},227759.0403737626,{"$f":"V563-Dźwignie!$D$6","v":207759.0403737626},{"$f":"IF(W563>0,W563*(1-Dźwignie!$D$9),W563)","v":168284.82270274771},{"$f":"X563/Dźwignie!$D$5","v":16.828482270274773},{"$f":"V563/Dźwignie!$D$2","v":1.138795201868813},{"$f":"X563/Dźwignie!$D$3","v":1.6828482270274772},1.6585907622101121,1.096265365704518,1.8182556084884038]
[552,0.51346230506896973,{"$f":"NORMINV(B564,Dźwignie!$L$8,Dźwignie!$L$9)","v":351687.57007287716},{"$f":"Dźwignie!$L$7*C564","v":527531.35510931571},null,{"$f":"C564*Dźwignie!$G$5","v":351687.57007287716},175843.78503643855,{"$f":"Dźwignie!$G$6","v":50000},125843.78503643855,{"$f":"I564-Dźwignie!$D$6","v":105843.78503643855},{"$f":"IF(J564>0,J564*(1-Dźwignie!$D$9),J564)","v":85733.465879515235},{"$f":"K564/Dźwignie!$D$5","v":8.5733465879515229},{"$f":"I564/Dźwignie!$D$2","v":0.6292189251821928},{"$f":"K564/Dźwignie!$D$3","v":0.85733465879515236},1.3973179921878724,1.1889577171972323,1.661352010190313,null,{"$f":"C564*Dźwignie!$G$8","v":175843.78503643858},351687.5700728771,{"$f":"Dźwignie!$G$9","v":150000},201687.5700728771,{"$f":"V564-Dźwignie!$D$6","v":181687.5700728771},{"$f":"IF(W564>0,W564*(1-Dźwignie!$D$9),W564)","v":147166.93175903047},{"$f":"X564/Dźwignie!$D$5","v":14.716693175903048},{"$f":"V564/Dźwignie!$D$2","v":1.0084378503643856},{"$f":"X564/Dźwignie!$D$3","v":1.4716693175903046},1.7437245634215313,1.1100790769119635,1.9356721537516899]
[553,0.77868598699569702,{"$f":"NORMINV(B565,Dźwignie!$L$8,Dźwignie!$L$9)","v":388388.14781228726},{"$f":"Dźwignie!$L$7*C565","v":582582.22171843087},null,{"$f":"C565*Dźwignie!$G$5","v":388388.14781228726},194194.0739061436,{"$f":"Dźwignie!$G$6","v":50000},144194.0739061436,{"$f":"I565-Dźwignie!$D$6","v":124194.0739061436},{"$f":"IF(J565>0,J565*(1-Dźwignie!$D$9),J565)","v":100597.19986397632},{"$f":"K565/Dźwignie!$D$5","v":10.059719986397631},{"$f":"I565/Dźwignie!$D$2","v":0.72097036953071802},{"$f":"K565/Dźwignie!$D$3","v":1.0059719986397633},1.3467548883634786,1.1610382796132002,1.5636339786462006,null,{"$f":"C565*Dźwignie!$G$8","v":194194.07390614363},388388.14781228721,{"$f":"Dźwignie!$G$9","v":150000},238388.14781228721,{"$f":"V565-Dźwignie!$D$6","v":218388.14781228721},{"$f":"IF(W565>0,W565*(1-Dźwignie!$D$9),W565)","v":176894.39972795264},{"$f":"X565/Dźwignie!$D$5","v":17.689439972795263},{"$f":"V565/Dźwignie!$D$2","v":1.191940739061436},{"$f":"X565/Dźwignie!$D$3","v":1.7689439972795264},1.6292259131863962,1.0915800614655642,1.7784305224572963]
[554,0.89921367168426514,{"$f":"NORMINV(B566,Dźwignie!$L$8,Dźwignie!$L$9)","v":413854.1909810676},{"$f":"Dźwignie!$L$7*C566","v":620781.28647160134},null,{"$f":"C566*Dźwignie!$G$5","v":413854.1909810676},206927.09549053374,{"$f":"Dźwignie!$G$6","v":50000},156927.09549053374,{"$f":"I566-Dźwignie!$D$6","v":136927.09549053374},{"$f":"IF(J566>0,J566*(1-Dźwignie!$D$9),J566)","v":110910.94734733235},{"$f":"K566/Dźwignie!$D$5","v":11.091094734733234},{"$f":"I566/Dźwignie!$D$2","v":0.78463547745266871},{"$f":"K566/Dźwignie!$D$3","v":1.1091094734733236},1.3186192916124937,1.1460631289106886,1.5112209511874102,null,{"$f":"C566*Dźwignie!$G$8","v":206927.0954905338},413854.19098106754,{"$f":"Dźwignie!$G$9","v":150000},263854.19098106754,{"$f":"V566-Dźwignie!$D$6","v":243854.19098106754},{"$f":"IF(W566>0,W566*(1-Dźwignie!$D$9),W566)","v":197521.89469466472},{"$f":"X566/Dźwignie!$D$5","v":19.752189469466472},{"$f":"V566/Dźwignie!$D$2","v":1.3192709549053376},{"$f":"X566/Dźwignie!$D$3","v":1.9752189469466472},1.5684958023303219,1.0820162242015876,1.6971379057134945]
[555,0.97653442621231079,{"$f":"NORMINV(B567,Dźwignie!$L$8,Dźwignie!$L$9)","v":449346.05202731257},{"$f":"Dźwignie!$L$7*C567","v":674019.07804096886},null,{"$f":"C567*Dźwignie!$G$5","v":449346.05202731257},224673.02601365629,{"$f":"Dźwignie!$G$6","v":50000},174673.02601365629,{"$f":"I567-Dźwignie!$D$6","v":154673.02601365629},{"$f":"IF(J567>0,J567*(1-Dźwignie!$D$9),J567)","v":125285.1510710616},{"$f":"K567/Dźwignie!$D$5","v":12.528515107106159},{"$f":"I567/Dźwignie!$D$2","v":0.87336513006828143},{"$f":"K567/Dźwignie!$D$3","v":1.252851510710616},1.2862491200907626,1.1293050282615804,1.4525675989155316,null,{"$f":"C567*Dźwignie!$G$8","v":224673.02601365629},449346.05202731257,{"$f":"Dźwignie!$G$9","v":150000},299346.05202731257,{"$f":"V567-Dźwignie!$D$6","v":279346.05202731257},{"$f":"IF(W567>0,W567*(1-Dźwignie!$D$9),W567)","v":226270.3021421232},{"$f":"X567/Dźwignie!$D$5","v":22.627030214212319},{"$f":"V567/Dźwignie!$D$2","v":1.4967302601365629},{"$f":"X567/Dźwignie!$D$3","v":2.262703021421232},1.5010922942999558,1.0715957854240394,1.6085641761043346]
[556,0.86536073684692383,{"$f":"NORMINV(B568,Dźwignie!$L$8,Dźwignie!$L$9)","v":405236.27779409249},{"$f":"Dźwignie!$L$7*C568","v":607854.41669113876},null,{"$f":"C568*Dźwignie!$G$5","v":405236.27779409249},202618.13889704627,{"$f":"Dźwignie!$G$6","v":50000},152618.13889704627,{"$f":"I568-Dźwignie!$D$6","v":132618.13889704627},{"$f":"IF(J568>0,J568*(1-Dźwignie!$D$9),J568)","v":107420.69250660749},{"$f":"K568/Dźwignie!$D$5","v":10.74206925066075},{"$f":"I568/Dźwignie!$D$2","v":0.76309069448523137},{"$f":"K568/Dźwignie!$D$3","v":1.0742069250660748},1.3276150552047368,1.1508089328227291,1.5278312648795518,null,{"$f":"C568*Dźwignie!$G$8","v":202618.13889704624},405236.27779409254,{"$f":"Dźwignie!$G$9","v":150000},255236.27779409254,{"$f":"V568-Dźwignie!$D$6","v":235236.27779409254},{"$f":"IF(W568>0,W568*(1-Dźwignie!$D$9),W568)","v":190541.38501321498},{"$f":"X568/Dźwignie!$D$5","v":19.0541385013215},{"$f":"V568/Dźwignie!$D$2","v":1.2761813889704627},{"$f":"X568/Dźwignie!$D$3","v":1.9054138501321498},1.5876907518648657,1.0850208997844559,1.7226776481678761]
[557,0.52401608228683472,{"$f":"NORMINV(B569,Dźwignie!$L$8,Dźwignie!$L$9)","v":353011.78985973721},{"$f":"Dźwignie!$L$7*C569","v":529517.68478960579},null,{"$f":"C569*Dźwignie!$G$5","v":353011.78985973721},176505.89492986858,{"$f":"Dźwignie!$G$6","v":50000},126505.89492986858,{"$f":"I569-Dźwignie!$D$6","v":106505.89492986858},{"$f":"IF(J569>0,J569*(1-Dźwignie!$D$9),J569)","v":86269.774893193549},{"$f":"K569/Dźwignie!$D$5","v":8.6269774893193549},{"$f":"I569/Dźwignie!$D$2","v":0.63252947464934284},{"$f":"K569/Dźwignie!$D$3","v":0.86269774893193552},1.3952384987886821,1.1877830331660937,1.657240616081328,null,{"$f":"C569*Dźwignie!$G$8","v":176505.89492986861},353011.78985973715,{"$f":"Dźwignie!$G$9","v":150000},203011.78985973715,{"$f":"V569-Dźwignie!$D$6","v":183011.78985973715},{"$f":"IF(W569>0,W569*(1-Dźwignie!$D$9),W569)","v":148239.5497863871},{"$f":"X569/Dźwignie!$D$5","v":14.82395497863871},{"$f":"V569/Dźwignie!$D$2","v":1.0150589492986857},{"$f":"X569/Dźwignie!$D$3","v":1.4823954978638709},1.7388733437778983,1.1092825769057189,1.928901903698611]
[558,0.51014721393585205,{"$f":"NORMINV(B570,Dźwignie!$L$8,Dźwignie!$L$9)","v":351271.90182798076},{"$f":"Dźwignie!$L$7*C570","v":526907.85274197115},null,{"$f":"C570*Dźwignie!$G$5","v":351271.90182798076},175635.95091399038,{"$f":"Dźwignie!$G$6","v":50000},125635.95091399038,{"$f":"I570-Dźwignie!$D$6","v":105635.95091399038},{"$f":"IF(J570>0,J570*(1-Dźwignie!$D$9),J570)","v":85565.12024033221},{"$f":"K570/Dźwignie!$D$5","v":8.5565120240332213},{"$f":"I570/Dźwignie!$D$2","v":0.6281797545699519},{"$f":"K570/Dźwignie!$D$3","v":0.85565120240332204},1.3979752581665872,1.1893294832578745,1.6626531914025608,null,{"$f":"C570*Dźwignie!$G$8","v":175635.95091399038},351271.90182798076,{"$f":"Dźwignie!$G$9","v":150000},201271.90182798076,{"$f":"V570-Dźwignie!$D$6","v":181271.90182798076},{"$f":"IF(W570>0,W570*(1-Dźwignie!$D$9),W570)","v":146830.24048066442},{"$f":"X570/Dźwignie!$D$5","v":14.683024048066441},{"$f":"V570/Dźwignie!$D$2","v":1.0063595091399038},{"$f":"X570/Dźwignie!$D$3","v":1.4683024048066442},1.7452605089815227,1.1103314953851984,1.9378177107741865]
[559,0.85296231508255005,{"$f":"NORMINV(B571,Dźwignie!$L$8,Dźwignie!$L$9)","v":402461.16363641585},{"$f":"Dźwignie!$L$7*C571","v":603691.74545462383},null,{"$f":"C571*Dźwignie!$G$5","v":402461.16363641585},201230.58181820798,{"$f":"Dźwignie!$G$6","v":50000},151230.58181820798,{"$f":"I571-Dźwignie!$D$6","v":131230.58181820798},{"$f":"IF(J571>0,J571*(1-Dźwignie!$D$9),J571)","v":106296.77127274848},{"$f":"K571/Dźwignie!$D$5","v":10.629677127274848},{"$f":"I571/Dźwignie!$D$2","v":0.75615290909103994},{"$f":"K571/Dźwignie!$D$3","v":1.0629677127274848},1.3306209590604119,1.152403500181884,1.5334122506365939,null,{"$f":"C571*Dźwignie!$G$8","v":201230.58181820792},402461.16363641591,{"$f":"Dźwignie!$G$9","v":150000},252461.16363641591,{"$f":"V571-Dźwignie!$D$6","v":232461.16363641591},{"$f":"IF(W571>0,W571*(1-Dźwignie!$D$9),W571)","v":188293.54254549689},{"$f":"X571/Dźwignie!$D$5","v":18.829354254549688},{"$f":"V571/Dźwignie!$D$2","v":1.2623058181820794},{"$f":"X571/Dźwignie!$D$3","v":1.8829354254549688},1.5941507907173547,1.086035876647685,1.7313049515053225]
[560,0.35839152336120605,{"$f":"NORMINV(B572,Dźwignie!$L$8,Dźwignie!$L$9)","v":331861.92450780235},{"$f":"Dźwignie!$L$7*C572","v":497792.88676170353},null,{"$f":"C572*Dźwignie!$G$5","v":331861.92450780235},165930.96225390118,{"$f":"Dźwignie!$G$6","v":50000},115930.96225390118,{"$f":"I572-Dźwignie!$D$6","v":95930.962253901176},{"$f":"IF(J572>0,J572*(1-Dźwignie!$D$9),J572)","v":77704.079425659962},{"$f":"K572/Dźwignie!$D$5","v":7.7704079425659964},{"$f":"I572/Dźwignie!$D$2","v":0.57965481126950591},{"$f":"K572/Dźwignie!$D$3","v":0.77704079425659967},1.4312911669834558,1.2084832626515916,1.7296914192805706,null,{"$f":"C572*Dźwignie!$G$8","v":165930.96225390118},331861.92450780235,{"$f":"Dźwignie!$G$9","v":150000},181861.92450780235,{"$f":"V572-Dźwignie!$D$6","v":161861.92450780235},{"$f":"IF(W572>0,W572*(1-Dźwignie!$D$9),W572)","v":131108.15885131992},{"$f":"X572/Dźwignie!$D$5","v":13.110815885131993},{"$f":"V572/Dźwignie!$D$2","v":0.90930962253901171},{"$f":"X572/Dźwignie!$D$3","v":1.3110815885131992},1.8248015652862213,1.1235621043109241,2.050277886642855]
[561,0.92798036336898804,{"$f":"NORMINV(B573,Dźwignie!$L$8,Dźwignie!$L$9)","v":423045.65824634815},{"$f":"Dźwignie!$L$7*C573","v":634568.48736952222},null,{"$f":"C573*Dźwignie!$G$5","v":423045.65824634815},211522.82912317407,{"$f":"Dźwignie!$G$6","v":50000},161522.82912317407,{"$f":"I573-Dźwignie!$D$6","v":141522.82912317407},{"$f":"IF(J573>0,J573*(1-Dźwignie!$D$9),J573)","v":114633.491589771},{"$f":"K573/Dźwignie!$D$5","v":11.463349158977101},{"$f":"I573/Dźwignie!$D$2","v":0.80761414561587042},{"$f":"K573/Dźwignie!$D$3","v":1.1463349158977101},1.3095537656901179,1.1413199561082337,1.4946198463788176,null,{"$f":"C573*Dźwignie!$G$8","v":211522.82912317407},423045.65824634815,{"$f":"Dźwignie!$G$9","v":150000},273045.65824634815,{"$f":"V573-Dźwignie!$D$6","v":253045.65824634815},{"$f":"IF(W573>0,W573*(1-Dźwignie!$D$9),W573)","v":204966.983179542},{"$f":"X573/Dźwignie!$D$5","v":20.496698317954202},{"$f":"V573/Dźwignie!$D$2","v":1.3652282912317408},{"$f":"X573/Dźwignie!$D$3","v":2.0496698317954198},1.5493586712324372,1.0790371197775279,1.6718155181089869]
[562,0.89908444881439209,{"$f":"NORMINV(B574,Dźwignie!$L$8,Dźwignie!$L$9)","v":413817.60192548553},{"$f":"Dźwignie!$L$7*C574","v":620726.4028882283},null,{"$f":"C574*Dźwignie!$G$5","v":413817.60192548553},206908.80096274277,{"$f":"Dźwignie!$G$6","v":50000},156908.80096274277,{"$f":"I574-Dźwignie!$D$6","v":136908.80096274277},{"$f":"IF(J574>0,J574*(1-Dźwignie!$D$9),J574)","v":110896.12877982165},{"$f":"K574/Dźwignie!$D$5","v":11.089612877982166},{"$f":"I574/Dźwignie!$D$2","v":0.78454400481371389},{"$f":"K574/Dźwignie!$D$3","v":1.1089612877982165},1.3186564405133161,1.1460826466915202,1.5112892634203203,null,{"$f":"C574*Dźwignie!$G$8","v":206908.80096274277},413817.60192548553,{"$f":"Dźwignie!$G$9","v":150000},263817.60192548553,{"$f":"V574-Dźwignie!$D$6","v":243817.60192548553},{"$f":"IF(W574>0,W574*(1-Dźwignie!$D$9),W574)","v":197492.2575596433},{"$f":"X574/Dźwignie!$D$5","v":19.749225755964328},{"$f":"V574/Dźwignie!$D$2","v":1.3190880096274278},{"$f":"X574/Dźwignie!$D$3","v":1.974922575596433},1.5685746474276838,1.082028532157052,1.697242523334942]
[563,0.13366037607192993,{"$f":"NORMINV(B575,Dźwignie!$L$8,Dźwignie!$L$9)","v":294537.31495322636},{"$f":"Dźwignie!$L$7*C575","v":441805.97242983954},null,{"$f":"C575*Dźwignie!$G$5","v":294537.31495322636},147268.65747661318,{"$f":"Dźwignie!$G$6","v":50000},97268.657476613182,{"$f":"I575-Dźwignie!$D$6","v":77268.657476613182},{"$f":"IF(J575>0,J575*(1-Dźwignie!$D$9),J575)","v":62587.61255605668},{"$f":"K575/Dźwignie!$D$5","v":6.258761255605668},{"$f":"I575/Dźwignie!$D$2","v":0.48634328738306593},{"$f":"K575/Dźwignie!$D$3","v":0.62587612556056682},1.5140401985297449,1.2588371618343877,1.9059300664203569,null,{"$f":"C575*Dźwignie!$G$8","v":147268.65747661318},294537.31495322636,{"$f":"Dźwignie!$G$9","v":150000},144537.31495322636,{"$f":"V575-Dźwignie!$D$6","v":124537.31495322636},{"$f":"IF(W575>0,W575*(1-Dźwignie!$D$9),W575)","v":100875.22511211336},{"$f":"X575/Dźwignie!$D$5","v":10.087522511211336},{"$f":"V575/Dźwignie!$D$2","v":0.72268657476613185},{"$f":"X575/Dźwignie!$D$3","v":1.0087522511211335},2.0377942889595078,1.1605944371573418,2.3650527158374053]
[564,0.42376804351806641,{"$f":"NORMINV(B576,Dźwignie!$L$8,Dźwignie!$L$9)","v":340386.84282733995},{"$f":"Dźwignie!$L$7*C576","v":510580.26424100995},null,{"$f":"C576*Dźwignie!$G$5","v":340386.84282733995},170193.42141367,{"$f":"Dźwignie!$G$6","v":50000},120193.42141367,{"$f":"I576-Dźwignie!$D$6","v":100193.42141367},{"$f":"IF(J576>0,J576*(1-Dźwignie!$D$9),J576)","v":81156.671345072711},{"$f":"K576/Dźwignie!$D$5","v":8.1156671345072713},{"$f":"I576/Dźwignie!$D$2","v":0.60096710706834999},{"$f":"K576/Dźwignie!$D$3","v":0.81156671345072706},1.4159961453124366,1.1996139039650688,1.6986486638777409,null,{"$f":"C576*Dźwignie!$G$8","v":170193.42141366997},340386.84282734001,{"$f":"Dźwignie!$G$9","v":150000},190386.84282734001,{"$f":"V576-Dźwignie!$D$6","v":170386.84282734001},{"$f":"IF(W576>0,W576*(1-Dźwignie!$D$9),W576)","v":138013.34269014542},{"$f":"X576/Dźwignie!$D$5","v":13.801334269014543},{"$f":"V576/Dźwignie!$D$2","v":0.95193421413669999},{"$f":"X576/Dźwignie!$D$3","v":1.3801334269014542},1.7878695700418414,1.1173799553306285,1.9977296203103427]
[565,0.25943869352340698,{"$f":"NORMINV(B577,Dźwignie!$L$8,Dźwignie!$L$9)","v":317746.15764871001},{"$f":"Dźwignie!$L$7*C577","v":476619.23647306499},null,{"$f":"C577*Dźwignie!$G$5","v":317746.15764871001},158873.07882435498,{"$f":"Dźwignie!$G$6","v":50000},108873.07882435498,{"$f":"I577-Dźwignie!$D$6","v":88873.078824354976},{"$f":"IF(J577>0,J577*(1-Dźwignie!$D$9),J577)","v":71987.19384772754},{"$f":"K577/Dźwignie!$D$5","v":7.1987193847727537},{"$f":"I577/Dźwignie!$D$2","v":0.54436539412177487},{"$f":"K577/Dźwignie!$D$3","v":0.71987193847727537},1.459250354081242,1.2250400263450663,1.787640092207732,null,{"$f":"C577*Dźwignie!$G$8","v":158873.07882435501},317746.15764870995,{"$f":"Dźwignie!$G$9","v":150000},167746.15764870995,{"$f":"V577-Dźwignie!$D$6","v":147746.15764870995},{"$f":"IF(W577>0,W577*(1-Dźwignie!$D$9),W577)","v":119674.38769545507},{"$f":"X577/Dźwignie!$D$5","v":11.967438769545506},{"$f":"V577/Dźwignie!$D$2","v":0.83873078824354974},{"$f":"X577/Dźwignie!$D$3","v":1.1967438769545506},1.8942082614740212,1.1353673105161435,2.1506221393872194]
[566,0.57194578647613525,{"$f":"NORMINV(B578,Dźwignie!$L$8,Dźwignie!$L$9)","v":359066.50845268928},{"$f":"Dźwignie!$L$7*C578","v":538599.76267903391},null,{"$f":"C578*Dźwignie!$G$5","v":359066.50845268928},179533.25422634464,{"$f":"Dźwignie!$G$6","v":50000},129533.25422634464,{"$f":"I578-Dźwignie!$D$6","v":109533.25422634464},{"$f":"IF(J578>0,J578*(1-Dźwignie!$D$9),J578)","v":88721.935923339159},{"$f":"K578/Dźwignie!$D$5","v":8.8721935923339164},{"$f":"I578/Dźwignie!$D$2","v":0.64766627113172315},{"$f":"K578/Dźwignie!$D$3","v":0.88721935923339157},1.3860012650699771,1.1825929498878127,1.6390753246073444,null,{"$f":"C578*Dźwignie!$G$8","v":179533.25422634464},359066.50845268928,{"$f":"Dźwignie!$G$9","v":150000},209066.50845268928,{"$f":"V578-Dźwignie!$D$6","v":189066.50845268928},{"$f":"IF(W578>0,W578*(1-Dźwignie!$D$9),W578)","v":153143.87184667832},{"$f":"X578/Dźwignie!$D$5","v":15.314387184667831},{"$f":"V578/Dźwignie!$D$2","v":1.0453325422634463},{"$f":"X578/Dźwignie!$D$3","v":1.5314387184667833},1.7174750327546808,1.1057828811865147,1.8991544900853747]
[567,0.36336737871170044,{"$f":"NORMINV(B579,Dźwignie!$L$8,Dźwignie!$L$9)","v":332526.38463739119},{"$f":"Dźwignie!$L$7*C579","v":498789.57695608679},null,{"$f":"C579*Dźwignie!$G$5","v":332526.38463739119},166263.1923186956,{"$f":"Dźwignie!$G$6","v":50000},116263.1923186956,{"$f":"I579-Dźwignie!$D$6","v":96263.192318695597},{"$f":"IF(J579>0,J579*(1-Dźwignie!$D$9),J579)","v":77973.185778143437},{"$f":"K579/Dźwignie!$D$5","v":7.7973185778143437},{"$f":"I579/Dźwignie!$D$2","v":0.58131596159347798},{"$f":"K579/Dźwignie!$D$3","v":0.77973185778143439},1.4300587228238339,1.2077637310612619,1.7271730587144167,null,{"$f":"C579*Dźwignie!$G$8","v":166263.1923186956},332526.38463739119,{"$f":"Dźwignie!$G$9","v":150000},182526.38463739119,{"$f":"V579-Dźwignie!$D$6","v":162526.38463739119},{"$f":"IF(W579>0,W579*(1-Dźwignie!$D$9),W579)","v":131646.37155628687},{"$f":"X579/Dźwignie!$D$5","v":13.164637155628688},{"$f":"V579/Dźwignie!$D$2","v":0.91263192318695596},{"$f":"X579/Dźwignie!$D$3","v":1.3164637155628687},1.8217989979804374,1.1230569426903916,2.0459840128683289]
[568,0.23977398872375488,{"$f":"NORMINV(B580,Dźwignie!$L$8,Dźwignie!$L$9)","v":314648.51147876534},{"$f":"Dźwignie!$L$7*C580","v":471972.76721814799},null,{"$f":"C580*Dźwignie!$G$5","v":314648.51147876534},157324.25573938264,{"$f":"Dźwignie!$G$6","v":50000},107324.25573938264,{"$f":"I580-Dźwignie!$D$6","v":87324.255739382643},{"$f":"IF(J580>0,J580*(1-Dźwignie!$D$9),J580)","v":70732.647148899952},{"$f":"K580/Dźwignie!$D$5","v":7.0732647148899952},{"$f":"I580/Dźwignie!$D$2","v":0.53662127869691323},{"$f":"K580/Dźwignie!$D$3","v":0.70732647148899952},1.465877910408397,1.2290314395543154,1.8016100384401039,null,{"$f":"C580*Dźwignie!$G$8","v":157324.25573938267},314648.51147876529,{"$f":"Dźwignie!$G$9","v":150000},164648.51147876529,{"$f":"V580-Dźwignie!$D$6","v":144648.51147876529},{"$f":"IF(W580>0,W580*(1-Dźwignie!$D$9),W580)","v":117165.29429779989},{"$f":"X580/Dźwignie!$D$5","v":11.716529429779989},{"$f":"V580/Dźwignie!$D$2","v":0.82324255739382646},{"$f":"X580/Dźwignie!$D$3","v":1.1716529429779989},1.911031619130948,1.1382661998767685,2.1752626989525323]
[569,0.54603999853134155,{"$f":"NORMINV(B581,Dźwignie!$L$8,Dźwignie!$L$9)","v":355783.12654268969},{"$f":"Dźwignie!$L$7*C581","v":533674.6898140345},null,{"$f":"C581*Dźwignie!$G$5","v":355783.12654268969},177891.56327134481,{"$f":"Dźwignie!$G$6","v":50000},127891.56327134481,{"$f":"I581-Dźwignie!$D$6","v":107891.56327134481},{"$f":"IF(J581>0,J581*(1-Dźwignie!$D$9),J581)","v":87392.166249789312},{"$f":"K581/Dźwignie!$D$5","v":8.7392166249789316},{"$f":"I581/Dźwignie!$D$2","v":0.63945781635672405},{"$f":"K581/Dźwignie!$D$3","v":0.87392166249789316},1.3909562032165959,1.1853713060927706,1.6487995713246975,null,{"$f":"C581*Dźwignie!$G$8","v":177891.56327134484},355783.12654268963,{"$f":"Dźwignie!$G$9","v":150000},205783.12654268963,{"$f":"V581-Dźwignie!$D$6","v":185783.12654268963},{"$f":"IF(W581>0,W581*(1-Dźwignie!$D$9),W581)","v":150484.3324995786},{"$f":"X581/Dźwignie!$D$5","v":15.04843324995786},{"$f":"V581/Dźwignie!$D$2","v":1.0289156327134481},{"$f":"X581/Dźwignie!$D$3","v":1.504843324995786},1.7289227378362462,1.1076524029506218,1.915045425080286]
[570,0.75828444957733154,{"$f":"NORMINV(B582,Dźwignie!$L$8,Dźwignie!$L$9)","v":385039.73862631997},{"$f":"Dźwignie!$L$7*C582","v":577559.60793947999},null,{"$f":"C582*Dźwignie!$G$5","v":385039.73862631997},192519.86931316002,{"$f":"Dźwignie!$G$6","v":50000},142519.86931316002,{"$f":"I582-Dźwignie!$D$6","v":122519.86931316002},{"$f":"IF(J582>0,J582*(1-Dźwignie!$D$9),J582)","v":99241.094143659619},{"$f":"K582/Dźwignie!$D$5","v":9.9241094143659616},{"$f":"I582/Dźwignie!$D$2","v":0.71259934656580004},{"$f":"K582/Dźwignie!$D$3","v":0.99241094143659614},1.3508282756710548,1.1632388290333555,1.5713359016167445,null,{"$f":"C582*Dźwignie!$G$8","v":192519.86931315999},385039.73862632003,{"$f":"Dźwignie!$G$9","v":150000},235039.73862632003,{"$f":"V582-Dźwignie!$D$6","v":215039.73862632003},{"$f":"IF(W582>0,W582*(1-Dźwignie!$D$9),W582)","v":174182.18828731924},{"$f":"X582/Dźwignie!$D$5","v":17.418218828731924},{"$f":"V582/Dźwignie!$D$2","v":1.1751986931316001},{"$f":"X582/Dźwignie!$D$3","v":1.7418218828731924},1.6381899540761438,1.0930060654266069,1.7905515561261598]
[571,0.91592365503311157,{"$f":"NORMINV(B583,Dźwignie!$L$8,Dźwignie!$L$9)","v":418908.1950489555},{"$f":"Dźwignie!$L$7*C583","v":628362.29257343325},null,{"$f":"C583*Dźwignie!$G$5","v":418908.1950489555},209454.09752447775,{"$f":"Dźwignie!$G$6","v":50000},159454.09752447775,{"$f":"I583-Dźwignie!$D$6","v":139454.09752447775},{"$f":"IF(J583>0,J583*(1-Dźwignie!$D$9),J583)","v":112957.81899482699},{"$f":"K583/Dźwignie!$D$5","v":11.295781899482698},{"$f":"I583/Dźwignie!$D$2","v":0.79727048762238872},{"$f":"K583/Dźwignie!$D$3","v":1.12957818994827},1.3135698660382467,1.1434163667832671,1.5019572837414348,null,{"$f":"C583*Dźwignie!$G$8","v":209454.09752447775},418908.1950489555,{"$f":"Dźwignie!$G$9","v":150000},268908.1950489555,{"$f":"V583-Dźwignie!$D$6","v":248908.1950489555},{"$f":"IF(W583>0,W583*(1-Dźwignie!$D$9),W583)","v":201615.63798965397},{"$f":"X583/Dźwignie!$D$5","v":20.161563798965396},{"$f":"V583/Dźwignie!$D$2","v":1.3445409752447774},{"$f":"X583/Dźwignie!$D$3","v":2.0161563798965396},1.5578111889549966,1.0803509100858104,1.6829827357293889]
[572,0.49738836288452148,{"$f":"NORMINV(B584,Dźwignie!$L$8,Dźwignie!$L$9)","v":349672.67749022221},{"$f":"Dźwignie!$L$7*C584","v":524509.01623533329},null,{"$f":"C584*Dźwignie!$G$5","v":349672.67749022221},174836.33874511108,{"$f":"Dźwignie!$G$6","v":50000},124836.33874511108,{"$f":"I584-Dźwignie!$D$6","v":104836.33874511108},{"$f":"IF(J584>0,J584*(1-Dźwignie!$D$9),J584)","v":84917.434383539978},{"$f":"K584/Dźwignie!$D$5","v":8.491743438353998},{"$f":"I584/Dźwignie!$D$2","v":0.62418169372555543},{"$f":"K584/Dźwignie!$D$3","v":0.8491743438353998},1.4005244026107593,1.19077354512185,1.6677074079264749,null,{"$f":"C584*Dźwignie!$G$8","v":174836.3387451111},349672.67749022215,{"$f":"Dźwignie!$G$9","v":150000},199672.67749022215,{"$f":"V584-Dźwignie!$D$6","v":179672.67749022215},{"$f":"IF(W584>0,W584*(1-Dźwignie!$D$9),W584)","v":145534.86876707996},{"$f":"X584/Dźwignie!$D$5","v":14.553486876707996},{"$f":"V584/Dźwignie!$D$2","v":0.99836338745111075},{"$f":"X584/Dźwignie!$D$3","v":1.4553486876707995},1.7512294715802836,1.1113135301336421,1.9461650061359577]
[573,0.27734726667404175,{"$f":"NORMINV(B585,Dźwignie!$L$8,Dźwignie!$L$9)","v":320462.99187064037},{"$f":"Dźwignie!$L$7*C585","v":480694.48780596058},null,{"$f":"C585*Dźwignie!$G$5","v":320462.99187064037},160231.49593532021,{"$f":"Dźwignie!$G$6","v":50000},110231.49593532021,{"$f":"I585-Dźwignie!$D$6","v":90231.495935320214},{"$f":"IF(J585>0,J585*(1-Dźwignie!$D$9),J585)","v":73087.511707609374},{"$f":"K585/Dźwignie!$D$5","v":7.3087511707609369},{"$f":"I585/Dźwignie!$D$2","v":0.55115747967660111},{"$f":"K585/Dźwignie!$D$3","v":0.73087511707609376},1.4535908687054211,1.2216520937914674,1.7757823282701357,null,{"$f":"C585*Dźwignie!$G$8","v":160231.49593532018},320462.99187064043,{"$f":"Dźwignie!$G$9","v":150000},170462.99187064043,{"$f":"V585-Dźwignie!$D$6","v":150462.99187064043},{"$f":"IF(W585>0,W585*(1-Dźwignie!$D$9),W585)","v":121875.02341521875},{"$f":"X585/Dźwignie!$D$5","v":12.187502341521874},{"$f":"V585/Dźwignie!$D$2","v":0.85231495935320212},{"$f":"X585/Dźwignie!$D$3","v":1.2187502341521874},1.879956396129846,1.1329230513852526,2.1298459367746481]
[574,0.30191147327423096,{"$f":"NORMINV(B586,Dźwignie!$L$8,Dźwignie!$L$9)","v":324054.46003494353},{"$f":"Dźwignie!$L$7*C586","v":486081.6900524153},null,{"$f":"C586*Dźwignie!$G$5","v":324054.46003494353},162027.23001747177,{"$f":"Dźwignie!$G$6","v":50000},112027.23001747177,{"$f":"I586-Dźwignie!$D$6","v":92027.230017471767},{"$f":"IF(J586>0,J586*(1-Dźwignie!$D$9),J586)","v":74542.056314152142},{"$f":"K586/Dźwignie!$D$5","v":7.4542056314152143},{"$f":"I586/Dźwignie!$D$2","v":0.56013615008735884},{"$f":"K586/Dźwignie!$D$3","v":0.74542056314152139},1.4463200597944088,1.2173269802449005,1.7606444308571516,null,{"$f":"C586*Dźwignie!$G$8","v":162027.23001747177},324054.46003494353,{"$f":"Dźwignie!$G$9","v":150000},174054.46003494353,{"$f":"V586-Dźwignie!$D$6","v":154054.46003494353},{"$f":"IF(W586>0,W586*(1-Dźwignie!$D$9),W586)","v":124784.11262830427},{"$f":"X586/Dźwignie!$D$5","v":12.478411262830427},{"$f":"V586/Dźwignie!$D$2","v":0.87027230017471768},{"$f":"X586/Dźwignie!$D$3","v":1.2478411262830427},1.8617992320902648,1.1298242192758554,2.1035058638447706]
[575,0.32239609956741333,{"$f":"NORMINV(B587,Dźwignie!$L$8,Dźwignie!$L$9)","v":326949.55355915223},{"$f":"Dźwignie!$L$7*C587","v":490424.33033872838},null,{"$f":"C587*Dźwignie!$G$5","v":326949.55355915223},163474.77677957615,{"$f":"Dźwignie!$G$6","v":50000},113474.77677957615,{"$f":"I587-Dźwignie!$D$6","v":93474.776779576147},{"$f":"IF(J587>0,J587*(1-Dźwignie!$D$9),J587)","v":75714.569191456685},{"$f":"K587/Dźwignie!$D$5","v":7.5714569191456684},{"$f":"I587/Dźwignie!$D$2","v":0.56737388389788068},{"$f":"K587/Dźwignie!$D$3","v":0.75714569191456682},1.4406265552487016,1.2139614630710722,1.7488651207487527,null,{"$f":"C587*Dźwignie!$G$8","v":163474.77677957612},326949.55355915229,{"$f":"Dźwignie!$G$9","v":150000},176949.55355915229,{"$f":"V587-Dźwignie!$D$6","v":156949.55355915229},{"$f":"IF(W587>0,W587*(1-Dźwignie!$D$9),W587)","v":127129.13838291337},{"$f":"X587/Dźwignie!$D$5","v":12.712913838291337},{"$f":"V587/Dźwignie!$D$2","v":0.88474776779576148},{"$f":"X587/Dźwignie!$D$3","v":1.2712913838291338},1.8476992282993054,1.1274294800237341,2.0831505802017407]
[576,0.41591048240661621,{"$f":"NORMINV(B588,Dźwignie!$L$8,Dźwignie!$L$9)","v":339381.6651285254},{"$f":"Dźwignie!$L$7*C588","v":509072.49769278814},null,{"$f":"C588*Dźwignie!$G$5","v":339381.6651285254},169690.83256426273,{"$f":"Dźwignie!$G$6","v":50000},119690.83256426273,{"$f":"I588-Dźwignie!$D$6","v":99690.832564262731},{"$f":"IF(J588>0,J588*(1-Dźwignie!$D$9),J588)","v":80749.574377052821},{"$f":"K588/Dźwignie!$D$5","v":8.0749574377052813},{"$f":"I588/Dźwignie!$D$2","v":0.5984541628213137},{"$f":"K588/Dźwignie!$D$3","v":0.80749574377052824},1.4177429376068105,1.2006202524901937,1.7021708837156777,null,{"$f":"C588*Dźwignie!$G$8","v":169690.8325642627},339381.66512852546,{"$f":"Dźwignie!$G$9","v":150000},189381.66512852546,{"$f":"V588-Dźwignie!$D$6","v":169381.66512852546},{"$f":"IF(W588>0,W588*(1-Dźwignie!$D$9),W588)","v":137199.14875410564},{"$f":"X588/Dźwignie!$D$5","v":13.719914875410565},{"$f":"V588/Dźwignie!$D$2","v":0.94690832564262728},{"$f":"X588/Dźwignie!$D$3","v":1.3719914875410564},1.7920513313588262,1.1180765343452266,2.0036505419344257]
[577,0.35796254873275757,{"$f":"NORMINV(B589,Dźwignie!$L$8,Dźwignie!$L$9)","v":331804.49199616077},{"$f":"Dźwignie!$L$7*C589","v":497706.73799424118},null,{"$f":"C589*Dźwignie!$G$5","v":331804.49199616077},{"$f":"$D589-F589","v":165902.24599808041},{"$f":"Dźwignie!$G$6","v":50000},{"$f":"G589-H589","v":115902.24599808041},{"$f":"I589-Dźwignie!$D$6","v":95902.245998080412},{"$f":"IF(J589>0,J589*(1-Dźwignie!$D$9),J589)","v":77680.819258445146},{"$f":"K589/Dźwignie!$D$5","v":7.7680819258445144},{"$f":"I589/Dźwignie!$D$2","v":0.57951122999040205},{"$f":"K589/Dźwignie!$D$3","v":0.77680819258445144},{"$f":"IF(I589<>0,G589/I589,\"N   \")","v":1.4313980248564648},{"$f":"IF(J589<>0,I589/J589,\"N   \")","v":1.2085456893303659},{"$f":"IF(ISTEXT(O589),O589,IF(ISTEXT(P589),P589,O589*P589))","v":1.7299099126562805},null,{"$f":"C589*Dźwignie!$G$8","v":165902.24599808038},{"$f":"$D589-S589","v":331804.49199616082},{"$f":"Dźwignie!$G$9","v":150000},{"$f":"T589-U589","v":181804.49199616082},{"$f":"V589-Dźwignie!$D$6","v":161804.49199616082},{"$f":"IF(W589>0,W589*(1-Dźwignie!$D$9),W589)","v":131061.63851689028},{"$f":"X589/Dźwignie!$D$5","v":13.106163851689027},{"$f":"V589/Dźwignie!$D$2","v":0.90902245998080411},{"$f":"X589/Dźwignie!$D$3","v":1.3106163851689028},{"$f":"IF(V589<>0,T589/V589,\"N   \")","v":1.825062122244854},{"$f":"IF(W589<>0,V589/W589,\"N   \")","v":1.1236059626853534},{"$f":"IF(ISTEXT(AB589),AB589,IF(ISTEXT(AC589),AC589,AB589*AC589))","v":2.0506506828255033}]
[578,0.8015207052230835,{"$f":"NORMINV(B590,Dźwignie!$L$8,Dźwignie!$L$9)","v":392353.27715951874},{"$f":"Dźwignie!$L$7*C590","v":588529.91573927808},null,{"$f":"C590*Dźwignie!$G$5","v":392353.27715951874},196176.63857975934,{"$f":"Dźwignie!$G$6","v":50000},146176.63857975934,{"$f":"I590-Dźwignie!$D$6","v":126176.63857975934},{"$f":"IF(J590>0,J590*(1-Dźwignie!$D$9),J590)","v":102203.07724960508},{"$f":"K590/Dźwignie!$D$5","v":10.220307724960508},{"$f":"I590/Dźwignie!$D$2","v":0.73088319289879666},{"$f":"K590/Dźwignie!$D$3","v":1.0220307724960507},1.3420519207843062,1.1585079474704623,1.5547778161466181,null,{"$f":"C590*Dźwignie!$G$8","v":196176.63857975937},392353.27715951868,{"$f":"Dźwignie!$G$9","v":150000},242353.27715951868,{"$f":"V590-Dźwignie!$D$6","v":222353.27715951868},{"$f":"IF(W590>0,W590*(1-Dźwignie!$D$9),W590)","v":180106.15449921016},{"$f":"X590/Dźwignie!$D$5","v":18.010615449921016},{"$f":"V590/Dźwignie!$D$2","v":1.2117663857975933},{"$f":"X590/Dźwignie!$D$3","v":1.8010615449921015},1.6189311807872477,1.0899469540341058,1.7645491092898988]
[579,0.84920316934585571,{"$f":"NORMINV(B591,Dźwignie!$L$8,Dźwignie!$L$9)","v":401651.09379976318},{"$f":"Dźwignie!$L$7*C591","v":602476.64069964481},null,{"$f":"C591*Dźwignie!$G$5","v":401651.09379976318},200825.54689988162,{"$f":"Dźwignie!$G$6","v":50000},150825.54689988162,{"$f":"I591-Dźwignie!$D$6","v":130825.54689988162},{"$f":"IF(J591>0,J591*(1-Dźwignie!$D$9),J591)","v":105968.69298890412},{"$f":"K591/Dźwignie!$D$5","v":10.596869298890413},{"$f":"I591/Dźwignie!$D$2","v":0.75412773449940806},{"$f":"K591/Dźwignie!$D$3","v":1.0596869298890412},1.3315088261088164,1.1528753402827785,1.5350636909897246,null,{"$f":"C591*Dźwignie!$G$8","v":200825.54689988159},401651.09379976324,{"$f":"Dźwignie!$G$9","v":150000},251651.09379976324,{"$f":"V591-Dźwignie!$D$6","v":231651.09379976324},{"$f":"IF(W591>0,W591*(1-Dźwignie!$D$9),W591)","v":187637.38597780824},{"$f":"X591/Dźwignie!$D$5","v":18.763738597780826},{"$f":"V591/Dźwignie!$D$2","v":1.2582554689988161},{"$f":"X591/Dźwignie!$D$3","v":1.8763738597780824},1.5960633738367687,1.0863367388944332,1.7338622806026818]
[580,8.5849761962890625E-3,{"$f":"NORMINV(B592,Dźwignie!$L$8,Dźwignie!$L$9)","v":230847.59679911414},{"$f":"Dźwignie!$L$7*C592","v":346271.39519867121},null,{"$f":"C592*Dźwignie!$G$5","v":230847.59679911414},115423.79839955707,{"$f":"Dźwignie!$G$6","v":50000},65423.798399557068,{"$f":"I592-Dźwignie!$D$6","v":45423.798399557068},{"$f":"IF(J592>0,J592*(1-Dźwignie!$D$9),J592)","v":36793.276703641226},{"$f":"K592/Dźwignie!$D$5","v":3.6793276703641227},{"$f":"I592/Dźwignie!$D$2","v":0.32711899199778532},{"$f":"K592/Dźwignie!$D$3","v":0.36793276703641226},1.7642478917937376,1.4402978329569862,2.5410424153494517,null,{"$f":"C592*Dźwignie!$G$8","v":115423.79839955707},230847.59679911414,{"$f":"Dźwignie!$G$9","v":150000},80847.596799114137,{"$f":"V592-Dźwignie!$D$6","v":60847.596799114137},{"$f":"IF(W592>0,W592*(1-Dźwignie!$D$9),W592)","v":49286.553407282452},{"$f":"X592/Dźwignie!$D$5","v":4.9286553407282456},{"$f":"V592/Dźwignie!$D$2","v":0.4042379839955707},{"$f":"X592/Dźwignie!$D$3","v":0.49286553407282452},2.8553427181356068,1.3286900560104153,3.7938654760885311]
[581,0.31065195798873901,{"$f":"NORMINV(B593,Dźwignie!$L$8,Dźwignie!$L$9)","v":325299.83974778967},{"$f":"Dźwignie!$L$7*C593","v":487949.7596216845},null,{"$f":"C593*Dźwignie!$G$5","v":325299.83974778967},162649.91987389483,{"$f":"Dźwignie!$G$6","v":50000},112649.91987389483,{"$f":"I593-Dźwignie!$D$6","v":92649.919873894833},{"$f":"IF(J593>0,J593*(1-Dźwignie!$D$9),J593)","v":75046.435097854817},{"$f":"K593/Dźwignie!$D$5","v":7.504643509785482},{"$f":"I593/Dźwignie!$D$2","v":0.56324959936947416},{"$f":"K593/Dźwignie!$D$3","v":0.75046435097854813},1.4438529566285725,1.2158663496657294,1.755532223830053,null,{"$f":"C593*Dźwignie!$G$8","v":162649.91987389483},325299.83974778967,{"$f":"Dźwignie!$G$9","v":150000},175299.83974778967,{"$f":"V593-Dźwignie!$D$6","v":155299.83974778967},{"$f":"IF(W593>0,W593*(1-Dźwignie!$D$9),W593)","v":125792.87019570963},{"$f":"X593/Dźwignie!$D$5","v":12.579287019570964},{"$f":"V593/Dźwignie!$D$2","v":0.87649919873894833},{"$f":"X593/Dźwignie!$D$3","v":1.2579287019570964},1.8556767662526703,1.1287831335336884,2.0946566350363511]
[582,1.3138055801391602E-3,{"$f":"NORMINV(B594,Dźwignie!$L$8,Dźwignie!$L$9)","v":199587.74444466422},{"$f":"Dźwignie!$L$7*C594","v":299381.61666699633},null,{"$f":"C594*Dźwignie!$G$5","v":199587.74444466422},99793.872222332109,{"$f":"Dźwignie!$G$6","v":50000},49793.872222332109,{"$f":"I594-Dźwignie!$D$6","v":29793.872222332109},{"$f":"IF(J594>0,J594*(1-Dźwignie!$D$9),J594)","v":24133.036500089009},{"$f":"K594/Dźwignie!$D$5","v":2.4133036500089009},{"$f":"I594/Dźwignie!$D$2","v":0.24896936111166054},{"$f":"K594/Dźwignie!$D$3","v":0.24133036500089008},2.0041396213724356,1.6712789747755219,3.3494764117143268,null,{"$f":"C594*Dźwignie!$G$8","v":99793.872222332109},199587.74444466422,{"$f":"Dźwignie!$G$9","v":150000},49587.744444664218,{"$f":"V594-Dźwignie!$D$6","v":29587.744444664218},{"$f":"IF(W594>0,W594*(1-Dźwignie!$D$9),W594)","v":23966.073000178018},{"$f":"X594/Dźwignie!$D$5","v":2.3966073000178016},{"$f":"V594/Dźwignie!$D$2","v":0.24793872222332108},{"$f":"X594/Dźwignie!$D$3","v":0.23966073000178018},4.0249409744253937,1.6759555476560415,6.7456221550763518]
[583,0.32623988389968872,{"$f":"NORMINV(B595,Dźwignie!$L$8,Dźwignie!$L$9)","v":327484.00331945939},{"$f":"Dźwignie!$L$7*C595","v":491226.00497918908},null,{"$f":"C595*Dźwignie!$G$5","v":327484.00331945939},163742.00165972969,{"$f":"Dźwignie!$G$6","v":50000},113742.00165972969,{"$f":"I595-Dźwignie!$D$6","v":93742.001659729693},{"$f":"IF(J595>0,J595*(1-Dźwignie!$D$9),J595)","v":75931.02134438105},{"$f":"K595/Dźwignie!$D$5","v":7.5931021344381051},{"$f":"I595/Dźwignie!$D$2","v":0.56871000829864848},{"$f":"K595/Dźwignie!$D$3","v":0.75931021344381044},1.4395913494610362,1.2133515355539046,1.746730374438666,null,{"$f":"C595*Dźwignie!$G$8","v":163742.00165972969},327484.00331945939,{"$f":"Dźwignie!$G$9","v":150000},177484.00331945939,{"$f":"V595-Dźwignie!$D$6","v":157484.00331945939},{"$f":"IF(W595>0,W595*(1-Dźwignie!$D$9),W595)","v":127562.04268876211},{"$f":"X595/Dźwignie!$D$5","v":12.756204268876212},{"$f":"V595/Dźwignie!$D$2","v":0.88742001659729697},{"$f":"X595/Dźwignie!$D$3","v":1.2756204268876212},1.8451465889577101,1.1269970255926858,2.0794747175378294]
[584,0.59822678565979004,{"$f":"NORMINV(B596,Dźwignie!$L$8,Dźwignie!$L$9)","v":362438.00034180167},{"$f":"Dźwignie!$L$7*C596","v":543657.00051270251},null,{"$f":"C596*Dźwignie!$G$5","v":362438.00034180167},181219.00017090084,{"$f":"Dźwignie!$G$6","v":50000},131219.00017090084,{"$f":"I596-Dźwignie!$D$6","v":111219.00017090084},{"$f":"IF(J596>0,J596*(1-Dźwignie!$D$9),J596)","v":90087.390138429677},{"$f":"K596/Dźwignie!$D$5","v":9.0087390138429679},{"$f":"I596/Dźwignie!$D$2","v":0.65609500085450423},{"$f":"K596/Dźwignie!$D$3","v":0.90087390138429679},1.3810423790371786,1.1798253892704276,1.6293888624464967,null,{"$f":"C596*Dźwignie!$G$8","v":181219.00017090084},362438.00034180167,{"$f":"Dźwignie!$G$9","v":150000},212438.00034180167,{"$f":"V596-Dźwignie!$D$6","v":192438.00034180167},{"$f":"IF(W596>0,W596*(1-Dźwignie!$D$9),W596)","v":155874.78027685935},{"$f":"X596/Dźwignie!$D$5","v":15.587478027685936},{"$f":"V596/Dźwignie!$D$2","v":1.0621900017090085},{"$f":"X596/Dźwignie!$D$3","v":1.5587478027685935},1.7060883634691431,1.1039295771338129,1.88340140563741]
[585,0.72947067022323608,{"$f":"NORMINV(B597,Dźwignie!$L$8,Dźwignie!$L$9)","v":380560.64385130344},{"$f":"Dźwignie!$L$7*C597","v":570840.96577695513},null,{"$f":"C597*Dźwignie!$G$5","v":380560.64385130344},190280.32192565169,{"$f":"Dźwignie!$G$6","v":50000},140280.32192565169,{"$f":"I597-Dźwignie!$D$6","v":120280.32192565169},{"$f":"IF(J597>0,J597*(1-Dźwignie!$D$9),J597)","v":97427.060759777873},{"$f":"K597/Dźwignie!$D$5","v":9.7427060759777877},{"$f":"I597/Dźwignie!$D$2","v":0.70140160962825848},{"$f":"K597/Dźwignie!$D$3","v":0.97427060759777873},1.3564291791866567,1.1662782380343353,1.5819738331201736,null,{"$f":"C597*Dźwignie!$G$8","v":190280.32192565172},380560.64385130338,{"$f":"Dźwignie!$G$9","v":150000},230560.64385130338,{"$f":"V597-Dźwignie!$D$6","v":210560.64385130338},{"$f":"IF(W597>0,W597*(1-Dźwignie!$D$9),W597)","v":170554.12151955575},{"$f":"X597/Dźwignie!$D$5","v":17.055412151955576},{"$f":"V597/Dźwignie!$D$2","v":1.152803219256517},{"$f":"X597/Dźwignie!$D$3","v":1.7055412151955573},1.6505880513447049,1.0949845119875483,1.8073683518941601]
[586,0.43162524700164795,{"$f":"NORMINV(B598,Dźwignie!$L$8,Dźwignie!$L$9)","v":341388.10441542068},{"$f":"Dźwignie!$L$7*C598","v":512082.15662313101},null,{"$f":"C598*Dźwignie!$G$5","v":341388.10441542068},170694.05220771034,{"$f":"Dźwignie!$G$6","v":50000},120694.05220771034,{"$f":"I598-Dźwignie!$D$6","v":100694.05220771034},{"$f":"IF(J598>0,J598*(1-Dźwignie!$D$9),J598)","v":81562.182288245385},{"$f":"K598/Dźwignie!$D$5","v":8.1562182288245388},{"$f":"I598/Dźwignie!$D$2","v":0.60347026103855173},{"$f":"K598/Dźwignie!$D$3","v":0.81562182288245388},1.4142706213389182,1.1986214633486423,1.6951751217202478,null,{"$f":"C598*Dźwignie!$G$8","v":170694.05220771034},341388.10441542068,{"$f":"Dźwignie!$G$9","v":150000},191388.10441542068,{"$f":"V598-Dźwignie!$D$6","v":171388.10441542068},{"$f":"IF(W598>0,W598*(1-Dźwignie!$D$9),W598)","v":138824.36457649077},{"$f":"X598/Dźwignie!$D$5","v":13.882436457649076},{"$f":"V598/Dźwignie!$D$2","v":0.95694052207710334},{"$f":"X598/Dźwignie!$D$3","v":1.3882436457649077},1.7837477697904096,1.1166942132198558,1.991900812368774]
[587,0.22500282526016235,{"$f":"NORMINV(B599,Dźwignie!$L$8,Dźwignie!$L$9)","v":312229.71969435021},{"$f":"Dźwignie!$L$7*C599","v":468344.57954152534},null,{"$f":"C599*Dźwignie!$G$5","v":312229.71969435021},156114.85984717513,{"$f":"Dźwignie!$G$6","v":50000},106114.85984717513,{"$f":"I599-Dźwignie!$D$6","v":86114.859847175132},{"$f":"IF(J599>0,J599*(1-Dźwignie!$D$9),J599)","v":69753.036476211855},{"$f":"K599/Dźwignie!$D$5","v":6.9753036476211854},{"$f":"I599/Dźwignie!$D$2","v":0.53057429923587562},{"$f":"K599/Dźwignie!$D$3","v":0.6975303647621186},1.4711875421784393,1.2322479539012576,1.8128678386544019,null,{"$f":"C599*Dźwignie!$G$8","v":156114.8598471751},312229.71969435026,{"$f":"Dźwignie!$G$9","v":150000},162229.71969435026,{"$f":"V599-Dźwignie!$D$6","v":142229.71969435026},{"$f":"IF(W599>0,W599*(1-Dźwignie!$D$9),W599)","v":115206.07295242372},{"$f":"X599/Dźwignie!$D$5","v":11.520607295242373},{"$f":"V599/Dźwignie!$D$2","v":0.81114859847175136},{"$f":"X599/Dźwignie!$D$3","v":1.1520607295242373},1.9246148010525339,1.1406175871187803,2.1952494905096325]
[588,0.58284616470336914,{"$f":"NORMINV(B600,Dźwignie!$L$8,Dźwignie!$L$9)","v":360459.00346880429},{"$f":"Dźwignie!$L$7*C600","v":540688.50520320644},null,{"$f":"C600*Dźwignie!$G$5","v":360459.00346880429},180229.50173440215,{"$f":"Dźwignie!$G$6","v":50000},130229.50173440215,{"$f":"I600-Dźwignie!$D$6","v":110229.50173440215},{"$f":"IF(J600>0,J600*(1-Dźwignie!$D$9),J600)","v":89285.896404865751},{"$f":"K600/Dźwignie!$D$5","v":8.9285896404865746},{"$f":"I600/Dźwignie!$D$2","v":0.65114750867201077},{"$f":"K600/Dźwignie!$D$3","v":0.8928589640486575},1.3839375819925426,1.1814396299113279,1.6350387046896475,null,{"$f":"C600*Dźwignie!$G$8","v":180229.50173440215},360459.00346880429,{"$f":"Dźwignie!$G$9","v":150000},210459.00346880429,{"$f":"V600-Dźwignie!$D$6","v":190459.00346880429},{"$f":"IF(W600>0,W600*(1-Dźwignie!$D$9),W600)","v":154271.7928097315},{"$f":"X600/Dźwignie!$D$5","v":15.427179280973149},{"$f":"V600/Dźwignie!$D$2","v":1.0522950173440215},{"$f":"X600/Dźwignie!$D$3","v":1.5427179280973151},1.7127278829970991,1.1050094751927853,1.8925805391386745]
[589,0.98288792371749878,{"$f":"NORMINV(B601,Dźwignie!$L$8,Dźwignie!$L$9)","v":455871.03875023068},{"$f":"Dźwignie!$L$7*C601","v":683806.55812534597},null,{"$f":"C601*Dźwignie!$G$5","v":455871.03875023068},227935.51937511528,{"$f":"Dźwignie!$G$6","v":50000},177935.51937511528,{"$f":"I601-Dźwignie!$D$6","v":157935.51937511528},{"$f":"IF(J601>0,J601*(1-Dźwignie!$D$9),J601)","v":127927.77069384338},{"$f":"K601/Dźwignie!$D$5","v":12.792777069384339},{"$f":"I601/Dźwignie!$D$2","v":0.88967759687557646},{"$f":"K601/Dźwignie!$D$3","v":1.2792777069384338},1.2810006690940237,1.1266339584605896,1.4432188546120637,null,{"$f":"C601*Dźwignie!$G$8","v":227935.51937511534},455871.03875023063,{"$f":"Dźwignie!$G$9","v":150000},305871.03875023063,{"$f":"V601-Dźwignie!$D$6","v":285871.03875023063},{"$f":"IF(W601>0,W601*(1-Dźwignie!$D$9),W601)","v":231555.54138768683},{"$f":"X601/Dźwignie!$D$5","v":23.155554138768682},{"$f":"V601/Dźwignie!$D$2","v":1.5293551937511531},{"$f":"X601/Dźwignie!$D$3","v":2.3155554138768681},1.4904027547455632,1.0699616165647134,1.5946737408000649]
[590,0.29954731464385986,{"$f":"NORMINV(B602,Dźwignie!$L$8,Dźwignie!$L$9)","v":323714.85361247696},{"$f":"Dźwignie!$L$7*C602","v":485572.28041871544},null,{"$f":"C602*Dźwignie!$G$5","v":323714.85361247696},161857.42680623848,{"$f":"Dźwignie!$G$6","v":50000},111857.42680623848,{"$f":"I602-Dźwignie!$D$6","v":91857.42680623848},{"$f":"IF(J602>0,J602*(1-Dźwignie!$D$9),J602)","v":74404.515713053173},{"$f":"K602/Dźwignie!$D$5","v":7.4404515713053172},{"$f":"I602/Dźwignie!$D$2","v":0.55928713403119235},{"$f":"K602/Dźwignie!$D$3","v":0.74404515713053176},1.4469975881584594,1.2177287204243969,1.7620505214853892,null,{"$f":"C602*Dźwignie!$G$8","v":161857.42680623848},323714.85361247696,{"$f":"Dźwignie!$G$9","v":150000},173714.85361247696,{"$f":"V602-Dźwignie!$D$6","v":153714.85361247696},{"$f":"IF(W602>0,W602*(1-Dźwignie!$D$9),W602)","v":124509.03142610635},{"$f":"X602/Dźwignie!$D$5","v":12.450903142610635},{"$f":"V602/Dźwignie!$D$2","v":0.8685742680623848},{"$f":"X602/Dźwignie!$D$3","v":1.2450903142610634},1.8634840192458151,1.1301110434676731,2.1059438694752215]
[591,0.98671513795852661,{"$f":"NORMINV(B603,Dźwignie!$L$8,Dźwignie!$L$9)","v":460889.0823510444},{"$f":"Dźwignie!$L$7*C603","v":691333.62352656666},null,{"$f":"C603*Dźwignie!$G$5","v":460889.0823510444},230444.54117552226,{"$f":"Dźwignie!$G$6","v":50000},180444.54117552226,{"$f":"I603-Dźwignie!$D$6","v":160444.54117552226},{"$f":"IF(J603>0,J603*(1-Dźwignie!$D$9),J603)","v":129960.07835217303},{"$f":"K603/Dźwignie!$D$5","v":12.996007835217304},{"$f":"I603/Dźwignie!$D$2","v":0.90222270587761133},{"$f":"K603/Dźwignie!$D$3","v":1.2996007835217303},1.2770934475172842,1.124653664459176,1.4362878256071161,null,{"$f":"C603*Dźwignie!$G$8","v":230444.5411755222},460889.08235104446,{"$f":"Dźwignie!$G$9","v":150000},310889.08235104446,{"$f":"V603-Dźwignie!$D$6","v":290889.08235104446},{"$f":"IF(W603>0,W603*(1-Dźwignie!$D$9),W603)","v":235620.15670434604},{"$f":"X603/Dźwignie!$D$5","v":23.562015670434604},{"$f":"V603/Dźwignie!$D$2","v":1.5544454117552222},{"$f":"X603/Dźwignie!$D$3","v":2.3562015670434602},1.4824871908194754,1.0687547289102588,1.5844151957371997]
[592,0.45127367973327637,{"$f":"NORMINV(B604,Dźwignie!$L$8,Dźwignie!$L$9)","v":343877.79783962434},{"$f":"Dźwignie!$L$7*C604","v":515816.69675943651},null,{"$f":"C604*Dźwignie!$G$5","v":343877.79783962434},171938.89891981217,{"$f":"Dźwignie!$G$6","v":50000},121938.89891981217,{"$f":"I604-Dźwignie!$D$6","v":101938.89891981217},{"$f":"IF(J604>0,J604*(1-Dźwignie!$D$9),J604)","v":82570.508125047869},{"$f":"K604/Dźwignie!$D$5","v":8.2570508125047866},{"$f":"I604/Dźwignie!$D$2","v":0.60969449459906089},{"$f":"K604/Dźwignie!$D$3","v":0.8257050812504787},1.4100414260168146,1.1961959586765061,1.6866858553677713,null,{"$f":"C604*Dźwignie!$G$8","v":171938.89891981217},343877.79783962434,{"$f":"Dźwignie!$G$9","v":150000},193877.79783962434,{"$f":"V604-Dźwignie!$D$6","v":173877.79783962434},{"$f":"IF(W604>0,W604*(1-Dźwignie!$D$9),W604)","v":140841.01625009574},{"$f":"X604/Dźwignie!$D$5","v":14.084101625009573},{"$f":"V604/Dźwignie!$D$2","v":0.96938898919812166},{"$f":"X604/Dźwignie!$D$3","v":1.4084101625009573},1.7736832255753181,1.1150233109027925,1.9776981426737357]
[593,0.1669120192527771,{"$f":"NORMINV(B605,Dźwignie!$L$8,Dźwignie!$L$9)","v":301677.99818741664},{"$f":"Dźwignie!$L$7*C605","v":452516.99728112493},null,{"$f":"C605*Dźwignie!$G$5","v":301677.99818741664},150838.99909370829,{"$f":"Dźwignie!$G$6","v":50000},100838.99909370829,{"$f":"I605-Dźwignie!$D$6","v":80838.999093708291},{"$f":"IF(J605>0,J605*(1-Dźwignie!$D$9),J605)","v":65479.58926590372},{"$f":"K605/Dźwignie!$D$5","v":6.5479589265903719},{"$f":"I605/Dźwignie!$D$2","v":0.50419499546854141},{"$f":"K605/Dźwignie!$D$3","v":0.65479589265903715},1.4958399076684179,1.2474053393067877,1.8659186875737568,null,{"$f":"C605*Dźwignie!$G$8","v":150838.99909370832},301677.99818741658,{"$f":"Dźwignie!$G$9","v":150000},151677.99818741658,{"$f":"V605-Dźwignie!$D$6","v":131677.99818741658},{"$f":"IF(W605>0,W605*(1-Dźwignie!$D$9),W605)","v":106659.17853180744},{"$f":"X605/Dźwignie!$D$5","v":10.665917853180744},{"$f":"V605/Dźwignie!$D$2","v":0.75838999093708293},{"$f":"X605/Dźwignie!$D$3","v":1.0665917853180744},1.9889371022332243,1.151885662565542,2.2910281318071068]
[594,0.6295551061630249,{"$f":"NORMINV(B606,Dźwignie!$L$8,Dźwignie!$L$9)","v":366533.7632619745},{"$f":"Dźwignie!$L$7*C606","v":549800.64489296172},null,{"$f":"C606*Dźwignie!$G$5","v":366533.7632619745},183266.88163098722,{"$f":"Dźwignie!$G$6","v":50000},133266.88163098722,{"$f":"I606-Dźwignie!$D$6","v":113266.88163098722},{"$f":"IF(J606>0,J606*(1-Dźwignie!$D$9),J606)","v":91746.174121099655},{"$f":"K606/Dźwignie!$D$5","v":9.1746174121099653},{"$f":"I606/Dźwignie!$D$2","v":0.66633440815493605},{"$f":"K606/Dźwignie!$D$3","v":0.91746174121099655},1.3751869886056822,1.1765741204490656,1.6180094215717298,null,{"$f":"C606*Dźwignie!$G$8","v":183266.88163098725},366533.76326197444,{"$f":"Dźwignie!$G$9","v":150000},216533.76326197444,{"$f":"V606-Dźwignie!$D$6","v":196533.76326197444},{"$f":"IF(W606>0,W606*(1-Dźwignie!$D$9),W606)","v":159192.34824219931},{"$f":"X606/Dźwignie!$D$5","v":15.919234824219931},{"$f":"V606/Dźwignie!$D$2","v":1.0826688163098721},{"$f":"X606/Dźwignie!$D$3","v":1.591923482421993},1.6927326147217132,1.1017636851197956,1.864991323518262]
[595,0.60045152902603149,{"$f":"NORMINV(B607,Dźwignie!$L$8,Dźwignie!$L$9)","v":362725.80018294678},{"$f":"Dźwignie!$L$7*C607","v":544088.7002744202},null,{"$f":"C607*Dźwignie!$G$5","v":362725.80018294678},181362.90009147342,{"$f":"Dźwignie!$G$6","v":50000},131362.90009147342,{"$f":"I607-Dźwignie!$D$6","v":111362.90009147342},{"$f":"IF(J607>0,J607*(1-Dźwignie!$D$9),J607)","v":90203.949074093471},{"$f":"K607/Dźwignie!$D$5","v":9.0203949074093472},{"$f":"I607/Dźwignie!$D$2","v":0.65681450045736711},{"$f":"K607/Dźwignie!$D$3","v":0.9020394907409347},1.3806249707123011,1.1795930241002346,1.6285755843508209,null,{"$f":"C607*Dźwignie!$G$8","v":181362.90009147339},362725.80018294684,{"$f":"Dźwignie!$G$9","v":150000},212725.80018294684,{"$f":"V607-Dźwignie!$D$6","v":192725.80018294684},{"$f":"IF(W607>0,W607*(1-Dźwignie!$D$9),W607)","v":156107.89814818694},{"$f":"X607/Dźwignie!$D$5","v":15.610789814818695},{"$f":"V607/Dźwignie!$D$2","v":1.0636290009147342},{"$f":"X607/Dźwignie!$D$3","v":1.5610789814818695},1.705133086212383,1.1037743778000393,1.8820822113003337]
[596,4.8785209655761719E-2,{"$f":"NORMINV(B608,Dźwignie!$L$8,Dźwignie!$L$9)","v":267162.59633795556},{"$f":"Dźwignie!$L$7*C608","v":400743.89450693334},null,{"$f":"C608*Dźwignie!$G$5","v":267162.59633795556},133581.29816897778,{"$f":"Dźwignie!$G$6","v":50000},83581.298168977781,{"$f":"I608-Dźwignie!$D$6","v":63581.298168977781},{"$f":"IF(J608>0,J608*(1-Dźwignie!$D$9),J608)","v":51500.851516872004},{"$f":"K608/Dźwignie!$D$5","v":5.1500851516872004},{"$f":"I608/Dźwignie!$D$2","v":0.4179064908448889},{"$f":"K608/Dźwignie!$D$3","v":0.51500851516872004},1.5982199498614404,1.3145579057987571,2.1009526702956496,null,{"$f":"C608*Dźwignie!$G$8","v":133581.29816897778},267162.59633795556,{"$f":"Dźwignie!$G$9","v":150000},117162.59633795556,{"$f":"V608-Dźwignie!$D$6","v":97162.596337955561},{"$f":"IF(W608>0,W608*(1-Dźwignie!$D$9),W608)","v":78701.703033744008},{"$f":"X608/Dźwignie!$D$5","v":7.870170303374401},{"$f":"V608/Dźwignie!$D$2","v":0.5858129816897778},{"$f":"X608/Dźwignie!$D$3","v":0.78701703033744008},2.2802720722176977,1.2058405266408798,2.7496444764474788]
[597,0.30821532011032104,{"$f":"NORMINV(B609,Dźwignie!$L$8,Dźwignie!$L$9)","v":324954.22832295147},{"$f":"Dźwignie!$L$7*C609","v":487431.34248442721},null,{"$f":"C609*Dźwignie!$G$5","v":324954.22832295147},162477.11416147574,{"$f":"Dźwignie!$G$6","v":50000},112477.11416147574,{"$f":"I609-Dźwignie!$D$6","v":92477.114161475736},{"$f":"IF(J609>0,J609*(1-Dźwignie!$D$9),J609)","v":74906.462470795348},{"$f":"K609/Dźwignie!$D$5","v":7.4906462470795345},{"$f":"I609/Dźwignie!$D$2","v":0.56238557080737872},{"$f":"K609/Dźwignie!$D$3","v":0.74906462470795343},1.4445348760301442,1.2162697244755896,1.7569440356645634,null,{"$f":"C609*Dźwignie!$G$8","v":162477.11416147574},324954.22832295147,{"$f":"Dźwignie!$G$9","v":150000},174954.22832295147,{"$f":"V609-Dźwignie!$D$6","v":154954.22832295147},{"$f":"IF(W609>0,W609*(1-Dźwignie!$D$9),W609)","v":125512.9249415907},{"$f":"X609/Dźwignie!$D$5","v":12.551292494159069},{"$f":"V609/Dźwignie!$D$2","v":0.87477114161475733},{"$f":"X609/Dźwignie!$D$3","v":1.255129249415907},1.8573671036010175,1.1290703726930029,2.0970981678905241]
[598,0.65413153171539307,{"$f":"NORMINV(B610,Dźwignie!$L$8,Dźwignie!$L$9)","v":369824.9506004483},{"$f":"Dźwignie!$L$7*C610","v":554737.42590067245},null,{"$f":"C610*Dźwignie!$G$5","v":369824.9506004483},184912.47530022415,{"$f":"Dźwignie!$G$6","v":50000},134912.47530022415,{"$f":"I610-Dźwignie!$D$6","v":114912.47530022415},{"$f":"IF(J610>0,J610*(1-Dźwignie!$D$9),J610)","v":93079.104993181565},{"$f":"K610/Dźwignie!$D$5","v":9.3079104993181563},{"$f":"I610/Dźwignie!$D$2","v":0.67456237650112072},{"$f":"K610/Dźwignie!$D$3","v":0.93079104993181561},1.3706106487834704,1.1740455067889481,1.6091592737613185,null,{"$f":"C610*Dźwignie!$G$8","v":184912.47530022415},369824.9506004483,{"$f":"Dźwignie!$G$9","v":150000},219824.9506004483,{"$f":"V610-Dźwignie!$D$6","v":199824.9506004483},{"$f":"IF(W610>0,W610*(1-Dźwignie!$D$9),W610)","v":161858.20998636313},{"$f":"X610/Dźwignie!$D$5","v":16.185820998636313},{"$f":"V610/Dźwignie!$D$2","v":1.0991247530022414},{"$f":"X610/Dźwignie!$D$3","v":1.6185820998636313},1.6823611222942501,1.1000876013726142,1.8507446116672208]
[599,0.431263267993927,{"$f":"NORMINV(B611,Dźwignie!$L$8,Dźwignie!$L$9)","v":341342.0554690077},{"$f":"Dźwignie!$L$7*C611","v":512013.08320351155},null,{"$f":"C611*Dźwignie!$G$5","v":341342.0554690077},170671.02773450385,{"$f":"Dźwignie!$G$6","v":50000},120671.02773450385,{"$f":"I611-Dźwignie!$D$6","v":100671.02773450385},{"$f":"IF(J611>0,J611*(1-Dźwignie!$D$9),J611)","v":81543.532464948119},{"$f":"K611/Dźwignie!$D$5","v":8.1543532464948125},{"$f":"I611/Dźwignie!$D$2","v":0.60335513867251922},{"$f":"K611/Dźwignie!$D$3","v":0.81543532464948121},1.4143496656878423,1.198666890068365,1.6953341152392776,null,{"$f":"C611*Dźwignie!$G$8","v":170671.02773450385},341342.0554690077,{"$f":"Dźwignie!$G$9","v":150000},191342.0554690077,{"$f":"V611-Dźwignie!$D$6","v":171342.0554690077},{"$f":"IF(W611>0,W611*(1-Dźwignie!$D$9),W611)","v":138787.06492989624},{"$f":"X611/Dźwignie!$D$5","v":13.878706492989624},{"$f":"V611/Dźwignie!$D$2","v":0.95671027734503844},{"$f":"X611/Dźwignie!$D$3","v":1.3878706492989623},1.7839363888525595,1.1167255753133976,1.9921673901638794]
[600,9.2726945877075195E-2,{"$f":"NORMINV(B612,Dźwignie!$L$8,Dźwignie!$L$9)","v":283792.59924425557},{"$f":"Dźwignie!$L$7*C612","v":425688.89886638336},null,{"$f":"C612*Dźwignie!$G$5","v":283792.59924425557},141896.29962212779,{"$f":"Dźwignie!$G$6","v":50000},91896.299622127786,{"$f":"I612-Dźwignie!$D$6","v":71896.299622127786},{"$f":"IF(J612>0,J612*(1-Dźwignie!$D$9),J612)","v":58236.00269392351},{"$f":"K612/Dźwignie!$D$5","v":5.823600269392351},{"$f":"I612/Dźwignie!$D$2","v":0.45948149811063893},{"$f":"K612/Dźwignie!$D$3","v":0.58236002693923505},1.5440915489045486,1.2781784334536812,1.9736245170878841,null,{"$f":"C612*Dźwignie!$G$8","v":141896.29962212779},283792.59924425557,{"$f":"Dźwignie!$G$9","v":150000},133792.59924425557,{"$f":"V612-Dźwignie!$D$6","v":113792.59924425557},{"$f":"IF(W612>0,W612*(1-Dźwignie!$D$9),W612)","v":92172.005387847021},{"$f":"X612/Dźwignie!$D$5","v":9.2172005387847022},{"$f":"V612/Dźwignie!$D$2","v":0.66896299622127786},{"$f":"X612/Dźwignie!$D$3","v":0.92172005387847022},2.121138245667503,1.1757583545224242,2.4939460134406048]
[601,0.81725925207138062,{"$f":"NORMINV(B613,Dźwignie!$L$8,Dźwignie!$L$9)","v":395248.47968861926},{"$f":"Dźwignie!$L$7*C613","v":592872.7195329289},null,{"$f":"C613*Dźwignie!$G$5","v":395248.47968861926},197624.23984430963,{"$f":"Dźwignie!$G$6","v":50000},147624.23984430963,{"$f":"I613-Dźwignie!$D$6","v":127624.23984430963},{"$f":"IF(J613>0,J613*(1-Dźwignie!$D$9),J613)","v":103375.63427389081},{"$f":"K613/Dźwignie!$D$5","v":10.337563427389082},{"$f":"I613/Dźwignie!$D$2","v":0.73812119922154817},{"$f":"K613/Dźwignie!$D$3","v":1.033756342738908},1.3386977643558535,1.1567100421079746,1.5484851473779107,null,{"$f":"C613*Dźwignie!$G$8","v":197624.23984430963},395248.47968861926,{"$f":"Dźwignie!$G$9","v":150000},245248.47968861926,{"$f":"V613-Dźwignie!$D$6","v":225248.47968861926},{"$f":"IF(W613>0,W613*(1-Dźwignie!$D$9),W613)","v":182451.26854778163},{"$f":"X613/Dźwignie!$D$5","v":18.245126854778164},{"$f":"V613/Dźwignie!$D$2","v":1.2262423984430963},{"$f":"X613/Dźwignie!$D$3","v":1.8245126854778162},1.6116245865843821,1.0887908323627655,1.7547220750835073]
[602,0.45439231395721436,{"$f":"NORMINV(B614,Dźwignie!$L$8,Dźwignie!$L$9)","v":344271.41599811707},{"$f":"Dźwignie!$L$7*C614","v":516407.1239971756},null,{"$f":"C614*Dźwignie!$G$5","v":344271.41599811707},172135.70799905853,{"$f":"Dźwignie!$G$6","v":50000},122135.70799905853,{"$f":"I614-Dźwignie!$D$6","v":102135.70799905853},{"$f":"IF(J614>0,J614*(1-Dźwignie!$D$9),J614)","v":82729.923479237419},{"$f":"K614/Dźwignie!$D$5","v":8.2729923479237417},{"$f":"I614/Dźwignie!$D$2","v":0.61067853999529265},{"$f":"K614/Dźwignie!$D$3","v":0.82729923479237422},1.4093806866079281,1.1958179014158727,1.6853626549555545,null,{"$f":"C614*Dźwignie!$G$8","v":172135.70799905853},344271.41599811707,{"$f":"Dźwignie!$G$9","v":150000},194271.41599811707,{"$f":"V614-Dźwignie!$D$6","v":174271.41599811707},{"$f":"IF(W614>0,W614*(1-Dźwignie!$D$9),W614)","v":141159.84695847484},{"$f":"X614/Dźwignie!$D$5","v":14.115984695847484},{"$f":"V614/Dźwignie!$D$2","v":0.97135707999058529},{"$f":"X614/Dźwignie!$D$3","v":1.4115984695847483},1.7721156467066357,1.1147635134852871,1.975489864624941]
[603,0.29830318689346313,{"$f":"NORMINV(B615,Dźwignie!$L$8,Dźwignie!$L$9)","v":323535.65010467626},{"$f":"Dźwignie!$L$7*C615","v":485303.47515701439},null,{"$f":"C615*Dźwignie!$G$5","v":323535.65010467626},161767.82505233813,{"$f":"Dźwignie!$G$6","v":50000},111767.82505233813,{"$f":"I615-Dźwignie!$D$6","v":91767.825052338128},{"$f":"IF(J615>0,J615*(1-Dźwignie!$D$9),J615)","v":74331.938292393883},{"$f":"K615/Dźwignie!$D$5","v":7.4331938292393884},{"$f":"I615/Dźwignie!$D$2","v":0.55883912526169066},{"$f":"K615/Dźwignie!$D$3","v":0.74331938292393884},1.447355936080766,1.2179413099154672,1.7627945847041353,null,{"$f":"C615*Dźwignie!$G$8","v":161767.82505233813},323535.65010467626,{"$f":"Dźwignie!$G$9","v":150000},173535.65010467626,{"$f":"V615-Dźwignie!$D$6","v":153535.65010467626},{"$f":"IF(W615>0,W615*(1-Dźwignie!$D$9),W615)","v":124363.87658478778},{"$f":"X615/Dźwignie!$D$5","v":12.436387658478779},{"$f":"V615/Dźwignie!$D$2","v":0.86767825052338132},{"$f":"X615/Dźwignie!$D$3","v":1.2436387658478778},1.8643757055655157,1.130262906278539,2.1072347033675816]
[604,0.9381403923034668,{"$f":"NORMINV(B616,Dźwignie!$L$8,Dźwignie!$L$9)","v":426967.42994729272},{"$f":"Dźwignie!$L$7*C616","v":640451.14492093911},null,{"$f":"C616*Dźwignie!$G$5","v":426967.42994729272},213483.71497364639,{"$f":"Dźwignie!$G$6","v":50000},163483.71497364639,{"$f":"I616-Dźwignie!$D$6","v":143483.71497364639},{"$f":"IF(J616>0,J616*(1-Dźwignie!$D$9),J616)","v":116221.80912865358},{"$f":"K616/Dźwignie!$D$5","v":11.622180912865359},{"$f":"I616/Dźwignie!$D$2","v":0.817418574868232},{"$f":"K616/Dźwignie!$D$3","v":1.1622180912865359},1.3058408601007141,1.1393886407504392,1.487860242626537,null,{"$f":"C616*Dźwignie!$G$8","v":213483.71497364636},426967.42994729278,{"$f":"Dźwignie!$G$9","v":150000},276967.42994729278,{"$f":"V616-Dźwignie!$D$6","v":256967.42994729278},{"$f":"IF(W616>0,W616*(1-Dźwignie!$D$9),W616)","v":208143.61825730716},{"$f":"X616/Dźwignie!$D$5","v":20.814361825730714},{"$f":"V616/Dźwignie!$D$2","v":1.384837149736464},{"$f":"X616/Dźwignie!$D$3","v":2.0814361825730714},1.5415799252227786,1.0778308753140515,1.6615624401694375]
[605,0.19141930341720581,{"$f":"NORMINV(B617,Dźwignie!$L$8,Dźwignie!$L$9)","v":306366.09949598269},{"$f":"Dźwignie!$L$7*C617","v":459549.14924397401},null,{"$f":"C617*Dźwignie!$G$5","v":306366.09949598269},153183.04974799132,{"$f":"Dźwignie!$G$6","v":50000},103183.04974799132,{"$f":"I617-Dźwignie!$D$6","v":83183.049747991317},{"$f":"IF(J617>0,J617*(1-Dźwignie!$D$9),J617)","v":67378.270295872979},{"$f":"K617/Dźwignie!$D$5","v":6.7378270295872982},{"$f":"I617/Dźwignie!$D$2","v":0.51591524873995653},{"$f":"K617/Dźwignie!$D$3","v":0.67378270295872977},1.4845757139580318,1.2404335986789539,1.8415175953763385,null,{"$f":"C617*Dźwignie!$G$8","v":153183.04974799135},306366.09949598263,{"$f":"Dźwignie!$G$9","v":150000},156366.09949598263,{"$f":"V617-Dźwignie!$D$6","v":136366.09949598263},{"$f":"IF(W617>0,W617*(1-Dźwignie!$D$9),W617)","v":110456.54059174594},{"$f":"X617/Dźwignie!$D$5","v":11.045654059174595},{"$f":"V617/Dźwignie!$D$2","v":0.78183049747991318},{"$f":"X617/Dźwignie!$D$3","v":1.1045654059174594},1.9592872143226532,1.1466640174788398,2.2466441485701383]
[606,0.85071098804473877,{"$f":"NORMINV(B618,Dźwignie!$L$8,Dźwignie!$L$9)","v":401974.37980131077},{"$f":"Dźwignie!$L$7*C618","v":602961.56970196613},null,{"$f":"C618*Dźwignie!$G$5","v":401974.37980131077},200987.18990065536,{"$f":"Dźwignie!$G$6","v":50000},150987.18990065536,{"$f":"I618-Dźwignie!$D$6","v":130987.18990065536},{"$f":"IF(J618>0,J618*(1-Dźwignie!$D$9),J618)","v":106099.62381953084},{"$f":"K618/Dźwignie!$D$5","v":10.609962381953084},{"$f":"I618/Dźwignie!$D$2","v":0.7549359495032768},{"$f":"K618/Dźwignie!$D$3","v":1.0609962381953084},1.3311539212889409,1.1526866865009364,1.5344034027532776,null,{"$f":"C618*Dźwignie!$G$8","v":200987.18990065539},401974.37980131072,{"$f":"Dźwignie!$G$9","v":150000},251974.37980131072,{"$f":"V618-Dźwignie!$D$6","v":231974.37980131072},{"$f":"IF(W618>0,W618*(1-Dźwignie!$D$9),W618)","v":187899.24763906168},{"$f":"X618/Dźwignie!$D$5","v":18.789924763906168},{"$f":"V618/Dźwignie!$D$2","v":1.2598718990065536},{"$f":"X618/Dźwignie!$D$3","v":1.8789924763906167},1.5952986177335944,1.0862164175937459,1.7328395495468396]
[607,0.80295068025588989,{"$f":"NORMINV(B619,Dźwignie!$L$8,Dźwignie!$L$9)","v":392610.40159823059},{"$f":"Dźwignie!$L$7*C619","v":588915.60239734594},null,{"$f":"C619*Dźwignie!$G$5","v":392610.40159823059},196305.20079911535,{"$f":"Dźwignie!$G$6","v":50000},146305.20079911535,{"$f":"I619-Dźwignie!$D$6","v":126305.20079911535},{"$f":"IF(J619>0,J619*(1-Dźwignie!$D$9),J619)","v":102307.21264728344},{"$f":"K619/Dźwignie!$D$5","v":10.230721264728343},{"$f":"I619/Dźwignie!$D$2","v":0.73152600399557677},{"$f":"K619/Dźwignie!$D$3","v":1.0230721264728344},1.3417513507852163,1.158346607055472,1.5542131246941517,null,{"$f":"C619*Dźwignie!$G$8","v":196305.20079911529},392610.40159823064,{"$f":"Dźwignie!$G$9","v":150000},242610.40159823064,{"$f":"V619-Dźwignie!$D$6","v":222610.40159823064},{"$f":"IF(W619>0,W619*(1-Dźwignie!$D$9),W619)","v":180314.42529456684},{"$f":"X619/Dźwignie!$D$5","v":18.031442529456683},{"$f":"V619/Dźwignie!$D$2","v":1.2130520079911533},{"$f":"X619/Dźwignie!$D$3","v":1.8031442529456685},1.61827522238063,1.0898430614940275,1.763666022699234]
[608,0.59338736534118652,{"$f":"NORMINV(B620,Dźwignie!$L$8,Dźwignie!$L$9)","v":361813.36436796561},{"$f":"Dźwignie!$L$7*C620","v":542720.04655194841},null,{"$f":"C620*Dźwignie!$G$5","v":361813.36436796561},180906.6821839828,{"$f":"Dźwignie!$G$6","v":50000},130906.6821839828,{"$f":"I620-Dźwignie!$D$6","v":110906.6821839828},{"$f":"IF(J620>0,J620*(1-Dźwignie!$D$9),J620)","v":89834.412569026084},{"$f":"K620/Dźwignie!$D$5","v":8.9834412569026085},{"$f":"I620/Dźwignie!$D$2","v":0.65453341091991402},{"$f":"K620/Dźwignie!$D$3","v":0.8983441256902609},1.38195147234522,1.180331785300565,1.631161248551978,null,{"$f":"C620*Dźwignie!$G$8","v":180906.6821839828},361813.36436796561,{"$f":"Dźwignie!$G$9","v":150000},211813.36436796561,{"$f":"V620-Dźwignie!$D$6","v":191813.36436796561},{"$f":"IF(W620>0,W620*(1-Dźwignie!$D$9),W620)","v":155368.82513805214},{"$f":"X620/Dźwignie!$D$5","v":15.536882513805214},{"$f":"V620/Dźwignie!$D$2","v":1.059066821839828},{"$f":"X620/Dźwignie!$D$3","v":1.5536882513805215},1.7081706125937246,1.1042680215004881,1.886278182754149]
[609,0.96811002492904663,{"$f":"NORMINV(B621,Dźwignie!$L$8,Dźwignie!$L$9)","v":442685.74805432046},{"$f":"Dźwignie!$L$7*C621","v":664028.62208148069},null,{"$f":"C621*Dźwignie!$G$5","v":442685.74805432046},221342.87402716023,{"$f":"Dźwignie!$G$6","v":50000},171342.87402716023,{"$f":"I621-Dźwignie!$D$6","v":151342.87402716023},{"$f":"IF(J621>0,J621*(1-Dźwignie!$D$9),J621)","v":122587.7279619998},{"$f":"K621/Dźwignie!$D$5","v":12.258772796199979},{"$f":"I621/Dźwignie!$D$2","v":0.8567143701358011},{"$f":"K621/Dźwignie!$D$3","v":1.2258772796199979},1.291812544197632,1.1321502589967385,1.4625259064885847,null,{"$f":"C621*Dźwignie!$G$8","v":221342.87402716023},442685.74805432046,{"$f":"Dźwignie!$G$9","v":150000},292685.74805432046,{"$f":"V621-Dźwignie!$D$6","v":272685.74805432046},{"$f":"IF(W621>0,W621*(1-Dźwignie!$D$9),W621)","v":220875.45592399957},{"$f":"X621/Dźwignie!$D$5","v":22.087545592399959},{"$f":"V621/Dźwignie!$D$2","v":1.4634287402716022},{"$f":"X621/Dźwignie!$D$3","v":2.2087545592399955},1.5124950599650004,1.0733445005567943,1.6234282547327521]
[610,0.54334390163421631,{"$f":"NORMINV(B622,Dźwignie!$L$8,Dźwignie!$L$9)","v":355443.08426180709},{"$f":"Dźwignie!$L$7*C622","v":533164.6263927106},null,{"$f":"C622*Dźwignie!$G$5","v":355443.08426180709},177721.54213090352,{"$f":"Dźwignie!$G$6","v":50000},127721.54213090352,{"$f":"I622-Dźwignie!$D$6","v":107721.54213090352},{"$f":"IF(J622>0,J622*(1-Dźwignie!$D$9),J622)","v":87254.449126031846},{"$f":"K622/Dźwignie!$D$5","v":8.7254449126031854},{"$f":"I622/Dźwignie!$D$2","v":0.6386077106545176},{"$f":"K622/Dźwignie!$D$3","v":0.87254449126031841},1.3914766386766169,1.1856638849051748,1.6498235971681119,null,{"$f":"C622*Dźwignie!$G$8","v":177721.54213090354},355443.08426180703,{"$f":"Dźwignie!$G$9","v":150000},205443.08426180703,{"$f":"V622-Dźwignie!$D$6","v":185443.08426180703},{"$f":"IF(W622>0,W622*(1-Dźwignie!$D$9),W622)","v":150208.89825206369},{"$f":"X622/Dźwignie!$D$5","v":15.020889825206369},{"$f":"V622/Dźwignie!$D$2","v":1.0272154213090352},{"$f":"X622/Dźwignie!$D$3","v":1.5020889825206369},1.7301292255175016,1.1078498024319103,1.9167233206712382]
[611,0.90693670511245728,{"$f":"NORMINV(B623,Dźwignie!$L$8,Dźwignie!$L$9)","v":416106.24105489737},{"$f":"Dźwignie!$L$7*C623","v":624159.36158234603},null,{"$f":"C623*Dźwignie!$G$5","v":416106.24105489737},208053.12052744866,{"$f":"Dźwignie!$G$6","v":50000},158053.12052744866,{"$f":"I623-Dźwignie!$D$6","v":138053.12052744866},{"$f":"IF(J623>0,J623*(1-Dźwignie!$D$9),J623)","v":111823.02762723342},{"$f":"K623/Dźwignie!$D$5","v":11.182302762723342},{"$f":"I623/Dźwignie!$D$2","v":0.79026560263724333},{"$f":"K623/Dźwignie!$D$3","v":1.1182302762723342},1.3163493376982496,1.1448717705444655,1.5070511969056295,null,{"$f":"C623*Dźwignie!$G$8","v":208053.12052744869},416106.24105489731,{"$f":"Dźwignie!$G$9","v":150000},266106.24105489731,{"$f":"V623-Dźwignie!$D$6","v":246106.24105489731},{"$f":"IF(W623>0,W623*(1-Dźwignie!$D$9),W623)","v":199346.05525446683},{"$f":"X623/Dźwignie!$D$5","v":19.934605525446685},{"$f":"V623/Dźwignie!$D$2","v":1.3305312052744867},{"$f":"X623/Dźwignie!$D$3","v":1.9934605525446683},1.5636846374041082,1.0812657164412938,1.6907585897509978]
[612,0.98577499389648438,{"$f":"NORMINV(B624,Dźwignie!$L$8,Dźwignie!$L$9)","v":459551.23007732013},{"$f":"Dźwignie!$L$7*C624","v":689326.84511598013},null,{"$f":"C624*Dźwignie!$G$5","v":459551.23007732013},229775.61503866001,{"$f":"Dźwignie!$G$6","v":50000},179775.61503866001,{"$f":"I624-Dźwignie!$D$6","v":159775.61503866001},{"$f":"IF(J624>0,J624*(1-Dźwignie!$D$9),J624)","v":129418.24818131462},{"$f":"K624/Dźwignie!$D$5","v":12.941824818131462},{"$f":"I624/Dźwignie!$D$2","v":0.89887807519329999},{"$f":"K624/Dźwignie!$D$3","v":1.2941824818131462},1.2781244830632215,1.1251755469391291,1.438114414286952,null,{"$f":"C624*Dźwignie!$G$8","v":229775.61503866006},459551.23007732007,{"$f":"Dźwignie!$G$9","v":150000},309551.23007732007,{"$f":"V624-Dźwignie!$D$6","v":289551.23007732007},{"$f":"IF(W624>0,W624*(1-Dźwignie!$D$9),W624)","v":234536.49636262926},{"$f":"X624/Dźwignie!$D$5","v":23.453649636262927},{"$f":"V624/Dźwignie!$D$2","v":1.5477561503866004},{"$f":"X624/Dźwignie!$D$3","v":2.3453649636262925},1.4845724565931553,1.0690724055796943,1.5871154474274007]
[613,0.92791002988815308,{"$f":"NORMINV(B625,Dźwignie!$L$8,Dźwignie!$L$9)","v":423020.04233658488},{"$f":"Dźwignie!$L$7*C625","v":634530.06350487727},null,{"$f":"C625*Dźwignie!$G$5","v":423020.04233658488},211510.02116829238,{"$f":"Dźwignie!$G$6","v":50000},161510.02116829238,{"$f":"I625-Dźwignie!$D$6","v":141510.02116829238},{"$f":"IF(J625>0,J625*(1-Dźwignie!$D$9),J625)","v":114623.11714631684},{"$f":"K625/Dźwignie!$D$5","v":11.462311714631685},{"$f":"I625/Dźwignie!$D$2","v":0.80755010584146192},{"$f":"K625/Dźwignie!$D$3","v":1.1462311714631683},1.3095783137066173,1.1413327468604839,1.4946646140116939,null,{"$f":"C625*Dźwignie!$G$8","v":211510.02116829244},423020.04233658483,{"$f":"Dźwignie!$G$9","v":150000},273020.04233658483,{"$f":"V625-Dźwignie!$D$6","v":253020.04233658483},{"$f":"IF(W625>0,W625*(1-Dźwignie!$D$9),W625)","v":204946.23429263372},{"$f":"X625/Dźwignie!$D$5","v":20.49462342926337},{"$f":"V625/Dźwignie!$D$2","v":1.3651002116829241},{"$f":"X625/Dźwignie!$D$3","v":2.0494623429263372},1.5494102144159689,1.0790451215457257,1.6718835331386681]
[614,0.50305521488189697,{"$f":"NORMINV(B626,Dźwignie!$L$8,Dźwignie!$L$9)","v":350382.91814342706},{"$f":"Dźwignie!$L$7*C626","v":525574.37721514062},null,{"$f":"C626*Dźwignie!$G$5","v":350382.91814342706},175191.45907171356,{"$f":"Dźwignie!$G$6","v":50000},125191.45907171356,{"$f":"I626-Dźwignie!$D$6","v":105191.45907171356},{"$f":"IF(J626>0,J626*(1-Dźwignie!$D$9),J626)","v":85205.081848087983},{"$f":"K626/Dźwignie!$D$5","v":8.5205081848087989},{"$f":"I626/Dźwignie!$D$2","v":0.62595729535856781},{"$f":"K626/Dźwignie!$D$3","v":0.85205081848087982},1.3993882679437297,1.190129504586158,1.6654532660515526,null,{"$f":"C626*Dźwignie!$G$8","v":175191.45907171353},350382.91814342712,{"$f":"Dźwignie!$G$9","v":150000},200382.91814342712,{"$f":"V626-Dźwignie!$D$6","v":180382.91814342712},{"$f":"IF(W626>0,W626*(1-Dźwignie!$D$9),W626)","v":146110.16369617597},{"$f":"X626/Dźwignie!$D$5","v":14.611016369617596},{"$f":"V626/Dźwignie!$D$2","v":1.0019145907171356},{"$f":"X626/Dźwignie!$D$3","v":1.4611016369617595},1.7485668009517419,1.1108752436530465,1.9424395710508942]
[615,0.76046878099441528,{"$f":"NORMINV(B627,Dźwignie!$L$8,Dźwignie!$L$9)","v":385390.56581269111},{"$f":"Dźwignie!$L$7*C627","v":578085.84871903667},null,{"$f":"C627*Dźwignie!$G$5","v":385390.56581269111},192695.28290634556,{"$f":"Dźwignie!$G$6","v":50000},142695.28290634556,{"$f":"I627-Dźwignie!$D$6","v":122695.28290634556},{"$f":"IF(J627>0,J627*(1-Dźwignie!$D$9),J627)","v":99383.179154139914},{"$f":"K627/Dźwignie!$D$5","v":9.9383179154139913},{"$f":"I627/Dźwignie!$D$2","v":0.71347641453172783},{"$f":"K627/Dźwignie!$D$3","v":0.99383179154139911},1.3503970066958433,1.1630054516053905,1.5705190806188667,null,{"$f":"C627*Dźwignie!$G$8","v":192695.28290634556},385390.56581269111,{"$f":"Dźwignie!$G$9","v":150000},235390.56581269111,{"$f":"V627-Dźwignie!$D$6","v":215390.56581269111},{"$f":"IF(W627>0,W627*(1-Dźwignie!$D$9),W627)","v":174466.35830827983},{"$f":"X627/Dźwignie!$D$5","v":17.446635830827983},{"$f":"V627/Dźwignie!$D$2","v":1.1769528290634557},{"$f":"X627/Dźwignie!$D$3","v":1.7446635830827983},1.6372387928212913,1.0928545775648897,1.7892639093015621]
[616,0.47718071937561035,{"$f":"NORMINV(B628,Dźwignie!$L$8,Dźwignie!$L$9)","v":347138.46597821714},{"$f":"Dźwignie!$L$7*C628","v":520707.69896732573},null,{"$f":"C628*Dźwignie!$G$5","v":347138.46597821714},173569.2329891086,{"$f":"Dźwignie!$G$6","v":50000},123569.2329891086,{"$f":"I628-Dźwignie!$D$6","v":103569.2329891086},{"$f":"IF(J628>0,J628*(1-Dźwignie!$D$9),J628)","v":83891.078721177968},{"$f":"K628/Dźwignie!$D$5","v":8.3891078721177976},{"$f":"I628/Dźwignie!$D$2","v":0.61784616494554301},{"$f":"K628/Dźwignie!$D$3","v":0.8389107872117797},1.4046314668345234,1.1931075419097021,1.6758763966839576,null,{"$f":"C628*Dźwignie!$G$8","v":173569.23298910857},347138.46597821719,{"$f":"Dźwignie!$G$9","v":150000},197138.46597821719,{"$f":"V628-Dźwignie!$D$6","v":177138.46597821719},{"$f":"IF(W628>0,W628*(1-Dźwignie!$D$9),W628)","v":143482.15744235594},{"$f":"X628/Dźwignie!$D$5","v":14.348215744235594},{"$f":"V628/Dźwignie!$D$2","v":0.98569232989108602},{"$f":"X628/Dźwignie!$D$3","v":1.4348215744235593},1.760886513221495,1.1129060246150004,1.9597012092275035]
[617,0.54768699407577515,{"$f":"NORMINV(B629,Dźwignie!$L$8,Dźwignie!$L$9)","v":355990.9827390858},{"$f":"Dźwignie!$L$7*C629","v":533986.4741086287},null,{"$f":"C629*Dźwignie!$G$5","v":355990.9827390858},177995.4913695429,{"$f":"Dźwignie!$G$6","v":50000},127995.4913695429,{"$f":"I629-Dźwignie!$D$6","v":107995.4913695429},{"$f":"IF(J629>0,J629*(1-Dźwignie!$D$9),J629)","v":87476.348009329755},{"$f":"K629/Dźwignie!$D$5","v":8.7476348009329747},{"$f":"I629/Dźwignie!$D$2","v":0.63997745684771445},{"$f":"K629/Dźwignie!$D$3","v":0.87476348009329752},1.3906387597328895,1.1851929163557697,1.6481752072451938,null,{"$f":"C629*Dźwignie!$G$8","v":177995.4913695429},355990.9827390858,{"$f":"Dźwignie!$G$9","v":150000},205990.9827390858,{"$f":"V629-Dźwignie!$D$6","v":185990.9827390858},{"$f":"IF(W629>0,W629*(1-Dźwignie!$D$9),W629)","v":150652.69601865951},{"$f":"X629/Dźwignie!$D$5","v":15.065269601865952},{"$f":"V629/Dźwignie!$D$2","v":1.0299549136954289},{"$f":"X629/Dźwignie!$D$3","v":1.5065269601865952},1.7281872148257791,1.1075320948653551,1.9140228063555185]
[618,0.61174190044403076,{"$f":"NORMINV(B630,Dźwignie!$L$8,Dźwignie!$L$9)","v":364193.09605803998},{"$f":"Dźwignie!$L$7*C630","v":546289.64408706001},null,{"$f":"C630*Dźwignie!$G$5","v":364193.09605803998},182096.54802902002,{"$f":"Dźwignie!$G$6","v":50000},132096.54802902002,{"$f":"I630-Dźwignie!$D$6","v":112096.54802902002},{"$f":"IF(J630>0,J630*(1-Dźwignie!$D$9),J630)","v":90798.203903506219},{"$f":"K630/Dźwignie!$D$5","v":9.0798203903506227},{"$f":"I630/Dźwignie!$D$2","v":0.66048274014510011},{"$f":"K630/Dźwignie!$D$3","v":0.90798203903506214},1.3785110265638101,1.1784176261593917,1.6244616915578713,null,{"$f":"C630*Dźwignie!$G$8","v":182096.54802901999},364193.09605804004,{"$f":"Dźwignie!$G$9","v":150000},214193.09605804004,{"$f":"V630-Dźwignie!$D$6","v":194193.09605804004},{"$f":"IF(W630>0,W630*(1-Dźwignie!$D$9),W630)","v":157296.40780701244},{"$f":"X630/Dźwignie!$D$5","v":15.729640780701244},{"$f":"V630/Dźwignie!$D$2","v":1.0709654802902002},{"$f":"X630/Dźwignie!$D$3","v":1.5729640780701244},1.7003026837025335,1.1029902731146655,1.8754173214746561]
[619,0.78035598993301392,{"$f":"NORMINV(B631,Dźwignie!$L$8,Dźwignie!$L$9)","v":388669.8030750826},{"$f":"Dźwignie!$L$7*C631","v":583004.7046126239},null,{"$f":"C631*Dźwignie!$G$5","v":388669.8030750826},194334.9015375413,{"$f":"Dźwignie!$G$6","v":50000},144334.9015375413,{"$f":"I631-Dźwignie!$D$6","v":124334.9015375413},{"$f":"IF(J631>0,J631*(1-Dźwignie!$D$9),J631)","v":100711.27024540846},{"$f":"K631/Dźwignie!$D$5","v":10.071127024540846},{"$f":"I631/Dźwignie!$D$2","v":0.72167450768770647},{"$f":"K631/Dźwignie!$D$3","v":1.0071127024540847},1.346416559455615,1.1608558799876578,1.5629955799568025,null,{"$f":"C631*Dźwignie!$G$8","v":194334.9015375413},388669.8030750826,{"$f":"Dźwignie!$G$9","v":150000},238669.8030750826,{"$f":"V631-Dźwignie!$D$6","v":218669.8030750826},{"$f":"IF(W631>0,W631*(1-Dźwignie!$D$9),W631)","v":177122.54049081693},{"$f":"X631/Dźwignie!$D$5","v":17.712254049081693},{"$f":"V631/Dźwignie!$D$2","v":1.1933490153754129},{"$f":"X631/Dźwignie!$D$3","v":1.7712254049081693},1.6284833609755476,1.0914621027629168,1.7774278734847933]
[620,0.62967729568481445,{"$f":"NORMINV(B632,Dźwignie!$L$8,Dźwignie!$L$9)","v":366549.93889745802},{"$f":"Dźwignie!$L$7*C632","v":549824.90834618709},null,{"$f":"C632*Dźwignie!$G$5","v":366549.93889745802},183274.96944872907,{"$f":"Dźwignie!$G$6","v":50000},133274.96944872907,{"$f":"I632-Dźwignie!$D$6","v":113274.96944872907},{"$f":"IF(J632>0,J632*(1-Dźwignie!$D$9),J632)","v":91752.725253470548},{"$f":"K632/Dźwignie!$D$5","v":9.1752725253470544},{"$f":"I632/Dźwignie!$D$2","v":0.66637484724364537},{"$f":"K632/Dźwignie!$D$3","v":0.91752725253470546},1.3751642203094634,1.1765615130803675,1.617965295781286,null,{"$f":"C632*Dźwignie!$G$8","v":183274.96944872901},366549.93889745808,{"$f":"Dźwignie!$G$9","v":150000},216549.93889745808,{"$f":"V632-Dźwignie!$D$6","v":196549.93889745808},{"$f":"IF(W632>0,W632*(1-Dźwignie!$D$9),W632)","v":159205.45050694107},{"$f":"X632/Dźwignie!$D$5","v":15.920545050694107},{"$f":"V632/Dźwignie!$D$2","v":1.0827496944872903},{"$f":"X632/Dźwignie!$D$3","v":1.5920545050694106},1.6926808696585633,1.1017553101882884,1.8649201366004522]
[621,0.70372265577316284,{"$f":"NORMINV(B633,Dźwignie!$L$8,Dźwignie!$L$9)","v":376756.88166674337},{"$f":"Dźwignie!$L$7*C633","v":565135.32250011503},null,{"$f":"C633*Dźwignie!$G$5","v":376756.88166674337},188378.44083337166,{"$f":"Dźwignie!$G$6","v":50000},138378.44083337166,{"$f":"I633-Dźwignie!$D$6","v":118378.44083337166},{"$f":"IF(J633>0,J633*(1-Dźwignie!$D$9),J633)","v":95886.537075031054},{"$f":"K633/Dźwignie!$D$5","v":9.5886537075031057},{"$f":"I633/Dźwignie!$D$2","v":0.69189220416685826},{"$f":"K633/Dźwignie!$D$3","v":0.95886537075031053},1.361327961920076,1.1689496825536991,1.5913238889379471,null,{"$f":"C633*Dźwignie!$G$8","v":188378.44083337169},376756.88166674331,{"$f":"Dźwignie!$G$9","v":150000},226756.88166674331,{"$f":"V633-Dźwignie!$D$6","v":206756.88166674331},{"$f":"IF(W633>0,W633*(1-Dźwignie!$D$9),W633)","v":167473.07415006211},{"$f":"X633/Dźwignie!$D$5","v":16.747307415006212},{"$f":"V633/Dźwignie!$D$2","v":1.1337844083337165},{"$f":"X633/Dźwignie!$D$3","v":1.6747307415006212},1.6615014234516146,1.0967319677041587,1.8222217254853499]
[622,0.55305874347686768,{"$f":"NORMINV(B634,Dźwignie!$L$8,Dźwignie!$L$9)","v":356669.65430448408},{"$f":"Dźwignie!$L$7*C634","v":535004.48145672609},null,{"$f":"C634*Dźwignie!$G$5","v":356669.65430448408},178334.82715224201,{"$f":"Dźwignie!$G$6","v":50000},128334.82715224201,{"$f":"I634-Dźwignie!$D$6","v":108334.82715224201},{"$f":"IF(J634>0,J634*(1-Dźwignie!$D$9),J634)","v":87751.209993316035},{"$f":"K634/Dźwignie!$D$5","v":8.7751209993316035},{"$f":"I634/Dźwignie!$D$2","v":0.64167413576121002},{"$f":"K634/Dźwignie!$D$3","v":0.87751209993316037},1.3896058545408381,1.1846128389709265,1.6461449363982426,null,{"$f":"C634*Dźwignie!$G$8","v":178334.82715224204},356669.65430448402,{"$f":"Dźwignie!$G$9","v":150000},206669.65430448402,{"$f":"V634-Dźwignie!$D$6","v":186669.65430448402},{"$f":"IF(W634>0,W634*(1-Dźwignie!$D$9),W634)","v":151202.41998663207},{"$f":"X634/Dźwignie!$D$5","v":15.120241998663207},{"$f":"V634/Dźwignie!$D$2","v":1.03334827152242},{"$f":"X634/Dźwignie!$D$3","v":1.5120241998663206},1.7257959592800534,1.1071411423271682,1.9106997097809293]
[623,0.97813397645950317,{"$f":"NORMINV(B635,Dźwignie!$L$8,Dźwignie!$L$9)","v":450832.50198222313},{"$f":"Dźwignie!$L$7*C635","v":676248.75297333463},null,{"$f":"C635*Dźwignie!$G$5","v":450832.50198222313},225416.2509911115,{"$f":"Dźwignie!$G$6","v":50000},175416.2509911115,{"$f":"I635-Dźwignie!$D$6","v":155416.2509911115},{"$f":"IF(J635>0,J635*(1-Dźwignie!$D$9),J635)","v":125887.16330280033},{"$f":"K635/Dźwignie!$D$5","v":12.588716330280032},{"$f":"I635/Dźwignie!$D$2","v":0.87708125495555755},{"$f":"K635/Dźwignie!$D$3","v":1.2588716330280032},1.2850363048890696,1.1286866712615775,1.4504033494155215,null,{"$f":"C635*Dźwignie!$G$8","v":225416.25099111156},450832.50198222307,{"$f":"Dźwignie!$G$9","v":150000},300832.50198222307,{"$f":"V635-Dźwignie!$D$6","v":280832.50198222307},{"$f":"IF(W635>0,W635*(1-Dźwignie!$D$9),W635)","v":227474.32660560071},{"$f":"X635/Dźwignie!$D$5","v":22.747432660560072},{"$f":"V635/Dźwignie!$D$2","v":1.5041625099111153},{"$f":"X635/Dźwignie!$D$3","v":2.274743266056007},1.4986163363720051,1.0712168280339076,1.6053430382882148]
[624,0.22115778923034668,{"$f":"NORMINV(B636,Dźwignie!$L$8,Dźwignie!$L$9)","v":311585.55590471235},{"$f":"Dźwignie!$L$7*C636","v":467378.33385706856},null,{"$f":"C636*Dźwignie!$G$5","v":311585.55590471235},155792.77795235621,{"$f":"Dźwignie!$G$6","v":50000},105792.77795235621,{"$f":"I636-Dźwignie!$D$6","v":85792.777952356206},{"$f":"IF(J636>0,J636*(1-Dźwignie!$D$9),J636)","v":69492.150141408536},{"$f":"K636/Dźwignie!$D$5","v":6.9492150141408535},{"$f":"I636/Dźwignie!$D$2","v":0.52896388976178099},{"$f":"K636/Dźwignie!$D$3","v":0.69492150141408537},1.4726220538656949,1.2331198555093614,1.8159194942827648,null,{"$f":"C636*Dźwignie!$G$8","v":155792.77795235618},311585.55590471241,{"$f":"Dźwignie!$G$9","v":150000},161585.55590471241,{"$f":"V636-Dźwignie!$D$6","v":141585.55590471241},{"$f":"IF(W636>0,W636*(1-Dźwignie!$D$9),W636)","v":114684.30028281706},{"$f":"X636/Dźwignie!$D$5","v":11.468430028281706},{"$f":"V636/Dźwignie!$D$2","v":0.8079277795235621},{"$f":"X636/Dźwignie!$D$3","v":1.1468430028281706},1.9283007949575366,1.141257346995622,2.2006874494627868]
[625,0.62483781576156616,{"$f":"NORMINV(B637,Dźwignie!$L$8,Dźwignie!$L$9)","v":365910.5843338237},{"$f":"Dźwignie!$L$7*C637","v":548865.87650073553},null,{"$f":"C637*Dźwignie!$G$5","v":365910.5843338237},182955.29216691182,{"$f":"Dźwignie!$G$6","v":50000},132955.29216691182,{"$f":"I637-Dźwignie!$D$6","v":112955.29216691182},{"$f":"IF(J637>0,J637*(1-Dźwignie!$D$9),J637)","v":91493.786655198579},{"$f":"K637/Dźwignie!$D$5","v":9.1493786655198583},{"$f":"I637/Dźwignie!$D$2","v":0.6647764608345591},{"$f":"K637/Dźwignie!$D$3","v":0.91493786655198583},1.3760662639681172,1.1770612037410908,1.6197142130938176,null,{"$f":"C637*Dźwignie!$G$8","v":182955.29216691185},365910.58433382364,{"$f":"Dźwignie!$G$9","v":150000},215910.58433382364,{"$f":"V637-Dźwignie!$D$6","v":195910.58433382364},{"$f":"IF(W637>0,W637*(1-Dźwignie!$D$9),W637)","v":158687.57331039716},{"$f":"X637/Dźwignie!$D$5","v":15.868757331039715},{"$f":"V637/Dźwignie!$D$2","v":1.0795529216691182},{"$f":"X637/Dźwignie!$D$3","v":1.5868757331039716},1.6947320367031291,1.1020873888361276,1.8677428051070839]
[626,0.95304334163665771,{"$f":"NORMINV(B638,Dźwignie!$L$8,Dźwignie!$L$9)","v":433755.3303897084},{"$f":"Dźwignie!$L$7*C638","v":650632.99558456265},null,{"$f":"C638*Dźwignie!$G$5","v":433755.3303897084},216877.66519485426,{"$f":"Dźwignie!$G$6","v":50000},166877.66519485426,{"$f":"I638-Dźwignie!$D$6","v":146877.66519485426},{"$f":"IF(J638>0,J638*(1-Dźwignie!$D$9),J638)","v":118970.90880783196},{"$f":"K638/Dźwignie!$D$5","v":11.897090880783196},{"$f":"I638/Dźwignie!$D$2","v":0.83438832597427126},{"$f":"K638/Dźwignie!$D$3","v":1.1897090880783197},1.2996206828614101,1.1361677418650897,1.4765870965278143,null,{"$f":"C638*Dźwignie!$G$8","v":216877.6651948542},433755.33038970846,{"$f":"Dźwignie!$G$9","v":150000},283755.33038970846,{"$f":"V638-Dźwignie!$D$6","v":263755.33038970846},{"$f":"IF(W638>0,W638*(1-Dźwignie!$D$9),W638)","v":213641.81761566387},{"$f":"X638/Dźwignie!$D$5","v":21.364181761566385},{"$f":"V638/Dźwignie!$D$2","v":1.4187766519485423},{"$f":"X638/Dźwignie!$D$3","v":2.1364181761566385},1.5286244307516288,1.0758278514047441,1.644536736940325]
[627,0.53818994760513306,{"$f":"NORMINV(B639,Dźwignie!$L$8,Dźwignie!$L$9)","v":354793.73397277162},{"$f":"Dźwignie!$L$7*C639","v":532190.60095915745},null,{"$f":"C639*Dźwignie!$G$5","v":354793.73397277162},177396.86698638584,{"$f":"Dźwignie!$G$6","v":50000},127396.86698638584,{"$f":"I639-Dźwignie!$D$6","v":107396.86698638584},{"$f":"IF(J639>0,J639*(1-Dźwignie!$D$9),J639)","v":86991.462258972533},{"$f":"K639/Dźwignie!$D$5","v":8.6991462258972536},{"$f":"I639/Dźwignie!$D$2","v":0.63698433493192919},{"$f":"K639/Dźwignie!$D$3","v":0.86991462258972529},1.3924743298855473,1.1862251717504506,1.6517881011265769,null,{"$f":"C639*Dźwignie!$G$8","v":177396.86698638581},354793.73397277168,{"$f":"Dźwignie!$G$9","v":150000},204793.73397277168,{"$f":"V639-Dźwignie!$D$6","v":184793.73397277168},{"$f":"IF(W639>0,W639*(1-Dźwignie!$D$9),W639)","v":149682.92451794507},{"$f":"X639/Dźwignie!$D$5","v":14.968292451794508},{"$f":"V639/Dźwignie!$D$2","v":1.0239686698638584},{"$f":"X639/Dźwignie!$D$3","v":1.4968292451794507},1.7324442847452708,1.1082287779462636,1.9199446125432402]
[628,0.51096057891845703,{"$f":"NORMINV(B640,Dźwignie!$L$8,Dźwignie!$L$9)","v":351373.87771486264},{"$f":"Dźwignie!$L$7*C640","v":527060.81657229399},null,{"$f":"C640*Dźwignie!$G$5","v":351373.87771486264},175686.93885743135,{"$f":"Dźwignie!$G$6","v":50000},125686.93885743135,{"$f":"I640-Dźwignie!$D$6","v":105686.93885743135},{"$f":"IF(J640>0,J640*(1-Dźwignie!$D$9),J640)","v":85606.4204745194},{"$f":"K640/Dźwignie!$D$5","v":8.5606420474519407},{"$f":"I640/Dźwignie!$D$2","v":0.6284346942871567},{"$f":"K640/Dźwignie!$D$3","v":0.85606420474519396},1.3978138098877226,1.1892381425388754,1.6623334988860639,null,{"$f":"C640*Dźwignie!$G$8","v":175686.93885743132},351373.8777148627,{"$f":"Dźwignie!$G$9","v":150000},201373.8777148627,{"$f":"V640-Dźwignie!$D$6","v":181373.8777148627},{"$f":"IF(W640>0,W640*(1-Dźwignie!$D$9),W640)","v":146912.8409490388},{"$f":"X640/Dźwignie!$D$5","v":14.69128409490388},{"$f":"V640/Dźwignie!$D$2","v":1.0068693885743134},{"$f":"X640/Dźwignie!$D$3","v":1.469128409490388},1.7448831084853715,1.1102694624605309,1.9372904309145138]
[629,9.5517337322235107E-2,{"$f":"NORMINV(B641,Dźwignie!$L$8,Dźwignie!$L$9)","v":284623.78014905268},{"$f":"Dźwignie!$L$7*C641","v":426935.67022357904},null,{"$f":"C641*Dźwignie!$G$5","v":284623.78014905268},142311.89007452637,{"$f":"Dźwignie!$G$6","v":50000},92311.890074526367,{"$f":"I641-Dźwignie!$D$6","v":72311.890074526367},{"$f":"IF(J641>0,J641*(1-Dźwignie!$D$9),J641)","v":58572.630960366361},{"$f":"K641/Dźwignie!$D$5","v":5.8572630960366361},{"$f":"I641/Dźwignie!$D$2","v":0.46155945037263185},{"$f":"K641/Dźwignie!$D$3","v":0.58572630960366356},1.5416420350578175,1.2765796880621918,1.9680289082176712,null,{"$f":"C641*Dźwignie!$G$8","v":142311.89007452634},284623.78014905273,{"$f":"Dźwignie!$G$9","v":150000},134623.78014905273,{"$f":"V641-Dźwignie!$D$6","v":114623.78014905273},{"$f":"IF(W641>0,W641*(1-Dźwignie!$D$9),W641)","v":92845.261920732723},{"$f":"X641/Dźwignie!$D$5","v":9.2845261920732725},{"$f":"V641/Dźwignie!$D$2","v":0.6731189007452637},{"$f":"X641/Dźwignie!$D$3","v":0.92845261920732725},2.1142162241613112,1.1744838634181556,2.4831128390543218]
[630,0.77074110507965088,{"$f":"NORMINV(B642,Dźwignie!$L$8,Dźwignie!$L$9)","v":387064.48629483092},{"$f":"Dźwignie!$L$7*C642","v":580596.72944224637},null,{"$f":"C642*Dźwignie!$G$5","v":387064.48629483092},193532.24314741546,{"$f":"Dźwignie!$G$6","v":50000},143532.24314741546,{"$f":"I642-Dźwignie!$D$6","v":123532.24314741546},{"$f":"IF(J642>0,J642*(1-Dźwignie!$D$9),J642)","v":100061.11694940653},{"$f":"K642/Dźwignie!$D$5","v":10.006111694940653},{"$f":"I642/Dźwignie!$D$2","v":0.71766121573707731},{"$f":"K642/Dźwignie!$D$3","v":1.0006111694940651},1.3483537838159978,1.1619010510165615,1.5666536785579654,null,{"$f":"C642*Dźwignie!$G$8","v":193532.24314741546},387064.48629483092,{"$f":"Dźwignie!$G$9","v":150000},237064.48629483092,{"$f":"V642-Dźwignie!$D$6","v":217064.48629483092},{"$f":"IF(W642>0,W642*(1-Dźwignie!$D$9),W642)","v":175822.23389881305},{"$f":"X642/Dźwignie!$D$5","v":17.582223389881307},{"$f":"V642/Dźwignie!$D$2","v":1.1853224314741546},{"$f":"X642/Dźwignie!$D$3","v":1.7582223389881304},1.632739227812676,1.0921385176423319,1.7831773999598217]
[631,0.64588767290115356,{"$f":"NORMINV(B643,Dźwignie!$L$8,Dźwignie!$L$9)","v":368712.07478586159},{"$f":"Dźwignie!$L$7*C643","v":553068.11217879236},null,{"$f":"C643*Dźwignie!$G$5","v":368712.07478586159},184356.03739293077,{"$f":"Dźwignie!$G$6","v":50000},134356.03739293077,{"$f":"I643-Dźwignie!$D$6","v":114356.03739293077},{"$f":"IF(J643>0,J643*(1-Dźwignie!$D$9),J643)","v":92628.390288273935},{"$f":"K643/Dźwignie!$D$5","v":9.2628390288273934},{"$f":"I643/Dźwignie!$D$2","v":0.6717801869646538},{"$f":"K643/Dźwignie!$D$3","v":0.92628390288273932},1.3721455393461224,1.1748923839611494,1.6121233438640228,null,{"$f":"C643*Dźwignie!$G$8","v":184356.0373929308},368712.07478586154,{"$f":"Dźwignie!$G$9","v":150000},218712.07478586154,{"$f":"V643-Dźwignie!$D$6","v":198712.07478586154},{"$f":"IF(W643>0,W643*(1-Dźwignie!$D$9),W643)","v":160956.78057654784},{"$f":"X643/Dźwignie!$D$5","v":16.095678057654784},{"$f":"V643/Dźwignie!$D$2","v":1.0935603739293076},{"$f":"X643/Dźwignie!$D$3","v":1.6095678057654783},1.6858331902656187,1.1006481363628891,1.8555091590845569]
[632,0.75549435615539551,{"$f":"NORMINV(B644,Dźwignie!$L$8,Dźwignie!$L$9)","v":384594.11175996601},{"$f":"Dźwignie!$L$7*C644","v":576891.16763994901},null,{"$f":"C644*Dźwignie!$G$5","v":384594.11175996601},192297.055879983,{"$f":"Dźwignie!$G$6","v":50000},142297.055879983,{"$f":"I644-Dźwignie!$D$6","v":122297.055879983},{"$f":"IF(J644>0,J644*(1-Dźwignie!$D$9),J644)","v":99060.615262786232},{"$f":"K644/Dźwignie!$D$5","v":9.9060615262786236},{"$f":"I644/Dźwignie!$D$2","v":0.71148527939991502},{"$f":"K644/Dźwignie!$D$3","v":0.99060615262786234},1.3513776141803755,1.1635362344260121,1.5723768204910422,null,{"$f":"C644*Dźwignie!$G$8","v":192297.055879983},384594.11175996601,{"$f":"Dźwignie!$G$9","v":150000},234594.11175996601,{"$f":"V644-Dźwignie!$D$6","v":214594.11175996601},{"$f":"IF(W644>0,W644*(1-Dźwignie!$D$9),W644)","v":173821.23052557246},{"$f":"X644/Dźwignie!$D$5","v":17.382123052557247},{"$f":"V644/Dźwignie!$D$2","v":1.17297055879983},{"$f":"X644/Dźwignie!$D$3","v":1.7382123052557246},1.63940223765496,1.093199202140136,1.7921932181911557]
[633,0.90903514623641968,{"$f":"NORMINV(B645,Dźwignie!$L$8,Dźwignie!$L$9)","v":416741.84896963963},{"$f":"Dźwignie!$L$7*C645","v":625112.77345445938},null,{"$f":"C645*Dźwignie!$G$5","v":416741.84896963963},208370.92448481976,{"$f":"Dźwignie!$G$6","v":50000},158370.92448481976,{"$f":"I645-Dźwignie!$D$6","v":138370.92448481976},{"$f":"IF(J645>0,J645*(1-Dźwignie!$D$9),J645)","v":112080.44883270402},{"$f":"K645/Dźwignie!$D$5","v":11.208044883270402},{"$f":"I645/Dźwignie!$D$2","v":0.79185462242409876},{"$f":"K645/Dźwignie!$D$3","v":1.1208044883270403},1.3157145174384117,1.1445390357436986,1.5058866251029455,null,{"$f":"C645*Dźwignie!$G$8","v":208370.92448481981},416741.84896963957,{"$f":"Dźwignie!$G$9","v":150000},266741.84896963957,{"$f":"V645-Dźwignie!$D$6","v":246741.84896963957},{"$f":"IF(W645>0,W645*(1-Dźwignie!$D$9),W645)","v":199860.89766540806},{"$f":"X645/Dźwignie!$D$5","v":19.986089766540807},{"$f":"V645/Dźwignie!$D$2","v":1.3337092448481978},{"$f":"X645/Dźwignie!$D$3","v":1.9986089766540807},1.562341457028263,1.0810563756554361,1.6889791930712073]
[634,0.93883025646209717,{"$f":"NORMINV(B646,Dźwignie!$L$8,Dźwignie!$L$9)","v":427251.40077150764},{"$f":"Dźwignie!$L$7*C646","v":640877.10115726152},null,{"$f":"C646*Dźwignie!$G$5","v":427251.40077150764},213625.70038575388,{"$f":"Dźwignie!$G$6","v":50000},163625.70038575388,{"$f":"I646-Dźwignie!$D$6","v":143625.70038575388},{"$f":"IF(J646>0,J646*(1-Dźwignie!$D$9),J646)","v":116336.81731246065},{"$f":"K646/Dźwignie!$D$5","v":11.633681731246066},{"$f":"I646/Dźwignie!$D$2","v":0.8181285019287694},{"$f":"K646/Dźwignie!$D$3","v":1.1633681731246066},1.3055754681698724,1.1392508440083038,1.4873779540290635,null,{"$f":"C646*Dźwignie!$G$8","v":213625.70038575382},427251.4007715077,{"$f":"Dźwignie!$G$9","v":150000},277251.4007715077,{"$f":"V646-Dźwignie!$D$6","v":257251.4007715077},{"$f":"IF(W646>0,W646*(1-Dźwignie!$D$9),W646)","v":208373.63462492125},{"$f":"X646/Dźwignie!$D$5","v":20.837363462492124},{"$f":"V646/Dźwignie!$D$2","v":1.3862570038575386},{"$f":"X646/Dźwignie!$D$3","v":2.0837363462492124},1.5410252196475649,1.0777449605328451,1.6608321645291837]
[635,0.5656924843788147,{"$f":"NORMINV(B647,Dźwignie!$L$8,Dźwignie!$L$9)","v":358270.89718217443},{"$f":"Dźwignie!$L$7*C647","v":537406.34577326162},null,{"$f":"C647*Dźwignie!$G$5","v":358270.89718217443},179135.44859108719,{"$f":"Dźwignie!$G$6","v":50000},129135.44859108719,{"$f":"I647-Dźwignie!$D$6","v":109135.44859108719},{"$f":"IF(J647>0,J647*(1-Dźwignie!$D$9),J647)","v":88399.713358780631},{"$f":"K647/Dźwignie!$D$5","v":8.8399713358780634},{"$f":"I647/Dźwignie!$D$2","v":0.64567724295543594},{"$f":"K647/Dźwignie!$D$3","v":0.88399713358780629},1.3871903535823622,1.183258512776511,1.6414047947177883,null,{"$f":"C647*Dźwignie!$G$8","v":179135.44859108722},358270.89718217438,{"$f":"Dźwignie!$G$9","v":150000},208270.89718217438,{"$f":"V647-Dźwignie!$D$6","v":188270.89718217438},{"$f":"IF(W647>0,W647*(1-Dźwignie!$D$9),W647)","v":152499.42671756126},{"$f":"X647/Dźwignie!$D$5","v":15.249942671756127},{"$f":"V647/Dźwignie!$D$2","v":1.0413544859108719},{"$f":"X647/Dźwignie!$D$3","v":1.5249942671756127},1.7202158440254622,1.1062299075392816,1.9029542140838944]
[636,0.97386312484741211,{"$f":"NORMINV(B648,Dźwignie!$L$8,Dźwignie!$L$9)","v":447043.62255160697},{"$f":"Dźwignie!$L$7*C648","v":670565.43382741045},null,{"$f":"C648*Dźwignie!$G$5","v":447043.62255160697},223521.81127580348,{"$f":"Dźwignie!$G$6","v":50000},173521.81127580348,{"$f":"I648-Dźwignie!$D$6","v":153521.81127580348},{"$f":"IF(J648>0,J648*(1-Dźwignie!$D$9),J648)","v":124352.66713340083},{"$f":"K648/Dźwignie!$D$5","v":12.435266713340082},{"$f":"I648/Dźwignie!$D$2","v":0.86760905637901742},{"$f":"K648/Dźwignie!$D$3","v":1.2435266713340083},1.2881482139471661,1.1302746484932347,1.4559612697263211,null,{"$f":"C648*Dźwignie!$G$8","v":223521.81127580348},447043.62255160697,{"$f":"Dźwignie!$G$9","v":150000},297043.62255160697,{"$f":"V648-Dźwignie!$D$6","v":277043.62255160697},{"$f":"IF(W648>0,W648*(1-Dźwignie!$D$9),W648)","v":224405.33426680166},{"$f":"X648/Dźwignie!$D$5","v":22.440533426680165},{"$f":"V648/Dźwignie!$D$2","v":1.4852181127580348},{"$f":"X648/Dźwignie!$D$3","v":2.2440533426680167},1.5049763355008225,1.0721907973040399,1.6136217770843391]
[637,0.57057923078536987,{"$f":"NORMINV(B649,Dźwignie!$L$8,Dźwignie!$L$9)","v":358892.45164628263},{"$f":"Dźwignie!$L$7*C649","v":538338.67746942397},null,{"$f":"C649*Dźwignie!$G$5","v":358892.45164628263},179446.22582314134,{"$f":"Dźwignie!$G$6","v":50000},129446.22582314134,{"$f":"I649-Dźwignie!$D$6","v":109446.22582314134},{"$f":"IF(J649>0,J649*(1-Dźwignie!$D$9),J649)","v":88651.442916744491},{"$f":"K649/Dźwignie!$D$5","v":8.865144291674449},{"$f":"I649/Dźwignie!$D$2","v":0.64723112911570668},{"$f":"K649/Dźwignie!$D$3","v":0.88651442916744494},1.3862607788064332,1.1827381424035472,1.6395834984124154,null,{"$f":"C649*Dźwignie!$G$8","v":179446.22582314131},358892.45164628269,{"$f":"Dźwignie!$G$9","v":150000},208892.45164628269,{"$f":"V649-Dźwignie!$D$6","v":188892.45164628269},{"$f":"IF(W649>0,W649*(1-Dźwignie!$D$9),W649)","v":153002.88583348898},{"$f":"X649/Dźwignie!$D$5","v":15.300288583348898},{"$f":"V649/Dźwignie!$D$2","v":1.0444622582314134},{"$f":"X649/Dźwignie!$D$3","v":1.5300288583348898},1.7180728591093124,1.1058803558622434,1.8999830248290683]
[638,0.25424683094024658,{"$f":"NORMINV(B650,Dźwignie!$L$8,Dźwignie!$L$9)","v":316940.74861823296},{"$f":"Dźwignie!$L$7*C650","v":475411.12292734941},null,{"$f":"C650*Dźwignie!$G$5","v":316940.74861823296},158470.37430911645,{"$f":"Dźwignie!$G$6","v":50000},108470.37430911645,{"$f":"I650-Dźwignie!$D$6","v":88470.374309116451},{"$f":"IF(J650>0,J650*(1-Dźwignie!$D$9),J650)","v":71661.003190384334},{"$f":"K650/Dźwignie!$D$5","v":7.1661003190384331},{"$f":"I650/Dźwignie!$D$2","v":0.54235187154558229},{"$f":"K650/Dźwignie!$D$3","v":0.71661003190384331},1.4609553559528716,1.2260643764218719,1.7912253174765516,null,{"$f":"C650*Dźwignie!$G$8","v":158470.37430911648},316940.7486182329,{"$f":"Dźwignie!$G$9","v":150000},166940.7486182329,{"$f":"V650-Dźwignie!$D$6","v":146940.7486182329},{"$f":"IF(W650>0,W650*(1-Dźwignie!$D$9),W650)","v":119022.00638076865},{"$f":"X650/Dźwignie!$D$5","v":11.902200638076865},{"$f":"V650/Dźwignie!$D$2","v":0.83470374309116446},{"$f":"X650/Dźwignie!$D$3","v":1.1902200638076865},1.8985223873832402,1.136109283422545,2.1569289090916324]
[639,0.96929627656936646,{"$f":"NORMINV(B651,Dźwignie!$L$8,Dźwignie!$L$9)","v":443527.51211833744},{"$f":"Dźwignie!$L$7*C651","v":665291.26817750616},null,{"$f":"C651*Dźwignie!$G$5","v":443527.51211833744},221763.75605916872,{"$f":"Dźwignie!$G$6","v":50000},171763.75605916872,{"$f":"I651-Dźwignie!$D$6","v":151763.75605916872},{"$f":"IF(J651>0,J651*(1-Dźwignie!$D$9),J651)","v":122928.64240792667},{"$f":"K651/Dźwignie!$D$5","v":12.292864240792667},{"$f":"I651/Dźwignie!$D$2","v":0.85881878029584358},{"$f":"K651/Dźwignie!$D$3","v":1.2292864240792667},1.2910975001197349,1.1317837705084377,1.4612431967795316,null,{"$f":"C651*Dźwignie!$G$8","v":221763.75605916872},443527.51211833744,{"$f":"Dźwignie!$G$9","v":150000},293527.51211833744,{"$f":"V651-Dźwignie!$D$6","v":273527.51211833744},{"$f":"IF(W651>0,W651*(1-Dźwignie!$D$9),W651)","v":221557.28481585335},{"$f":"X651/Dźwignie!$D$5","v":22.155728481585335},{"$f":"V651/Dźwignie!$D$2","v":1.4676375605916872},{"$f":"X651/Dźwignie!$D$3","v":2.2155728481585335},1.5110253513119634,1.0731187873757551,1.6215096926939183]
[640,0.96349120140075684,{"$f":"NORMINV(B652,Dźwignie!$L$8,Dźwignie!$L$9)","v":439636.03428648005},{"$f":"Dźwignie!$L$7*C652","v":659454.05142972013},null,{"$f":"C652*Dźwignie!$G$5","v":439636.03428648005},219818.01714324008,{"$f":"Dźwignie!$G$6","v":50000},169818.01714324008,{"$f":"I652-Dźwignie!$D$6","v":149818.01714324008},{"$f":"IF(J652>0,J652*(1-Dźwignie!$D$9),J652)","v":121352.59388602448},{"$f":"K652/Dźwignie!$D$5","v":12.135259388602448},{"$f":"I652/Dźwignie!$D$2","v":0.84909008571620037},{"$f":"K652/Dźwignie!$D$3","v":1.2135259388602448},1.2944328336952928,1.1334952923644566,1.467233523275598,null,{"$f":"C652*Dźwignie!$G$8","v":219818.01714324002},439636.03428648011,{"$f":"Dźwignie!$G$9","v":150000},289636.03428648011,{"$f":"V652-Dźwignie!$D$6","v":269636.03428648011},{"$f":"IF(W652>0,W652*(1-Dźwignie!$D$9),W652)","v":218405.1877720489},{"$f":"X652/Dźwignie!$D$5","v":21.840518777204888},{"$f":"V652/Dźwignie!$D$2","v":1.4481801714324005},{"$f":"X652/Dźwignie!$D$3","v":2.1840518777204889},1.5178913610301488,1.0741740622796381,1.6304795293769236]
[641,0.25037664175033569,{"$f":"NORMINV(B653,Dźwignie!$L$8,Dźwignie!$L$9)","v":316334.75086726213},{"$f":"Dźwignie!$L$7*C653","v":474502.1263008932},null,{"$f":"C653*Dźwignie!$G$5","v":316334.75086726213},{"$f":"$D653-F653","v":158167.37543363107},{"$f":"Dźwignie!$G$6","v":50000},{"$f":"G653-H653","v":108167.37543363107},{"$f":"I653-Dźwignie!$D$6","v":88167.375433631067},{"$f":"IF(J653>0,J653*(1-Dźwignie!$D$9),J653)","v":71415.574101241175},{"$f":"K653/Dźwignie!$D$5","v":7.1415574101241175},{"$f":"I653/Dźwignie!$D$2","v":0.54083687716815532},{"$f":"K653/Dźwignie!$D$3","v":0.71415574101241175},{"$f":"IF(I653<>0,G653/I653,\"N   \")","v":1.4622465859003746},{"$f":"IF(J653<>0,I653/J653,\"N   \")","v":1.2268412766245402},{"$f":"IF(ISTEXT(O653),O653,IF(ISTEXT(P653),P653,O653*P653))","v":1.7939444681858909},null,{"$f":"C653*Dźwignie!$G$8","v":158167.37543363107},{"$f":"$D653-S653","v":316334.75086726213},{"$f":"Dźwignie!$G$9","v":150000},{"$f":"T653-U653","v":166334.75086726213},{"$f":"V653-Dźwignie!$D$6","v":146334.75086726213},{"$f":"IF(W653>0,W653*(1-Dźwignie!$D$9),W653)","v":118531.14820248233},{"$f":"X653/Dźwignie!$D$5","v":11.853114820248233},{"$f":"V653/Dźwignie!$D$2","v":0.83167375433631063},{"$f":"X653/Dźwignie!$D$3","v":1.1853114820248234},{"$f":"IF(V653<>0,T653/V653,\"N   \")","v":1.9017959218858751},{"$f":"IF(W653<>0,V653/W653,\"N   \")","v":1.1366729357276295},{"$f":"IF(ISTEXT(AB653),AB653,IF(ISTEXT(AC653),AC653,AB653*AC653))","v":2.1617199536848513}]
[642,0.51880967617034912,{"$f":"NORMINV(B654,Dźwignie!$L$8,Dźwignie!$L$9)","v":352358.31742536492},{"$f":"Dźwignie!$L$7*C654","v":528537.47613804741},null,{"$f":"C654*Dźwignie!$G$5","v":352358.31742536492},176179.15871268249,{"$f":"Dźwignie!$G$6","v":50000},126179.15871268249,{"$f":"I654-Dźwignie!$D$6","v":106179.15871268249},{"$f":"IF(J654>0,J654*(1-Dźwignie!$D$9),J654)","v":86005.118557272828},{"$f":"K654/Dźwignie!$D$5","v":8.6005118557272819},{"$f":"I654/Dźwignie!$D$2","v":0.63089579356341241},{"$f":"K654/Dźwignie!$D$3","v":0.86005118557272831},1.3962619541144112,1.1883608821399629,1.6592630874898702,null,{"$f":"C654*Dźwignie!$G$8","v":176179.15871268246},352358.31742536498,{"$f":"Dźwignie!$G$9","v":150000},202358.31742536498,{"$f":"V654-Dźwignie!$D$6","v":182358.31742536498},{"$f":"IF(W654>0,W654*(1-Dźwignie!$D$9),W654)","v":147710.23711454563},{"$f":"X654/Dźwignie!$D$5","v":14.771023711454562},{"$f":"V654/Dźwignie!$D$2","v":1.0117915871268248},{"$f":"X654/Dźwignie!$D$3","v":1.4771023711454563},1.7412593754903301,1.1096741858686294,1.9322305798833501]
[643,0.51374250650405884,{"$f":"NORMINV(B655,Dźwignie!$L$8,Dźwignie!$L$9)","v":351722.70854266919},{"$f":"Dźwignie!$L$7*C655","v":527584.06281400379},null,{"$f":"C655*Dźwignie!$G$5","v":351722.70854266919},175861.3542713346,{"$f":"Dźwignie!$G$6","v":50000},125861.3542713346,{"$f":"I655-Dźwignie!$D$6","v":105861.3542713346},{"$f":"IF(J655>0,J655*(1-Dźwignie!$D$9),J655)","v":85747.696959781024},{"$f":"K655/Dźwignie!$D$5","v":8.5747696959781017},{"$f":"I655/Dźwignie!$D$2","v":0.62930677135667301},{"$f":"K655/Dźwignie!$D$3","v":0.85747696959781028},1.3972625297850279,1.1889263569096022,1.6612422491836079,null,{"$f":"C655*Dźwignie!$G$8","v":175861.3542713346},351722.70854266919,{"$f":"Dźwignie!$G$9","v":150000},201722.70854266919,{"$f":"V655-Dźwignie!$D$6","v":181722.70854266919},{"$f":"IF(W655>0,W655*(1-Dźwignie!$D$9),W655)","v":147195.39391956205},{"$f":"X655/Dźwignie!$D$5","v":14.719539391956205},{"$f":"V655/Dźwignie!$D$2","v":1.008613542713346},{"$f":"X655/Dźwignie!$D$3","v":1.4719539391956205},1.7435950125975599,1.1100577916782697,1.9354912292652922]
[644,0.56574821472167969,{"$f":"NORMINV(B656,Dźwignie!$L$8,Dźwignie!$L$9)","v":358277.97824687744},{"$f":"Dźwignie!$L$7*C656","v":537416.96737031615},null,{"$f":"C656*Dźwignie!$G$5","v":358277.97824687744},179138.98912343872,{"$f":"Dźwignie!$G$6","v":50000},129138.98912343872,{"$f":"I656-Dźwignie!$D$6","v":109138.98912343872},{"$f":"IF(J656>0,J656*(1-Dźwignie!$D$9),J656)","v":88402.581189985372},{"$f":"K656/Dźwignie!$D$5","v":8.8402581189985376},{"$f":"I656/Dźwignie!$D$2","v":0.64569494561719354},{"$f":"K656/Dźwignie!$D$3","v":0.88402581189985374},1.3871797381982527,1.1832525677636572,1.6413839871728002,null,{"$f":"C656*Dźwignie!$G$8","v":179138.98912343872},358277.97824687744,{"$f":"Dźwignie!$G$9","v":150000},208277.97824687744,{"$f":"V656-Dźwignie!$D$6","v":188277.97824687744},{"$f":"IF(W656>0,W656*(1-Dźwignie!$D$9),W656)","v":152505.16237997074},{"$f":"X656/Dźwignie!$D$5","v":15.250516237997074},{"$f":"V656/Dźwignie!$D$2","v":1.0413898912343871},{"$f":"X656/Dźwignie!$D$3","v":1.5250516237997074},1.7201913580234633,1.1062259122719877,1.9029202543118953]
[645,0.98681849241256714,{"$f":"NORMINV(B657,Dźwignie!$L$8,Dźwignie!$L$9)","v":461041.10347714345},{"$f":"Dźwignie!$L$7*C657","v":691561.65521571517},null,{"$f":"C657*Dźwignie!$G$5","v":461041.10347714345},230520.55173857172,{"$f":"Dźwignie!$G$6","v":50000},180520.55173857172,{"$f":"I657-Dźwignie!$D$6","v":160520.55173857172},{"$f":"IF(J657>0,J657*(1-Dźwignie!$D$9),J657)","v":130021.6469082431},{"$f":"K657/Dźwignie!$D$5","v":13.00216469082431},{"$f":"I657/Dźwignie!$D$2","v":0.90260275869285866},{"$f":"K657/Dźwignie!$D$3","v":1.3002164690824309},1.2769767736607052,1.1245946377792955,1.436081232227534,null,{"$f":"C657*Dźwignie!$G$8","v":230520.55173857172},461041.10347714345,{"$f":"Dźwignie!$G$9","v":150000},311041.10347714345,{"$f":"V657-Dźwignie!$D$6","v":291041.10347714345},{"$f":"IF(W657>0,W657*(1-Dźwignie!$D$9),W657)","v":235743.2938164862},{"$f":"X657/Dźwignie!$D$5","v":23.574329381648621},{"$f":"V657/Dźwignie!$D$2","v":1.5552055173857173},{"$f":"X657/Dźwignie!$D$3","v":2.357432938164862},1.4822513755357178,1.0687188158684626,1.5841099348819323]
[646,0.92984545230865479,{"$f":"NORMINV(B658,Dźwignie!$L$8,Dźwignie!$L$9)","v":423732.0482408664},{"$f":"Dźwignie!$L$7*C658","v":635598.07236129954},null,{"$f":"C658*Dźwignie!$G$5","v":423732.0482408664},211866.02412043314,{"$f":"Dźwignie!$G$6","v":50000},161866.02412043314,{"$f":"I658-Dźwignie!$D$6","v":141866.02412043314},{"$f":"IF(J658>0,J658*(1-Dźwignie!$D$9),J658)","v":114911.47953755085},{"$f":"K658/Dźwignie!$D$5","v":11.491147953755085},{"$f":"I658/Dźwignie!$D$2","v":0.80933012060216569},{"$f":"K658/Dźwignie!$D$3","v":1.1491147953755085},1.3088974370730111,1.1409780821306557,1.4934232874572948,null,{"$f":"C658*Dźwignie!$G$8","v":211866.0241204332},423732.04824086634,{"$f":"Dźwignie!$G$9","v":150000},273732.04824086634,{"$f":"V658-Dźwignie!$D$6","v":253732.04824086634},{"$f":"IF(W658>0,W658*(1-Dźwignie!$D$9),W658)","v":205522.95907510174},{"$f":"X658/Dźwignie!$D$5","v":20.552295907510175},{"$f":"V658/Dźwignie!$D$2","v":1.3686602412043316},{"$f":"X658/Dźwignie!$D$3","v":2.0552295907510172},1.5479811405495705,1.0788233104121483,1.6699981385032607]
[647,0.66955119371414185,{"$f":"NORMINV(B659,Dźwignie!$L$8,Dźwignie!$L$9)","v":371933.71079031948},{"$f":"Dźwignie!$L$7*C659","v":557900.56618547929},null,{"$f":"C659*Dźwignie!$G$5","v":371933.71079031948},185966.8553951598,{"$f":"Dźwignie!$G$6","v":50000},135966.8553951598,{"$f":"I659-Dźwignie!$D$6","v":115966.8553951598},{"$f":"IF(J659>0,J659*(1-Dźwignie!$D$9),J659)","v":93933.152870079444},{"$f":"K659/Dźwignie!$D$5","v":9.3933152870079439},{"$f":"I659/Dźwignie!$D$2","v":0.67983427697579901},{"$f":"K659/Dźwignie!$D$3","v":0.93933152870079439},1.3677366800510702,1.1724630708649426,1.6036207480272993,null,{"$f":"C659*Dźwignie!$G$8","v":185966.85539515974},371933.71079031954,{"$f":"Dźwignie!$G$9","v":150000},221933.71079031954,{"$f":"V659-Dźwignie!$D$6","v":201933.71079031954},{"$f":"IF(W659>0,W659*(1-Dźwignie!$D$9),W659)","v":163566.30574015883},{"$f":"X659/Dźwignie!$D$5","v":16.356630574015885},{"$f":"V659/Dźwignie!$D$2","v":1.1096685539515978},{"$f":"X659/Dźwignie!$D$3","v":1.6356630574015882},1.6758774927244753,1.0990424031813453,1.8418604270414347]
[648,0.18157410621643066,{"$f":"NORMINV(B660,Dźwignie!$L$8,Dźwignie!$L$9)","v":304530.87087092793},{"$f":"Dźwignie!$L$7*C660","v":456796.3063063919},null,{"$f":"C660*Dźwignie!$G$5","v":304530.87087092793},152265.43543546397,{"$f":"Dźwignie!$G$6","v":50000},102265.43543546397,{"$f":"I660-Dźwignie!$D$6","v":82265.435435463965},{"$f":"IF(J660>0,J660*(1-Dźwignie!$D$9),J660)","v":66635.002702725818},{"$f":"K660/Dźwignie!$D$5","v":6.6635002702725821},{"$f":"I660/Dźwignie!$D$2","v":0.51132717717731979},{"$f":"K660/Dźwignie!$D$3","v":0.66635002702725821},1.488923748156856,1.2431154699921294,1.850904144972453,null,{"$f":"C660*Dźwignie!$G$8","v":152265.43543546397},304530.87087092793,{"$f":"Dźwignie!$G$9","v":150000},154530.87087092793,{"$f":"V660-Dźwignie!$D$6","v":134530.87087092793},{"$f":"IF(W660>0,W660*(1-Dźwignie!$D$9),W660)","v":108970.00540545164},{"$f":"X660/Dźwignie!$D$5","v":10.897000540545164},{"$f":"V660/Dźwignie!$D$2","v":0.77265435435463969},{"$f":"X660/Dźwignie!$D$3","v":1.0897000540545163},1.9706798334508038,1.1486647627457081,2.2636504833385191]
[649,0.13958495855331421,{"$f":"NORMINV(B661,Dźwignie!$L$8,Dźwignie!$L$9)","v":295890.70327138837},{"$f":"Dźwignie!$L$7*C661","v":443836.05490708258},null,{"$f":"C661*Dźwignie!$G$5","v":295890.70327138837},147945.35163569421,{"$f":"Dźwignie!$G$6","v":50000},97945.351635694213,{"$f":"I661-Dźwignie!$D$6","v":77945.351635694213},{"$f":"IF(J661>0,J661*(1-Dźwignie!$D$9),J661)","v":63135.734824912317},{"$f":"K661/Dźwignie!$D$5","v":6.3135734824912317},{"$f":"I661/Dźwignie!$D$2","v":0.48972675817847106},{"$f":"K661/Dźwignie!$D$3","v":0.63135734824912315},1.5104887487256569,1.2565900285302096,1.8980650998557338,null,{"$f":"C661*Dźwignie!$G$8","v":147945.35163569418},295890.70327138843,{"$f":"Dźwignie!$G$9","v":150000},145890.70327138843,{"$f":"V661-Dźwignie!$D$6","v":125890.70327138843},{"$f":"IF(W661>0,W661*(1-Dźwignie!$D$9),W661)","v":101971.46964982463},{"$f":"X661/Dźwignie!$D$5","v":10.197146964982464},{"$f":"V661/Dźwignie!$D$2","v":0.72945351635694211},{"$f":"X661/Dźwignie!$D$3","v":1.0197146964982464},2.0281669540036926,1.158867966261854,2.3503777132257584]
[650,0.72081363201141357,{"$f":"NORMINV(B662,Dźwignie!$L$8,Dźwignie!$L$9)","v":379263.01267512032},{"$f":"Dźwignie!$L$7*C662","v":568894.51901268051},null,{"$f":"C662*Dźwignie!$G$5","v":379263.01267512032},189631.50633756019,{"$f":"Dźwignie!$G$6","v":50000},139631.50633756019,{"$f":"I662-Dźwignie!$D$6","v":119631.50633756019},{"$f":"IF(J662>0,J662*(1-Dźwignie!$D$9),J662)","v":96901.520133423764},{"$f":"K662/Dźwignie!$D$5","v":9.6901520133423773},{"$f":"I662/Dźwignie!$D$2","v":0.69815753168780093},{"$f":"K662/Dźwignie!$D$3","v":0.96901520133423769},1.3580853727891802,1.1671800398765078,1.5851301395677773,null,{"$f":"C662*Dźwignie!$G$8","v":189631.50633756016},379263.01267512038,{"$f":"Dźwignie!$G$9","v":150000},229263.01267512038,{"$f":"V662-Dźwignie!$D$6","v":209263.01267512038},{"$f":"IF(W662>0,W662*(1-Dźwignie!$D$9),W662)","v":169503.04026684753},{"$f":"X662/Dźwignie!$D$5","v":16.950304026684751},{"$f":"V662/Dźwignie!$D$2","v":1.1463150633756019},{"$f":"X662/Dźwignie!$D$3","v":1.6950304026684753},1.654270386879017,1.0955735069677597,1.8123748092259573]
[651,0.79884392023086548,{"$f":"NORMINV(B663,Dźwignie!$L$8,Dźwignie!$L$9)","v":391874.94815569563},{"$f":"Dźwignie!$L$7*C663","v":587812.42223354348},null,{"$f":"C663*Dźwignie!$G$5","v":391874.94815569563},195937.47407784784,{"$f":"Dźwignie!$G$6","v":50000},145937.47407784784,{"$f":"I663-Dźwignie!$D$6","v":125937.47407784784},{"$f":"IF(J663>0,J663*(1-Dźwignie!$D$9),J663)","v":102009.35400305677},{"$f":"K663/Dźwignie!$D$5","v":10.200935400305676},{"$f":"I663/Dźwignie!$D$2","v":0.72968737038923925},{"$f":"K663/Dźwignie!$D$3","v":1.0200935400305677},1.3426124805567647,1.1588089656906813,1.5558313799173844,null,{"$f":"C663*Dźwignie!$G$8","v":195937.47407784782},391874.94815569569,{"$f":"Dźwignie!$G$9","v":150000},241874.94815569569,{"$f":"V663-Dźwignie!$D$6","v":221874.94815569569},{"$f":"IF(W663>0,W663*(1-Dźwignie!$D$9),W663)","v":179718.70800611351},{"$f":"X663/Dźwignie!$D$5","v":17.971870800611352},{"$f":"V663/Dźwignie!$D$2","v":1.2093747407784785},{"$f":"X663/Dźwignie!$D$3","v":1.7971870800611351},1.6201551716858438,1.0901408661331402,1.7661973621316922]
[652,0.53710412979125977,{"$f":"NORMINV(B664,Dźwignie!$L$8,Dźwignie!$L$9)","v":354657.03774476069},{"$f":"Dźwignie!$L$7*C664","v":531985.556617141},null,{"$f":"C664*Dźwignie!$G$5","v":354657.03774476069},177328.51887238031,{"$f":"Dźwignie!$G$6","v":50000},127328.51887238031,{"$f":"I664-Dźwignie!$D$6","v":107328.51887238031},{"$f":"IF(J664>0,J664*(1-Dźwignie!$D$9),J664)","v":86936.100286628061},{"$f":"K664/Dźwignie!$D$5","v":8.6936100286628069},{"$f":"I664/Dźwignie!$D$2","v":0.63664259436190163},{"$f":"K664/Dźwignie!$D$3","v":0.8693610028662806},1.3926850044499013,1.1863437622183264,1.6522031677641424,null,{"$f":"C664*Dźwignie!$G$8","v":177328.51887238034},354657.03774476063,{"$f":"Dźwignie!$G$9","v":150000},204657.03774476063,{"$f":"V664-Dźwignie!$D$6","v":184657.03774476063},{"$f":"IF(W664>0,W664*(1-Dźwignie!$D$9),W664)","v":149572.20057325612},{"$f":"X664/Dźwignie!$D$5","v":14.957220057325612},{"$f":"V664/Dźwignie!$D$2","v":1.0232851887238033},{"$f":"X664/Dźwignie!$D$3","v":1.4957220057325613},1.7329335050137562,1.1083088965590615,1.9206256207520229]
[653,9.2770278453826904E-2,{"$f":"NORMINV(B665,Dźwignie!$L$8,Dźwignie!$L$9)","v":283805.64707871788},{"$f":"Dźwignie!$L$7*C665","v":425708.47061807686},null,{"$f":"C665*Dźwignie!$G$5","v":283805.64707871788},141902.82353935897,{"$f":"Dźwignie!$G$6","v":50000},91902.823539358971,{"$f":"I665-Dźwignie!$D$6","v":71902.823539358971},{"$f":"IF(J665>0,J665*(1-Dźwignie!$D$9),J665)","v":58241.287066880774},{"$f":"K665/Dźwignie!$D$5","v":5.8241287066880778},{"$f":"I665/Dźwignie!$D$2","v":0.45951411769679484},{"$f":"K665/Dźwignie!$D$3","v":0.58241287066880776},1.5440529254097033,1.2781531936510417,1.973536177778646,null,{"$f":"C665*Dźwignie!$G$8","v":141902.82353935894},283805.64707871794,{"$f":"Dźwignie!$G$9","v":150000},133805.64707871794,{"$f":"V665-Dźwignie!$D$6","v":113805.64707871794},{"$f":"IF(W665>0,W665*(1-Dźwignie!$D$9),W665)","v":92182.574133761533},{"$f":"X665/Dźwignie!$D$5","v":9.2182574133761541},{"$f":"V665/Dźwignie!$D$2","v":0.66902823539358969},{"$f":"X665/Dźwignie!$D$3","v":0.9218257413376153},2.1210289197417422,1.1757382038007855,2.4937747323066763]
[654,5.1931500434875488E-2,{"$f":"NORMINV(B666,Dźwignie!$L$8,Dźwignie!$L$9)","v":268679.62604822568},{"$f":"Dźwignie!$L$7*C666","v":403019.43907233851},null,{"$f":"C666*Dźwignie!$G$5","v":268679.62604822568},134339.81302411284,{"$f":"Dźwignie!$G$6","v":50000},84339.813024112838,{"$f":"I666-Dźwignie!$D$6","v":64339.813024112838},{"$f":"IF(J666>0,J666*(1-Dźwignie!$D$9),J666)","v":52115.248549531403},{"$f":"K666/Dźwignie!$D$5","v":5.2115248549531401},{"$f":"I666/Dźwignie!$D$2","v":0.42169906512056421},{"$f":"K666/Dźwignie!$D$3","v":0.52115248549531401},1.5928398250741314,1.310849520070948,2.0879733202483179,null,{"$f":"C666*Dźwignie!$G$8","v":134339.81302411284},268679.62604822568,{"$f":"Dźwignie!$G$9","v":150000},118679.62604822568,{"$f":"V666-Dźwignie!$D$6","v":98679.626048225677},{"$f":"IF(W666>0,W666*(1-Dźwignie!$D$9),W666)","v":79930.497099062806},{"$f":"X666/Dźwignie!$D$5","v":7.9930497099062805},{"$f":"V666/Dźwignie!$D$2","v":0.59339813024112842},{"$f":"X666/Dźwignie!$D$3","v":0.79930497099062803},2.2639069147306485,1.20267608219579,2.7227466986642148]
[655,0.48346883058547974,{"$f":"NORMINV(B667,Dźwignie!$L$8,Dźwignie!$L$9)","v":347927.53188569593},{"$f":"Dźwignie!$L$7*C667","v":521891.29782854393},null,{"$f":"C667*Dźwignie!$G$5","v":347927.53188569593},173963.765942848,{"$f":"Dźwignie!$G$6","v":50000},123963.765942848,{"$f":"I667-Dźwignie!$D$6","v":103963.765942848},{"$f":"IF(J667>0,J667*(1-Dźwignie!$D$9),J667)","v":84210.650413706884},{"$f":"K667/Dźwignie!$D$5","v":8.4210650413706887},{"$f":"I667/Dźwignie!$D$2","v":0.61981882971423996},{"$f":"K667/Dźwignie!$D$3","v":0.84210650413706889},1.4033436675605022,1.1923747165045426,1.6733115077658989,null,{"$f":"C667*Dźwignie!$G$8","v":173963.76594284797},347927.53188569599,{"$f":"Dźwignie!$G$9","v":150000},197927.53188569599,{"$f":"V667-Dźwignie!$D$6","v":177927.53188569599},{"$f":"IF(W667>0,W667*(1-Dźwignie!$D$9),W667)","v":144121.30082741377},{"$f":"X667/Dźwignie!$D$5","v":14.412130082741378},{"$f":"V667/Dźwignie!$D$2","v":0.98963765942847992},{"$f":"X667/Dźwignie!$D$3","v":1.4412130082741377},1.757853132259668,1.1124053134893614,1.9554451646595719]
[656,0.69929385185241699,{"$f":"NORMINV(B668,Dźwignie!$L$8,Dźwignie!$L$9)","v":376118.53183970443},{"$f":"Dźwignie!$L$7*C668","v":564177.79775955668},null,{"$f":"C668*Dźwignie!$G$5","v":376118.53183970443},188059.26591985225,{"$f":"Dźwignie!$G$6","v":50000},138059.26591985225,{"$f":"I668-Dźwignie!$D$6","v":118059.26591985225},{"$f":"IF(J668>0,J668*(1-Dźwignie!$D$9),J668)","v":95628.005395080327},{"$f":"K668/Dźwignie!$D$5","v":9.5628005395080322},{"$f":"I668/Dźwignie!$D$2","v":0.69029632959926124},{"$f":"K668/Dźwignie!$D$3","v":0.95628005395080329},1.3621633047725068,1.1694064404362599,1.5929225415269093,null,{"$f":"C668*Dźwignie!$G$8","v":188059.26591985222},376118.53183970449,{"$f":"Dźwignie!$G$9","v":150000},226118.53183970449,{"$f":"V668-Dźwignie!$D$6","v":206118.53183970449},{"$f":"IF(W668>0,W668*(1-Dźwignie!$D$9),W668)","v":166956.01079016065},{"$f":"X668/Dźwignie!$D$5","v":16.695601079016065},{"$f":"V668/Dźwignie!$D$2","v":1.1305926591985225},{"$f":"X668/Dźwignie!$D$3","v":1.6695601079016065},1.6633688923220811,1.0970315469525744,1.8247681490968828]
[657,0.20800775289535522,{"$f":"NORMINV(B669,Dźwignie!$L$8,Dźwignie!$L$9)","v":309332.33322556276},{"$f":"Dźwignie!$L$7*C669","v":463998.49983834417},null,{"$f":"C669*Dźwignie!$G$5","v":309332.33322556276},154666.16661278141,{"$f":"Dźwignie!$G$6","v":50000},104666.16661278141,{"$f":"I669-Dźwignie!$D$6","v":84666.16661278141},{"$f":"IF(J669>0,J669*(1-Dźwignie!$D$9),J669)","v":68579.594956352943},{"$f":"K669/Dźwignie!$D$5","v":6.8579594956352947},{"$f":"I669/Dźwignie!$D$2","v":0.52333083306390704},{"$f":"K669/Dźwignie!$D$3","v":0.68579594956352941},1.4777092886661065,1.2362218676023151,1.8267765366081028,null,{"$f":"C669*Dźwignie!$G$8","v":154666.16661278138},309332.33322556282,{"$f":"Dźwignie!$G$9","v":150000},159332.33322556282,{"$f":"V669-Dźwignie!$D$6","v":139332.33322556282},{"$f":"IF(W669>0,W669*(1-Dźwignie!$D$9),W669)","v":112859.18991270589},{"$f":"X669/Dźwignie!$D$5","v":11.285918991270588},{"$f":"V669/Dźwignie!$D$2","v":0.79666166612781408},{"$f":"X669/Dźwignie!$D$3","v":1.1285918991270589},1.9414285033261185,1.1435417001710746,2.2201044514541342]
[658,0.15079915523529053,{"$f":"NORMINV(B670,Dźwignie!$L$8,Dźwignie!$L$9)","v":298349.40293856052},{"$f":"Dźwignie!$L$7*C670","v":447524.10440784076},null,{"$f":"C670*Dźwignie!$G$5","v":298349.40293856052},149174.70146928023,{"$f":"Dźwignie!$G$6","v":50000},99174.701469280233,{"$f":"I670-Dźwignie!$D$6","v":79174.701469280233},{"$f":"IF(J670>0,J670*(1-Dźwignie!$D$9),J670)","v":64131.508190116991},{"$f":"K670/Dźwignie!$D$5","v":6.4131508190116993},{"$f":"I670/Dźwignie!$D$2","v":0.49587350734640118},{"$f":"K670/Dźwignie!$D$3","v":0.64131508190116993},1.5041608319384525,1.2526059414036439,1.8841207949127534,null,{"$f":"C670*Dźwignie!$G$8","v":149174.70146928026},298349.40293856047,{"$f":"Dźwignie!$G$9","v":150000},148349.40293856047,{"$f":"V670-Dźwignie!$D$6","v":128349.40293856047},{"$f":"IF(W670>0,W670*(1-Dźwignie!$D$9),W670)","v":103963.01638023398},{"$f":"X670/Dźwignie!$D$5","v":10.396301638023399},{"$f":"V670/Dźwignie!$D$2","v":0.74174701469280235},{"$f":"X670/Dźwignie!$D$3","v":1.0396301638023397},2.0111264152652044,1.1558246438401727,2.3245094726414681]
[659,0.10312563180923462,{"$f":"NORMINV(B671,Dźwignie!$L$8,Dźwignie!$L$9)","v":286802.95825316117},{"$f":"Dźwignie!$L$7*C671","v":430204.43737974175},null,{"$f":"C671*Dźwignie!$G$5","v":286802.95825316117},143401.47912658058,{"$f":"Dźwignie!$G$6","v":50000},93401.479126580583,{"$f":"I671-Dźwignie!$D$6","v":73401.479126580583},{"$f":"IF(J671>0,J671*(1-Dźwignie!$D$9),J671)","v":59455.198092530278},{"$f":"K671/Dźwignie!$D$5","v":5.9455198092530281},{"$f":"I671/Dźwignie!$D$2","v":0.46700739563290294},{"$f":"K671/Dźwignie!$D$3","v":0.59455198092530281},1.5353234281465549,1.2724740732473534,1.9536592563657369,null,{"$f":"C671*Dźwignie!$G$8","v":143401.47912658058},286802.95825316117,{"$f":"Dźwignie!$G$9","v":150000},136802.95825316117,{"$f":"V671-Dźwignie!$D$6","v":116802.95825316117},{"$f":"IF(W671>0,W671*(1-Dźwignie!$D$9),W671)","v":94610.396185060556},{"$f":"X671/Dźwignie!$D$5","v":9.4610396185060548},{"$f":"V671/Dźwignie!$D$2","v":0.68401479126580589},{"$f":"X671/Dźwignie!$D$3","v":0.94610396185060552},2.0964675173355318,1.1712285399197817,2.4554425893181446]
[660,0.34154415130615234,{"$f":"NORMINV(B672,Dźwignie!$L$8,Dźwignie!$L$9)","v":329587.37462369615},{"$f":"Dźwignie!$L$7*C672","v":494381.06193554425},null,{"$f":"C672*Dźwignie!$G$5","v":329587.37462369615},164793.6873118481,{"$f":"Dźwignie!$G$6","v":50000},114793.6873118481,{"$f":"I672-Dźwignie!$D$6","v":94793.687311848102},{"$f":"IF(J672>0,J672*(1-Dźwignie!$D$9),J672)","v":76782.886722596973},{"$f":"K672/Dźwignie!$D$5","v":7.678288672259697},{"$f":"I672/Dźwignie!$D$2","v":0.57396843655924046},{"$f":"K672/Dźwignie!$D$3","v":0.76782886722596977},1.4355640207302531,1.2109845134961876,1.7384457972366567,null,{"$f":"C672*Dźwignie!$G$8","v":164793.68731184807},329587.3746236962,{"$f":"Dźwignie!$G$9","v":150000},179587.3746236962,{"$f":"V672-Dźwignie!$D$6","v":159587.3746236962},{"$f":"IF(W672>0,W672*(1-Dźwignie!$D$9),W672)","v":129265.77344519393},{"$f":"X672/Dźwignie!$D$5","v":12.926577344519393},{"$f":"V672/Dźwignie!$D$2","v":0.89793687311848103},{"$f":"X672/Dźwignie!$D$3","v":1.2926577344519394},1.8352480251705166,1.1253231970709436,2.0652471751030212]
[661,2.759474515914917E-2,{"$f":"NORMINV(B673,Dźwignie!$L$8,Dźwignie!$L$9)","v":254130.92797531176},{"$f":"Dźwignie!$L$7*C673","v":381196.39196296764},null,{"$f":"C673*Dźwignie!$G$5","v":254130.92797531176},127065.46398765588,{"$f":"Dźwignie!$G$6","v":50000},77065.463987655879,{"$f":"I673-Dźwignie!$D$6","v":57065.463987655879},{"$f":"IF(J673>0,J673*(1-Dźwignie!$D$9),J673)","v":46223.025830001265},{"$f":"K673/Dźwignie!$D$5","v":4.6223025830001268},{"$f":"I673/Dźwignie!$D$2","v":0.3853273199382794},{"$f":"K673/Dźwignie!$D$3","v":0.46223025830001263},1.6487990522967442,1.3504746759673469,2.2266613658857142,null,{"$f":"C673*Dźwignie!$G$8","v":127065.46398765588},254130.92797531176,{"$f":"Dźwignie!$G$9","v":150000},104130.92797531176,{"$f":"V673-Dźwignie!$D$6","v":84130.927975311759},{"$f":"IF(W673>0,W673*(1-Dźwignie!$D$9),W673)","v":68146.051660002529},{"$f":"X673/Dźwignie!$D$5","v":6.8146051660002529},{"$f":"V673/Dźwignie!$D$2","v":0.5206546398765588},{"$f":"X673/Dźwignie!$D$3","v":0.68146051660002527},2.4404942212323633,1.2377247045922162,3.0206599890338377]
[662,0.70302450656890869,{"$f":"NORMINV(B674,Dźwignie!$L$8,Dźwignie!$L$9)","v":376655.96593443624},{"$f":"Dźwignie!$L$7*C674","v":564983.94890165434},null,{"$f":"C674*Dźwignie!$G$5","v":376655.96593443624},188327.98296721809,{"$f":"Dźwignie!$G$6","v":50000},138327.98296721809,{"$f":"I674-Dźwignie!$D$6","v":118327.98296721809},{"$f":"IF(J674>0,J674*(1-Dźwignie!$D$9),J674)","v":95845.666203446657},{"$f":"K674/Dźwignie!$D$5","v":9.5845666203446651},{"$f":"I674/Dźwignie!$D$2","v":0.69163991483609044},{"$f":"K674/Dźwignie!$D$3","v":0.95845666203446656},1.361459763436653,1.1690217267165017,1.5915760435077559,null,{"$f":"C674*Dźwignie!$G$8","v":188327.98296721812},376655.96593443619,{"$f":"Dźwignie!$G$9","v":150000},226655.96593443619,{"$f":"V674-Dźwignie!$D$6","v":206655.96593443619},{"$f":"IF(W674>0,W674*(1-Dźwignie!$D$9),W674)","v":167391.33240689331},{"$f":"X674/Dźwignie!$D$5","v":16.739133240689331},{"$f":"V674/Dźwignie!$D$2","v":1.1332798296721809},{"$f":"X674/Dźwignie!$D$3","v":1.6739133240689332},1.6617959486819327,1.096779204556549,1.8226232387306658]
[663,0.66349059343338013,{"$f":"NORMINV(B675,Dźwignie!$L$8,Dźwignie!$L$9)","v":371100.42500599794},{"$f":"Dźwignie!$L$7*C675","v":556650.63750899688},null,{"$f":"C675*Dźwignie!$G$5","v":371100.42500599794},185550.21250299894,{"$f":"Dźwignie!$G$6","v":50000},135550.21250299894,{"$f":"I675-Dźwignie!$D$6","v":115550.21250299894},{"$f":"IF(J675>0,J675*(1-Dźwignie!$D$9),J675)","v":93595.672127429149},{"$f":"K675/Dźwignie!$D$5","v":9.359567212742915},{"$f":"I675/Dźwignie!$D$2","v":0.67775106251499473},{"$f":"K675/Dźwignie!$D$3","v":0.93595672127429153},1.3688669982637895,1.1730849261699188,1.6057972415947159,null,{"$f":"C675*Dźwignie!$G$8","v":185550.21250299897},371100.42500599788,{"$f":"Dźwignie!$G$9","v":150000},221100.42500599788,{"$f":"V675-Dźwignie!$D$6","v":201100.42500599788},{"$f":"IF(W675>0,W675*(1-Dźwignie!$D$9),W675)","v":162891.3442548583},{"$f":"X675/Dźwignie!$D$5","v":16.28913442548583},{"$f":"V675/Dźwignie!$D$2","v":1.1055021250299895},{"$f":"X675/Dźwignie!$D$3","v":1.6289134425485829},1.6784247474690783,1.0994527982693398,1.8453487852893882]
[664,0.25932621955871582,{"$f":"NORMINV(B676,Dźwignie!$L$8,Dźwignie!$L$9)","v":317728.79880509968},{"$f":"Dźwignie!$L$7*C676","v":476593.19820764952},null,{"$f":"C676*Dźwignie!$G$5","v":317728.79880509968},158864.39940254984,{"$f":"Dźwignie!$G$6","v":50000},108864.39940254984,{"$f":"I676-Dźwignie!$D$6","v":88864.39940254984},{"$f":"IF(J676>0,J676*(1-Dźwignie!$D$9),J676)","v":71980.163516065368},{"$f":"K676/Dźwignie!$D$5","v":7.1980163516065367},{"$f":"I676/Dźwignie!$D$2","v":0.54432199701274919},{"$f":"K676/Dźwignie!$D$3","v":0.71980163516065365},1.4592869686913359,1.2250620060953918,1.7877170213338711,null,{"$f":"C676*Dźwignie!$G$8","v":158864.39940254984},317728.79880509968,{"$f":"Dźwignie!$G$9","v":150000},167728.79880509968,{"$f":"V676-Dźwignie!$D$6","v":147728.79880509968},{"$f":"IF(W676>0,W676*(1-Dźwignie!$D$9),W676)","v":119660.32703213075},{"$f":"X676/Dźwignie!$D$5","v":11.966032703213076},{"$f":"V676/Dźwignie!$D$2","v":0.83864399402549838},{"$f":"X676/Dźwignie!$D$3","v":1.1966032703213074},1.8943008062336362,1.13538321682549,2.1507573430166653]
[665,0.72761768102645874,{"$f":"NORMINV(B677,Dźwignie!$L$8,Dźwignie!$L$9)","v":380281.18672321248},{"$f":"Dźwignie!$L$7*C677","v":570421.78008481872},null,{"$f":"C677*Dźwignie!$G$5","v":380281.18672321248},190140.59336160624,{"$f":"Dźwignie!$G$6","v":50000},140140.59336160624,{"$f":"I677-Dźwignie!$D$6","v":120140.59336160624},{"$f":"IF(J677>0,J677*(1-Dźwignie!$D$9),J677)","v":97313.880622901066},{"$f":"K677/Dźwignie!$D$5","v":9.7313880622901063},{"$f":"I677/Dźwignie!$D$2","v":0.70070296680803124},{"$f":"K677/Dźwignie!$D$3","v":0.97313880622901061},1.3567845604234348,1.1664716266200119,1.5826506931700417,null,{"$f":"C677*Dźwignie!$G$8","v":190140.59336160624},380281.18672321248,{"$f":"Dźwignie!$G$9","v":150000},230281.18672321248,{"$f":"V677-Dźwignie!$D$6","v":210281.18672321248},{"$f":"IF(W677>0,W677*(1-Dźwignie!$D$9),W677)","v":170327.76124580213},{"$f":"X677/Dźwignie!$D$5","v":17.032776124580213},{"$f":"V677/Dźwignie!$D$2","v":1.1514059336160625},{"$f":"X677/Dźwignie!$D$3","v":1.7032776124580213},1.6513775707621881,1.0951107434367178,1.8084413192121007]
[666,0.49284827709197998,{"$f":"NORMINV(B678,Dźwignie!$L$8,Dźwignie!$L$9)","v":349103.61644314911},{"$f":"Dźwignie!$L$7*C678","v":523655.42466472369},null,{"$f":"C678*Dźwignie!$G$5","v":349103.61644314911},174551.80822157458,{"$f":"Dźwignie!$G$6","v":50000},124551.80822157458,{"$f":"I678-Dźwignie!$D$6","v":104551.80822157458},{"$f":"IF(J678>0,J678*(1-Dźwignie!$D$9),J678)","v":84686.964659475416},{"$f":"K678/Dźwignie!$D$5","v":8.4686964659475414},{"$f":"I678/Dźwignie!$D$2","v":0.62275904110787295},{"$f":"K678/Dźwignie!$D$3","v":0.84686964659475417},1.4014393746179199,1.191292722146081,1.6695245275112831,null,{"$f":"C678*Dźwignie!$G$8","v":174551.80822157455},349103.61644314916,{"$f":"Dźwignie!$G$9","v":150000},199103.61644314916,{"$f":"V678-Dźwignie!$D$6","v":179103.61644314916},{"$f":"IF(W678>0,W678*(1-Dźwignie!$D$9),W678)","v":145073.92931895083},{"$f":"X678/Dźwignie!$D$5","v":14.507392931895083},{"$f":"V678/Dźwignie!$D$2","v":0.99551808221574578},{"$f":"X678/Dźwignie!$D$3","v":1.4507392931895082},1.7533765718556402,1.1116672035840682,1.9491712304645796]
[667,0.87434154748916626,{"$f":"NORMINV(B679,Dźwignie!$L$8,Dźwignie!$L$9)","v":407357.82998284081},{"$f":"Dźwignie!$L$7*C679","v":611036.74497426115},null,{"$f":"C679*Dźwignie!$G$5","v":407357.82998284081},203678.91499142034,{"$f":"Dźwignie!$G$6","v":50000},153678.91499142034,{"$f":"I679-Dźwignie!$D$6","v":133678.91499142034},{"$f":"IF(J679>0,J679*(1-Dźwignie!$D$9),J679)","v":108279.92114305048},{"$f":"K679/Dźwignie!$D$5","v":10.827992114305047},{"$f":"I679/Dźwignie!$D$2","v":0.76839457495710173},{"$f":"K679/Dźwignie!$D$3","v":1.0827992114305047},1.3253536765456173,1.1496122256923138,1.523642789923098,null,{"$f":"C679*Dźwignie!$G$8","v":203678.9149914204},407357.82998284075,{"$f":"Dźwignie!$G$9","v":150000},257357.82998284075,{"$f":"V679-Dźwignie!$D$6","v":237357.82998284075},{"$f":"IF(W679>0,W679*(1-Dźwignie!$D$9),W679)","v":192259.84228610102},{"$f":"X679/Dźwignie!$D$5","v":19.225984228610102},{"$f":"V679/Dźwignie!$D$2","v":1.2867891499142037},{"$f":"X679/Dźwignie!$D$3","v":1.9225984228610102},1.5828460708189884,1.0842609658229765,1.7162182094952998]
[668,0.13580656051635742,{"$f":"NORMINV(B680,Dźwignie!$L$8,Dźwignie!$L$9)","v":295032.23510737909},{"$f":"Dźwignie!$L$7*C680","v":442548.35266106867},null,{"$f":"C680*Dźwignie!$G$5","v":295032.23510737909},147516.11755368958,{"$f":"Dźwignie!$G$6","v":50000},97516.117553689575,{"$f":"I680-Dźwignie!$D$6","v":77516.117553689575},{"$f":"IF(J680>0,J680*(1-Dźwignie!$D$9),J680)","v":62788.05521848856},{"$f":"K680/Dźwignie!$D$5","v":6.2788055218488559},{"$f":"I680/Dźwignie!$D$2","v":0.48758058776844787},{"$f":"K680/Dźwignie!$D$3","v":0.62788055218488559},1.5127357533740147,1.2580108580147542,1.9030380030516398,null,{"$f":"C680*Dźwignie!$G$8","v":147516.11755368955},295032.23510737915,{"$f":"Dźwignie!$G$9","v":150000},145032.23510737915,{"$f":"V680-Dźwignie!$D$6","v":125032.23510737915},{"$f":"IF(W680>0,W680*(1-Dźwignie!$D$9),W680)","v":101276.11043697712},{"$f":"X680/Dźwignie!$D$5","v":10.127611043697712},{"$f":"V680/Dźwignie!$D$2","v":0.72516117553689574},{"$f":"X680/Dźwignie!$D$3","v":1.0127611043697713},2.0342528327508904,1.1599587497002175,2.3596493724518486]
[669,0.82107704877853394,{"$f":"NORMINV(B681,Dźwignie!$L$8,Dźwignie!$L$9)","v":395973.87180531718},{"$f":"Dźwignie!$L$7*C681","v":593960.80770797573},null,{"$f":"C681*Dźwignie!$G$5","v":395973.87180531718},197986.93590265856,{"$f":"Dźwignie!$G$6","v":50000},147986.93590265856,{"$f":"I681-Dźwignie!$D$6","v":127986.93590265856},{"$f":"IF(J681>0,J681*(1-Dźwignie!$D$9),J681)","v":103669.41808115345},{"$f":"K681/Dźwignie!$D$5","v":10.366941808115344},{"$f":"I681/Dźwignie!$D$2","v":0.73993467951329284},{"$f":"K681/Dźwignie!$D$3","v":1.0366941808115344},1.3378676617298741,1.1562659490122582,1.5469308215429038,null,{"$f":"C681*Dźwignie!$G$8","v":197986.93590265859},395973.87180531712,{"$f":"Dźwignie!$G$9","v":150000},245973.87180531712,{"$f":"V681-Dźwignie!$D$6","v":225973.87180531712},{"$f":"IF(W681>0,W681*(1-Dźwignie!$D$9),W681)","v":183038.83616230686},{"$f":"X681/Dźwignie!$D$5","v":18.303883616230685},{"$f":"V681/Dźwignie!$D$2","v":1.2298693590265857},{"$f":"X681/Dźwignie!$D$3","v":1.8303883616230687},1.6098208679608121,1.0885058075087131,1.7522993638240612]
[670,0.29376900196075439,{"$f":"NORMINV(B682,Dźwignie!$L$8,Dźwignie!$L$9)","v":322879.63877857826},{"$f":"Dźwignie!$L$7*C682","v":484319.45816786739},null,{"$f":"C682*Dźwignie!$G$5","v":322879.63877857826},161439.81938928913,{"$f":"Dźwignie!$G$6","v":50000},111439.81938928913,{"$f":"I682-Dźwignie!$D$6","v":91439.819389289129},{"$f":"IF(J682>0,J682*(1-Dźwignie!$D$9),J682)","v":74066.253705324198},{"$f":"K682/Dźwignie!$D$5","v":7.4066253705324199},{"$f":"I682/Dźwignie!$D$2","v":0.55719909694644565},{"$f":"K682/Dźwignie!$D$3","v":0.74066253705324203},1.4486726582473775,1.2187230916856198,1.7655308208996692,null,{"$f":"C682*Dźwignie!$G$8","v":161439.81938928913},322879.63877857826,{"$f":"Dźwignie!$G$9","v":150000},172879.63877857826,{"$f":"V682-Dźwignie!$D$6","v":152879.63877857826},{"$f":"IF(W682>0,W682*(1-Dźwignie!$D$9),W682)","v":123832.5074106484},{"$f":"X682/Dźwignie!$D$5","v":12.38325074106484},{"$f":"V682/Dźwignie!$D$2","v":0.8643981938928913},{"$f":"X682/Dźwignie!$D$3","v":1.238325074106484},1.867655676861506,1.1308218684959532,2.1119858822156026]
[671,0.47768288850784302,{"$f":"NORMINV(B683,Dźwignie!$L$8,Dźwignie!$L$9)","v":347201.50444362836},{"$f":"Dźwignie!$L$7*C683","v":520802.25666544255},null,{"$f":"C683*Dźwignie!$G$5","v":347201.50444362836},173600.75222181418,{"$f":"Dźwignie!$G$6","v":50000},123600.75222181418,{"$f":"I683-Dźwignie!$D$6","v":103600.75222181418},{"$f":"IF(J683>0,J683*(1-Dźwignie!$D$9),J683)","v":83916.609299669493},{"$f":"K683/Dźwignie!$D$5","v":8.3916609299669496},{"$f":"I683/Dźwignie!$D$2","v":0.61800376110907096},{"$f":"K683/Dźwignie!$D$3","v":0.83916609299669498},1.404528282402925,1.1930487913560612,1.6756707697462143,null,{"$f":"C683*Dźwignie!$G$8","v":173600.75222181418},347201.50444362836,{"$f":"Dźwignie!$G$9","v":150000},197201.50444362836,{"$f":"V683-Dźwignie!$D$6","v":177201.50444362836},{"$f":"IF(W683>0,W683*(1-Dźwignie!$D$9),W683)","v":143533.21859933899},{"$f":"X683/Dźwignie!$D$5","v":14.353321859933899},{"$f":"V683/Dźwignie!$D$2","v":0.98600752221814181},{"$f":"X683/Dźwignie!$D$3","v":1.4353321859933899},1.7606432842548556,1.1128658589146596,1.9593598007746071]
[672,0.55747199058532715,{"$f":"NORMINV(B684,Dźwignie!$L$8,Dźwignie!$L$9)","v":357228.14323586004},{"$f":"Dźwignie!$L$7*C684","v":535842.21485379012},null,{"$f":"C684*Dźwignie!$G$5","v":357228.14323586004},178614.07161793008,{"$f":"Dźwignie!$G$6","v":50000},128614.07161793008,{"$f":"I684-Dźwignie!$D$6","v":108614.07161793008},{"$f":"IF(J684>0,J684*(1-Dźwignie!$D$9),J684)","v":87977.398010523364},{"$f":"K684/Dźwignie!$D$5","v":8.7977398010523356},{"$f":"I684/Dźwignie!$D$2","v":0.64307035808965041},{"$f":"K684/Dźwignie!$D$3","v":0.87977398010523367},1.3887599495997101,1.1841382032924213,1.6444837115234741,null,{"$f":"C684*Dźwignie!$G$8","v":178614.07161793002},357228.1432358601,{"$f":"Dźwignie!$G$9","v":150000},207228.1432358601,{"$f":"V684-Dźwignie!$D$6","v":187228.1432358601},{"$f":"IF(W684>0,W684*(1-Dźwignie!$D$9),W684)","v":151654.7960210467},{"$f":"X684/Dźwignie!$D$5","v":15.16547960210467},{"$f":"V684/Dźwignie!$D$2","v":1.0361407161793006},{"$f":"X684/Dźwignie!$D$3","v":1.516547960210467},1.7238399073492399,1.106821547521331,1.9079831539313135]
[673,0.11101239919662476,{"$f":"NORMINV(B685,Dźwignie!$L$8,Dźwignie!$L$9)","v":288941.91447783768},{"$f":"Dźwignie!$L$7*C685","v":433412.87171675649},null,{"$f":"C685*Dźwignie!$G$5","v":288941.91447783768},144470.95723891881,{"$f":"Dźwignie!$G$6","v":50000},94470.957238918811,{"$f":"I685-Dźwignie!$D$6","v":74470.957238918811},{"$f":"IF(J685>0,J685*(1-Dźwignie!$D$9),J685)","v":60321.475363524238},{"$f":"K685/Dźwignie!$D$5","v":6.032147536352424},{"$f":"I685/Dźwignie!$D$2","v":0.47235478619459403},{"$f":"K685/Dźwignie!$D$3","v":0.60321475363524235},1.5292631879821972,1.2685610705370109,1.9399637468795383,null,{"$f":"C685*Dźwignie!$G$8","v":144470.95723891884},288941.91447783762,{"$f":"Dźwignie!$G$9","v":150000},138941.91447783762,{"$f":"V685-Dźwignie!$D$6","v":118941.91447783762},{"$f":"IF(W685>0,W685*(1-Dźwignie!$D$9),W685)","v":96342.950727048476},{"$f":"X685/Dźwignie!$D$5","v":9.6342950727048482},{"$f":"V685/Dźwignie!$D$2","v":0.69470957238918807},{"$f":"X685/Dźwignie!$D$3","v":0.96342950727048471},2.0795878303801998,1.168149302857628,2.4292690742898375]
[674,9.1680288314819336E-3,{"$f":"NORMINV(B686,Dźwignie!$L$8,Dźwignie!$L$9)","v":232061.94697290135},{"$f":"Dźwignie!$L$7*C686","v":348092.92045935203},null,{"$f":"C686*Dźwignie!$G$5","v":232061.94697290135},116030.97348645068,{"$f":"Dźwignie!$G$6","v":50000},66030.973486450675,{"$f":"I686-Dźwignie!$D$6","v":46030.973486450675},{"$f":"IF(J686>0,J686*(1-Dźwignie!$D$9),J686)","v":37285.08852402505},{"$f":"K686/Dźwignie!$D$5","v":3.7285088524025052},{"$f":"I686/Dźwignie!$D$2","v":0.33015486743225336},{"$f":"K686/Dźwignie!$D$3","v":0.37285088524025051},1.7572203976405076,1.4344900506153111,2.5207151771535887,null,{"$f":"C686*Dźwignie!$G$8","v":116030.97348645068},232061.94697290135,{"$f":"Dźwignie!$G$9","v":150000},82061.946972901351,{"$f":"V686-Dźwignie!$D$6","v":62061.946972901351},{"$f":"IF(W686>0,W686*(1-Dźwignie!$D$9),W686)","v":50270.1770480501},{"$f":"X686/Dźwignie!$D$5","v":5.0270177048050098},{"$f":"V686/Dźwignie!$D$2","v":0.41030973486450678},{"$f":"X686/Dźwignie!$D$3","v":0.50270177048050102},2.827887413511323,1.3222586621192012,3.7391986280132103]
[675,0.8258705735206604,{"$f":"NORMINV(B687,Dźwignie!$L$8,Dźwignie!$L$9)","v":396898.59481703857},{"$f":"Dźwignie!$L$7*C687","v":595347.89222555782},null,{"$f":"C687*Dźwignie!$G$5","v":396898.59481703857},198449.29740851925,{"$f":"Dźwignie!$G$6","v":50000},148449.29740851925,{"$f":"I687-Dźwignie!$D$6","v":128449.29740851925},{"$f":"IF(J687>0,J687*(1-Dźwignie!$D$9),J687)","v":104043.93090090061},{"$f":"K687/Dźwignie!$D$5","v":10.404393090090061},{"$f":"I687/Dźwignie!$D$2","v":0.74224648704259633},{"$f":"K687/Dźwignie!$D$3","v":1.0404393090090061},1.3368153360969062,1.1557034596802203,1.5449621088807708,null,{"$f":"C687*Dźwignie!$G$8","v":198449.29740851928},396898.59481703851,{"$f":"Dźwignie!$G$9","v":150000},246898.59481703851,{"$f":"V687-Dźwignie!$D$6","v":226898.59481703851},{"$f":"IF(W687>0,W687*(1-Dźwignie!$D$9),W687)","v":183787.86180180119},{"$f":"X687/Dźwignie!$D$5","v":18.378786180180118},{"$f":"V687/Dźwignie!$D$2","v":1.2344929740851927},{"$f":"X687/Dźwignie!$D$3","v":1.837878618018012},1.607536872014828,1.0881451029528286,1.749233375099043]
[676,0.279754638671875,{"$f":"NORMINV(B688,Dźwignie!$L$8,Dźwignie!$L$9)","v":320821.47239888459},{"$f":"Dźwignie!$L$7*C688","v":481232.20859832689},null,{"$f":"C688*Dźwignie!$G$5","v":320821.47239888459},160410.7361994423,{"$f":"Dźwignie!$G$6","v":50000},110410.7361994423,{"$f":"I688-Dźwignie!$D$6","v":90410.736199442297},{"$f":"IF(J688>0,J688*(1-Dźwignie!$D$9),J688)","v":73232.696321548268},{"$f":"K688/Dźwignie!$D$5","v":7.323269632154827},{"$f":"I688/Dźwignie!$D$2","v":0.55205368099721153},{"$f":"K688/Dźwignie!$D$3","v":0.73232696321548263},1.4528545114460758,1.2212126661139098,1.774244331398684,null,{"$f":"C688*Dźwignie!$G$8","v":160410.7361994423},320821.47239888459,{"$f":"Dźwignie!$G$9","v":150000},170821.47239888459,{"$f":"V688-Dźwignie!$D$6","v":150821.47239888459},{"$f":"IF(W688>0,W688*(1-Dźwignie!$D$9),W688)","v":122165.39264309654},{"$f":"X688/Dźwignie!$D$5","v":12.216539264309654},{"$f":"V688/Dźwignie!$D$2","v":0.85410736199442294},{"$f":"X688/Dźwignie!$D$3","v":1.2216539264309654},1.878109747524805,1.1326071127797046,2.1271604586274893]
[677,0.8936273455619812,{"$f":"NORMINV(B689,Dźwignie!$L$8,Dźwignie!$L$9)","v":412302.59950398072},{"$f":"Dźwignie!$L$7*C689","v":618453.89925597108},null,{"$f":"C689*Dźwignie!$G$5","v":412302.59950398072},206151.29975199036,{"$f":"Dźwignie!$G$6","v":50000},156151.29975199036,{"$f":"I689-Dźwignie!$D$6","v":136151.29975199036},{"$f":"IF(J689>0,J689*(1-Dźwignie!$D$9),J689)","v":110282.55279911219},{"$f":"K689/Dźwignie!$D$5","v":11.028255279911219},{"$f":"I689/Dźwignie!$D$2","v":0.78075649875995179},{"$f":"K689/Dźwignie!$D$3","v":1.1028255279911219},1.320202265875553,1.146895402661829,1.5141339093164015,null,{"$f":"C689*Dźwignie!$G$8","v":206151.29975199036},412302.59950398072,{"$f":"Dźwignie!$G$9","v":150000},262302.59950398072,{"$f":"V689-Dźwignie!$D$6","v":242302.59950398072},{"$f":"IF(W689>0,W689*(1-Dźwignie!$D$9),W689)","v":196265.10559822439},{"$f":"X689/Dźwignie!$D$5","v":19.626510559822439},{"$f":"V689/Dźwignie!$D$2","v":1.3115129975199036},{"$f":"X689/Dźwignie!$D$3","v":1.9626510559822439},1.5718586101840122,1.0825414173885965,1.70160204780307]
[678,6.2934517860412598E-2,{"$f":"NORMINV(B690,Dźwignie!$L$8,Dźwignie!$L$9)","v":273470.15244374995},{"$f":"Dźwignie!$L$7*C690","v":410205.22866562492},null,{"$f":"C690*Dźwignie!$G$5","v":273470.15244374995},136735.07622187497,{"$f":"Dźwignie!$G$6","v":50000},86735.076221874973,{"$f":"I690-Dźwignie!$D$6","v":66735.076221874973},{"$f":"IF(J690>0,J690*(1-Dźwignie!$D$9),J690)","v":54055.411739718729},{"$f":"K690/Dźwignie!$D$5","v":5.4055411739718728},{"$f":"I690/Dźwignie!$D$2","v":0.43367538110937487},{"$f":"K690/Dźwignie!$D$3","v":0.54055411739718728},1.5764680470458823,1.2996924725687844,2.0489236539907454,null,{"$f":"C690*Dźwignie!$G$8","v":136735.07622187497},273470.15244374995,{"$f":"Dźwignie!$G$9","v":150000},123470.15244374995,{"$f":"V690-Dźwignie!$D$6","v":103470.15244374995},{"$f":"IF(W690>0,W690*(1-Dźwignie!$D$9),W690)","v":83810.823479437458},{"$f":"X690/Dźwignie!$D$5","v":8.381082347943746},{"$f":"V690/Dźwignie!$D$2","v":0.61735076221874974},{"$f":"X690/Dźwignie!$D$3","v":0.83810823479437457},2.2148685089567408,1.1932924570771528,2.6429858851557992]
[679,0.70973712205886841,{"$f":"NORMINV(B691,Dźwignie!$L$8,Dźwignie!$L$9)","v":377630.84582259814},{"$f":"Dźwignie!$L$7*C691","v":566446.26873389725},null,{"$f":"C691*Dźwignie!$G$5","v":377630.84582259814},188815.4229112991,{"$f":"Dźwignie!$G$6","v":50000},138815.4229112991,{"$f":"I691-Dźwignie!$D$6","v":118815.4229112991},{"$f":"IF(J691>0,J691*(1-Dźwignie!$D$9),J691)","v":96240.492558152284},{"$f":"K691/Dźwignie!$D$5","v":9.624049255815228},{"$f":"I691/Dźwignie!$D$2","v":0.69407711455649546},{"$f":"K691/Dźwignie!$D$3","v":0.9624049255815228},1.3601905245928561,1.168328315549833,1.5891491044244153,null,{"$f":"C691*Dźwignie!$G$8","v":188815.42291129907},377630.8458225982,{"$f":"Dźwignie!$G$9","v":150000},227630.8458225982,{"$f":"V691-Dźwignie!$D$6","v":207630.8458225982},{"$f":"IF(W691>0,W691*(1-Dźwignie!$D$9),W691)","v":168180.98511630457},{"$f":"X691/Dźwignie!$D$5","v":16.818098511630456},{"$f":"V691/Dźwignie!$D$2","v":1.1381542291129909},{"$f":"X691/Dźwignie!$D$3","v":1.6818098511630457},1.6589616598661721,1.096324801455985,1.8187608123758723]
[680,0.74265694618225098,{"$f":"NORMINV(B692,Dźwignie!$L$8,Dźwignie!$L$9)","v":382577.91874504572},{"$f":"Dźwignie!$L$7*C692","v":573866.87811756856},null,{"$f":"C692*Dźwignie!$G$5","v":382577.91874504572},191288.95937252283,{"$f":"Dźwignie!$G$6","v":50000},141288.95937252283,{"$f":"I692-Dźwignie!$D$6","v":121288.95937252283},{"$f":"IF(J692>0,J692*(1-Dźwignie!$D$9),J692)","v":98244.057091743496},{"$f":"K692/Dźwignie!$D$5","v":9.82440570917435},{"$f":"I692/Dźwignie!$D$2","v":0.70644479686261419},{"$f":"K692/Dźwignie!$D$3","v":0.98244057091743497},1.3538846929162376,1.1648954703170689,1.577134146109741,null,{"$f":"C692*Dźwignie!$G$8","v":191288.95937252286},382577.91874504567,{"$f":"Dźwignie!$G$9","v":150000},232577.91874504567,{"$f":"V692-Dźwignie!$D$6","v":212577.91874504567},{"$f":"IF(W692>0,W692*(1-Dźwignie!$D$9),W692)","v":172188.11418348699},{"$f":"X692/Dźwignie!$D$5","v":17.2188114183487},{"$f":"V692/Dźwignie!$D$2","v":1.1628895937252284},{"$f":"X692/Dźwignie!$D$3","v":1.7218811418348698},1.6449451470258944,1.0940831489840057,1.7997067663640489]
[681,0.41141456365585327,{"$f":"NORMINV(B693,Dźwignie!$L$8,Dźwignie!$L$9)","v":338804.61520601559},{"$f":"Dźwignie!$L$7*C693","v":508206.92280902341},null,{"$f":"C693*Dźwignie!$G$5","v":338804.61520601559},169402.30760300782,{"$f":"Dźwignie!$G$6","v":50000},119402.30760300782,{"$f":"I693-Dźwignie!$D$6","v":99402.307603007823},{"$f":"IF(J693>0,J693*(1-Dźwignie!$D$9),J693)","v":80515.869158436341},{"$f":"K693/Dźwignie!$D$5","v":8.0515869158436342},{"$f":"I693/Dźwignie!$D$2","v":0.59701153801503914},{"$f":"K693/Dźwignie!$D$3","v":0.80515869158436337},1.4187523759276195,1.2012025724782551,1.7042090036738931,null,{"$f":"C693*Dźwignie!$G$8","v":169402.30760300779},338804.61520601565,{"$f":"Dźwignie!$G$9","v":150000},188804.61520601565,{"$f":"V693-Dźwignie!$D$6","v":168804.61520601565},{"$f":"IF(W693>0,W693*(1-Dźwignie!$D$9),W693)","v":136731.73831687268},{"$f":"X693/Dźwignie!$D$5","v":13.673173831687269},{"$f":"V693/Dźwignie!$D$2","v":0.94402307603007818},{"$f":"X693/Dźwignie!$D$3","v":1.3673173831687269},1.7944721045951462,1.1184801729241303,2.0070814698551072]
[682,4.0090441703796387E-2,{"$f":"NORMINV(B694,Dźwignie!$L$8,Dźwignie!$L$9)","v":262518.12464687822},{"$f":"Dźwignie!$L$7*C694","v":393777.18697031733},null,{"$f":"C694*Dźwignie!$G$5","v":262518.12464687822},131259.06232343911,{"$f":"Dźwignie!$G$6","v":50000},81259.06232343911,{"$f":"I694-Dźwignie!$D$6","v":61259.06232343911},{"$f":"IF(J694>0,J694*(1-Dźwignie!$D$9),J694)","v":49619.840481985681},{"$f":"K694/Dźwignie!$D$5","v":4.961984048198568},{"$f":"I694/Dźwignie!$D$2","v":0.40629531161719556},{"$f":"K694/Dźwignie!$D$3","v":0.49619840481985683},1.6153159853233692,1.3264823071303777,2.1426880749563222,null,{"$f":"C694*Dźwignie!$G$8","v":131259.06232343911},262518.12464687822,{"$f":"Dźwignie!$G$9","v":150000},112518.12464687822,{"$f":"V694-Dźwignie!$D$6","v":92518.124646878219},{"$f":"IF(W694>0,W694*(1-Dźwignie!$D$9),W694)","v":74939.680963971361},{"$f":"X694/Dźwignie!$D$5","v":7.4939680963971362},{"$f":"V694/Dźwignie!$D$2","v":0.56259062323439113},{"$f":"X694/Dźwignie!$D$3","v":0.74939680963971356},2.333118557305796,1.2161738586502451,2.8374777985270829]
[683,0.43671661615371704,{"$f":"NORMINV(B695,Dźwignie!$L$8,Dźwignie!$L$9)","v":342035.04515906906},{"$f":"Dźwignie!$L$7*C695","v":513052.56773860357},null,{"$f":"C695*Dźwignie!$G$5","v":342035.04515906906},171017.5225795345,{"$f":"Dźwignie!$G$6","v":50000},121017.5225795345,{"$f":"I695-Dźwignie!$D$6","v":101017.5225795345},{"$f":"IF(J695>0,J695*(1-Dźwignie!$D$9),J695)","v":81824.193289422954},{"$f":"K695/Dźwignie!$D$5","v":8.1824193289422951},{"$f":"I695/Dźwignie!$D$2","v":0.60508761289767254},{"$f":"K695/Dźwignie!$D$3","v":0.81824193289422953},1.4131633083724653,1.1979854533083933,1.6929490865793766,null,{"$f":"C695*Dźwignie!$G$8","v":171017.52257953453},342035.04515906901,{"$f":"Dźwignie!$G$9","v":150000},192035.04515906901,{"$f":"V695-Dźwignie!$D$6","v":172035.04515906901},{"$f":"IF(W695>0,W695*(1-Dźwignie!$D$9),W695)","v":139348.38657884591},{"$f":"X695/Dźwignie!$D$5","v":13.93483865788459},{"$f":"V695/Dźwignie!$D$2","v":0.96017522579534498},{"$f":"X695/Dźwignie!$D$3","v":1.3934838657884592},1.7811074269061151,1.1162553826257167,1.9881707523185912]
[684,0.83637666702270508,{"$f":"NORMINV(B696,Dźwignie!$L$8,Dźwignie!$L$9)","v":398983.74032126565},{"$f":"Dźwignie!$L$7*C696","v":598475.61048189853},null,{"$f":"C696*Dźwignie!$G$5","v":398983.74032126565},199491.87016063288,{"$f":"Dźwignie!$G$6","v":50000},149491.87016063288,{"$f":"I696-Dźwignie!$D$6","v":129491.87016063288},{"$f":"IF(J696>0,J696*(1-Dźwignie!$D$9),J696)","v":104888.41483011264},{"$f":"K696/Dźwignie!$D$5","v":10.488841483011264},{"$f":"I696/Dźwignie!$D$2","v":0.74745935080316439},{"$f":"K696/Dźwignie!$D$3","v":1.0488841483011264},1.3344663488808703,1.1544498505982674,1.5405744770939362,null,{"$f":"C696*Dźwignie!$G$8","v":199491.87016063282},398983.74032126571,{"$f":"Dźwignie!$G$9","v":150000},248983.74032126571,{"$f":"V696-Dźwignie!$D$6","v":228983.74032126571},{"$f":"IF(W696>0,W696*(1-Dźwignie!$D$9),W696)","v":185476.82966022522},{"$f":"X696/Dźwignie!$D$5","v":18.547682966022521},{"$f":"V696/Dźwignie!$D$2","v":1.2449187016063286},{"$f":"X696/Dźwignie!$D$3","v":1.8547682966022523},1.602448978421056,1.0873424461140335,1.7424107919692853]
[685,0.55628079175949097,{"$f":"NORMINV(B697,Dźwignie!$L$8,Dźwignie!$L$9)","v":357077.31307658955},{"$f":"Dźwignie!$L$7*C697","v":535615.96961488435},null,{"$f":"C697*Dźwignie!$G$5","v":357077.31307658955},178538.6565382948,{"$f":"Dźwignie!$G$6","v":50000},128538.6565382948,{"$f":"I697-Dźwignie!$D$6","v":108538.6565382948},{"$f":"IF(J697>0,J697*(1-Dźwignie!$D$9),J697)","v":87916.311796018796},{"$f":"K697/Dźwignie!$D$5","v":8.7916311796018789},{"$f":"I697/Dźwignie!$D$2","v":0.64269328269147397},{"$f":"K697/Dźwignie!$D$3","v":0.87916311796018798},1.3889880394471354,1.1842661466234712,1.6449315131821491,null,{"$f":"C697*Dźwignie!$G$8","v":178538.65653829477},357077.31307658961,{"$f":"Dźwignie!$G$9","v":150000},207077.31307658961,{"$f":"V697-Dźwignie!$D$6","v":187077.31307658961},{"$f":"IF(W697>0,W697*(1-Dźwignie!$D$9),W697)","v":151532.62359203759},{"$f":"X697/Dźwignie!$D$5","v":15.15326235920376},{"$f":"V697/Dźwignie!$D$2","v":1.0353865653829479},{"$f":"X697/Dźwignie!$D$3","v":1.5153262359203759},1.7243671350155148,1.1069076718661872,1.9087152108625907]
[686,0.5774155855178833,{"$f":"NORMINV(B698,Dźwignie!$L$8,Dźwignie!$L$9)","v":359764.31453044852},{"$f":"Dźwignie!$L$7*C698","v":539646.47179567278},null,{"$f":"C698*Dźwignie!$G$5","v":359764.31453044852},179882.15726522426,{"$f":"Dźwignie!$G$6","v":50000},129882.15726522426,{"$f":"I698-Dźwignie!$D$6","v":109882.15726522426},{"$f":"IF(J698>0,J698*(1-Dźwignie!$D$9),J698)","v":89004.547384831661},{"$f":"K698/Dźwignie!$D$5","v":8.900454738483166},{"$f":"I698/Dźwignie!$D$2","v":0.64941078632612126},{"$f":"K698/Dźwignie!$D$3","v":0.89004547384831656},1.3849643480889997,1.1820131720905851,1.6370461023170477,null,{"$f":"C698*Dźwignie!$G$8","v":179882.15726522426},359764.31453044852,{"$f":"Dźwignie!$G$9","v":150000},209764.31453044852,{"$f":"V698-Dźwignie!$D$6","v":189764.31453044852},{"$f":"IF(W698>0,W698*(1-Dźwignie!$D$9),W698)","v":153709.09476966332},{"$f":"X698/Dźwignie!$D$5","v":15.370909476966332},{"$f":"V698/Dźwignie!$D$2","v":1.0488215726522425},{"$f":"X698/Dźwignie!$D$3","v":1.5370909476966332},1.7150882662562064,1.1053938937333283,1.8958480967332914]
[687,0.1589697003364563,{"$f":"NORMINV(B699,Dźwignie!$L$8,Dźwignie!$L$9)","v":300064.93396167463},{"$f":"Dźwignie!$L$7*C699","v":450097.40094251197},null,{"$f":"C699*Dźwignie!$G$5","v":300064.93396167463},150032.46698083734,{"$f":"Dźwignie!$G$6","v":50000},100032.46698083734,{"$f":"I699-Dźwignie!$D$6","v":80032.466980837344},{"$f":"IF(J699>0,J699*(1-Dźwignie!$D$9),J699)","v":64826.29825447825},{"$f":"K699/Dźwignie!$D$5","v":6.482629825447825},{"$f":"I699/Dźwignie!$D$2","v":0.50016233490418671},{"$f":"K699/Dźwignie!$D$3","v":0.64826298254478254},1.4998377177839493,1.2498985818441499,1.8746450364545246,null,{"$f":"C699*Dźwignie!$G$8","v":150032.46698083731},300064.93396167469,{"$f":"Dźwignie!$G$9","v":150000},150064.93396167469,{"$f":"V699-Dźwignie!$D$6","v":130064.93396167469},{"$f":"IF(W699>0,W699*(1-Dźwignie!$D$9),W699)","v":105352.5965089565},{"$f":"X699/Dźwignie!$D$5","v":10.53525965089565},{"$f":"V699/Dźwignie!$D$2","v":0.75032466980837342},{"$f":"X699/Dźwignie!$D$3","v":1.053525965089565},1.999567294237498,1.1537693472853587,2.307039451925549]
[688,0.9169318675994873,{"$f":"NORMINV(B700,Dźwignie!$L$8,Dźwignie!$L$9)","v":419236.30015862442},{"$f":"Dźwignie!$L$7*C700","v":628854.45023793657},null,{"$f":"C700*Dźwignie!$G$5","v":419236.30015862442},209618.15007931215,{"$f":"Dźwignie!$G$6","v":50000},159618.15007931215,{"$f":"I700-Dźwignie!$D$6","v":139618.15007931215},{"$f":"IF(J700>0,J700*(1-Dźwignie!$D$9),J700)","v":113090.70156424285},{"$f":"K700/Dźwignie!$D$5","v":11.309070156424285},{"$f":"I700/Dźwignie!$D$2","v":0.79809075039656074},{"$f":"K700/Dźwignie!$D$3","v":1.1309070156424283},1.3132475847837835,1.1432478512903852,1.5013674795163483,null,{"$f":"C700*Dźwignie!$G$8","v":209618.15007931221},419236.30015862436,{"$f":"Dźwignie!$G$9","v":150000},269236.30015862436,{"$f":"V700-Dźwignie!$D$6","v":249236.30015862436},{"$f":"IF(W700>0,W700*(1-Dźwignie!$D$9),W700)","v":201881.40312848575},{"$f":"X700/Dźwignie!$D$5","v":20.188140312848574},{"$f":"V700/Dźwignie!$D$2","v":1.3461815007931217},{"$f":"X700/Dźwignie!$D$3","v":2.0188140312848577},1.5571314117436073,1.0802451327807032,1.6820836286359768]
[689,0.82267183065414429,{"$f":"NORMINV(B701,Dźwignie!$L$8,Dźwignie!$L$9)","v":396279.76482018351},{"$f":"Dźwignie!$L$7*C701","v":594419.64723027521},null,{"$f":"C701*Dźwignie!$G$5","v":396279.76482018351},198139.8824100917,{"$f":"Dźwignie!$G$6","v":50000},148139.8824100917,{"$f":"I701-Dźwignie!$D$6","v":128139.8824100917},{"$f":"IF(J701>0,J701*(1-Dźwignie!$D$9),J701)","v":103793.30475217428},{"$f":"K701/Dźwignie!$D$5","v":10.379330475217429},{"$f":"I701/Dźwignie!$D$2","v":0.74069941205045853},{"$f":"K701/Dźwignie!$D$3","v":1.0379330475217428},1.3375188314351858,1.156079431507461,1.5462780102761131,null,{"$f":"C701*Dźwignie!$G$8","v":198139.88241009176},396279.76482018345,{"$f":"Dźwignie!$G$9","v":150000},246279.76482018345,{"$f":"V701-Dźwignie!$D$6","v":226279.76482018345},{"$f":"IF(W701>0,W701*(1-Dźwignie!$D$9),W701)","v":183286.6095043486},{"$f":"X701/Dźwignie!$D$5","v":18.328660950434859},{"$f":"V701/Dźwignie!$D$2","v":1.2313988241009173},{"$f":"X701/Dźwignie!$D$3","v":1.8328660950434861},1.6090634368987631,1.0883861622177895,1.7512823788512111]
[690,0.50407254695892334,{"$f":"NORMINV(B702,Dźwignie!$L$8,Dźwignie!$L$9)","v":350510.42693333904},{"$f":"Dźwignie!$L$7*C702","v":525765.64040000853},null,{"$f":"C702*Dźwignie!$G$5","v":350510.42693333904},175255.21346666949,{"$f":"Dźwignie!$G$6","v":50000},125255.21346666949,{"$f":"I702-Dźwignie!$D$6","v":105255.21346666949},{"$f":"IF(J702>0,J702*(1-Dźwignie!$D$9),J702)","v":85256.722908002295},{"$f":"K702/Dźwignie!$D$5","v":8.5256722908002303},{"$f":"I702/Dźwignie!$D$2","v":0.62627606733334751},{"$f":"K702/Dźwignie!$D$3","v":0.85256722908002291},1.3991849809373806,1.1900143407749895,1.6650501927124632,null,{"$f":"C702*Dźwignie!$G$8","v":175255.21346666952},350510.42693333898,{"$f":"Dźwignie!$G$9","v":150000},200510.42693333898,{"$f":"V702-Dźwignie!$D$6","v":180510.42693333898},{"$f":"IF(W702>0,W702*(1-Dźwignie!$D$9),W702)","v":146213.44581600459},{"$f":"X702/Dźwignie!$D$5","v":14.621344581600459},{"$f":"V702/Dźwignie!$D$2","v":1.002552134666695},{"$f":"X702/Dźwignie!$D$3","v":1.4621344581600459},1.7480907716079448,1.1107969237000688,1.9417738514505847]
[691,0.45150858163833618,{"$f":"NORMINV(B703,Dźwignie!$L$8,Dźwignie!$L$9)","v":343907.45887586736},{"$f":"Dźwignie!$L$7*C703","v":515861.18831380107},null,{"$f":"C703*Dźwignie!$G$5","v":343907.45887586736},171953.72943793371,{"$f":"Dźwignie!$G$6","v":50000},121953.72943793371,{"$f":"I703-Dźwignie!$D$6","v":101953.72943793371},{"$f":"IF(J703>0,J703*(1-Dźwignie!$D$9),J703)","v":82582.520844726314},{"$f":"K703/Dźwignie!$D$5","v":8.2582520844726321},{"$f":"I703/Dźwignie!$D$2","v":0.6097686471896685},{"$f":"K703/Dźwignie!$D$3","v":0.82582520844726315},1.4099915618033367,1.1961674193799392,1.6865859678297874,null,{"$f":"C703*Dźwignie!$G$8","v":171953.72943793368},343907.45887586742,{"$f":"Dźwignie!$G$9","v":150000},193907.45887586742,{"$f":"V703-Dźwignie!$D$6","v":173907.45887586742},{"$f":"IF(W703>0,W703*(1-Dźwignie!$D$9),W703)","v":140865.04168945263},{"$f":"X703/Dźwignie!$D$5","v":14.086504168945263},{"$f":"V703/Dźwignie!$D$2","v":0.96953729437933711},{"$f":"X703/Dźwignie!$D$3","v":1.4086504168945262},1.7735648791933507,1.1150036929369183,1.9775313899638054]
[692,7.1785926818847656E-2,{"$f":"NORMINV(B704,Dźwignie!$L$8,Dźwignie!$L$9)","v":276869.08512443292},{"$f":"Dźwignie!$L$7*C704","v":415303.62768664939},null,{"$f":"C704*Dźwignie!$G$5","v":276869.08512443292},138434.54256221646,{"$f":"Dźwignie!$G$6","v":50000},88434.542562216462,{"$f":"I704-Dźwignie!$D$6","v":68434.542562216462},{"$f":"IF(J704>0,J704*(1-Dźwignie!$D$9),J704)","v":55431.979475395339},{"$f":"K704/Dźwignie!$D$5","v":5.5431979475395341},{"$f":"I704/Dźwignie!$D$2","v":0.44217271281108234},{"$f":"K704/Dźwignie!$D$3","v":0.55431979475395343},1.5653899319355153,1.2922500721301269,2.0228752524554441,null,{"$f":"C704*Dźwignie!$G$8","v":138434.54256221646},276869.08512443292,{"$f":"Dźwignie!$G$9","v":150000},126869.08512443292,{"$f":"V704-Dźwignie!$D$6","v":106869.08512443292},{"$f":"IF(W704>0,W704*(1-Dźwignie!$D$9),W704)","v":86563.958950790679},{"$f":"X704/Dźwignie!$D$5","v":8.6563958950790685},{"$f":"V704/Dźwignie!$D$2","v":0.63434542562216467},{"$f":"X704/Dźwignie!$D$3","v":0.86563958950790676},2.1823211293190954,1.187144860243849,2.5907313120727165]
[693,0.51069754362106323,{"$f":"NORMINV(B705,Dźwignie!$L$8,Dźwignie!$L$9)","v":351340.89897813561},{"$f":"Dźwignie!$L$7*C705","v":527011.34846720344},null,{"$f":"C705*Dźwignie!$G$5","v":351340.89897813561},175670.44948906783,{"$f":"Dźwignie!$G$6","v":50000},125670.44948906783,{"$f":"I705-Dźwignie!$D$6","v":105670.44948906783},{"$f":"IF(J705>0,J705*(1-Dźwignie!$D$9),J705)","v":85593.06408614495},{"$f":"K705/Dźwignie!$D$5","v":8.5593064086144945},{"$f":"I705/Dźwignie!$D$2","v":0.62835224744533913},{"$f":"K705/Dźwignie!$D$3","v":0.85593064086144954},1.3978660075083884,1.1892676722461477,1.6624368528615172,null,{"$f":"C705*Dźwignie!$G$8","v":175670.4494890678},351340.89897813566,{"$f":"Dźwignie!$G$9","v":150000},201340.89897813566,{"$f":"V705-Dźwignie!$D$6","v":181340.89897813566},{"$f":"IF(W705>0,W705*(1-Dźwignie!$D$9),W705)","v":146886.1281722899},{"$f":"X705/Dźwignie!$D$5","v":14.688612817228989},{"$f":"V705/Dźwignie!$D$2","v":1.0067044948906783},{"$f":"X705/Dźwignie!$D$3","v":1.468861281722899},1.7450051169995473,1.1102895161141304,1.9374608869701089]
[694,0.2322317361831665,{"$f":"NORMINV(B706,Dźwignie!$L$8,Dźwignie!$L$9)","v":313424.15390815836},{"$f":"Dźwignie!$L$7*C706","v":470136.23086223751},null,{"$f":"C706*Dźwignie!$G$5","v":313424.15390815836},156712.07695407915,{"$f":"Dźwignie!$G$6","v":50000},106712.07695407915,{"$f":"I706-Dźwignie!$D$6","v":86712.076954079152},{"$f":"IF(J706>0,J706*(1-Dźwignie!$D$9),J706)","v":70236.782332804112},{"$f":"K706/Dźwignie!$D$5","v":7.0236782332804113},{"$f":"I706/Dźwignie!$D$2","v":0.5335603847703958},{"$f":"K706/Dźwignie!$D$3","v":0.70236782332804115},1.4685505279924056,1.2306483791247622,1.8072693269366678,null,{"$f":"C706*Dźwignie!$G$8","v":156712.07695407918},313424.1539081583,{"$f":"Dźwignie!$G$9","v":150000},163424.1539081583,{"$f":"V706-Dźwignie!$D$6","v":143424.1539081583},{"$f":"IF(W706>0,W706*(1-Dźwignie!$D$9),W706)","v":116173.56466560824},{"$f":"X706/Dźwignie!$D$5","v":11.617356466560825},{"$f":"V706/Dźwignie!$D$2","v":0.81712076954079149},{"$f":"X706/Dźwignie!$D$3","v":1.1617356466560824},1.9178569777653403,1.1394465259513191,2.1852954705862131]
[695,0.14032202959060669,{"$f":"NORMINV(B707,Dźwignie!$L$8,Dźwignie!$L$9)","v":296056.31776680512},{"$f":"Dźwignie!$L$7*C707","v":444084.47665020765},null,{"$f":"C707*Dźwignie!$G$5","v":296056.31776680512},148028.15888340253,{"$f":"Dźwignie!$G$6","v":50000},98028.158883402532,{"$f":"I707-Dźwignie!$D$6","v":78028.158883402532},{"$f":"IF(J707>0,J707*(1-Dźwignie!$D$9),J707)","v":63202.808695556058},{"$f":"K707/Dźwignie!$D$5","v":6.3202808695556056},{"$f":"I707/Dźwignie!$D$2","v":0.49014079441701264},{"$f":"K707/Dźwignie!$D$3","v":0.63202808695556056},1.510057523976059,1.2563177228093514,1.89711202983273,null,{"$f":"C707*Dźwignie!$G$8","v":148028.15888340256},296056.31776680506,{"$f":"Dźwignie!$G$9","v":150000},146056.31776680506,{"$f":"V707-Dźwignie!$D$6","v":126056.31776680506},{"$f":"IF(W707>0,W707*(1-Dźwignie!$D$9),W707)","v":102105.61739111212},{"$f":"X707/Dźwignie!$D$5","v":10.210561739111212},{"$f":"V707/Dźwignie!$D$2","v":0.73028158883402527},{"$f":"X707/Dźwignie!$D$3","v":1.0210561739111212},2.0270011067887626,1.158659243378809,2.3486035687198759]
[696,0.63547253608703613,{"$f":"NORMINV(B708,Dźwignie!$L$8,Dźwignie!$L$9)","v":367319.14810339169},{"$f":"Dźwignie!$L$7*C708","v":550978.72215508751},null,{"$f":"C708*Dźwignie!$G$5","v":367319.14810339169},183659.57405169582,{"$f":"Dźwignie!$G$6","v":50000},133659.57405169582,{"$f":"I708-Dźwignie!$D$6","v":113659.57405169582},{"$f":"IF(J708>0,J708*(1-Dźwignie!$D$9),J708)","v":92064.254981873615},{"$f":"K708/Dźwignie!$D$5","v":9.206425498187361},{"$f":"I708/Dźwignie!$D$2","v":0.66829787025847909},{"$f":"K708/Dźwignie!$D$3","v":0.92064254981873617},1.3740846875709882,1.175964059049732,1.6158742066740621,null,{"$f":"C708*Dźwignie!$G$8","v":183659.57405169585},367319.14810339164,{"$f":"Dźwignie!$G$9","v":150000},217319.14810339164,{"$f":"V708-Dźwignie!$D$6","v":197319.14810339164},{"$f":"IF(W708>0,W708*(1-Dźwignie!$D$9),W708)","v":159828.50996374723},{"$f":"X708/Dźwignie!$D$5","v":15.982850996374722},{"$f":"V708/Dźwignie!$D$2","v":1.0865957405169582},{"$f":"X708/Dźwignie!$D$3","v":1.5982850996374722},1.6902290999624023,1.1013586374775972,1.861548418559577]
[697,0.1792568564414978,{"$f":"NORMINV(B709,Dźwignie!$L$8,Dźwignie!$L$9)","v":304089.95646148239},{"$f":"Dźwignie!$L$7*C709","v":456134.93469222356},null,{"$f":"C709*Dźwignie!$G$5","v":304089.95646148239},152044.97823074117,{"$f":"Dźwignie!$G$6","v":50000},102044.97823074117,{"$f":"I709-Dźwignie!$D$6","v":82044.978230741166},{"$f":"IF(J709>0,J709*(1-Dźwignie!$D$9),J709)","v":66456.43236690035},{"$f":"K709/Dźwignie!$D$5","v":6.6456432366900353},{"$f":"I709/Dźwignie!$D$2","v":0.51022489115370584},{"$f":"K709/Dźwignie!$D$3","v":0.66456432366900353},1.489980015351088,1.2437687282182284,1.8531905487637992,null,{"$f":"C709*Dźwignie!$G$8","v":152044.9782307412},304089.95646148233,{"$f":"Dźwignie!$G$9","v":150000},154089.95646148233,{"$f":"V709-Dźwignie!$D$6","v":134089.95646148233},{"$f":"IF(W709>0,W709*(1-Dźwignie!$D$9),W709)","v":108612.8647338007},{"$f":"X709/Dźwignie!$D$5","v":10.861286473380069},{"$f":"V709/Dźwignie!$D$2","v":0.77044978230741168},{"$f":"X709/Dźwignie!$D$3","v":1.086128647338007},1.9734573455960143,1.1491536020130266,2.2678056171107261]
[698,0.39769637584686279,{"$f":"NORMINV(B710,Dźwignie!$L$8,Dźwignie!$L$9)","v":337034.28531201271},{"$f":"Dźwignie!$L$7*C710","v":505551.42796801904},null,{"$f":"C710*Dźwignie!$G$5","v":337034.28531201271},168517.14265600633,{"$f":"Dźwignie!$G$6","v":50000},118517.14265600633,{"$f":"I710-Dźwignie!$D$6","v":98517.142656006326},{"$f":"IF(J710>0,J710*(1-Dźwignie!$D$9),J710)","v":79798.885551365136},{"$f":"K710/Dźwignie!$D$5","v":7.9798885551365135},{"$f":"I710/Dźwignie!$D$2","v":0.59258571328003162},{"$f":"K710/Dźwignie!$D$3","v":0.7979888555136514},1.4218798975362072,1.2030103539425039,1.7105362387987639,null,{"$f":"C710*Dźwignie!$G$8","v":168517.14265600636},337034.28531201265,{"$f":"Dźwignie!$G$9","v":150000},187034.28531201265,{"$f":"V710-Dźwignie!$D$6","v":167034.28531201265},{"$f":"IF(W710>0,W710*(1-Dźwignie!$D$9),W710)","v":135297.77110273027},{"$f":"X710/Dźwignie!$D$5","v":13.529777110273027},{"$f":"V710/Dźwignie!$D$2","v":0.93517142656006325},{"$f":"X710/Dźwignie!$D$3","v":1.3529777110273027},1.8019919970810077,1.1197358971102302,2.0177551254369575]
[699,0.38050037622451782,{"$f":"NORMINV(B711,Dźwignie!$L$8,Dźwignie!$L$9)","v":334791.65576294274},{"$f":"Dźwignie!$L$7*C711","v":502187.48364441411},null,{"$f":"C711*Dźwignie!$G$5","v":334791.65576294274},167395.82788147137,{"$f":"Dźwignie!$G$6","v":50000},117395.82788147137,{"$f":"I711-Dźwignie!$D$6","v":97395.82788147137},{"$f":"IF(J711>0,J711*(1-Dźwignie!$D$9),J711)","v":78890.620583991811},{"$f":"K711/Dźwignie!$D$5","v":7.8890620583991815},{"$f":"I711/Dźwignie!$D$2","v":0.5869791394073568},{"$f":"K711/Dźwignie!$D$3","v":0.78890620583991811},1.4259095140117115,1.2053476050774945,1.7187166177712305,null,{"$f":"C711*Dźwignie!$G$8","v":167395.82788147137},334791.65576294274,{"$f":"Dźwignie!$G$9","v":150000},184791.65576294274,{"$f":"V711-Dźwignie!$D$6","v":164791.65576294274},{"$f":"IF(W711>0,W711*(1-Dźwignie!$D$9),W711)","v":133481.24116798362},{"$f":"X711/Dźwignie!$D$5","v":13.348124116798362},{"$f":"V711/Dźwignie!$D$2","v":0.92395827881471371},{"$f":"X711/Dźwignie!$D$3","v":1.3348124116798363},1.8117249633415553,1.1213653683337617,2.0316056308369741]
[700,0.95522069931030273,{"$f":"NORMINV(B712,Dźwignie!$L$8,Dźwignie!$L$9)","v":434886.53482204658},{"$f":"Dźwignie!$L$7*C712","v":652329.8022330699},null,{"$f":"C712*Dźwignie!$G$5","v":434886.53482204658},217443.26741102332,{"$f":"Dźwignie!$G$6","v":50000},167443.26741102332,{"$f":"I712-Dźwignie!$D$6","v":147443.26741102332},{"$f":"IF(J712>0,J712*(1-Dźwignie!$D$9),J712)","v":119429.04660292889},{"$f":"K712/Dźwignie!$D$5","v":11.942904660292889},{"$f":"I712/Dźwignie!$D$2","v":0.83721633705511656},{"$f":"K712/Dźwignie!$D$3","v":1.194290466029289},1.2986086020243794,1.1356453933175978,1.4747588766115922,null,{"$f":"C712*Dźwignie!$G$8","v":217443.26741102329},434886.53482204664,{"$f":"Dźwignie!$G$9","v":150000},284886.53482204664,{"$f":"V712-Dźwignie!$D$6","v":264886.53482204664},{"$f":"IF(W712>0,W712*(1-Dźwignie!$D$9),W712)","v":214558.09320585779},{"$f":"X712/Dźwignie!$D$5","v":21.455809320585779},{"$f":"V712/Dźwignie!$D$2","v":1.4244326741102331},{"$f":"X712/Dźwignie!$D$3","v":2.1455809320585777},1.5265254115772686,1.0755040267087801,1.6417842270246303]
[701,0.349162757396698,{"$f":"NORMINV(B713,Dźwignie!$L$8,Dźwignie!$L$9)","v":330620.90832277288},{"$f":"Dźwignie!$L$7*C713","v":495931.3624841593},null,{"$f":"C713*Dźwignie!$G$5","v":330620.90832277288},165310.45416138641,{"$f":"Dźwignie!$G$6","v":50000},115310.45416138641,{"$f":"I713-Dźwignie!$D$6","v":95310.454161386413},{"$f":"IF(J713>0,J713*(1-Dźwignie!$D$9),J713)","v":77201.467870723005},{"$f":"K713/Dźwignie!$D$5","v":7.7201467870723004},{"$f":"I713/Dźwignie!$D$2","v":0.57655227080693205},{"$f":"K713/Dźwignie!$D$3","v":0.77201467870723006},1.4336120290535055,1.2098405697042907,1.7344419939650171,null,{"$f":"C713*Dźwignie!$G$8","v":165310.45416138644},330620.90832277283,{"$f":"Dźwignie!$G$9","v":150000},180620.90832277283,{"$f":"V713-Dźwignie!$D$6","v":160620.90832277283},{"$f":"IF(W713>0,W713*(1-Dźwignie!$D$9),W713)","v":130102.935741446},{"$f":"X713/Dźwignie!$D$5","v":13.010293574144599},{"$f":"V713/Dźwignie!$D$2","v":0.90310454161386411},{"$f":"X713/Dźwignie!$D$3","v":1.30102935741446},1.830468639499627,1.1245167905526308,2.0583927196973613]
[702,0.75052750110626221,{"$f":"NORMINV(B714,Dźwignie!$L$8,Dźwignie!$L$9)","v":383807.53278745891},{"$f":"Dźwignie!$L$7*C714","v":575711.29918118834},null,{"$f":"C714*Dźwignie!$G$5","v":383807.53278745891},191903.76639372943,{"$f":"Dźwignie!$G$6","v":50000},141903.76639372943,{"$f":"I714-Dźwignie!$D$6","v":121903.76639372943},{"$f":"IF(J714>0,J714*(1-Dźwignie!$D$9),J714)","v":98742.05077892085},{"$f":"K714/Dźwignie!$D$5","v":9.8742050778920856},{"$f":"I714/Dźwignie!$D$2","v":0.70951883196864718},{"$f":"K714/Dźwignie!$D$3","v":0.98742050778920853},1.3523514651561035,1.1640638397947709,1.5742234392816981,null,{"$f":"C714*Dźwignie!$G$8","v":191903.76639372946},383807.53278745885,{"$f":"Dźwignie!$G$9","v":150000},233807.53278745885,{"$f":"V714-Dźwignie!$D$6","v":213807.53278745885},{"$f":"IF(W714>0,W714*(1-Dźwignie!$D$9),W714)","v":173184.10155784167},{"$f":"X714/Dźwignie!$D$5","v":17.318410155784168},{"$f":"V714/Dźwignie!$D$2","v":1.1690376639372944},{"$f":"X714/Dźwignie!$D$3","v":1.7318410155784167},1.6415533247012897,1.0935420737485499,1.7951076268626751]
[703,0.98436051607131958,{"$f":"NORMINV(B715,Dźwignie!$L$8,Dźwignie!$L$9)","v":457675.27783628309},{"$f":"Dźwignie!$L$7*C715","v":686512.91675442457},null,{"$f":"C715*Dźwignie!$G$5","v":457675.27783628309},228837.63891814149,{"$f":"Dźwignie!$G$6","v":50000},178837.63891814149,{"$f":"I715-Dźwignie!$D$6","v":158837.63891814149},{"$f":"IF(J715>0,J715*(1-Dźwignie!$D$9),J715)","v":128658.48752369461},{"$f":"K715/Dźwignie!$D$5","v":12.865848752369461},{"$f":"I715/Dźwignie!$D$2","v":0.89418819459070742},{"$f":"K715/Dźwignie!$D$3","v":1.2865848752369462},1.2795832035273418,1.1259147399585006,1.4407015898547522,null,{"$f":"C715*Dźwignie!$G$8","v":228837.63891814154},457675.27783628303,{"$f":"Dźwignie!$G$9","v":150000},307675.27783628303,{"$f":"V715-Dźwignie!$D$6","v":287675.27783628303},{"$f":"IF(W715>0,W715*(1-Dźwignie!$D$9),W715)","v":233016.97504738928},{"$f":"X715/Dźwignie!$D$5","v":23.301697504738929},{"$f":"V715/Dźwignie!$D$2","v":1.5383763891814151},{"$f":"X715/Dźwignie!$D$3","v":2.330169750473893},1.4875269831715776,1.0695228319597976,1.5909440716582799]
[704,0.40657973289489746,{"$f":"NORMINV(B716,Dźwignie!$L$8,Dźwignie!$L$9)","v":338182.39524873561},{"$f":"Dźwignie!$L$7*C716","v":507273.59287310345},null,{"$f":"C716*Dźwignie!$G$5","v":338182.39524873561},169091.19762436784,{"$f":"Dźwignie!$G$6","v":50000},119091.19762436784,{"$f":"I716-Dźwignie!$D$6","v":99091.197624367836},{"$f":"IF(J716>0,J716*(1-Dźwignie!$D$9),J716)","v":80263.870075737956},{"$f":"K716/Dźwignie!$D$5","v":8.0263870075737955},{"$f":"I716/Dźwignie!$D$2","v":0.5954559881218392},{"$f":"K716/Dźwignie!$D$3","v":0.80263870075737953},1.4198463110406176,1.2018342746831605,1.7064199613910618,null,{"$f":"C716*Dźwignie!$G$8","v":169091.19762436781},338182.39524873567,{"$f":"Dźwignie!$G$9","v":150000},188182.39524873567,{"$f":"V716-Dźwignie!$D$6","v":168182.39524873567},{"$f":"IF(W716>0,W716*(1-Dźwignie!$D$9),W716)","v":136227.74015147591},{"$f":"X716/Dźwignie!$D$5","v":13.622774015147591},{"$f":"V716/Dźwignie!$D$2","v":0.94091197624367839},{"$f":"X716/Dźwignie!$D$3","v":1.3622774015147592},1.7970990049400373,1.11891851088469,2.0108073425198647]
[705,0.45626729726791382,{"$f":"NORMINV(B717,Dźwignie!$L$8,Dźwignie!$L$9)","v":344507.89452561067},{"$f":"Dźwignie!$L$7*C717","v":516761.84178841603},null,{"$f":"C717*Dźwignie!$G$5","v":344507.89452561067},{"$f":"$D717-F717","v":172253.94726280536},{"$f":"Dźwignie!$G$6","v":50000},{"$f":"G717-H717","v":122253.94726280536},{"$f":"I717-Dźwignie!$D$6","v":102253.94726280536},{"$f":"IF(J717>0,J717*(1-Dźwignie!$D$9),J717)","v":82825.697282872352},{"$f":"K717/Dźwignie!$D$5","v":8.2825697282872355},{"$f":"I717/Dźwignie!$D$2","v":0.61126973631402681},{"$f":"K717/Dźwignie!$D$3","v":0.82825697282872357},{"$f":"IF(I717<>0,G717/I717,\"N   \")","v":1.408984749527282},{"$f":"IF(J717<>0,I717/J717,\"N   \")","v":1.1955914713844495},{"$f":"IF(ISTEXT(O717),O717,IF(ISTEXT(P717),P717,O717*P717))","v":1.6845701498455732},null,{"$f":"C717*Dźwignie!$G$8","v":172253.94726280533},{"$f":"$D717-S717","v":344507.89452561073},{"$f":"Dźwignie!$G$9","v":150000},{"$f":"T717-U717","v":194507.89452561073},{"$f":"V717-Dźwignie!$D$6","v":174507.89452561073},{"$f":"IF(W717>0,W717*(1-Dźwignie!$D$9),W717)","v":141351.3945657447},{"$f":"X717/Dźwignie!$D$5","v":14.135139456574471},{"$f":"V717/Dźwignie!$D$2","v":0.97253947262805363},{"$f":"X717/Dźwignie!$D$3","v":1.413513945657447},{"$f":"IF(V717<>0,T717/V717,\"N   \")","v":1.7711769250592015},{"$f":"IF(W717<>0,V717/W717,\"N   \")","v":1.1146079955544064},{"$f":"IF(ISTEXT(AB717),AB717,IF(ISTEXT(AC717),AC717,AB717*AC717))","v":1.9741679622124537}]
[706,0.29566895961761475,{"$f":"NORMINV(B718,Dźwignie!$L$8,Dźwignie!$L$9)","v":323155.08890029642},{"$f":"Dźwignie!$L$7*C718","v":484732.63335044461},null,{"$f":"C718*Dźwignie!$G$5","v":323155.08890029642},161577.54445014818,{"$f":"Dźwignie!$G$6","v":50000},111577.54445014818,{"$f":"I718-Dźwignie!$D$6","v":91577.544450148183},{"$f":"IF(J718>0,J718*(1-Dźwignie!$D$9),J718)","v":74177.811004620031},{"$f":"K718/Dźwignie!$D$5","v":7.4177811004620029},{"$f":"I718/Dźwignie!$D$2","v":0.5578877222507409},{"$f":"K718/Dźwignie!$D$3","v":0.74177811004620031},1.4481188418906237,1.2183941502262854,1.764379525791999,null,{"$f":"C718*Dźwignie!$G$8","v":161577.54445014821},323155.08890029637,{"$f":"Dźwignie!$G$9","v":150000},173155.08890029637,{"$f":"V718-Dźwignie!$D$6","v":153155.08890029637},{"$f":"IF(W718>0,W718*(1-Dźwignie!$D$9),W718)","v":124055.62200924006},{"$f":"X718/Dźwignie!$D$5","v":12.405562200924006},{"$f":"V718/Dźwignie!$D$2","v":0.86577544450148181},{"$f":"X718/Dźwignie!$D$3","v":1.2405562200924005},1.8662754352335023,1.1305865847723804,2.1099859705652331]
[707,0.99957090616226196,{"$f":"NORMINV(B719,Dźwignie!$L$8,Dźwignie!$L$9)","v":516665.58050364914},{"$f":"Dźwignie!$L$7*C719","v":774998.37075547373},null,{"$f":"C719*Dźwignie!$G$5","v":516665.58050364914},258332.7902518246,{"$f":"Dźwignie!$G$6","v":50000},208332.7902518246,{"$f":"I719-Dźwignie!$D$6","v":188332.7902518246},{"$f":"IF(J719>0,J719*(1-Dźwignie!$D$9),J719)","v":152549.56010397794},{"$f":"K719/Dźwignie!$D$5","v":15.254956010397795},{"$f":"I719/Dźwignie!$D$2","v":1.041663951259123},{"$f":"K719/Dźwignie!$D$3","v":1.5254956010397793},1.240000625631529,1.1061949964913571,1.3716824877197498,null,{"$f":"C719*Dźwignie!$G$8","v":258332.79025182457},516665.58050364919,{"$f":"Dźwignie!$G$9","v":150000},366665.58050364919,{"$f":"V719-Dźwignie!$D$6","v":346665.58050364919},{"$f":"IF(W719>0,W719*(1-Dźwignie!$D$9),W719)","v":280799.12020795589},{"$f":"X719/Dźwignie!$D$5","v":28.079912020795589},{"$f":"V719/Dźwignie!$D$2","v":1.8333279025182461},{"$f":"X719/Dźwignie!$D$3","v":2.8079912020795588},1.4090921209292704,1.0576924884522521,1.4903861518441417]
[708,0.65904426574707031,{"$f":"NORMINV(B720,Dźwignie!$L$8,Dźwignie!$L$9)","v":370492.80785676907},{"$f":"Dźwignie!$L$7*C720","v":555739.2117851536},null,{"$f":"C720*Dźwignie!$G$5","v":370492.80785676907},185246.40392838453,{"$f":"Dźwignie!$G$6","v":50000},135246.40392838453,{"$f":"I720-Dźwignie!$D$6","v":115246.40392838453},{"$f":"IF(J720>0,J720*(1-Dźwignie!$D$9),J720)","v":93349.587181991476},{"$f":"K720/Dźwignie!$D$5","v":9.3349587181991467},{"$f":"I720/Dźwignie!$D$2","v":0.6762320196419227},{"$f":"K720/Dźwignie!$D$3","v":0.93349587181991478},1.3696955966864444,1.1735412066516908,1.6073942232809175,null,{"$f":"C720*Dźwignie!$G$8","v":185246.40392838453},370492.80785676907,{"$f":"Dźwignie!$G$9","v":150000},220492.80785676907,{"$f":"V720-Dźwignie!$D$6","v":200492.80785676907},{"$f":"IF(W720>0,W720*(1-Dźwignie!$D$9),W720)","v":162399.17436398295},{"$f":"X720/Dźwignie!$D$5","v":16.239917436398294},{"$f":"V720/Dźwignie!$D$2","v":1.1024640392838454},{"$f":"X720/Dźwignie!$D$3","v":1.6239917436398295},1.680294298294932,1.0997542017282131,1.8479107146898111]
[709,5.4586589336395264E-2,{"$f":"NORMINV(B721,Dźwignie!$L$8,Dźwignie!$L$9)","v":269903.97229378426},{"$f":"Dźwignie!$L$7*C721","v":404855.95844067639},null,{"$f":"C721*Dźwignie!$G$5","v":269903.97229378426},134951.98614689213,{"$f":"Dźwignie!$G$6","v":50000},84951.98614689213,{"$f":"I721-Dźwignie!$D$6","v":64951.98614689213},{"$f":"IF(J721>0,J721*(1-Dźwignie!$D$9),J721)","v":52611.108778982627},{"$f":"K721/Dźwignie!$D$5","v":5.2611108778982629},{"$f":"I721/Dźwignie!$D$2","v":0.42475993073446067},{"$f":"K721/Dźwignie!$D$3","v":0.52611108778982629},1.5885677577160353,1.3079197602174784,2.0777191607611742,null,{"$f":"C721*Dźwignie!$G$8","v":134951.98614689213},269903.97229378426,{"$f":"Dźwignie!$G$9","v":150000},119903.97229378426,{"$f":"V721-Dźwignie!$D$6","v":99903.97229378426},{"$f":"IF(W721>0,W721*(1-Dźwignie!$D$9),W721)","v":80922.217557965254},{"$f":"X721/Dźwignie!$D$5","v":8.0922217557965261},{"$f":"V721/Dźwignie!$D$2","v":0.59951986146892133},{"$f":"X721/Dźwignie!$D$3","v":0.80922217557965259},2.2510010897093182,1.2001922400161094,2.7016340401369296]
[710,0.68357241153717041,{"$f":"NORMINV(B722,Dźwignie!$L$8,Dźwignie!$L$9)","v":373885.60177259968},{"$f":"Dźwignie!$L$7*C722","v":560828.40265889955},null,{"$f":"C722*Dźwignie!$G$5","v":373885.60177259968},186942.80088629987,{"$f":"Dźwignie!$G$6","v":50000},136942.80088629987,{"$f":"I722-Dźwignie!$D$6","v":116942.80088629987},{"$f":"IF(J722>0,J722*(1-Dźwignie!$D$9),J722)","v":94723.668717902896},{"$f":"K722/Dźwignie!$D$5","v":9.4723668717902889},{"$f":"I722/Dźwignie!$D$2","v":0.68471400443149932},{"$f":"K722/Dźwignie!$D$3","v":0.94723668717902898},1.365115943856835,1.1710237812710287,1.5985832344486002,null,{"$f":"C722*Dźwignie!$G$8","v":186942.80088629984},373885.60177259974,{"$f":"Dźwignie!$G$9","v":150000},223885.60177259974,{"$f":"V722-Dźwignie!$D$6","v":203885.60177259974},{"$f":"IF(W722>0,W722*(1-Dźwignie!$D$9),W722)","v":165147.33743580579},{"$f":"X722/Dźwignie!$D$5","v":16.514733743580578},{"$f":"V722/Dźwignie!$D$2","v":1.1194280088629986},{"$f":"X722/Dźwignie!$D$3","v":1.6514733743580579},1.669985022763343,1.0980942245362997,1.833800908558548]
[711,0.53727656602859497,{"$f":"NORMINV(B723,Dźwignie!$L$8,Dźwignie!$L$9)","v":354678.74380809395},{"$f":"Dźwignie!$L$7*C723","v":532018.11571214092},null,{"$f":"C723*Dźwignie!$G$5","v":354678.74380809395},177339.37190404697,{"$f":"Dźwignie!$G$6","v":50000},127339.37190404697,{"$f":"I723-Dźwignie!$D$6","v":107339.37190404697},{"$f":"IF(J723>0,J723*(1-Dźwignie!$D$9),J723)","v":86944.891242278056},{"$f":"K723/Dźwignie!$D$5","v":8.6944891242278057},{"$f":"I723/Dźwignie!$D$2","v":0.63669685952023491},{"$f":"K723/Dźwignie!$D$3","v":0.86944891242278055},1.3926515362246024,1.186324921091195,1.6521372238191829,null,{"$f":"C723*Dźwignie!$G$8","v":177339.37190404697},354678.74380809395,{"$f":"Dźwignie!$G$9","v":150000},204678.74380809395,{"$f":"V723-Dźwignie!$D$6","v":184678.74380809395},{"$f":"IF(W723>0,W723*(1-Dźwignie!$D$9),W723)","v":149589.78248455611},{"$f":"X723/Dźwignie!$D$5","v":14.958978248455612},{"$f":"V723/Dźwignie!$D$2","v":1.0233937190404698},{"$f":"X723/Dźwignie!$D$3","v":1.4958978248455612},1.7328557778361169,1.1082961665625293,1.9205174157814981]
[712,0.19167923927307129,{"$f":"NORMINV(B724,Dźwignie!$L$8,Dźwignie!$L$9)","v":306413.75551053602},{"$f":"Dźwignie!$L$7*C724","v":459620.63326580403},null,{"$f":"C724*Dźwignie!$G$5","v":306413.75551053602},153206.87775526801,{"$f":"Dźwignie!$G$6","v":50000},103206.87775526801,{"$f":"I724-Dźwignie!$D$6","v":83206.877755268011},{"$f":"IF(J724>0,J724*(1-Dźwignie!$D$9),J724)","v":67397.570981767087},{"$f":"K724/Dźwignie!$D$5","v":6.7397570981767085},{"$f":"I724/Dźwignie!$D$2","v":0.51603438877634},{"$f":"K724/Dźwignie!$D$3","v":0.67397570981767085},1.484463836979584,1.2403647455541469,1.8412766094395143,null,{"$f":"C724*Dźwignie!$G$8","v":153206.87775526801},306413.75551053602,{"$f":"Dźwignie!$G$9","v":150000},156413.75551053602,{"$f":"V724-Dźwignie!$D$6","v":136413.75551053602},{"$f":"IF(W724>0,W724*(1-Dźwignie!$D$9),W724)","v":110495.14196353419},{"$f":"X724/Dźwignie!$D$5","v":11.049514196353419},{"$f":"V724/Dźwignie!$D$2","v":0.78206877755268012},{"$f":"X724/Dźwignie!$D$3","v":1.1049514196353418},1.9589949394821353,1.1466127805451063,2.2462086346334034]
[713,0.26942580938339233,{"$f":"NORMINV(B725,Dźwignie!$L$8,Dźwignie!$L$9)","v":319272.47544050397},{"$f":"Dźwignie!$L$7*C725","v":478908.71316075593},null,{"$f":"C725*Dźwignie!$G$5","v":319272.47544050397},159636.23772025196,{"$f":"Dźwignie!$G$6","v":50000},109636.23772025196,{"$f":"I725-Dźwignie!$D$6","v":89636.237720251956},{"$f":"IF(J725>0,J725*(1-Dźwignie!$D$9),J725)","v":72605.352553404096},{"$f":"K725/Dźwignie!$D$5","v":7.2605352553404092},{"$f":"I725/Dźwignie!$D$2","v":0.54818118860125975},{"$f":"K725/Dźwignie!$D$3","v":0.72605352553404101},1.4560535917657089,1.2231240456836052,1.7809341598926185,null,{"$f":"C725*Dźwignie!$G$8","v":159636.23772025199},319272.47544050391,{"$f":"Dźwignie!$G$9","v":150000},169272.47544050391,{"$f":"V725-Dźwignie!$D$6","v":149272.47544050391},{"$f":"IF(W725>0,W725*(1-Dźwignie!$D$9),W725)","v":120910.70510680818},{"$f":"X725/Dźwignie!$D$5","v":12.091070510680817},{"$f":"V725/Dźwignie!$D$2","v":0.84636237720251961},{"$f":"X725/Dźwignie!$D$3","v":1.2091070510680817},1.8861452496021551,1.1339831736626587,2.1388569761325993]
[714,0.8508223295211792,{"$f":"NORMINV(B726,Dźwignie!$L$8,Dźwignie!$L$9)","v":401998.33833104401},{"$f":"Dźwignie!$L$7*C726","v":602997.50749656605},null,{"$f":"C726*Dźwignie!$G$5","v":401998.33833104401},200999.16916552203,{"$f":"Dźwignie!$G$6","v":50000},150999.16916552203,{"$f":"I726-Dźwignie!$D$6","v":130999.16916552203},{"$f":"IF(J726>0,J726*(1-Dźwignie!$D$9),J726)","v":106109.32702407286},{"$f":"K726/Dźwignie!$D$5","v":10.610932702407286},{"$f":"I726/Dźwignie!$D$2","v":0.75499584582761015},{"$f":"K726/Dźwignie!$D$3","v":1.0610932702407285},1.3311276497501194,1.1526727240134578,1.5343545340471021,null,{"$f":"C726*Dźwignie!$G$8","v":200999.16916552201},401998.33833104407,{"$f":"Dźwignie!$G$9","v":150000},251998.33833104407,{"$f":"V726-Dźwignie!$D$6","v":231998.33833104407},{"$f":"IF(W726>0,W726*(1-Dźwignie!$D$9),W726)","v":187918.65404814572},{"$f":"X726/Dźwignie!$D$5","v":18.791865404814573},{"$f":"V726/Dźwignie!$D$2","v":1.2599916916552203},{"$f":"X726/Dźwignie!$D$3","v":1.8791865404814572},1.5952420202189932,1.0862075140015077,1.7327638690128155]
[715,0.8502240777015686,{"$f":"NORMINV(B727,Dźwignie!$L$8,Dźwignie!$L$9)","v":401869.7460285679},{"$f":"Dźwignie!$L$7*C727","v":602804.61904285185},null,{"$f":"C727*Dźwignie!$G$5","v":401869.7460285679},200934.87301428395,{"$f":"Dźwignie!$G$6","v":50000},150934.87301428395,{"$f":"I727-Dźwignie!$D$6","v":130934.87301428395},{"$f":"IF(J727>0,J727*(1-Dźwignie!$D$9),J727)","v":106057.24714157},{"$f":"K727/Dźwignie!$D$5","v":10.605724714157001},{"$f":"I727/Dźwignie!$D$2","v":0.75467436507141972},{"$f":"K727/Dźwignie!$D$3","v":1.0605724714156999},1.3312687055116028,1.1527476946330268,1.5346169312155939,null,{"$f":"C727*Dźwignie!$G$8","v":200934.87301428395},401869.7460285679,{"$f":"Dźwignie!$G$9","v":150000},251869.7460285679,{"$f":"V727-Dźwignie!$D$6","v":231869.7460285679},{"$f":"IF(W727>0,W727*(1-Dźwignie!$D$9),W727)","v":187814.49428314},{"$f":"X727/Dźwignie!$D$5","v":18.781449428314001},{"$f":"V727/Dźwignie!$D$2","v":1.2593487301428394},{"$f":"X727/Dźwignie!$D$3","v":1.8781449428313999},1.59554592151368,1.0862553237002979,1.7331702514525325]
[716,5.8744907379150391E-2,{"$f":"NORMINV(B728,Dźwignie!$L$8,Dźwignie!$L$9)","v":271730.14217715256},{"$f":"Dźwignie!$L$7*C728","v":407595.21326572885},null,{"$f":"C728*Dźwignie!$G$5","v":271730.14217715256},135865.07108857628,{"$f":"Dźwignie!$G$6","v":50000},85865.071088576282,{"$f":"I728-Dźwignie!$D$6","v":65865.071088576282},{"$f":"IF(J728>0,J728*(1-Dźwignie!$D$9),J728)","v":53350.707581746792},{"$f":"K728/Dźwignie!$D$5","v":5.3350707581746795},{"$f":"I728/Dźwignie!$D$2","v":0.42932535544288142},{"$f":"K728/Dźwignie!$D$3","v":0.53350707581746792},1.5823089571360307,1.3036510804505732,2.062778781577006,null,{"$f":"C728*Dźwignie!$G$8","v":135865.07108857628},271730.14217715256,{"$f":"Dźwignie!$G$9","v":150000},121730.14217715256,{"$f":"V728-Dźwignie!$D$6","v":101730.14217715256},{"$f":"IF(W728>0,W728*(1-Dźwignie!$D$9),W728)","v":82401.415163493584},{"$f":"X728/Dźwignie!$D$5","v":8.2401415163493592},{"$f":"V728/Dźwignie!$D$2","v":0.60865071088576284},{"$f":"X728/Dźwignie!$D$3","v":0.82401415163493585},2.2322338355746485,1.1965985653020328,2.6710878050672782]
[717,0.50050419569015503,{"$f":"NORMINV(B729,Dźwignie!$L$8,Dźwignie!$L$9)","v":350063.19157546683},{"$f":"Dźwignie!$L$7*C729","v":525094.78736320022},null,{"$f":"C729*Dźwignie!$G$5","v":350063.19157546683},175031.59578773339,{"$f":"Dźwignie!$G$6","v":50000},125031.59578773339,{"$f":"I729-Dźwignie!$D$6","v":105031.59578773339},{"$f":"IF(J729>0,J729*(1-Dźwignie!$D$9),J729)","v":85075.592588064043},{"$f":"K729/Dźwignie!$D$5","v":8.5075592588064044},{"$f":"I729/Dźwignie!$D$2","v":0.62515797893866698},{"$f":"K729/Dźwignie!$D$3","v":0.85075592588064042},1.3998989190291165,1.1904188910965379,1.6664661188378829,null,{"$f":"C729*Dźwignie!$G$8","v":175031.59578773341},350063.19157546677,{"$f":"Dźwignie!$G$9","v":150000},200063.19157546677,{"$f":"V729-Dźwignie!$D$6","v":180063.19157546677},{"$f":"IF(W729>0,W729*(1-Dźwignie!$D$9),W729)","v":145851.18517612809},{"$f":"X729/Dźwignie!$D$5","v":14.585118517612809},{"$f":"V729/Dźwignie!$D$2","v":1.000315957877334},{"$f":"X729/Dźwignie!$D$3","v":1.458511851761281},1.7497631064403858,1.111072117654972,1.9441130000672617]
[718,0.91076099872589111,{"$f":"NORMINV(B730,Dźwignie!$L$8,Dźwignie!$L$9)","v":417272.80290659517},{"$f":"Dźwignie!$L$7*C730","v":625909.20435989276},null,{"$f":"C730*Dźwignie!$G$5","v":417272.80290659517},208636.40145329759,{"$f":"Dźwignie!$G$6","v":50000},158636.40145329759,{"$f":"I730-Dźwignie!$D$6","v":138636.40145329759},{"$f":"IF(J730>0,J730*(1-Dźwignie!$D$9),J730)","v":112295.48517717105},{"$f":"K730/Dźwignie!$D$5","v":11.229548517717106},{"$f":"I730/Dźwignie!$D$2","v":0.79318200726648791},{"$f":"K730/Dźwignie!$D$3","v":1.1229548517717105},1.3151861712818791,1.1442622557304143,1.5049178950564499,null,{"$f":"C730*Dźwignie!$G$8","v":208636.40145329759},417272.80290659517,{"$f":"Dźwignie!$G$9","v":150000},267272.80290659517,{"$f":"V730-Dźwignie!$D$6","v":247272.80290659517},{"$f":"IF(W730>0,W730*(1-Dźwignie!$D$9),W730)","v":200290.97035434211},{"$f":"X730/Dźwignie!$D$5","v":20.029097035434212},{"$f":"V730/Dźwignie!$D$2","v":1.3363640145329758},{"$f":"X730/Dźwignie!$D$3","v":2.0029097035434211},1.5612243309784912,1.0808823282015159,1.6874997897128856]
[719,0.66088658571243286,{"$f":"NORMINV(B731,Dźwignie!$L$8,Dźwignie!$L$9)","v":370744.19963213889},{"$f":"Dźwignie!$L$7*C731","v":556116.2994482083},null,{"$f":"C731*Dźwignie!$G$5","v":370744.19963213889},185372.09981606941,{"$f":"Dźwignie!$G$6","v":50000},135372.09981606941,{"$f":"I731-Dźwignie!$D$6","v":115372.09981606941},{"$f":"IF(J731>0,J731*(1-Dźwignie!$D$9),J731)","v":93451.400851016238},{"$f":"K731/Dźwignie!$D$5","v":9.3451400851016242},{"$f":"I731/Dźwignie!$D$2","v":0.67686049908034707},{"$f":"K731/Dźwignie!$D$3","v":0.93451400851016242},1.3693523264242424,1.1733521365380777,1.6067324778832721,null,{"$f":"C731*Dźwignie!$G$8","v":185372.09981606944},370744.19963213883,{"$f":"Dźwignie!$G$9","v":150000},220744.19963213883,{"$f":"V731-Dźwignie!$D$6","v":200744.19963213883},{"$f":"IF(W731>0,W731*(1-Dźwignie!$D$9),W731)","v":162602.80170203245},{"$f":"X731/Dźwignie!$D$5","v":16.260280170203245},{"$f":"V731/Dźwignie!$D$2","v":1.1037209981606941},{"$f":"X731/Dźwignie!$D$3","v":1.6260280170203245},1.679519553627995,1.0996292796337317,1.8468488768867188]
[720,0.90532183647155762,{"$f":"NORMINV(B732,Dźwignie!$L$8,Dźwignie!$L$9)","v":415624.28215247806},{"$f":"Dźwignie!$L$7*C732","v":623436.42322871706},null,{"$f":"C732*Dźwignie!$G$5","v":415624.28215247806},207812.141076239,{"$f":"Dźwignie!$G$6","v":50000},157812.141076239,{"$f":"I732-Dźwignie!$D$6","v":137812.141076239},{"$f":"IF(J732>0,J732*(1-Dźwignie!$D$9),J732)","v":111627.8342717536},{"$f":"K732/Dźwignie!$D$5","v":11.162783427175359},{"$f":"I732/Dźwignie!$D$2","v":0.78906070538119499},{"$f":"K732/Dźwignie!$D$3","v":1.116278342717536},1.3168324037619197,1.1451250945222293,1.5079378308278026,null,{"$f":"C732*Dźwignie!$G$8","v":207812.14107623903},415624.282152478,{"$f":"Dźwignie!$G$9","v":150000},265624.282152478,{"$f":"V732-Dźwignie!$D$6","v":245624.282152478},{"$f":"IF(W732>0,W732*(1-Dźwignie!$D$9),W732)","v":198955.6685435072},{"$f":"X732/Dźwignie!$D$5","v":19.895566854350719},{"$f":"V732/Dźwignie!$D$2","v":1.32812141076239},{"$f":"X732/Dźwignie!$D$3","v":1.9895566854350719},1.5647074084661226,1.0814251743546448,1.692113982014481]
[721,0.37508004903793335,{"$f":"NORMINV(B733,Dźwignie!$L$8,Dźwignie!$L$9)","v":334078.58656848804},{"$f":"Dźwignie!$L$7*C733","v":501117.87985273206},null,{"$f":"C733*Dźwignie!$G$5","v":334078.58656848804},167039.29328424402,{"$f":"Dźwignie!$G$6","v":50000},117039.29328424402,{"$f":"I733-Dźwignie!$D$6","v":97039.29328424402},{"$f":"IF(J733>0,J733*(1-Dźwignie!$D$9),J733)","v":78601.827560237667},{"$f":"K733/Dźwignie!$D$5","v":7.8601827560237671},{"$f":"I733/Dźwignie!$D$2","v":0.58519646642122014},{"$f":"K733/Dźwignie!$D$3","v":0.78601827560237669},1.4272069541514487,1.2061020780666314,1.7213572732332099,null,{"$f":"C733*Dźwignie!$G$8","v":167039.29328424402},334078.58656848804,{"$f":"Dźwignie!$G$9","v":150000},184078.58656848804,{"$f":"V733-Dźwignie!$D$6","v":164078.58656848804},{"$f":"IF(W733>0,W733*(1-Dźwignie!$D$9),W733)","v":132903.65512047533},{"$f":"X733/Dźwignie!$D$5","v":13.290365512047533},{"$f":"V733/Dźwignie!$D$2","v":0.92039293284244017},{"$f":"X733/Dźwignie!$D$3","v":1.3290365512047533},1.8148693598545815,1.1218928101361465,2.0360888861572457]
[722,0.29411351680755615,{"$f":"NORMINV(B734,Dźwignie!$L$8,Dźwignie!$L$9)","v":322929.64638658549},{"$f":"Dźwignie!$L$7*C734","v":484394.46957987826},null,{"$f":"C734*Dźwignie!$G$5","v":322929.64638658549},161464.82319329277,{"$f":"Dźwignie!$G$6","v":50000},111464.82319329277,{"$f":"I734-Dźwignie!$D$6","v":91464.823193292774},{"$f":"IF(J734>0,J734*(1-Dźwignie!$D$9),J734)","v":74086.506786567144},{"$f":"K734/Dźwignie!$D$5","v":7.4086506786567146},{"$f":"I734/Dźwignie!$D$2","v":0.55732411596646392},{"$f":"K734/Dźwignie!$D$3","v":0.74086506786567141},1.4485720119368446,1.2186632991979218,1.7653215471927264,null,{"$f":"C734*Dźwignie!$G$8","v":161464.82319329274},322929.64638658555,{"$f":"Dźwignie!$G$9","v":150000},172929.64638658555,{"$f":"V734-Dźwignie!$D$6","v":152929.64638658555},{"$f":"IF(W734>0,W734*(1-Dźwignie!$D$9),W734)","v":123873.0135731343},{"$f":"X734/Dźwignie!$D$5","v":12.387301357313431},{"$f":"V734/Dźwignie!$D$2","v":0.86464823193292772},{"$f":"X734/Dźwignie!$D$3","v":1.2387301357313429},1.8674047691317996,1.1307790900754631,2.1116222656414365]
[723,0.73958879709243774,{"$f":"NORMINV(B735,Dźwignie!$L$8,Dźwignie!$L$9)","v":382103.91029695264},{"$f":"Dźwignie!$L$7*C735","v":573155.86544542899},null,{"$f":"C735*Dźwignie!$G$5","v":382103.91029695264},191051.95514847635,{"$f":"Dźwignie!$G$6","v":50000},141051.95514847635,{"$f":"I735-Dźwignie!$D$6","v":121051.95514847635},{"$f":"IF(J735>0,J735*(1-Dźwignie!$D$9),J735)","v":98052.083670265856},{"$f":"K735/Dźwignie!$D$5","v":9.8052083670265855},{"$f":"I735/Dźwignie!$D$2","v":0.70525977574238174},{"$f":"K735/Dźwignie!$D$3","v":0.98052083670265855},1.3544793118774441,1.1652183145284105,1.5782641008494367,null,{"$f":"C735*Dźwignie!$G$8","v":191051.95514847632},382103.9102969527,{"$f":"Dźwignie!$G$9","v":150000},232103.9102969527,{"$f":"V735-Dźwignie!$D$6","v":212103.9102969527},{"$f":"IF(W735>0,W735*(1-Dźwignie!$D$9),W735)","v":171804.16734053171},{"$f":"X735/Dźwignie!$D$5","v":17.180416734053171},{"$f":"V735/Dźwignie!$D$2","v":1.1605195514847635},{"$f":"X735/Dźwignie!$D$3","v":1.7180416734053172},1.6462622702396124,1.0942934053973796,1.8014939458777266]
[724,0.23293590545654297,{"$f":"NORMINV(B736,Dźwignie!$L$8,Dźwignie!$L$9)","v":313539.3852028012},{"$f":"Dźwignie!$L$7*C736","v":470309.07780420181},null,{"$f":"C736*Dźwignie!$G$5","v":313539.3852028012},156769.6926014006,{"$f":"Dźwignie!$G$6","v":50000},106769.6926014006,{"$f":"I736-Dźwignie!$D$6","v":86769.692601400602},{"$f":"IF(J736>0,J736*(1-Dźwignie!$D$9),J736)","v":70283.451007134499},{"$f":"K736/Dźwignie!$D$5","v":7.0283451007134499},{"$f":"I736/Dźwignie!$D$2","v":0.53384846300700306},{"$f":"K736/Dźwignie!$D$3","v":0.70283451007134501},1.4682976861857528,1.2304952270820557,1.806733294787195,null,{"$f":"C736*Dźwignie!$G$8","v":156769.6926014006},313539.3852028012,{"$f":"Dźwignie!$G$9","v":150000},163539.3852028012,{"$f":"V736-Dźwignie!$D$6","v":143539.3852028012},{"$f":"IF(W736>0,W736*(1-Dźwignie!$D$9),W736)","v":116266.90201426898},{"$f":"X736/Dźwignie!$D$5","v":11.626690201426898},{"$f":"V736/Dźwignie!$D$2","v":0.81769692601400601},{"$f":"X736/Dźwignie!$D$3","v":1.1626690201426899},1.9172102476353856,1.1393345803435257,2.184343932919969]
[725,0.95107573270797729,{"$f":"NORMINV(B737,Dźwignie!$L$8,Dźwignie!$L$9)","v":432768.73010665306},{"$f":"Dźwignie!$L$7*C737","v":649153.09515997954},null,{"$f":"C737*Dźwignie!$G$5","v":432768.73010665306},216384.36505332647,{"$f":"Dźwignie!$G$6","v":50000},166384.36505332647,{"$f":"I737-Dźwignie!$D$6","v":146384.36505332647},{"$f":"IF(J737>0,J737*(1-Dźwignie!$D$9),J737)","v":118571.33569319446},{"$f":"K737/Dźwignie!$D$5","v":11.857133569319446},{"$f":"I737/Dźwignie!$D$2","v":0.83192182526663239},{"$f":"K737/Dźwignie!$D$3","v":1.1857133569319447},1.300509005061713,1.1366266130451443,1.4781931456580053,null,{"$f":"C737*Dźwignie!$G$8","v":216384.36505332653},432768.73010665301,{"$f":"Dźwignie!$G$9","v":150000},282768.73010665301,{"$f":"V737-Dźwignie!$D$6","v":262768.73010665301},{"$f":"IF(W737>0,W737*(1-Dźwignie!$D$9),W737)","v":212842.67138638895},{"$f":"X737/Dźwignie!$D$5","v":21.284267138638896},{"$f":"V737/Dźwignie!$D$2","v":1.413843650533265},{"$f":"X737/Dźwignie!$D$3","v":2.1284267138638895},1.5304688391231376,1.0761125571976633,1.6469567361801387]
[726,0.13961279392242432,{"$f":"NORMINV(B738,Dźwignie!$L$8,Dźwignie!$L$9)","v":295896.96846280474},{"$f":"Dźwignie!$L$7*C738","v":443845.45269420708},null,{"$f":"C738*Dźwignie!$G$5","v":295896.96846280474},147948.48423140234,{"$f":"Dźwignie!$G$6","v":50000},97948.484231402341,{"$f":"I738-Dźwignie!$D$6","v":77948.484231402341},{"$f":"IF(J738>0,J738*(1-Dźwignie!$D$9),J738)","v":63138.272227435897},{"$f":"K738/Dźwignie!$D$5","v":6.3138272227435897},{"$f":"I738/Dźwignie!$D$2","v":0.48974242115701172},{"$f":"K738/Dźwignie!$D$3","v":0.63138272227435899},1.5104724222365247,1.2565797166834811,1.8980290083921836,null,{"$f":"C738*Dźwignie!$G$8","v":147948.48423140237},295896.96846280468,{"$f":"Dźwignie!$G$9","v":150000},145896.96846280468,{"$f":"V738-Dźwignie!$D$6","v":125896.96846280468},{"$f":"IF(W738>0,W738*(1-Dźwignie!$D$9),W738)","v":101976.54445487179},{"$f":"X738/Dźwignie!$D$5","v":10.19765444548718},{"$f":"V738/Dźwignie!$D$2","v":0.72948484231402344},{"$f":"X738/Dźwignie!$D$3","v":1.0197654445487179},2.0281228018678221,1.1588600602873838,2.3503105124427619]
[727,0.73263198137283325,{"$f":"NORMINV(B739,Dźwignie!$L$8,Dźwignie!$L$9)","v":381039.63421837392},{"$f":"Dźwignie!$L$7*C739","v":571559.45132756094},null,{"$f":"C739*Dźwignie!$G$5","v":381039.63421837392},190519.81710918702,{"$f":"Dźwignie!$G$6","v":50000},140519.81710918702,{"$f":"I739-Dźwignie!$D$6","v":120519.81710918702},{"$f":"IF(J739>0,J739*(1-Dźwignie!$D$9),J739)","v":97621.051858441497},{"$f":"K739/Dźwignie!$D$5","v":9.762105185844149},{"$f":"I739/Dźwignie!$D$2","v":0.70259908554593509},{"$f":"K739/Dźwignie!$D$3","v":0.97621051858441499},1.3558216985234821,1.1659478123990237,1.5808173433965826,null,{"$f":"C739*Dźwignie!$G$8","v":190519.81710918696},381039.63421837398,{"$f":"Dźwignie!$G$9","v":150000},231039.63421837398,{"$f":"V739-Dźwignie!$D$6","v":211039.63421837398},{"$f":"IF(W739>0,W739*(1-Dźwignie!$D$9),W739)","v":170942.10371688294},{"$f":"X739/Dźwignie!$D$5","v":17.094210371688295},{"$f":"V739/Dźwignie!$D$2","v":1.15519817109187},{"$f":"X739/Dźwignie!$D$3","v":1.7094210371688294},1.6492392550198682,1.0947689284720088,1.8055358920120752]
[728,0.91518330574035645,{"$f":"NORMINV(B740,Dźwignie!$L$8,Dźwignie!$L$9)","v":418669.13766454987},{"$f":"Dźwignie!$L$7*C740","v":628003.70649682474},null,{"$f":"C740*Dźwignie!$G$5","v":418669.13766454987},209334.56883227488,{"$f":"Dźwignie!$G$6","v":50000},159334.56883227488,{"$f":"I740-Dźwignie!$D$6","v":139334.56883227488},{"$f":"IF(J740>0,J740*(1-Dźwignie!$D$9),J740)","v":112861.00075414266},{"$f":"K740/Dźwignie!$D$5","v":11.286100075414266},{"$f":"I740/Dźwignie!$D$2","v":0.7966728441613744},{"$f":"K740/Dźwignie!$D$3","v":1.1286100075414267},1.3138050980803355,1.1435393970614367,1.5023878897150287,null,{"$f":"C740*Dźwignie!$G$8","v":209334.56883227493},418669.13766454981,{"$f":"Dźwignie!$G$9","v":150000},268669.13766454981,{"$f":"V740-Dźwignie!$D$6","v":248669.13766454981},{"$f":"IF(W740>0,W740*(1-Dźwignie!$D$9),W740)","v":201422.00150828535},{"$f":"X740/Dźwignie!$D$5","v":20.142200150828536},{"$f":"V740/Dźwignie!$D$2","v":1.343345688322749},{"$f":"X740/Dźwignie!$D$3","v":2.0142200150828535},1.5583075201859782,1.0804281552099144,1.6836393192842729]
[729,0.17020267248153687,{"$f":"NORMINV(B741,Dźwignie!$L$8,Dźwignie!$L$9)","v":302331.76742938888},{"$f":"Dźwignie!$L$7*C741","v":453497.65114408336},null,{"$f":"C741*Dźwignie!$G$5","v":302331.76742938888},151165.88371469447,{"$f":"Dźwignie!$G$6","v":50000},101165.88371469447,{"$f":"I741-Dźwignie!$D$6","v":81165.883714694472},{"$f":"IF(J741>0,J741*(1-Dźwignie!$D$9),J741)","v":65744.365808902527},{"$f":"K741/Dźwignie!$D$5","v":6.5744365808902527},{"$f":"I741/Dźwignie!$D$2","v":0.50582941857347241},{"$f":"K741/Dźwignie!$D$3","v":0.65744365808902527},1.4942377624161201,1.2464089477581719,1.8624313171536016,null,{"$f":"C741*Dźwignie!$G$8","v":151165.88371469444},302331.76742938894,{"$f":"Dźwignie!$G$9","v":150000},152331.76742938894,{"$f":"V741-Dźwignie!$D$6","v":132331.76742938894},{"$f":"IF(W741>0,W741*(1-Dźwignie!$D$9),W741)","v":107188.73161780505},{"$f":"X741/Dźwignie!$D$5","v":10.718873161780506},{"$f":"V741/Dźwignie!$D$2","v":0.76165883714694471},{"$f":"X741/Dźwignie!$D$3","v":1.0718873161780504},1.9846928354555473,1.1511352896474523,2.2846499620033449]
[730,0.93462455272674561,{"$f":"NORMINV(B742,Dźwignie!$L$8,Dźwignie!$L$9)","v":425557.37114306306},{"$f":"Dźwignie!$L$7*C742","v":638336.0567145946},null,{"$f":"C742*Dźwignie!$G$5","v":425557.37114306306},212778.68557153153,{"$f":"Dźwignie!$G$6","v":50000},162778.68557153153,{"$f":"I742-Dźwignie!$D$6","v":142778.68557153153},{"$f":"IF(J742>0,J742*(1-Dźwignie!$D$9),J742)","v":115650.73531294055},{"$f":"K742/Dźwignie!$D$5","v":11.565073531294056},{"$f":"I742/Dźwignie!$D$2","v":0.81389342785765761},{"$f":"K742/Dźwignie!$D$3","v":1.1565073531294054},1.3071655224665639,1.1400769303901463,1.490269256365512,null,{"$f":"C742*Dźwignie!$G$8","v":212778.68557153153},425557.37114306306,{"$f":"Dźwignie!$G$9","v":150000},275557.37114306306,{"$f":"V742-Dźwignie!$D$6","v":255557.37114306306},{"$f":"IF(W742>0,W742*(1-Dźwignie!$D$9),W742)","v":207001.47062588111},{"$f":"X742/Dźwignie!$D$5","v":20.700147062588112},{"$f":"V742/Dźwignie!$D$2","v":1.3777868557153152},{"$f":"X742/Dźwignie!$D$3","v":2.070014706258811},1.5443512520741949,1.078260313566944,1.6652126653190238]
[731,0.24041897058486938,{"$f":"NORMINV(B743,Dźwignie!$L$8,Dźwignie!$L$9)","v":314752.22591713804},{"$f":"Dźwignie!$L$7*C743","v":472128.33887570706},null,{"$f":"C743*Dźwignie!$G$5","v":314752.22591713804},157376.11295856902,{"$f":"Dźwignie!$G$6","v":50000},107376.11295856902,{"$f":"I743-Dźwignie!$D$6","v":87376.112958569021},{"$f":"IF(J743>0,J743*(1-Dźwignie!$D$9),J743)","v":70774.651496440914},{"$f":"K743/Dźwignie!$D$5","v":7.077465149644091},{"$f":"I743/Dźwignie!$D$2","v":0.53688056479284507},{"$f":"K743/Dźwignie!$D$3","v":0.7077465149644091},1.4656529149950925,1.2288955107156503,1.8011342875047758,null,{"$f":"C743*Dźwignie!$G$8","v":157376.11295856902},314752.22591713804,{"$f":"Dźwignie!$G$9","v":150000},164752.22591713804,{"$f":"V743-Dźwignie!$D$6","v":144752.22591713804},{"$f":"IF(W743>0,W743*(1-Dźwignie!$D$9),W743)","v":117249.30299288183},{"$f":"X743/Dźwignie!$D$5","v":11.724930299288182},{"$f":"V743/Dźwignie!$D$2","v":0.82376112958569025},{"$f":"X743/Dźwignie!$D$3","v":1.1724930299288183},1.9104581086233234,1.1381671326522385,2.1744206275440265]
[732,0.96335554122924805,{"$f":"NORMINV(B744,Dźwignie!$L$8,Dźwignie!$L$9)","v":439551.36396031926},{"$f":"Dźwignie!$L$7*C744","v":659327.04594047891},null,{"$f":"C744*Dźwignie!$G$5","v":439551.36396031926},219775.68198015966,{"$f":"Dźwignie!$G$6","v":50000},169775.68198015966,{"$f":"I744-Dźwignie!$D$6","v":149775.68198015966},{"$f":"IF(J744>0,J744*(1-Dźwignie!$D$9),J744)","v":121318.30240392934},{"$f":"K744/Dźwignie!$D$5","v":12.131830240392933},{"$f":"I744/Dźwignie!$D$2","v":0.84887840990079833},{"$f":"K744/Dźwignie!$D$3","v":1.2131830240392933},1.2945062532915821,1.1335330257594778,1.4673655901581719,null,{"$f":"C744*Dźwignie!$G$8","v":219775.68198015963},439551.36396031932,{"$f":"Dźwignie!$G$9","v":150000},289551.36396031932,{"$f":"V744-Dźwignie!$D$6","v":269551.36396031932},{"$f":"IF(W744>0,W744*(1-Dźwignie!$D$9),W744)","v":218336.60480785865},{"$f":"X744/Dźwignie!$D$5","v":21.833660480785866},{"$f":"V744/Dźwignie!$D$2","v":1.4477568198015967},{"$f":"X744/Dźwignie!$D$3","v":2.1833660480785864},1.518042802314536,1.0741973615201006,1.6306775729208542]
[733,0.56108635663986206,{"$f":"NORMINV(B745,Dźwignie!$L$8,Dźwignie!$L$9)","v":357686.20467489643},{"$f":"Dźwignie!$L$7*C745","v":536529.30701234471},null,{"$f":"C745*Dźwignie!$G$5","v":357686.20467489643},178843.10233744828,{"$f":"Dźwignie!$G$6","v":50000},128843.10233744828,{"$f":"I745-Dźwignie!$D$6","v":108843.10233744828},{"$f":"IF(J745>0,J745*(1-Dźwignie!$D$9),J745)","v":88162.912893333109},{"$f":"K745/Dźwignie!$D$5","v":8.8162912893333107},{"$f":"I745/Dźwignie!$D$2","v":0.64421551168724134},{"$f":"K745/Dźwignie!$D$3","v":0.88162912893333112},1.3880688922643822,1.183750734502161,1.6431275707575634,null,{"$f":"C745*Dźwignie!$G$8","v":178843.10233744822},357686.20467489649,{"$f":"Dźwignie!$G$9","v":150000},207686.20467489649,{"$f":"V745-Dźwignie!$D$6","v":187686.20467489649},{"$f":"IF(W745>0,W745*(1-Dźwignie!$D$9),W745)","v":152025.82578666616},{"$f":"X745/Dźwignie!$D$5","v":15.202582578666616},{"$f":"V745/Dźwignie!$D$2","v":1.0384310233744825},{"$f":"X745/Dźwignie!$D$3","v":1.5202582578666617},1.7222434452726596,1.1065608419896567,1.9057671569120813]
[734,0.40577232837677002,{"$f":"NORMINV(B746,Dźwignie!$L$8,Dźwignie!$L$9)","v":338078.31013770233},{"$f":"Dźwignie!$L$7*C746","v":507117.46520655346},null,{"$f":"C746*Dźwignie!$G$5","v":338078.31013770233},169039.15506885113,{"$f":"Dźwignie!$G$6","v":50000},119039.15506885113,{"$f":"I746-Dźwignie!$D$6","v":99039.155068851134},{"$f":"IF(J746>0,J746*(1-Dźwignie!$D$9),J746)","v":80221.715605769423},{"$f":"K746/Dźwignie!$D$5","v":8.0221715605769415},{"$f":"I746/Dźwignie!$D$2","v":0.59519577534425572},{"$f":"K746/Dźwignie!$D$3","v":0.80221715605769428},1.4200298630402783,1.2019403334579761,1.7067911671029163,null,{"$f":"C746*Dźwignie!$G$8","v":169039.15506885116},338078.31013770227,{"$f":"Dźwignie!$G$9","v":150000},188078.31013770227,{"$f":"V746-Dźwignie!$D$6","v":168078.31013770227},{"$f":"IF(W746>0,W746*(1-Dźwignie!$D$9),W746)","v":136143.43121153885},{"$f":"X746/Dźwignie!$D$5","v":13.614343121153885},{"$f":"V746/Dźwignie!$D$2","v":0.94039155068851132},{"$f":"X746/Dźwignie!$D$3","v":1.3614343121153885},1.7975401304391607,1.1189921530244713,2.0114333007080054]
[735,0.14557915925979614,{"$f":"NORMINV(B747,Dźwignie!$L$8,Dźwignie!$L$9)","v":297220.8004980947},{"$f":"Dźwignie!$L$7*C747","v":445831.20074714208},null,{"$f":"C747*Dźwignie!$G$5","v":297220.8004980947},148610.40024904738,{"$f":"Dźwignie!$G$6","v":50000},98610.400249047379,{"$f":"I747-Dźwignie!$D$6","v":78610.400249047379},{"$f":"IF(J747>0,J747*(1-Dźwignie!$D$9),J747)","v":63674.424201728383},{"$f":"K747/Dźwignie!$D$5","v":6.3674424201728383},{"$f":"I747/Dźwignie!$D$2","v":0.4930520012452369},{"$f":"K747/Dźwignie!$D$3","v":0.63674424201728386},1.5070459086842924,1.2544192617851779,1.8904674162481228,null,{"$f":"C747*Dźwignie!$G$8","v":148610.40024904735},297220.80049809476,{"$f":"Dźwignie!$G$9","v":150000},147220.80049809476,{"$f":"V747-Dźwignie!$D$6","v":127220.80049809476},{"$f":"IF(W747>0,W747*(1-Dźwignie!$D$9),W747)","v":103048.84840345677},{"$f":"X747/Dźwignie!$D$5","v":10.304884840345677},{"$f":"V747/Dźwignie!$D$2","v":0.73610400249047381},{"$f":"X747/Dźwignie!$D$3","v":1.0304884840345676},2.0188777638248285,1.1572069969823804,2.3362594743502334]
[736,0.54206442832946777,{"$f":"NORMINV(B748,Dźwignie!$L$8,Dźwignie!$L$9)","v":355281.80109211133},{"$f":"Dźwignie!$L$7*C748","v":532922.70163816703},null,{"$f":"C748*Dźwignie!$G$5","v":355281.80109211133},177640.90054605569,{"$f":"Dźwignie!$G$6","v":50000},127640.90054605569,{"$f":"I748-Dźwignie!$D$6","v":107640.90054605569},{"$f":"IF(J748>0,J748*(1-Dźwignie!$D$9),J748)","v":87189.129442305115},{"$f":"K748/Dźwignie!$D$5","v":8.718912944230512},{"$f":"I748/Dźwignie!$D$2","v":0.63820450273027851},{"$f":"K748/Dźwignie!$D$3","v":0.87189129442305113},1.3917239676788309,1.1858029791514306,1.6503104270300071,null,{"$f":"C748*Dźwignie!$G$8","v":177640.90054605567},355281.80109211139,{"$f":"Dźwignie!$G$9","v":150000},205281.80109211139,{"$f":"V748-Dźwignie!$D$6","v":185281.80109211139},{"$f":"IF(W748>0,W748*(1-Dźwignie!$D$9),W748)","v":150078.25888461023},{"$f":"X748/Dźwignie!$D$5","v":15.007825888461023},{"$f":"V748/Dźwignie!$D$2","v":1.026409005460557},{"$f":"X748/Dźwignie!$D$3","v":1.5007825888461024},1.7307028640726605,1.1079436829851257,1.9175213053735689]
[737,0.19239133596420288,{"$f":"NORMINV(B749,Dźwignie!$L$8,Dźwignie!$L$9)","v":306544.1072800167},{"$f":"Dźwignie!$L$7*C749","v":459816.16092002508},null,{"$f":"C749*Dźwignie!$G$5","v":306544.1072800167},153272.05364000838,{"$f":"Dźwignie!$G$6","v":50000},103272.05364000838,{"$f":"I749-Dźwignie!$D$6","v":83272.05364000838},{"$f":"IF(J749>0,J749*(1-Dźwignie!$D$9),J749)","v":67450.363448406788},{"$f":"K749/Dźwignie!$D$5","v":6.7450363448406785},{"$f":"I749/Dźwignie!$D$2","v":0.51636026820004188},{"$f":"K749/Dźwignie!$D$3","v":0.67450363448406792},1.4841580876690306,1.2401766153920206,1.8406181538720721,null,{"$f":"C749*Dźwignie!$G$8","v":153272.05364000835},306544.10728001676,{"$f":"Dźwignie!$G$9","v":150000},156544.10728001676,{"$f":"V749-Dźwignie!$D$6","v":136544.10728001676},{"$f":"IF(W749>0,W749*(1-Dźwignie!$D$9),W749)","v":110600.72689681358},{"$f":"X749/Dźwignie!$D$5","v":11.060072689681357},{"$f":"V749/Dźwignie!$D$2","v":0.78272053640008377},{"$f":"X749/Dźwignie!$D$3","v":1.1060072689681357},1.9581963997641185,1.1464728167213043,2.245018942131086]
[738,0.65956246852874756,{"$f":"NORMINV(B750,Dźwignie!$L$8,Dźwignie!$L$9)","v":370563.46603406616},{"$f":"Dźwignie!$L$7*C750","v":555845.19905109925},null,{"$f":"C750*Dźwignie!$G$5","v":370563.46603406616},185281.73301703308,{"$f":"Dźwignie!$G$6","v":50000},135281.73301703308,{"$f":"I750-Dźwignie!$D$6","v":115281.73301703308},{"$f":"IF(J750>0,J750*(1-Dźwignie!$D$9),J750)","v":93378.20374379681},{"$f":"K750/Dźwignie!$D$5","v":9.3378203743796817},{"$f":"I750/Dźwignie!$D$2","v":0.67640866508516539},{"$f":"K750/Dźwignie!$D$3","v":0.93378203743796806},1.3695990499597206,1.1734880234411895,1.6072080820441634,null,{"$f":"C750*Dźwignie!$G$8","v":185281.73301703308},370563.46603406616,{"$f":"Dźwignie!$G$9","v":150000},220563.46603406616,{"$f":"V750-Dźwignie!$D$6","v":200563.46603406616},{"$f":"IF(W750>0,W750*(1-Dźwignie!$D$9),W750)","v":162456.40748759359},{"$f":"X750/Dźwignie!$D$5","v":16.24564074875936},{"$f":"V750/Dźwignie!$D$2","v":1.1028173301703308},{"$f":"X750/Dźwignie!$D$3","v":1.624564074875936},1.6800763639470211,1.0997190584879648,1.8476119971477014]
[739,0.19109350442886353,{"$f":"NORMINV(B751,Dźwignie!$L$8,Dźwignie!$L$9)","v":306306.31225670018},{"$f":"Dźwignie!$L$7*C751","v":459459.46838505031},null,{"$f":"C751*Dźwignie!$G$5","v":306306.31225670018},153153.15612835012,{"$f":"Dźwignie!$G$6","v":50000},103153.15612835012,{"$f":"I751-Dźwignie!$D$6","v":83153.156128350121},{"$f":"IF(J751>0,J751*(1-Dźwignie!$D$9),J751)","v":67354.0564639636},{"$f":"K751/Dźwignie!$D$5","v":6.7354056463963596},{"$f":"I751/Dźwignie!$D$2","v":0.5157657806417506},{"$f":"K751/Dźwignie!$D$3","v":0.67354056463963596},1.4847161432248046,1.240520034731204,1.8418201215592138,null,{"$f":"C751*Dźwignie!$G$8","v":153153.15612835009},306306.31225670024,{"$f":"Dźwignie!$G$9","v":150000},156306.31225670024,{"$f":"V751-Dźwignie!$D$6","v":136306.31225670024},{"$f":"IF(W751>0,W751*(1-Dźwignie!$D$9),W751)","v":110408.1129279272},{"$f":"X751/Dźwignie!$D$5","v":11.04081129279272},{"$f":"V751/Dźwignie!$D$2","v":0.78153156128350121},{"$f":"X751/Dźwignie!$D$3","v":1.104081129279272},1.9596541421414675,1.1467283478576897,2.2471909567903632]
[740,0.23486709594726563,{"$f":"NORMINV(B752,Dźwignie!$L$8,Dźwignie!$L$9)","v":313854.41963671439},{"$f":"Dźwignie!$L$7*C752","v":470781.62945507158},null,{"$f":"C752*Dźwignie!$G$5","v":313854.41963671439},156927.20981835719,{"$f":"Dźwignie!$G$6","v":50000},106927.20981835719,{"$f":"I752-Dźwignie!$D$6","v":86927.209818357194},{"$f":"IF(J752>0,J752*(1-Dźwignie!$D$9),J752)","v":70411.039952869338},{"$f":"K752/Dźwignie!$D$5","v":7.0411039952869334},{"$f":"I752/Dźwignie!$D$2","v":0.53463604909178597},{"$f":"K752/Dźwignie!$D$3","v":0.70411039952869336},1.4676078248458704,1.2300775561736299,1.8052714466077049,null,{"$f":"C752*Dźwignie!$G$8","v":156927.20981835719},313854.41963671439,{"$f":"Dźwignie!$G$9","v":150000},163854.41963671439,{"$f":"V752-Dźwignie!$D$6","v":143854.41963671439},{"$f":"IF(W752>0,W752*(1-Dźwignie!$D$9),W752)","v":116522.07990573866},{"$f":"X752/Dźwignie!$D$5","v":11.652207990573865},{"$f":"V752/Dźwignie!$D$2","v":0.81927209818357194},{"$f":"X752/Dźwignie!$D$3","v":1.1652207990573866},1.915446774841769,1.1390294441457369,2.1817502752387647]
[741,0.87594622373580933,{"$f":"NORMINV(B753,Dźwignie!$L$8,Dźwignie!$L$9)","v":407747.90898667159},{"$f":"Dźwignie!$L$7*C753","v":611621.86348000739},null,{"$f":"C753*Dźwignie!$G$5","v":407747.90898667159},203873.9544933358,{"$f":"Dźwignie!$G$6","v":50000},153873.9544933358,{"$f":"I753-Dźwignie!$D$6","v":133873.9544933358},{"$f":"IF(J753>0,J753*(1-Dźwignie!$D$9),J753)","v":108437.903139602},{"$f":"K753/Dźwignie!$D$5","v":10.8437903139602},{"$f":"I753/Dźwignie!$D$2","v":0.76936977246667904},{"$f":"K753/Dźwignie!$D$3","v":1.08437903139602},1.324941281743464,1.1493942572750071,1.5228799004625249,null,{"$f":"C753*Dźwignie!$G$8","v":203873.9544933358},407747.90898667159,{"$f":"Dźwignie!$G$9","v":150000},257747.90898667159,{"$f":"V753-Dźwignie!$D$6","v":237747.90898667159},{"$f":"IF(W753>0,W753*(1-Dźwignie!$D$9),W753)","v":192575.806279204},{"$f":"X753/Dźwignie!$D$5","v":19.257580627920401},{"$f":"V753/Dźwignie!$D$2","v":1.2887395449333581},{"$f":"X753/Dźwignie!$D$3","v":1.9257580627920401},1.5819639840715707,1.0841227167264853,1.7150430921751256]
[742,0.57300913333892822,{"$f":"NORMINV(B754,Dźwignie!$L$8,Dźwignie!$L$9)","v":359202.02180087194},{"$f":"Dźwignie!$L$7*C754","v":538803.03270130791},null,{"$f":"C754*Dźwignie!$G$5","v":359202.02180087194},179601.01090043597,{"$f":"Dźwignie!$G$6","v":50000},129601.01090043597,{"$f":"I754-Dźwignie!$D$6","v":109601.01090043597},{"$f":"IF(J754>0,J754*(1-Dźwignie!$D$9),J754)","v":88776.818829353142},{"$f":"K754/Dźwignie!$D$5","v":8.877681882935315},{"$f":"I754/Dźwignie!$D$2","v":0.64800505450217982},{"$f":"K754/Dźwignie!$D$3","v":0.88776818829353144},1.385799459839181,1.182480068711852,1.638680240491482,null,{"$f":"C754*Dźwignie!$G$8","v":179601.01090043597},359202.02180087194,{"$f":"Dźwignie!$G$9","v":150000},209202.02180087194,{"$f":"V754-Dźwignie!$D$6","v":189202.02180087194},{"$f":"IF(W754>0,W754*(1-Dźwignie!$D$9),W754)","v":153253.63765870628},{"$f":"X754/Dźwignie!$D$5","v":15.325363765870629},{"$f":"V754/Dźwignie!$D$2","v":1.0460101090043596},{"$f":"X754/Dźwignie!$D$3","v":1.5325363765870628},1.7170102789101001,1.1057071156514873,1.8985104830376425]
[743,0.80841952562332153,{"$f":"NORMINV(B755,Dźwignie!$L$8,Dźwignie!$L$9)","v":393604.34714181663},{"$f":"Dźwignie!$L$7*C755","v":590406.52071272489},null,{"$f":"C755*Dźwignie!$G$5","v":393604.34714181663},196802.17357090826,{"$f":"Dźwignie!$G$6","v":50000},146802.17357090826,{"$f":"I755-Dźwignie!$D$6","v":126802.17357090826},{"$f":"IF(J755>0,J755*(1-Dźwignie!$D$9),J755)","v":102709.76059243569},{"$f":"K755/Dźwignie!$D$5","v":10.270976059243569},{"$f":"I755/Dźwignie!$D$2","v":0.73401086785454128},{"$f":"K755/Dźwignie!$D$3","v":1.0270976059243568},1.3405944120837492,1.1577260029286165,1.5520410102501576,null,{"$f":"C755*Dźwignie!$G$8","v":196802.17357090832},393604.34714181657,{"$f":"Dźwignie!$G$9","v":150000},243604.34714181657,{"$f":"V755-Dźwignie!$D$6","v":223604.34714181657},{"$f":"IF(W755>0,W755*(1-Dźwignie!$D$9),W755)","v":181119.52118487144},{"$f":"X755/Dźwignie!$D$5","v":18.111952118487142},{"$f":"V755/Dźwignie!$D$2","v":1.2180217357090828},{"$f":"X755/Dźwignie!$D$3","v":1.8111952118487145},1.6157525584413159,1.0894436993539995,1.7602714445089966]
[744,0.5598909854888916,{"$f":"NORMINV(B756,Dźwignie!$L$8,Dźwignie!$L$9)","v":357534.64152875484},{"$f":"Dźwignie!$L$7*C756","v":536301.96229313221},null,{"$f":"C756*Dźwignie!$G$5","v":357534.64152875484},178767.32076437736,{"$f":"Dźwignie!$G$6","v":50000},128767.32076437736,{"$f":"I756-Dźwignie!$D$6","v":108767.32076437736},{"$f":"IF(J756>0,J756*(1-Dźwignie!$D$9),J756)","v":88101.529819145668},{"$f":"K756/Dźwignie!$D$5","v":8.8101529819145661},{"$f":"I756/Dźwignie!$D$2","v":0.64383660382188679},{"$f":"K756/Dźwignie!$D$3","v":0.88101529819145663},1.3882972768493929,1.1838787593502096,1.6435756577257337,null,{"$f":"C756*Dźwignie!$G$8","v":178767.32076437742},357534.64152875479,{"$f":"Dźwignie!$G$9","v":150000},207534.64152875479,{"$f":"V756-Dźwignie!$D$6","v":187534.64152875479},{"$f":"IF(W756>0,W756*(1-Dźwignie!$D$9),W756)","v":151903.05963829139},{"$f":"X756/Dźwignie!$D$5","v":15.19030596382914},{"$f":"V756/Dźwignie!$D$2","v":1.037673207643774},{"$f":"X756/Dźwignie!$D$3","v":1.519030596382914},1.722770901739876,1.1066469631261879,1.9064991865725982]
[745,0.6198686957359314,{"$f":"NORMINV(B757,Dźwignie!$L$8,Dźwignie!$L$9)","v":365256.79771784594},{"$f":"Dźwignie!$L$7*C757","v":547885.19657676888},null,{"$f":"C757*Dźwignie!$G$5","v":365256.79771784594},182628.39885892294,{"$f":"Dźwignie!$G$6","v":50000},132628.39885892294,{"$f":"I757-Dźwignie!$D$6","v":112628.39885892294},{"$f":"IF(J757>0,J757*(1-Dźwignie!$D$9),J757)","v":91229.003075727582},{"$f":"K757/Dźwignie!$D$5","v":9.1229003075727579},{"$f":"I757/Dźwignie!$D$2","v":0.66314199429461473},{"$f":"K757/Dźwignie!$D$3","v":0.91229003075727577},1.3769931660954837,1.1775751071898994,1.6215128751646481,null,{"$f":"C757*Dźwignie!$G$8","v":182628.39885892297},365256.79771784588,{"$f":"Dźwignie!$G$9","v":150000},215256.79771784588,{"$f":"V757-Dźwignie!$D$6","v":195256.79771784588},{"$f":"IF(W757>0,W757*(1-Dźwignie!$D$9),W757)","v":158158.00615145516},{"$f":"X757/Dźwignie!$D$5","v":15.815800615145516},{"$f":"V757/Dźwignie!$D$2","v":1.0762839885892295},{"$f":"X757/Dźwignie!$D$3","v":1.5815800615145517},1.6968421048268909,1.1024292123693478,1.8706483051394556]
[746,0.43425929546356201,{"$f":"NORMINV(B758,Dźwignie!$L$8,Dźwignie!$L$9)","v":341722.97600253427},{"$f":"Dźwignie!$L$7*C758","v":512584.4640038014},null,{"$f":"C758*Dźwignie!$G$5","v":341722.97600253427},170861.48800126713,{"$f":"Dźwignie!$G$6","v":50000},120861.48800126713,{"$f":"I758-Dźwignie!$D$6","v":100861.48800126713},{"$f":"IF(J758>0,J758*(1-Dźwignie!$D$9),J758)","v":81697.805281026391},{"$f":"K758/Dźwignie!$D$5","v":8.1697805281026383},{"$f":"I758/Dźwignie!$D$2","v":0.60430744000633563},{"$f":"K758/Dźwignie!$D$3","v":0.81697805281026392},1.4136967103985663,1.198291740448532,1.6940210915698624,null,{"$f":"C758*Dźwignie!$G$8","v":170861.48800126713},341722.97600253427,{"$f":"Dźwignie!$G$9","v":150000},191722.97600253427,{"$f":"V758-Dźwignie!$D$6","v":171722.97600253427},{"$f":"IF(W758>0,W758*(1-Dźwignie!$D$9),W758)","v":139095.61056205278},{"$f":"X758/Dźwignie!$D$5","v":13.909561056205279},{"$f":"V758/Dźwignie!$D$2","v":0.95861488001267137},{"$f":"X758/Dźwignie!$D$3","v":1.3909561056205277},1.7823788422625844,1.1164666514963311,1.9899665377188147]
[747,0.19561630487442017,{"$f":"NORMINV(B759,Dźwignie!$L$8,Dźwignie!$L$9)","v":307130.79193544708},{"$f":"Dźwignie!$L$7*C759","v":460696.18790317059},null,{"$f":"C759*Dźwignie!$G$5","v":307130.79193544708},153565.39596772351,{"$f":"Dźwignie!$G$6","v":50000},103565.39596772351,{"$f":"I759-Dźwignie!$D$6","v":83565.395967723511},{"$f":"IF(J759>0,J759*(1-Dźwignie!$D$9),J759)","v":67687.970733856055},{"$f":"K759/Dźwignie!$D$5","v":6.7687970733856053},{"$f":"I759/Dźwignie!$D$2","v":0.51782697983861758},{"$f":"K759/Dźwignie!$D$3","v":0.67687970733856051},1.4827867410035556,1.239333515606446,1.8376673046225613,null,{"$f":"C759*Dźwignie!$G$8","v":153565.39596772354},307130.79193544702,{"$f":"Dźwignie!$G$9","v":150000},157130.79193544702,{"$f":"V759-Dźwignie!$D$6","v":137130.79193544702},{"$f":"IF(W759>0,W759*(1-Dźwignie!$D$9),W759)","v":111075.94146771209},{"$f":"X759/Dźwignie!$D$5","v":11.107594146771209},{"$f":"V759/Dźwignie!$D$2","v":0.78565395967723506},{"$f":"X759/Dźwignie!$D$3","v":1.1107594146771209},1.9546187488294686,1.14584616421828,2.2396923958553803]
[748,0.7354588508605957,{"$f":"NORMINV(B760,Dźwignie!$L$8,Dźwignie!$L$9)","v":381470.37583017314},{"$f":"Dźwignie!$L$7*C760","v":572205.56374525977},null,{"$f":"C760*Dźwignie!$G$5","v":381470.37583017314},190735.18791508663,{"$f":"Dźwignie!$G$6","v":50000},140735.18791508663,{"$f":"I760-Dźwignie!$D$6","v":120735.18791508663},{"$f":"IF(J760>0,J760*(1-Dźwignie!$D$9),J760)","v":97795.50221122017},{"$f":"K760/Dźwignie!$D$5","v":9.7795502211220171},{"$f":"I760/Dźwignie!$D$2","v":0.70367593957543317},{"$f":"K760/Dźwignie!$D$3","v":0.97795502211220164},1.3552771751025605,1.1656517900486978,1.5797812651704422,null,{"$f":"C760*Dźwignie!$G$8","v":190735.18791508657},381470.3758301732,{"$f":"Dźwignie!$G$9","v":150000},231470.3758301732,{"$f":"V760-Dźwignie!$D$6","v":211470.3758301732},{"$f":"IF(W760>0,W760*(1-Dźwignie!$D$9),W760)","v":171291.00442244031},{"$f":"X760/Dźwignie!$D$5","v":17.129100442244031},{"$f":"V760/Dźwignie!$D$2","v":1.1573518791508659},{"$f":"X760/Dźwignie!$D$3","v":1.7129100442244032},1.6480310902076429,1.0945758947156812,1.8038951050832903]
[749,0.33169049024581909,{"$f":"NORMINV(B761,Dźwignie!$L$8,Dźwignie!$L$9)","v":328237.50049221277},{"$f":"Dźwignie!$L$7*C761","v":492356.25073831913},null,{"$f":"C761*Dźwignie!$G$5","v":328237.50049221277},164118.75024610636,{"$f":"Dźwignie!$G$6","v":50000},114118.75024610636,{"$f":"I761-Dźwignie!$D$6","v":94118.750246106356},{"$f":"IF(J761>0,J761*(1-Dźwignie!$D$9),J761)","v":76236.187699346148},{"$f":"K761/Dźwignie!$D$5","v":7.6236187699346152},{"$f":"I761/Dźwignie!$D$2","v":0.5705937512305318},{"$f":"K761/Dźwignie!$D$3","v":0.76236187699346147},1.438140094350586,1.2124975092391581,1.7437412823370533,null,{"$f":"C761*Dźwignie!$G$8","v":164118.75024610639},328237.50049221271,{"$f":"Dźwignie!$G$9","v":150000},178237.50049221271,{"$f":"V761-Dźwignie!$D$6","v":158237.50049221271},{"$f":"IF(W761>0,W761*(1-Dźwignie!$D$9),W761)","v":128172.37539869231},{"$f":"X761/Dźwignie!$D$5","v":12.817237539869231},{"$f":"V761/Dźwignie!$D$2","v":0.8911875024610636},{"$f":"X761/Dźwignie!$D$3","v":1.2817237539869231},1.8415737405751691,1.1263922896771505,2.0743344622557798]
[750,0.83321774005889893,{"$f":"NORMINV(B762,Dźwignie!$L$8,Dźwignie!$L$9)","v":398347.95103216654},{"$f":"Dźwignie!$L$7*C762","v":597521.92654824979},null,{"$f":"C762*Dźwignie!$G$5","v":398347.95103216654},199173.97551608324,{"$f":"Dźwignie!$G$6","v":50000},149173.97551608324,{"$f":"I762-Dźwignie!$D$6","v":129173.97551608324},{"$f":"IF(J762>0,J762*(1-Dźwignie!$D$9),J762)","v":104630.92016802743},{"$f":"K762/Dźwignie!$D$5","v":10.463092016802742},{"$f":"I762/Dźwignie!$D$2","v":0.74586987758041623},{"$f":"K762/Dźwignie!$D$3","v":1.0463092016802742},1.3351791076628459,1.1548299486804123,1.5419048203814429,null,{"$f":"C762*Dźwignie!$G$8","v":199173.97551608327},398347.95103216649,{"$f":"Dźwignie!$G$9","v":150000},248347.95103216649,{"$f":"V762-Dźwignie!$D$6","v":228347.95103216649},{"$f":"IF(W762>0,W762*(1-Dźwignie!$D$9),W762)","v":184961.84033605485},{"$f":"X762/Dźwignie!$D$5","v":18.496184033605484},{"$f":"V762/Dźwignie!$D$2","v":1.2417397551608325},{"$f":"X762/Dźwignie!$D$3","v":1.8496184033605485},1.6039912927671858,1.0875856337208065,1.7444778866268555]
[751,0.64546948671340942,{"$f":"NORMINV(B763,Dźwignie!$L$8,Dźwignie!$L$9)","v":368655.87284793187},{"$f":"Dźwignie!$L$7*C763","v":552983.80927189777},null,{"$f":"C763*Dźwignie!$G$5","v":368655.87284793187},184327.9364239659,{"$f":"Dźwignie!$G$6","v":50000},134327.9364239659,{"$f":"I763-Dźwignie!$D$6","v":114327.9364239659},{"$f":"IF(J763>0,J763*(1-Dźwignie!$D$9),J763)","v":92605.628503412387},{"$f":"K763/Dźwignie!$D$5","v":9.2605628503412394},{"$f":"I763/Dźwignie!$D$2","v":0.6716396821198295},{"$f":"K763/Dźwignie!$D$3","v":0.92605628503412385},1.3722233909868902,1.1749353712274957,1.6122737992962348,null,{"$f":"C763*Dźwignie!$G$8","v":184327.93642396593},368655.87284793181,{"$f":"Dźwignie!$G$9","v":150000},218655.87284793181,{"$f":"V763-Dźwignie!$D$6","v":198655.87284793181},{"$f":"IF(W763>0,W763*(1-Dźwignie!$D$9),W763)","v":160911.25700682477},{"$f":"X763/Dźwignie!$D$5","v":16.091125700682479},{"$f":"V763/Dźwignie!$D$2","v":1.093279364239659},{"$f":"X763/Dźwignie!$D$3","v":1.6091125700682478},1.686009472539163,1.1006766108309807,1.8557511920633354]
[752,0.69571375846862793,{"$f":"NORMINV(B764,Dźwignie!$L$8,Dźwignie!$L$9)","v":375605.6102540415},{"$f":"Dźwignie!$L$7*C764","v":563408.41538106231},null,{"$f":"C764*Dźwignie!$G$5","v":375605.6102540415},187802.80512702081,{"$f":"Dźwignie!$G$6","v":50000},137802.80512702081,{"$f":"I764-Dźwignie!$D$6","v":117802.80512702081},{"$f":"IF(J764>0,J764*(1-Dźwignie!$D$9),J764)","v":95420.272152886857},{"$f":"K764/Dźwignie!$D$5","v":9.5420272152886856},{"$f":"I764/Dźwignie!$D$2","v":0.68901402563510405},{"$f":"K764/Dźwignie!$D$3","v":0.95420272152886854},1.3628373163660357,1.1697752441330664,1.5942133544657324,null,{"$f":"C764*Dźwignie!$G$8","v":187802.80512702075},375605.61025404156,{"$f":"Dźwignie!$G$9","v":150000},225605.61025404156,{"$f":"V764-Dźwignie!$D$6","v":205605.61025404156},{"$f":"IF(W764>0,W764*(1-Dźwignie!$D$9),W764)","v":166540.54430577368},{"$f":"X764/Dźwignie!$D$5","v":16.654054430577368},{"$f":"V764/Dźwignie!$D$2","v":1.1280280512702079},{"$f":"X764/Dźwignie!$D$3","v":1.6654054430577367},1.6648770827600146,1.0972736102642746,1.8268256872463347]
[753,0.77148240804672241,{"$f":"NORMINV(B765,Dźwignie!$L$8,Dźwignie!$L$9)","v":387186.88442316017},{"$f":"Dźwignie!$L$7*C765","v":580780.32663474022},null,{"$f":"C765*Dźwignie!$G$5","v":387186.88442316017},193593.44221158006,{"$f":"Dźwignie!$G$6","v":50000},143593.44221158006,{"$f":"I765-Dźwignie!$D$6","v":123593.44221158006},{"$f":"IF(J765>0,J765*(1-Dźwignie!$D$9),J765)","v":100110.68819137986},{"$f":"K765/Dźwignie!$D$5","v":10.011068819137986},{"$f":"I765/Dźwignie!$D$2","v":0.71796721105790029},{"$f":"K765/Dźwignie!$D$3","v":1.0011068819137985},1.3482053165514809,1.1618208833908996,1.5663730918681491,null,{"$f":"C765*Dźwignie!$G$8","v":193593.44221158008},387186.88442316011,{"$f":"Dźwignie!$G$9","v":150000},237186.88442316011,{"$f":"V765-Dźwignie!$D$6","v":217186.88442316011},{"$f":"IF(W765>0,W765*(1-Dźwignie!$D$9),W765)","v":175921.37638275971},{"$f":"X765/Dźwignie!$D$5","v":17.592137638275972},{"$f":"V765/Dźwignie!$D$2","v":1.1859344221158006},{"$f":"X765/Dźwignie!$D$3","v":1.7592137638275971},1.6324127085053666,1.0920865919372582,1.7827360314666947]
[754,0.80217206478118896,{"$f":"NORMINV(B766,Dźwignie!$L$8,Dźwignie!$L$9)","v":392470.25912074023},{"$f":"Dźwignie!$L$7*C766","v":588705.38868111034},null,{"$f":"C766*Dźwignie!$G$5","v":392470.25912074023},196235.12956037011,{"$f":"Dźwignie!$G$6","v":50000},146235.12956037011,{"$f":"I766-Dźwignie!$D$6","v":126235.12956037011},{"$f":"IF(J766>0,J766*(1-Dźwignie!$D$9),J766)","v":102250.45494389979},{"$f":"K766/Dźwignie!$D$5","v":10.225045494389979},{"$f":"I766/Dźwignie!$D$2","v":0.73117564780185063},{"$f":"K766/Dźwignie!$D$3","v":1.0225045494389979},1.3419151071997275,1.1584345028967178,1.554520760138512,null,{"$f":"C766*Dźwignie!$G$8","v":196235.12956037011},392470.25912074023,{"$f":"Dźwignie!$G$9","v":150000},242470.25912074023,{"$f":"V766-Dźwignie!$D$6","v":222470.25912074023},{"$f":"IF(W766>0,W766*(1-Dźwignie!$D$9),W766)","v":180200.90988779959},{"$f":"X766/Dźwignie!$D$5","v":18.020090988779959},{"$f":"V766/Dźwignie!$D$2","v":1.2123512956037013},{"$f":"X766/Dźwignie!$D$3","v":1.8020090988779958},1.6186325718623749,1.0898996570554875,1.7641470849716441]
[755,0.12361627817153931,{"$f":"NORMINV(B767,Dźwignie!$L$8,Dźwignie!$L$9)","v":292145.12847278721},{"$f":"Dźwignie!$L$7*C767","v":438217.69270918082},null,{"$f":"C767*Dźwignie!$G$5","v":292145.12847278721},146072.56423639361,{"$f":"Dźwignie!$G$6","v":50000},96072.564236393606,{"$f":"I767-Dźwignie!$D$6","v":76072.564236393606},{"$f":"IF(J767>0,J767*(1-Dźwignie!$D$9),J767)","v":61618.777031478821},{"$f":"K767/Dźwignie!$D$5","v":6.1618777031478817},{"$f":"I767/Dźwignie!$D$2","v":0.48036282118196805},{"$f":"K767/Dźwignie!$D$3","v":0.61618777031478822},1.5204399445087291,1.262906873203991,1.9201740562139686,null,{"$f":"C767*Dźwignie!$G$8","v":146072.56423639361},292145.12847278721,{"$f":"Dźwignie!$G$9","v":150000},142145.12847278721,{"$f":"V767-Dźwignie!$D$6","v":122145.12847278721},{"$f":"IF(W767>0,W767*(1-Dźwignie!$D$9),W767)","v":98937.554062957643},{"$f":"X767/Dźwignie!$D$5","v":9.8937554062957638},{"$f":"V767/Dźwignie!$D$2","v":0.71072564236393609},{"$f":"X767/Dźwignie!$D$3","v":0.98937554062957644},2.0552595197007864,1.1637396452078383,2.3917869842666253]
[756,0.35624408721923828,{"$f":"NORMINV(B768,Dźwignie!$L$8,Dźwignie!$L$9)","v":331574.17702315073},{"$f":"Dźwignie!$L$7*C768","v":497361.26553472609},null,{"$f":"C768*Dźwignie!$G$5","v":331574.17702315073},165787.08851157536,{"$f":"Dźwignie!$G$6","v":50000},115787.08851157536,{"$f":"I768-Dźwignie!$D$6","v":95787.088511575363},{"$f":"IF(J768>0,J768*(1-Dźwignie!$D$9),J768)","v":77587.54169437605},{"$f":"K768/Dźwignie!$D$5","v":7.758754169437605},{"$f":"I768/Dźwignie!$D$2","v":0.57893544255787677},{"$f":"K768/Dźwignie!$D$3","v":0.7758754169437605},1.4318270771183736,1.2087964078538946,1.7307874274886315,null,{"$f":"C768*Dźwignie!$G$8","v":165787.08851157536},331574.17702315073,{"$f":"Dźwignie!$G$9","v":150000},181574.17702315073,{"$f":"V768-Dźwignie!$D$6","v":161574.17702315073},{"$f":"IF(W768>0,W768*(1-Dźwignie!$D$9),W768)","v":130875.0833887521},{"$f":"X768/Dźwignie!$D$5","v":13.08750833887521},{"$f":"V768/Dźwignie!$D$2","v":0.90787088511575365},{"$f":"X768/Dźwignie!$D$3","v":1.3087508338875209},1.8261086596078857,1.123782156087568,2.0521483267443288]
[757,0.75497931241989136,{"$f":"NORMINV(B769,Dźwignie!$L$8,Dźwignie!$L$9)","v":384512.15089183918},{"$f":"Dźwignie!$L$7*C769","v":576768.22633775882},null,{"$f":"C769*Dźwignie!$G$5","v":384512.15089183918},192256.07544591965,{"$f":"Dźwignie!$G$6","v":50000},142256.07544591965,{"$f":"I769-Dźwignie!$D$6","v":122256.07544591965},{"$f":"IF(J769>0,J769*(1-Dźwignie!$D$9),J769)","v":99027.421111194926},{"$f":"K769/Dźwignie!$D$5","v":9.9027421111194922},{"$f":"I769/Dźwignie!$D$2","v":0.71128037722959825},{"$f":"K769/Dźwignie!$D$3","v":0.99027421111194924},1.3514788373239504,1.163591052036077,1.5725686821262697,null,{"$f":"C769*Dźwignie!$G$8","v":192256.07544591959},384512.15089183924,{"$f":"Dźwignie!$G$9","v":150000},234512.15089183924,{"$f":"V769-Dźwignie!$D$6","v":214512.15089183924},{"$f":"IF(W769>0,W769*(1-Dźwignie!$D$9),W769)","v":173754.84222238979},{"$f":"X769/Dźwignie!$D$5","v":17.375484222238981},{"$f":"V769/Dźwignie!$D$2","v":1.1725607544591963},{"$f":"X769/Dźwignie!$D$3","v":1.7375484222238979},1.639625705659842,1.0932348117197537,1.7924958996179057]
[758,0.20641767978668213,{"$f":"NORMINV(B770,Dźwignie!$L$8,Dźwignie!$L$9)","v":309054.28929256799},{"$f":"Dźwignie!$L$7*C770","v":463581.43393885199},null,{"$f":"C770*Dźwignie!$G$5","v":309054.28929256799},154527.144646284,{"$f":"Dźwignie!$G$6","v":50000},104527.144646284,{"$f":"I770-Dźwignie!$D$6","v":84527.144646283996},{"$f":"IF(J770>0,J770*(1-Dźwignie!$D$9),J770)","v":68466.987163490048},{"$f":"K770/Dźwignie!$D$5","v":6.846698716349005},{"$f":"I770/Dźwignie!$D$2","v":0.52263572323141994},{"$f":"K770/Dźwignie!$D$3","v":0.68466987163490045},1.4783446459692184,1.2366103821877916,1.8281363376572708,null,{"$f":"C770*Dźwignie!$G$8","v":154527.144646284},309054.28929256799,{"$f":"Dźwignie!$G$9","v":150000},159054.28929256799,{"$f":"V770-Dźwignie!$D$6","v":139054.28929256799},{"$f":"IF(W770>0,W770*(1-Dźwignie!$D$9),W770)","v":112633.97432698008},{"$f":"X770/Dźwignie!$D$5","v":11.263397432698008},{"$f":"V770/Dźwignie!$D$2","v":0.79527144646283998},{"$f":"X770/Dźwignie!$D$3","v":1.1263397432698008},1.9430742211804592,1.1438287168396533,2.2225440931370533]
[759,9.6670448780059814E-2,{"$f":"NORMINV(B771,Dźwignie!$L$8,Dźwignie!$L$9)","v":284962.04088636773},{"$f":"Dźwignie!$L$7*C771","v":427443.06132955162},null,{"$f":"C771*Dźwignie!$G$5","v":284962.04088636773},142481.02044318389,{"$f":"Dźwignie!$G$6","v":50000},92481.020443183894,{"$f":"I771-Dźwignie!$D$6","v":72481.020443183894},{"$f":"IF(J771>0,J771*(1-Dźwignie!$D$9),J771)","v":58709.626558978955},{"$f":"K771/Dźwignie!$D$5","v":5.8709626558978956},{"$f":"I771/Dźwignie!$D$2","v":0.46240510221591946},{"$f":"K771/Dźwignie!$D$3","v":0.58709626558978956},1.5406514737877239,1.2759343049768113,1.9657700674188394,null,{"$f":"C771*Dźwignie!$G$8","v":142481.02044318386},284962.04088636779,{"$f":"Dźwignie!$G$9","v":150000},134962.04088636779,{"$f":"V771-Dźwignie!$D$6","v":114962.04088636779},{"$f":"IF(W771>0,W771*(1-Dźwignie!$D$9),W771)","v":93119.253117957909},{"$f":"X771/Dźwignie!$D$5","v":9.3119253117957914},{"$f":"V771/Dźwignie!$D$2","v":0.67481020443183892},{"$f":"X771/Dźwignie!$D$3","v":0.93119253117957912},2.1114236196701675,1.1739704675195237,2.4787489739159514]
[760,0.12970852851867676,{"$f":"NORMINV(B772,Dźwignie!$L$8,Dźwignie!$L$9)","v":293611.49891819898},{"$f":"Dźwignie!$L$7*C772","v":440417.24837729847},null,{"$f":"C772*Dźwignie!$G$5","v":293611.49891819898},146805.74945909949,{"$f":"Dźwignie!$G$6","v":50000},96805.74945909949,{"$f":"I772-Dźwignie!$D$6","v":76805.74945909949},{"$f":"IF(J772>0,J772*(1-Dźwignie!$D$9),J772)","v":62212.657061870588},{"$f":"K772/Dźwignie!$D$5","v":6.2212657061870589},{"$f":"I772/Dźwignie!$D$2","v":0.48402874729549744},{"$f":"K772/Dźwignie!$D$3","v":0.62212657061870591},1.5164982480831373,1.260397172618573,1.9113901041650054,null,{"$f":"C772*Dźwignie!$G$8","v":146805.74945909949},293611.49891819898,{"$f":"Dźwignie!$G$9","v":150000},143611.49891819898,{"$f":"V772-Dźwignie!$D$6","v":123611.49891819898},{"$f":"IF(W772>0,W772*(1-Dźwignie!$D$9),W772)","v":100125.31412374118},{"$f":"X772/Dźwignie!$D$5","v":10.012531412374118},{"$f":"V772/Dźwignie!$D$2","v":0.71805749459099488},{"$f":"X772/Dźwignie!$D$3","v":1.0012531412374117},2.0444846069425116,1.1617972451999403,2.3752765841994927]
[761,0.60670512914657593,{"$f":"NORMINV(B773,Dźwignie!$L$8,Dźwignie!$L$9)","v":363537.08243155648},{"$f":"Dźwignie!$L$7*C773","v":545305.62364733475},null,{"$f":"C773*Dźwignie!$G$5","v":363537.08243155648},181768.54121577827,{"$f":"Dźwignie!$G$6","v":50000},131768.54121577827,{"$f":"I773-Dźwignie!$D$6","v":111768.54121577827},{"$f":"IF(J773>0,J773*(1-Dźwignie!$D$9),J773)","v":90532.5183847804},{"$f":"K773/Dźwignie!$D$5","v":9.0532518384780403},{"$f":"I773/Dźwignie!$D$2","v":0.65884270607889139},{"$f":"K773/Dźwignie!$D$3","v":0.90532518384780403},1.3794532408014006,1.178941227848616,1.6262942974701557,null,{"$f":"C773*Dźwignie!$G$8","v":181768.54121577824},363537.08243155654,{"$f":"Dźwignie!$G$9","v":150000},213537.08243155654,{"$f":"V773-Dźwignie!$D$6","v":193537.08243155654},{"$f":"IF(W773>0,W773*(1-Dźwignie!$D$9),W773)","v":156765.0367695608},{"$f":"X773/Dźwignie!$D$5","v":15.676503676956081},{"$f":"V773/Dźwignie!$D$2","v":1.0676854121577828},{"$f":"X773/Dźwignie!$D$3","v":1.5676503676956079},1.7024541044203805,1.1033393691210205,1.8783846375286746]
[762,0.38488280773162842,{"$f":"NORMINV(B774,Dźwignie!$L$8,Dźwignie!$L$9)","v":335365.9252369731},{"$f":"Dźwignie!$L$7*C774","v":503048.88785545964},null,{"$f":"C774*Dźwignie!$G$5","v":335365.9252369731},167682.96261848655,{"$f":"Dźwignie!$G$6","v":50000},117682.96261848655,{"$f":"I774-Dźwignie!$D$6","v":97682.962618486548},{"$f":"IF(J774>0,J774*(1-Dźwignie!$D$9),J774)","v":79123.199720974109},{"$f":"K774/Dźwignie!$D$5","v":7.9123199720974107},{"$f":"I774/Dźwignie!$D$2","v":0.58841481309243271},{"$f":"K774/Dźwignie!$D$3","v":0.79123199720974113},1.4248703371115303,1.2047439948981953,1.7166039821436834,null,{"$f":"C774*Dźwignie!$G$8","v":167682.96261848655},335365.9252369731,{"$f":"Dźwignie!$G$9","v":150000},185365.9252369731,{"$f":"V774-Dźwignie!$D$6","v":165365.9252369731},{"$f":"IF(W774>0,W774*(1-Dźwignie!$D$9),W774)","v":133946.39944194822},{"$f":"X774/Dźwignie!$D$5","v":13.394639944194822},{"$f":"V774/Dźwignie!$D$2","v":0.92682962618486553},{"$f":"X774/Dźwignie!$D$3","v":1.3394639944194822},1.8092102138418318,1.1209439004519193,2.028023153841314]
[763,0.61034733057022095,{"$f":"NORMINV(B775,Dźwignie!$L$8,Dźwignie!$L$9)","v":364011.22058233398},{"$f":"Dźwignie!$L$7*C775","v":546016.83087350102},null,{"$f":"C775*Dźwignie!$G$5","v":364011.22058233398},182005.61029116705,{"$f":"Dźwignie!$G$6","v":50000},132005.61029116705,{"$f":"I775-Dźwignie!$D$6","v":112005.61029116705},{"$f":"IF(J775>0,J775*(1-Dźwignie!$D$9),J775)","v":90724.544335845319},{"$f":"K775/Dźwignie!$D$5","v":9.0724544335845323},{"$f":"I775/Dźwignie!$D$2","v":0.66002805145583521},{"$f":"K775/Dźwignie!$D$3","v":0.90724544335845314},1.3787717801517234,1.1785624840399378,1.6249686941397821,null,{"$f":"C775*Dźwignie!$G$8","v":182005.61029116699},364011.22058233403,{"$f":"Dźwignie!$G$9","v":150000},214011.22058233403,{"$f":"V775-Dźwignie!$D$6","v":194011.22058233403},{"$f":"IF(W775>0,W775*(1-Dźwignie!$D$9),W775)","v":157149.08867169058},{"$f":"X775/Dźwignie!$D$5","v":15.714908867169058},{"$f":"V775/Dźwignie!$D$2","v":1.0700561029116702},{"$f":"X775/Dźwignie!$D$3","v":1.5714908867169057},1.7008978295242807,1.103086821164101,1.8762379798948576]
[764,0.69146108627319336,{"$f":"NORMINV(B776,Dźwignie!$L$8,Dźwignie!$L$9)","v":374999.80472381506},{"$f":"Dźwignie!$L$7*C776","v":562499.70708572259},null,{"$f":"C776*Dźwignie!$G$5","v":374999.80472381506},187499.90236190753,{"$f":"Dźwignie!$G$6","v":50000},137499.90236190753,{"$f":"I776-Dźwignie!$D$6","v":117499.90236190753},{"$f":"IF(J776>0,J776*(1-Dźwignie!$D$9),J776)","v":95174.920913145106},{"$f":"K776/Dźwignie!$D$5","v":9.5174920913145105},{"$f":"I776/Dźwignie!$D$2","v":0.68749951180953761},{"$f":"K776/Dźwignie!$D$3","v":0.95174920913145111},1.3636366218529898,1.1702129073979881,1.5957451758929582,null,{"$f":"C776*Dźwignie!$G$8","v":187499.90236190753},374999.80472381506,{"$f":"Dźwignie!$G$9","v":150000},224999.80472381506,{"$f":"V776-Dźwignie!$D$6","v":204999.80472381506},{"$f":"IF(W776>0,W776*(1-Dźwignie!$D$9),W776)","v":166049.84182629021},{"$f":"X776/Dźwignie!$D$5","v":16.604984182629021},{"$f":"V776/Dźwignie!$D$2","v":1.1249990236190752},{"$f":"X776/Dźwignie!$D$3","v":1.6604984182629021},1.6666672452632723,1.0975610685431867,1.8292690826170865]
[765,0.86309784650802612,{"$f":"NORMINV(B777,Dźwignie!$L$8,Dźwignie!$L$9)","v":404717.1803313563},{"$f":"Dźwignie!$L$7*C777","v":607075.77049703442},null,{"$f":"C777*Dźwignie!$G$5","v":404717.1803313563},202358.59016567812,{"$f":"Dźwignie!$G$6","v":50000},152358.59016567812,{"$f":"I777-Dźwignie!$D$6","v":132358.59016567812},{"$f":"IF(J777>0,J777*(1-Dźwignie!$D$9),J777)","v":107210.45803419928},{"$f":"K777/Dźwignie!$D$5","v":10.721045803419928},{"$f":"I777/Dźwignie!$D$2","v":0.7617929508283906},{"$f":"K777/Dźwignie!$D$3","v":1.0721045803419929},1.3281731600799724,1.1511046617749952,1.5288663162124831,null,{"$f":"C777*Dźwignie!$G$8","v":202358.59016567815},404717.18033135624,{"$f":"Dźwignie!$G$9","v":150000},254717.18033135624,{"$f":"V777-Dźwignie!$D$6","v":234717.18033135624},{"$f":"IF(W777>0,W777*(1-Dźwignie!$D$9),W777)","v":190120.91606839857},{"$f":"X777/Dźwignie!$D$5","v":19.012091606839856},{"$f":"V777/Dźwignie!$D$2","v":1.2735859016567812},{"$f":"X777/Dźwignie!$D$3","v":1.9012091606839856},1.588888428353628,1.0852089309004371,1.7242759126537164]
[766,4.0753483772277832E-2,{"$f":"NORMINV(B778,Dźwignie!$L$8,Dźwignie!$L$9)","v":262899.57803397771},{"$f":"Dźwignie!$L$7*C778","v":394349.3670509666},null,{"$f":"C778*Dźwignie!$G$5","v":262899.57803397771},131449.78901698889,{"$f":"Dźwignie!$G$6","v":50000},81449.789016988885,{"$f":"I778-Dźwignie!$D$6","v":61449.789016988885},{"$f":"IF(J778>0,J778*(1-Dźwignie!$D$9),J778)","v":49774.329103761003},{"$f":"K778/Dźwignie!$D$5","v":4.9774329103761001},{"$f":"I778/Dźwignie!$D$2","v":0.40724894508494441},{"$f":"K778/Dźwignie!$D$3","v":0.49774329103761006},1.6138751321942768,1.3254689775170854,2.139141421309799,null,{"$f":"C778*Dźwignie!$G$8","v":131449.78901698886},262899.57803397777,{"$f":"Dźwignie!$G$9","v":150000},112899.57803397777,{"$f":"V778-Dźwignie!$D$6","v":92899.57803397777},{"$f":"IF(W778>0,W778*(1-Dźwignie!$D$9),W778)","v":75248.658207521992},{"$f":"X778/Dźwignie!$D$5","v":7.5248658207521988},{"$f":"V778/Dźwignie!$D$2","v":0.56449789016988883},{"$f":"X778/Dźwignie!$D$3","v":0.7524865820752199},2.3286143545625713,1.2152862308231911,2.829932961997125]
[767,0.61758881807327271,{"$f":"NORMINV(B779,Dźwignie!$L$8,Dźwignie!$L$9)","v":364957.71191214572},{"$f":"Dźwignie!$L$7*C779","v":547436.56786821852},null,{"$f":"C779*Dźwignie!$G$5","v":364957.71191214572},182478.8559560728,{"$f":"Dźwignie!$G$6","v":50000},132478.8559560728,{"$f":"I779-Dźwignie!$D$6","v":112478.8559560728},{"$f":"IF(J779>0,J779*(1-Dźwignie!$D$9),J779)","v":91107.873324418979},{"$f":"K779/Dźwignie!$D$5","v":9.1107873324418982},{"$f":"I779/Dźwignie!$D$2","v":0.66239427978036403},{"$f":"K779/Dźwignie!$D$3","v":0.91107873324418975},1.3774187181732529,1.1778111968689542,1.6223391890413397,null,{"$f":"C779*Dźwignie!$G$8","v":182478.85595607286},364957.71191214566,{"$f":"Dźwignie!$G$9","v":150000},214957.71191214566,{"$f":"V779-Dźwignie!$D$6","v":194957.71191214566},{"$f":"IF(W779>0,W779*(1-Dźwignie!$D$9),W779)","v":157915.74664883799},{"$f":"X779/Dźwignie!$D$5","v":15.791574664883798},{"$f":"V779/Dźwignie!$D$2","v":1.0747885595607283},{"$f":"X779/Dźwignie!$D$3","v":1.5791574664883798},1.6978116703312593,1.1025863496439303,1.8719839719734073]
[768,0.99517607688903809,{"$f":"NORMINV(B780,Dźwignie!$L$8,Dźwignie!$L$9)","v":479410.086261797},{"$f":"Dźwignie!$L$7*C780","v":719115.1293926955},null,{"$f":"C780*Dźwignie!$G$5","v":479410.086261797},239705.0431308985,{"$f":"Dźwignie!$G$6","v":50000},189705.0431308985,{"$f":"I780-Dźwignie!$D$6","v":169705.0431308985},{"$f":"IF(J780>0,J780*(1-Dźwignie!$D$9),J780)","v":137461.08493602779},{"$f":"K780/Dźwignie!$D$5","v":13.74610849360278},{"$f":"I780/Dźwignie!$D$2","v":0.94852521565449255},{"$f":"K780/Dźwignie!$D$3","v":1.374610849360278},1.2635670574424289,1.1178515360004559,1.4124803760015956,null,{"$f":"C780*Dźwignie!$G$8","v":239705.0431308985},479410.086261797,{"$f":"Dźwignie!$G$9","v":150000},329410.086261797,{"$f":"V780-Dźwignie!$D$6","v":309410.086261797},{"$f":"IF(W780>0,W780*(1-Dźwignie!$D$9),W780)","v":250622.16987205559},{"$f":"X780/Dźwignie!$D$5","v":25.062216987205559},{"$f":"V780/Dźwignie!$D$2","v":1.6470504313089851},{"$f":"X780/Dźwignie!$D$3","v":2.5062216987205557},1.4553594630395994,1.0646391339132935,1.5494326382629948]
[769,0.22563451528549194,{"$f":"NORMINV(B781,Dźwignie!$L$8,Dźwignie!$L$9)","v":312334.9477145889},{"$f":"Dźwignie!$L$7*C781","v":468502.42157188337},null,{"$f":"C781*Dźwignie!$G$5","v":312334.9477145889},{"$f":"$D781-F781","v":156167.47385729448},{"$f":"Dźwignie!$G$6","v":50000},{"$f":"G781-H781","v":106167.47385729448},{"$f":"I781-Dźwignie!$D$6","v":86167.473857294477},{"$f":"IF(J781>0,J781*(1-Dźwignie!$D$9),J781)","v":69795.653824408524},{"$f":"K781/Dźwignie!$D$5","v":6.9795653824408523},{"$f":"I781/Dźwignie!$D$2","v":0.5308373692864724},{"$f":"K781/Dźwignie!$D$3","v":0.69795653824408521},{"$f":"IF(I781<>0,G781/I781,\"N   \")","v":1.4709540331270172},{"$f":"IF(J781<>0,I781/J781,\"N   \")","v":1.2321061428947404},{"$f":"IF(ISTEXT(O781),O781,IF(ISTEXT(P781),P781,O781*P781))","v":1.8123715001315914},null,{"$f":"C781*Dźwignie!$G$8","v":156167.47385729445},{"$f":"$D781-S781","v":312334.94771458895},{"$f":"Dźwignie!$G$9","v":150000},{"$f":"T781-U781","v":162334.94771458895},{"$f":"V781-Dźwignie!$D$6","v":142334.94771458895},{"$f":"IF(W781>0,W781*(1-Dźwignie!$D$9),W781)","v":115291.30764881706},{"$f":"X781/Dźwignie!$D$5","v":11.529130764881707},{"$f":"V781/Dźwignie!$D$2","v":0.81167473857294481},{"$f":"X781/Dźwignie!$D$3","v":1.1529130764881705},{"$f":"IF(V781<>0,T781/V781,\"N   \")","v":1.9240154514585746},{"$f":"IF(W781<>0,V781/W781,\"N   \")","v":1.1405136287407371},{"$f":"IF(ISTEXT(AB781),AB781,IF(ISTEXT(AC781),AC781,AB781*AC781))","v":2.1943658442962666}]
[770,0.38209855556488037,{"$f":"NORMINV(B782,Dźwignie!$L$8,Dźwignie!$L$9)","v":335001.30807989591},{"$f":"Dźwignie!$L$7*C782","v":502501.96211984387},null,{"$f":"C782*Dźwignie!$G$5","v":335001.30807989591},167500.65403994796,{"$f":"Dźwignie!$G$6","v":50000},117500.65403994796,{"$f":"I782-Dźwignie!$D$6","v":97500.654039947956},{"$f":"IF(J782>0,J782*(1-Dźwignie!$D$9),J782)","v":78975.529772357855},{"$f":"K782/Dźwignie!$D$5","v":7.8975529772357858},{"$f":"I782/Dźwignie!$D$2","v":0.5875032701997398},{"$f":"K782/Dźwignie!$D$3","v":0.78975529772357855},1.4255295462695974,1.2051268291165063,1.7179439019077718,null,{"$f":"C782*Dźwignie!$G$8","v":167500.65403994796},335001.30807989591,{"$f":"Dźwignie!$G$9","v":150000},185001.30807989591,{"$f":"V782-Dźwignie!$D$6","v":165001.30807989591},{"$f":"IF(W782>0,W782*(1-Dźwignie!$D$9),W782)","v":133651.05954471571},{"$f":"X782/Dźwignie!$D$5","v":13.365105954471572},{"$f":"V782/Dźwignie!$D$2","v":0.9250065403994796},{"$f":"X782/Dźwignie!$D$3","v":1.336510595447157},1.8108050778496116,1.1212111602795034,2.0302948623757797]
[771,0.55668836832046509,{"$f":"NORMINV(B783,Dźwignie!$L$8,Dźwignie!$L$9)","v":357128.91329685791},{"$f":"Dźwignie!$L$7*C783","v":535693.36994528689},null,{"$f":"C783*Dźwignie!$G$5","v":357128.91329685791},178564.45664842898,{"$f":"Dźwignie!$G$6","v":50000},128564.45664842898,{"$f":"I783-Dźwignie!$D$6","v":108564.45664842898},{"$f":"IF(J783>0,J783*(1-Dźwignie!$D$9),J783)","v":87937.209885227479},{"$f":"K783/Dźwignie!$D$5","v":8.7937209885227485},{"$f":"I783/Dźwignie!$D$2","v":0.64282228324214497},{"$f":"K783/Dźwignie!$D$3","v":0.87937209885227474},1.3889099779477112,1.1842223561691765,1.6447782465921175,null,{"$f":"C783*Dźwignie!$G$8","v":178564.45664842895},357128.91329685797,{"$f":"Dźwignie!$G$9","v":150000},207128.91329685797,{"$f":"V783-Dźwignie!$D$6","v":187128.91329685797},{"$f":"IF(W783>0,W783*(1-Dźwignie!$D$9),W783)","v":151574.41977045496},{"$f":"X783/Dźwignie!$D$5","v":15.157441977045496},{"$f":"V783/Dźwignie!$D$2","v":1.0356445664842899},{"$f":"X783/Dźwignie!$D$3","v":1.5157441977045496},1.7241866797467305,1.1068781924056406,1.908464635447944]
[772,0.53847312927246094,{"$f":"NORMINV(B784,Dźwignie!$L$8,Dźwignie!$L$9)","v":354829.3902472062},{"$f":"Dźwignie!$L$7*C784","v":532244.08537080931},null,{"$f":"C784*Dźwignie!$G$5","v":354829.3902472062},177414.6951236031,{"$f":"Dźwignie!$G$6","v":50000},127414.6951236031,{"$f":"I784-Dźwignie!$D$6","v":107414.6951236031},{"$f":"IF(J784>0,J784*(1-Dźwignie!$D$9),J784)","v":87005.903050118519},{"$f":"K784/Dźwignie!$D$5","v":8.7005903050118523},{"$f":"I784/Dźwignie!$D$2","v":0.63707347561801553},{"$f":"K784/Dźwignie!$D$3","v":0.87005903050118516},1.3924194140361577,1.1861942630567057,1.65167992069847,null,{"$f":"C784*Dźwignie!$G$8","v":177414.6951236031},354829.3902472062,{"$f":"Dźwignie!$G$9","v":150000},204829.3902472062,{"$f":"V784-Dźwignie!$D$6","v":184829.3902472062},{"$f":"IF(W784>0,W784*(1-Dźwignie!$D$9),W784)","v":149711.80610023704},{"$f":"X784/Dźwignie!$D$5","v":14.971180610023703},{"$f":"V784/Dźwignie!$D$2","v":1.0241469512360311},{"$f":"X784/Dźwignie!$D$3","v":1.4971180610023704},1.7323167823668604,1.1082078990427353,1.9197671418632496]
[773,0.76395624876022339,{"$f":"NORMINV(B785,Dźwignie!$L$8,Dźwignie!$L$9)","v":385954.33492193546},{"$f":"Dźwignie!$L$7*C785","v":578931.50238290313},null,{"$f":"C785*Dźwignie!$G$5","v":385954.33492193546},192977.16746096767,{"$f":"Dźwignie!$G$6","v":50000},142977.16746096767,{"$f":"I785-Dźwignie!$D$6","v":122977.16746096767},{"$f":"IF(J785>0,J785*(1-Dźwignie!$D$9),J785)","v":99611.505643383818},{"$f":"K785/Dźwignie!$D$5","v":9.9611505643383822},{"$f":"I785/Dźwignie!$D$2","v":0.71488583730483835},{"$f":"K785/Dźwignie!$D$3","v":0.99611505643383813},1.3497061865745092,1.1626318154249886,1.5692113539874601,null,{"$f":"C785*Dźwignie!$G$8","v":192977.16746096773},385954.3349219354,{"$f":"Dźwignie!$G$9","v":150000},235954.3349219354,{"$f":"V785-Dźwignie!$D$6","v":215954.3349219354},{"$f":"IF(W785>0,W785*(1-Dźwignie!$D$9),W785)","v":174923.01128676769},{"$f":"X785/Dźwignie!$D$5","v":17.492301128676768},{"$f":"V785/Dźwignie!$D$2","v":1.1797716746096769},{"$f":"X785/Dźwignie!$D$3","v":1.749230112867677},1.6357162289458549,1.0926121719539907,1.7872034616089216]
[774,0.51249468326568604,{"$f":"NORMINV(B786,Dźwignie!$L$8,Dźwignie!$L$9)","v":351566.23242009949},{"$f":"Dźwignie!$L$7*C786","v":527349.34863014927},null,{"$f":"C786*Dźwignie!$G$5","v":351566.23242009949},175783.11621004977,{"$f":"Dźwignie!$G$6","v":50000},125783.11621004977,{"$f":"I786-Dźwignie!$D$6","v":105783.11621004977},{"$f":"IF(J786>0,J786*(1-Dźwignie!$D$9),J786)","v":85684.324130140318},{"$f":"K786/Dźwignie!$D$5","v":8.5684324130140315},{"$f":"I786/Dźwignie!$D$2","v":0.62891558105024892},{"$f":"K786/Dźwignie!$D$3","v":0.85684324130140321},1.3975096301200169,1.1890660883943589,1.6617313093802559,null,{"$f":"C786*Dźwignie!$G$8","v":175783.11621004975},351566.23242009955,{"$f":"Dźwignie!$G$9","v":150000},201566.23242009955,{"$f":"V786-Dźwignie!$D$6","v":181566.23242009955},{"$f":"IF(W786>0,W786*(1-Dźwignie!$D$9),W786)","v":147068.64826028064},{"$f":"X786/Dźwignie!$D$5","v":14.706864826028063},{"$f":"V786/Dźwignie!$D$2","v":1.0078311621004978},{"$f":"X786/Dźwignie!$D$3","v":1.4706864826028063},1.7441722663515065,1.1101526409036506,1.9362974476810304]
[775,0.1794160008430481,{"$f":"NORMINV(B787,Dźwignie!$L$8,Dźwignie!$L$9)","v":304120.35168924165},{"$f":"Dźwignie!$L$7*C787","v":456180.52753386251},null,{"$f":"C787*Dźwignie!$G$5","v":304120.35168924165},152060.17584462086,{"$f":"Dźwignie!$G$6","v":50000},102060.17584462086,{"$f":"I787-Dźwignie!$D$6","v":82060.175844620855},{"$f":"IF(J787>0,J787*(1-Dźwignie!$D$9),J787)","v":66468.7424341429},{"$f":"K787/Dźwignie!$D$5","v":6.64687424341429},{"$f":"I787/Dźwignie!$D$2","v":0.5103008792231043},{"$f":"K787/Dźwignie!$D$3","v":0.66468742434142902},1.4899070532282968,1.2437235820438597,1.8530325371535088,null,{"$f":"C787*Dźwignie!$G$8","v":152060.17584462083},304120.35168924171,{"$f":"Dźwignie!$G$9","v":150000},154120.35168924171,{"$f":"V787-Dźwignie!$D$6","v":134120.35168924171},{"$f":"IF(W787>0,W787*(1-Dźwignie!$D$9),W787)","v":108637.4848682858},{"$f":"X787/Dźwignie!$D$5","v":10.86374848682858},{"$f":"V787/Dźwignie!$D$2","v":0.7706017584462086},{"$f":"X787/Dźwignie!$D$3","v":1.0863748486828579},1.9732653627890122,1.1491197998521523,2.2675182987432945]
[776,0.87854218482971191,{"$f":"NORMINV(B788,Dźwignie!$L$8,Dźwignie!$L$9)","v":408386.50760465121},{"$f":"Dźwignie!$L$7*C788","v":612579.76140697685},null,{"$f":"C788*Dźwignie!$G$5","v":408386.50760465121},204193.25380232563,{"$f":"Dźwignie!$G$6","v":50000},154193.25380232563,{"$f":"I788-Dźwignie!$D$6","v":134193.25380232563},{"$f":"IF(J788>0,J788*(1-Dźwignie!$D$9),J788)","v":108696.53557988377},{"$f":"K788/Dźwignie!$D$5","v":10.869653557988377},{"$f":"I788/Dźwignie!$D$2","v":0.77096626901162812},{"$f":"K788/Dźwignie!$D$3","v":1.0869653557988377},1.3242684019373476,1.1490387887118465,1.5216357604914625,null,{"$f":"C788*Dźwignie!$G$8","v":204193.25380232561},408386.50760465127,{"$f":"Dźwignie!$G$9","v":150000},258386.50760465127,{"$f":"V788-Dźwignie!$D$6","v":238386.50760465127},{"$f":"IF(W788>0,W788*(1-Dźwignie!$D$9),W788)","v":193093.07115976754},{"$f":"X788/Dźwignie!$D$5","v":19.309307115976754},{"$f":"V788/Dźwignie!$D$2","v":1.2919325380232562},{"$f":"X788/Dźwignie!$D$3","v":1.9309307115976755},1.5805256682733222,1.0838973656729294,1.7131276082199003]
[777,0.36899322271347046,{"$f":"NORMINV(B789,Dźwignie!$L$8,Dźwignie!$L$9)","v":333273.94989375025},{"$f":"Dźwignie!$L$7*C789","v":499910.92484062538},null,{"$f":"C789*Dźwignie!$G$5","v":333273.94989375025},166636.97494687513,{"$f":"Dźwignie!$G$6","v":50000},116636.97494687513,{"$f":"I789-Dźwignie!$D$6","v":96636.974946875125},{"$f":"IF(J789>0,J789*(1-Dźwignie!$D$9),J789)","v":78275.949706968851},{"$f":"K789/Dźwignie!$D$5","v":7.827594970696885},{"$f":"I789/Dźwignie!$D$2","v":0.58318487473437564},{"$f":"K789/Dźwignie!$D$3","v":0.7827594970696885},1.4286805279609969,1.2069601207094358,1.7243604224830253,null,{"$f":"C789*Dźwignie!$G$8","v":166636.97494687513},333273.94989375025,{"$f":"Dźwignie!$G$9","v":150000},183273.94989375025,{"$f":"V789-Dźwignie!$D$6","v":163273.94989375025},{"$f":"IF(W789>0,W789*(1-Dźwignie!$D$9),W789)","v":132251.8994139377},{"$f":"X789/Dźwignie!$D$5","v":13.22518994139377},{"$f":"V789/Dźwignie!$D$2","v":0.91636974946875127},{"$f":"X789/Dźwignie!$D$3","v":1.3225189941393771},1.8184469210543004,1.1224935148136914,2.0411948759163767]
[778,7.1651339530944824E-2,{"$f":"NORMINV(B790,Dźwignie!$L$8,Dźwignie!$L$9)","v":276819.89145419071},{"$f":"Dźwignie!$L$7*C790","v":415229.83718128607},null,{"$f":"C790*Dźwignie!$G$5","v":276819.89145419071},138409.94572709536,{"$f":"Dźwignie!$G$6","v":50000},88409.945727095357,{"$f":"I790-Dźwignie!$D$6","v":68409.945727095357},{"$f":"IF(J790>0,J790*(1-Dźwignie!$D$9),J790)","v":55412.056038947245},{"$f":"K790/Dźwignie!$D$5","v":5.5412056038947242},{"$f":"I790/Dźwignie!$D$2","v":0.44204972863547681},{"$f":"K790/Dźwignie!$D$3","v":0.55412056038947244},1.5655472310133576,1.2923551508107474,2.0232430278376157,null,{"$f":"C790*Dźwignie!$G$8","v":138409.94572709536},276819.89145419071,{"$f":"Dźwignie!$G$9","v":150000},126819.89145419071,{"$f":"V790-Dźwignie!$D$6","v":106819.89145419071},{"$f":"IF(W790>0,W790*(1-Dźwignie!$D$9),W790)","v":86524.11207789449},{"$f":"X790/Dźwignie!$D$5","v":8.6524112077894486},{"$f":"V790/Dźwignie!$D$2","v":0.63409945727095363},{"$f":"X790/Dźwignie!$D$3","v":0.86524112077894488},2.1827797538699385,1.1872310459010054,2.5914638901585461]
[779,0.62914329767227173,{"$f":"NORMINV(B791,Dźwignie!$L$8,Dźwignie!$L$9)","v":366479.26015533868},{"$f":"Dźwignie!$L$7*C791","v":549718.89023300796},null,{"$f":"C791*Dźwignie!$G$5","v":366479.26015533868},183239.63007766928,{"$f":"Dźwignie!$G$6","v":50000},133239.63007766928,{"$f":"I791-Dźwignie!$D$6","v":113239.63007766928},{"$f":"IF(J791>0,J791*(1-Dźwignie!$D$9),J791)","v":91724.100362912126},{"$f":"K791/Dźwignie!$D$5","v":9.1724100362912129},{"$f":"I791/Dźwignie!$D$2","v":0.6661981503883464},{"$f":"K791/Dźwignie!$D$3","v":0.91724100362912131},1.3752637257462628,1.1766166136915346,1.618158147920371,null,{"$f":"C791*Dźwignie!$G$8","v":183239.63007766934},366479.26015533862,{"$f":"Dźwignie!$G$9","v":150000},216479.26015533862,{"$f":"V791-Dźwignie!$D$6","v":196479.26015533862},{"$f":"IF(W791>0,W791*(1-Dźwignie!$D$9),W791)","v":159148.20072582428},{"$f":"X791/Dźwignie!$D$5","v":15.914820072582428},{"$f":"V791/Dźwignie!$D$2","v":1.082396300776693},{"$f":"X791/Dźwignie!$D$3","v":1.5914820072582427},1.6929070244067019,1.101791914241675,1.865231271054238]
[780,0.39776849746704102,{"$f":"NORMINV(B792,Dźwignie!$L$8,Dźwignie!$L$9)","v":337043.6332692242},{"$f":"Dźwignie!$L$7*C792","v":505565.4499038363},null,{"$f":"C792*Dźwignie!$G$5","v":337043.6332692242},168521.8166346121,{"$f":"Dźwignie!$G$6","v":50000},118521.8166346121,{"$f":"I792-Dźwignie!$D$6","v":98521.8166346121},{"$f":"IF(J792>0,J792*(1-Dźwignie!$D$9),J792)","v":79802.6714740358},{"$f":"K792/Dźwignie!$D$5","v":7.9802671474035805},{"$f":"I792/Dźwignie!$D$2","v":0.59260908317306049},{"$f":"K792/Dźwignie!$D$3","v":0.79802671474035802},1.4218632604505526,1.2030007229177879,1.7105025302122576,null,{"$f":"C792*Dźwignie!$G$8","v":168521.8166346121},337043.6332692242,{"$f":"Dźwignie!$G$9","v":150000},187043.6332692242,{"$f":"V792-Dźwignie!$D$6","v":167043.6332692242},{"$f":"IF(W792>0,W792*(1-Dźwignie!$D$9),W792)","v":135305.3429480716},{"$f":"X792/Dźwignie!$D$5","v":13.530534294807159},{"$f":"V792/Dźwignie!$D$2","v":0.93521816634612098},{"$f":"X792/Dźwignie!$D$3","v":1.3530534294807159},1.8019519155944492,1.1197291965492993,2.0176981706690436]
[781,0.45608967542648315,{"$f":"NORMINV(B793,Dźwignie!$L$8,Dźwignie!$L$9)","v":344485.49767519132},{"$f":"Dźwignie!$L$7*C793","v":516728.24651278695},null,{"$f":"C793*Dźwignie!$G$5","v":344485.49767519132},172242.74883759563,{"$f":"Dźwignie!$G$6","v":50000},122242.74883759563,{"$f":"I793-Dźwignie!$D$6","v":102242.74883759563},{"$f":"IF(J793>0,J793*(1-Dźwignie!$D$9),J793)","v":82816.626558452466},{"$f":"K793/Dźwignie!$D$5","v":8.2816626558452473},{"$f":"I793/Dźwignie!$D$2","v":0.61121374418797814},{"$f":"K793/Dźwignie!$D$3","v":0.82816626558452466},1.4090222158406058,1.195612894091574,1.6846451293205091,null,{"$f":"C793*Dźwignie!$G$8","v":172242.74883759566},344485.49767519126,{"$f":"Dźwignie!$G$9","v":150000},194485.49767519126,{"$f":"V793-Dźwignie!$D$6","v":174485.49767519126},{"$f":"IF(W793>0,W793*(1-Dźwignie!$D$9),W793)","v":141333.25311690493},{"$f":"X793/Dźwignie!$D$5","v":14.133325311690493},{"$f":"V793/Dźwignie!$D$2","v":0.97242748837595627},{"$f":"X793/Dźwignie!$D$3","v":1.4133325311690492},1.7712657333993811,1.1146227065657368,1.9742930058087629]
[782,0.12603580951690674,{"$f":"NORMINV(B794,Dźwignie!$L$8,Dźwignie!$L$9)","v":292733.39565446996},{"$f":"Dźwignie!$L$7*C794","v":439100.09348170494},null,{"$f":"C794*Dźwignie!$G$5","v":292733.39565446996},146366.69782723498,{"$f":"Dźwignie!$G$6","v":50000},96366.697827234981,{"$f":"I794-Dźwignie!$D$6","v":76366.697827234981},{"$f":"IF(J794>0,J794*(1-Dźwignie!$D$9),J794)","v":61857.025240060335},{"$f":"K794/Dźwignie!$D$5","v":6.1857025240060333},{"$f":"I794/Dźwignie!$D$2","v":0.48183348913617491},{"$f":"K794/Dźwignie!$D$3","v":0.61857025240060337},1.5188514406671834,1.261894262408022,1.9166299184280771,null,{"$f":"C794*Dźwignie!$G$8","v":146366.69782723498},292733.39565446996,{"$f":"Dźwignie!$G$9","v":150000},142733.39565446996,{"$f":"V794-Dźwignie!$D$6","v":122733.39565446996},{"$f":"IF(W794>0,W794*(1-Dźwignie!$D$9),W794)","v":99414.05048012067},{"$f":"X794/Dźwignie!$D$5","v":9.9414050480120668},{"$f":"V794/Dźwignie!$D$2","v":0.71366697827234982},{"$f":"X794/Dźwignie!$D$3","v":0.99414050480120675},2.0509103304956122,1.1629548330619466,2.3851160810265464]
[783,0.76896840333938599,{"$f":"NORMINV(B795,Dźwignie!$L$8,Dźwignie!$L$9)","v":386772.68782624783},{"$f":"Dźwignie!$L$7*C795","v":580159.03173937171},null,{"$f":"C795*Dźwignie!$G$5","v":386772.68782624783},193386.34391312388,{"$f":"Dźwignie!$G$6","v":50000},143386.34391312388,{"$f":"I795-Dźwignie!$D$6","v":123386.34391312388},{"$f":"IF(J795>0,J795*(1-Dźwignie!$D$9),J795)","v":99942.938569630351},{"$f":"K795/Dźwignie!$D$5","v":9.9942938569630346},{"$f":"I795/Dźwignie!$D$2","v":0.71693171956561941},{"$f":"K795/Dźwignie!$D$3","v":0.99942938569630346},1.3487082426084762,1.1620924922946252,1.5673237230311881,null,{"$f":"C795*Dźwignie!$G$8","v":193386.34391312391},386772.68782624777,{"$f":"Dźwignie!$G$9","v":150000},236772.68782624777,{"$f":"V795-Dźwignie!$D$6","v":216772.68782624777},{"$f":"IF(W795>0,W795*(1-Dźwignie!$D$9),W795)","v":175585.8771392607},{"$f":"X795/Dźwignie!$D$5","v":17.55858771392607},{"$f":"V795/Dźwignie!$D$2","v":1.1838634391312388},{"$f":"X795/Dźwignie!$D$3","v":1.755858771392607},1.6335190151242247,1.0922625456212032,1.7842316377802263]
[784,0.31935763359069824,{"$f":"NORMINV(B796,Dźwignie!$L$8,Dźwignie!$L$9)","v":326525.20866559271},{"$f":"Dźwignie!$L$7*C796","v":489787.81299838907},null,{"$f":"C796*Dźwignie!$G$5","v":326525.20866559271},163262.60433279636,{"$f":"Dźwignie!$G$6","v":50000},113262.60433279636,{"$f":"I796-Dźwignie!$D$6","v":93262.604332796356},{"$f":"IF(J796>0,J796*(1-Dźwignie!$D$9),J796)","v":75542.709509565058},{"$f":"K796/Dźwignie!$D$5","v":7.5542709509565062},{"$f":"I796/Dźwignie!$D$2","v":0.56631302166398179},{"$f":"K796/Dźwignie!$D$3","v":0.75542709509565054},1.4414519716771335,1.2144482254498534,1.7505687890744872,null,{"$f":"C796*Dźwignie!$G$8","v":163262.60433279636},326525.20866559271,{"$f":"Dźwignie!$G$9","v":150000},176525.20866559271,{"$f":"V796-Dźwignie!$D$6","v":156525.20866559271},{"$f":"IF(W796>0,W796*(1-Dźwignie!$D$9),W796)","v":126785.4190191301},{"$f":"X796/Dźwignie!$D$5","v":12.678541901913011},{"$f":"V796/Dźwignie!$D$2","v":0.88262604332796357},{"$f":"X796/Dźwignie!$D$3","v":1.267854190191301},1.8497369929988767,1.1277749454576922,2.0860870363903836]
[785,0.91812890768051147,{"$f":"NORMINV(B797,Dźwignie!$L$8,Dźwignie!$L$9)","v":419629.76837905345},{"$f":"Dźwignie!$L$7*C797","v":629444.65256858012},null,{"$f":"C797*Dźwignie!$G$5","v":419629.76837905345},209814.88418952667,{"$f":"Dźwignie!$G$6","v":50000},159814.88418952667,{"$f":"I797-Dźwignie!$D$6","v":139814.88418952667},{"$f":"IF(J797>0,J797*(1-Dźwignie!$D$9),J797)","v":113250.0561935166},{"$f":"K797/Dźwignie!$D$5","v":11.325005619351661},{"$f":"I797/Dźwignie!$D$2","v":0.79907442094763337},{"$f":"K797/Dźwignie!$D$3","v":1.132500561935166},1.3128619731107418,1.1430462866377582,1.5006620032321538,null,{"$f":"C797*Dźwignie!$G$8","v":209814.88418952673},419629.76837905339,{"$f":"Dźwignie!$G$9","v":150000},269629.76837905339,{"$f":"V797-Dźwignie!$D$6","v":249629.76837905339},{"$f":"IF(W797>0,W797*(1-Dźwignie!$D$9),W797)","v":202200.11238703327},{"$f":"X797/Dźwignie!$D$5","v":20.220011238703325},{"$f":"V797/Dźwignie!$D$2","v":1.348148841895267},{"$f":"X797/Dźwignie!$D$3","v":2.0220011238703326},1.556318395041328,1.080118649830379,1.6810085235582215]
[786,0.30949819087982178,{"$f":"NORMINV(B798,Dźwignie!$L$8,Dźwignie!$L$9)","v":325136.33813841769},{"$f":"Dźwignie!$L$7*C798","v":487704.50720762654},null,{"$f":"C798*Dźwignie!$G$5","v":325136.33813841769},162568.16906920885,{"$f":"Dźwignie!$G$6","v":50000},112568.16906920885,{"$f":"I798-Dźwignie!$D$6","v":92568.169069208845},{"$f":"IF(J798>0,J798*(1-Dźwignie!$D$9),J798)","v":74980.216946059169},{"$f":"K798/Dźwignie!$D$5","v":7.4980216946059173},{"$f":"I798/Dźwignie!$D$2","v":0.56284084534604417},{"$f":"K798/Dźwignie!$D$3","v":0.74980216946059164},1.4441752976301776,1.216056990227893,1.7561994657976254,null,{"$f":"C798*Dźwignie!$G$8","v":162568.16906920885},325136.33813841769,{"$f":"Dźwignie!$G$9","v":150000},175136.33813841769,{"$f":"V798-Dźwignie!$D$6","v":155136.33813841769},{"$f":"IF(W798>0,W798*(1-Dźwignie!$D$9),W798)","v":125660.43389211834},{"$f":"X798/Dźwignie!$D$5","v":12.566043389211833},{"$f":"V798/Dźwignie!$D$2","v":0.87568169069208845},{"$f":"X798/Dźwignie!$D$3","v":1.2566043389211834},1.8564755983504042,1.1289188609193248,2.0958103178142604]
[787,0.75984102487564087,{"$f":"NORMINV(B799,Dźwignie!$L$8,Dźwignie!$L$9)","v":385289.56363026559},{"$f":"Dźwignie!$L$7*C799","v":577934.34544539836},null,{"$f":"C799*Dźwignie!$G$5","v":385289.56363026559},192644.78181513277,{"$f":"Dźwignie!$G$6","v":50000},142644.78181513277,{"$f":"I799-Dźwignie!$D$6","v":122644.78181513277},{"$f":"IF(J799>0,J799*(1-Dźwignie!$D$9),J799)","v":99342.273270257545},{"$f":"K799/Dźwignie!$D$5","v":9.934227327025754},{"$f":"I799/Dźwignie!$D$2","v":0.7132239090756638},{"$f":"K799/Dźwignie!$D$3","v":0.99342273270257542},1.3505210591215306,1.1630725718942267,1.5707540016297936,null,{"$f":"C799*Dźwignie!$G$8","v":192644.7818151328},385289.56363026553,{"$f":"Dźwignie!$G$9","v":150000},235289.56363026553,{"$f":"V799-Dźwignie!$D$6","v":215289.56363026553},{"$f":"IF(W799>0,W799*(1-Dźwignie!$D$9),W799)","v":174384.54654051509},{"$f":"X799/Dźwignie!$D$5","v":17.438454654051508},{"$f":"V799/Dźwignie!$D$2","v":1.1764478181513276},{"$f":"X799/Dźwignie!$D$3","v":1.743845465405151},1.637512338778061,1.0928981398947311,1.7896341891052137]
[788,0.97296047210693359,{"$f":"NORMINV(B800,Dźwignie!$L$8,Dźwignie!$L$9)","v":446310.14022633916},{"$f":"Dźwignie!$L$7*C800","v":669465.21033950872},null,{"$f":"C800*Dźwignie!$G$5","v":446310.14022633916},223155.07011316955,{"$f":"Dźwignie!$G$6","v":50000},173155.07011316955,{"$f":"I800-Dźwignie!$D$6","v":153155.07011316955},{"$f":"IF(J800>0,J800*(1-Dźwignie!$D$9),J800)","v":124055.60679166735},{"$f":"K800/Dźwignie!$D$5","v":12.405560679166735},{"$f":"I800/Dźwignie!$D$2","v":0.86577535056584776},{"$f":"K800/Dźwignie!$D$3","v":1.2405560679166734},1.2887585097411316,1.1305866007910907,1.4570531027688178,null,{"$f":"C800*Dźwignie!$G$8","v":223155.07011316958},446310.14022633911,{"$f":"Dźwignie!$G$9","v":150000},296310.14022633911,{"$f":"V800-Dźwignie!$D$6","v":276310.14022633911},{"$f":"IF(W800>0,W800*(1-Dźwignie!$D$9),W800)","v":223811.2135833347},{"$f":"X800/Dźwignie!$D$5","v":22.38112135833347},{"$f":"V800/Dźwignie!$D$2","v":1.4815507011316955},{"$f":"X800/Dźwignie!$D$3","v":2.2381121358333469},1.5062263474527777,1.0723824322321904,1.6152506739736181]
[789,0.32865828275680542,{"$f":"NORMINV(B801,Dźwignie!$L$8,Dźwignie!$L$9)","v":327818.94621050521},{"$f":"Dźwignie!$L$7*C801","v":491728.41931575781},null,{"$f":"C801*Dźwignie!$G$5","v":327818.94621050521},163909.4731052526,{"$f":"Dźwignie!$G$6","v":50000},113909.4731052526,{"$f":"I801-Dźwignie!$D$6","v":93909.473105252604},{"$f":"IF(J801>0,J801*(1-Dźwignie!$D$9),J801)","v":76066.673215254617},{"$f":"K801/Dźwignie!$D$5","v":7.6066673215254621},{"$f":"I801/Dźwignie!$D$2","v":0.56954736552626306},{"$f":"K801/Dźwignie!$D$3","v":0.76066673215254621},1.4389450555512613,1.2129710596670502,1.7453987088346758,null,{"$f":"C801*Dźwignie!$G$8","v":163909.4731052526},327818.94621050521,{"$f":"Dźwignie!$G$9","v":150000},177818.94621050521,{"$f":"V801-Dźwignie!$D$6","v":157818.94621050521},{"$f":"IF(W801>0,W801*(1-Dźwignie!$D$9),W801)","v":127833.34643050922},{"$f":"X801/Dźwignie!$D$5","v":12.783334643050923},{"$f":"V801/Dźwignie!$D$2","v":0.88909473105252601},{"$f":"X801/Dźwignie!$D$3","v":1.2783334643050921},1.8435546559950218,1.12672749679448,2.0771837227530798]
[790,0.21389639377593994,{"$f":"NORMINV(B802,Dźwignie!$L$8,Dźwignie!$L$9)","v":310351.28424656525},{"$f":"Dźwignie!$L$7*C802","v":465526.92636984785},null,{"$f":"C802*Dźwignie!$G$5","v":310351.28424656525},155175.6421232826,{"$f":"Dźwignie!$G$6","v":50000},105175.6421232826,{"$f":"I802-Dźwignie!$D$6","v":85175.642123282596},{"$f":"IF(J802>0,J802*(1-Dźwignie!$D$9),J802)","v":68992.270119858906},{"$f":"K802/Dźwignie!$D$5","v":6.8992270119858903},{"$f":"I802/Dźwignie!$D$2","v":0.52587821061641293},{"$f":"K802/Dźwignie!$D$3","v":0.68992270119858901},1.4753952435240856,1.2348089136921581,1.8218311979225532,null,{"$f":"C802*Dźwignie!$G$8","v":155175.64212328263},310351.28424656519,{"$f":"Dźwignie!$G$9","v":150000},160351.28424656519,{"$f":"V802-Dźwignie!$D$6","v":140351.28424656519},{"$f":"IF(W802>0,W802*(1-Dźwignie!$D$9),W802)","v":113684.54023971781},{"$f":"X802/Dźwignie!$D$5","v":11.368454023971781},{"$f":"V802/Dźwignie!$D$2","v":0.80175642123282598},{"$f":"X802/Dźwignie!$D$3","v":1.1368454023971781},1.9354462030335318,1.1424995867146079,2.2112464870741673]
[791,0.88868743181228638,{"$f":"NORMINV(B803,Dźwignie!$L$8,Dźwignie!$L$9)","v":410978.86758722796},{"$f":"Dźwignie!$L$7*C803","v":616468.30138084199},null,{"$f":"C803*Dźwignie!$G$5","v":410978.86758722796},205489.43379361404,{"$f":"Dźwignie!$G$6","v":50000},155489.43379361404,{"$f":"I803-Dźwignie!$D$6","v":135489.43379361404},{"$f":"IF(J803>0,J803*(1-Dźwignie!$D$9),J803)","v":109746.44137282738},{"$f":"K803/Dźwignie!$D$5","v":10.974644137282738},{"$f":"I803/Dźwignie!$D$2","v":0.7774471689680702},{"$f":"K803/Dźwignie!$D$3","v":1.0974644137282739},1.3215652586809632,1.147612986784381,1.5166454537453331,null,{"$f":"C803*Dźwignie!$G$8","v":205489.43379361398},410978.86758722801,{"$f":"Dźwignie!$G$9","v":150000},260978.86758722801,{"$f":"V803-Dźwignie!$D$6","v":240978.86758722801},{"$f":"IF(W803>0,W803*(1-Dźwignie!$D$9),W803)","v":195192.8827456547},{"$f":"X803/Dźwignie!$D$5","v":19.519288274565469},{"$f":"V803/Dźwignie!$D$2","v":1.3048943379361402},{"$f":"X803/Dźwignie!$D$3","v":1.9519288274565469},1.5747591802614627,1.0829948293817113,1.7054560497445463]
[792,0.31029820442199707,{"$f":"NORMINV(B804,Dźwignie!$L$8,Dźwignie!$L$9)","v":325249.73709080205},{"$f":"Dźwignie!$L$7*C804","v":487874.60563620308},null,{"$f":"C804*Dźwignie!$G$5","v":325249.73709080205},162624.86854540103,{"$f":"Dźwignie!$G$6","v":50000},112624.86854540103,{"$f":"I804-Dźwignie!$D$6","v":92624.868545401026},{"$f":"IF(J804>0,J804*(1-Dźwignie!$D$9),J804)","v":75026.143521774837},{"$f":"K804/Dźwignie!$D$5","v":7.502614352177484},{"$f":"I804/Dźwignie!$D$2","v":0.56312434272700518},{"$f":"K804/Dźwignie!$D$3","v":0.75026143521774835},1.4439516835470856,1.2159247328939182,1.7557365651287136,null,{"$f":"C804*Dźwignie!$G$8","v":162624.86854540103},325249.73709080205,{"$f":"Dźwignie!$G$9","v":150000},175249.73709080205,{"$f":"V804-Dźwignie!$D$6","v":155249.73709080205},{"$f":"IF(W804>0,W804*(1-Dźwignie!$D$9),W804)","v":125752.28704354967},{"$f":"X804/Dźwignie!$D$5","v":12.575228704354968},{"$f":"V804/Dźwignie!$D$2","v":0.87624868545401025},{"$f":"X804/Dźwignie!$D$3","v":1.2575228704354968},1.8559213981718019,1.1288246948096436,2.0950099058819713]
[793,0.39501422643661499,{"$f":"NORMINV(B805,Dźwignie!$L$8,Dźwignie!$L$9)","v":336686.31671159208},{"$f":"Dźwignie!$L$7*C805","v":505029.47506738815},null,{"$f":"C805*Dźwignie!$G$5","v":336686.31671159208},168343.15835579607,{"$f":"Dźwignie!$G$6","v":50000},118343.15835579607,{"$f":"I805-Dźwignie!$D$6","v":98343.158355796069},{"$f":"IF(J805>0,J805*(1-Dźwignie!$D$9),J805)","v":79657.958268194823},{"$f":"K805/Dźwignie!$D$5","v":7.9657958268194822},{"$f":"I805/Dźwignie!$D$2","v":0.59171579177898037},{"$f":"K805/Dźwignie!$D$3","v":0.79657958268194828},1.4225001317750547,1.2033695107456477,1.711793287609767,null,{"$f":"C805*Dźwignie!$G$8","v":168343.15835579604},336686.31671159214,{"$f":"Dźwignie!$G$9","v":150000},186686.31671159214,{"$f":"V805-Dźwignie!$D$6","v":166686.31671159214},{"$f":"IF(W805>0,W805*(1-Dźwignie!$D$9),W805)","v":135015.91653638965},{"$f":"X805/Dźwignie!$D$5","v":13.501591653638965},{"$f":"V805/Dźwignie!$D$2","v":0.93343158355796074},{"$f":"X805/Dźwignie!$D$3","v":1.3501591653638965},1.8034868470394214,1.1199858536355138,2.0198797559018677]
[794,2.972114086151123E-2,{"$f":"NORMINV(B806,Dźwignie!$L$8,Dźwignie!$L$9)","v":255754.60810068849},{"$f":"Dźwignie!$L$7*C806","v":383631.91215103271},null,{"$f":"C806*Dźwignie!$G$5","v":255754.60810068849},127877.30405034422,{"$f":"Dźwignie!$G$6","v":50000},77877.304050344217,{"$f":"I806-Dźwignie!$D$6","v":57877.304050344217},{"$f":"IF(J806>0,J806*(1-Dźwignie!$D$9),J806)","v":46880.616280778821},{"$f":"K806/Dźwignie!$D$5","v":4.6880616280778824},{"$f":"I806/Dźwignie!$D$2","v":0.3893865202517211},{"$f":"K806/Dźwignie!$D$3","v":0.4688061628077882},1.6420355790395262,1.3455585972457031,2.209455090359961,null,{"$f":"C806*Dźwignie!$G$8","v":127877.30405034425},255754.60810068846,{"$f":"Dźwignie!$G$9","v":150000},105754.60810068846,{"$f":"V806-Dźwignie!$D$6","v":85754.608100688463},{"$f":"IF(W806>0,W806*(1-Dźwignie!$D$9),W806)","v":69461.232561557656},{"$f":"X806/Dźwignie!$D$5","v":6.946123256155766},{"$f":"V806/Dźwignie!$D$2","v":0.52877304050344232},{"$f":"X806/Dźwignie!$D$3","v":0.69461232561557651},2.4183779098985996,1.2332236184499505,2.9824007568245796]
[795,0.64653545618057251,{"$f":"NORMINV(B807,Dźwignie!$L$8,Dźwignie!$L$9)","v":368799.18004611827},{"$f":"Dźwignie!$L$7*C807","v":553198.77006917738},null,{"$f":"C807*Dźwignie!$G$5","v":368799.18004611827},184399.59002305911,{"$f":"Dźwignie!$G$6","v":50000},134399.59002305911,{"$f":"I807-Dźwignie!$D$6","v":114399.59002305911},{"$f":"IF(J807>0,J807*(1-Dźwignie!$D$9),J807)","v":92663.667918677878},{"$f":"K807/Dźwignie!$D$5","v":9.266366791867787},{"$f":"I807/Dźwignie!$D$2","v":0.67199795011529551},{"$f":"K807/Dźwignie!$D$3","v":0.92663667918677883},1.3720249443575046,1.1748258013509374,1.6118903047282807,null,{"$f":"C807*Dźwignie!$G$8","v":184399.59002305914},368799.18004611821,{"$f":"Dźwignie!$G$9","v":150000},218799.18004611821,{"$f":"V807-Dźwignie!$D$6","v":198799.18004611821},{"$f":"IF(W807>0,W807*(1-Dźwignie!$D$9),W807)","v":161027.33583735576},{"$f":"X807/Dźwignie!$D$5","v":16.102733583735574},{"$f":"V807/Dźwignie!$D$2","v":1.093995900230591},{"$f":"X807/Dźwignie!$D$3","v":1.6102733583735576},1.6855601559767417,1.1006040366733922,1.8551343117238346]
[796,0.67078733444213867,{"$f":"NORMINV(B808,Dźwignie!$L$8,Dźwignie!$L$9)","v":372104.41357793362},{"$f":"Dźwignie!$L$7*C808","v":558156.62036690046},null,{"$f":"C808*Dźwignie!$G$5","v":372104.41357793362},186052.20678896684,{"$f":"Dźwignie!$G$6","v":50000},136052.20678896684,{"$f":"I808-Dźwignie!$D$6","v":116052.20678896684},{"$f":"IF(J808>0,J808*(1-Dźwignie!$D$9),J808)","v":94002.287499063154},{"$f":"K808/Dźwignie!$D$5","v":9.4002287499063151},{"$f":"I808/Dźwignie!$D$2","v":0.68026103394483417},{"$f":"K808/Dźwignie!$D$3","v":0.94002287499063153},1.3675059830345564,1.1723362317131001,1.6031768109958504,null,{"$f":"C808*Dźwignie!$G$8","v":186052.20678896681},372104.41357793368,{"$f":"Dźwignie!$G$9","v":150000},222104.41357793368,{"$f":"V808-Dźwignie!$D$6","v":202104.41357793368},{"$f":"IF(W808>0,W808*(1-Dźwignie!$D$9),W808)","v":163704.57499812628},{"$f":"X808/Dźwignie!$D$5","v":16.370457499812627},{"$f":"V808/Dźwignie!$D$2","v":1.1105220678896683},{"$f":"X808/Dźwignie!$D$3","v":1.6370457499812627},1.6753580335645464,1.0989587493213639,1.8411493692315937]
[797,0.66144722700119019,{"$f":"NORMINV(B809,Dźwignie!$L$8,Dźwignie!$L$9)","v":370820.80522661656},{"$f":"Dźwignie!$L$7*C809","v":556231.20783992484},null,{"$f":"C809*Dźwignie!$G$5","v":370820.80522661656},185410.40261330828,{"$f":"Dźwignie!$G$6","v":50000},135410.40261330828,{"$f":"I809-Dźwignie!$D$6","v":115410.40261330828},{"$f":"IF(J809>0,J809*(1-Dźwignie!$D$9),J809)","v":93482.426116779709},{"$f":"K809/Dźwignie!$D$5","v":9.3482426116779713},{"$f":"I809/Dźwignie!$D$2","v":0.67705201306654139},{"$f":"K809/Dźwignie!$D$3","v":0.93482426116779704},1.3692478497592617,1.1732946038409691,1.6065311134433917,null,{"$f":"C809*Dźwignie!$G$8","v":185410.40261330828},370820.80522661656,{"$f":"Dźwignie!$G$9","v":150000},220820.80522661656,{"$f":"V809-Dźwignie!$D$6","v":200820.80522661656},{"$f":"IF(W809>0,W809*(1-Dźwignie!$D$9),W809)","v":162664.85223355942},{"$f":"X809/Dźwignie!$D$5","v":16.266485223355943},{"$f":"V809/Dźwignie!$D$2","v":1.1041040261330828},{"$f":"X809/Dźwignie!$D$3","v":1.6266485223355942},1.6792838195027096,1.099591274805571,1.8465258358473526]
[798,0.43672096729278564,{"$f":"NORMINV(B810,Dźwignie!$L$8,Dźwignie!$L$9)","v":342035.59745633451},{"$f":"Dźwignie!$L$7*C810","v":513053.39618450176},null,{"$f":"C810*Dźwignie!$G$5","v":342035.59745633451},171017.79872816725,{"$f":"Dźwignie!$G$6","v":50000},121017.79872816725,{"$f":"I810-Dźwignie!$D$6","v":101017.79872816725},{"$f":"IF(J810>0,J810*(1-Dźwignie!$D$9),J810)","v":81824.416969815487},{"$f":"K810/Dźwignie!$D$5","v":8.1824416969815488},{"$f":"I810/Dźwignie!$D$2","v":0.60508899364083624},{"$f":"K810/Dźwignie!$D$3","v":0.81824416969815483},1.4131623655815377,1.1979849120828576,1.6929471922900017,null,{"$f":"C810*Dźwignie!$G$8","v":171017.79872816725},342035.59745633451,{"$f":"Dźwignie!$G$9","v":150000},192035.59745633451,{"$f":"V810-Dźwignie!$D$6","v":172035.59745633451},{"$f":"IF(W810>0,W810*(1-Dźwignie!$D$9),W810)","v":139348.83393963097},{"$f":"X810/Dźwignie!$D$5","v":13.934883393963098},{"$f":"V810/Dźwignie!$D$2","v":0.96017798728167258},{"$f":"X810/Dźwignie!$D$3","v":1.3934883393963098},1.7811051804294116,1.1162550094033667,1.988167579928618]
[799,5.6639492511749268E-2,{"$f":"NORMINV(B811,Dźwignie!$L$8,Dźwignie!$L$9)","v":270818.72885414003},{"$f":"Dźwignie!$L$7*C811","v":406228.09328121005},null,{"$f":"C811*Dźwignie!$G$5","v":270818.72885414003},135409.36442707002,{"$f":"Dźwignie!$G$6","v":50000},85409.364427070017,{"$f":"I811-Dźwignie!$D$6","v":65409.364427070017},{"$f":"IF(J811>0,J811*(1-Dźwignie!$D$9),J811)","v":52981.58518592672},{"$f":"K811/Dźwignie!$D$5","v":5.2981585185926718},{"$f":"I811/Dźwignie!$D$2","v":0.42704682213535011},{"$f":"K811/Dźwignie!$D$3","v":0.52981585185926716},1.5854159006497979,1.3057666157618693,2.0701831551665424,null,{"$f":"C811*Dźwignie!$G$8","v":135409.36442707002},270818.72885414003,{"$f":"Dźwignie!$G$9","v":150000},120818.72885414003,{"$f":"V811-Dźwignie!$D$6","v":100818.72885414003},{"$f":"IF(W811>0,W811*(1-Dźwignie!$D$9),W811)","v":81663.170371853426},{"$f":"X811/Dźwignie!$D$5","v":8.1663170371853422},{"$f":"V811/Dźwignie!$D$2","v":0.60409364427070023},{"$f":"X811/Dźwignie!$D$3","v":0.81663170371853422},2.2415293673639742,1.1983758397602404,2.6861946379620432]
[800,0.7971646785736084,{"$f":"NORMINV(B812,Dźwignie!$L$8,Dźwignie!$L$9)","v":391576.82276003802},{"$f":"Dźwignie!$L$7*C812","v":587365.234140057},null,{"$f":"C812*Dźwignie!$G$5","v":391576.82276003802},195788.41138001898,{"$f":"Dźwignie!$G$6","v":50000},145788.41138001898,{"$f":"I812-Dźwignie!$D$6","v":125788.41138001898},{"$f":"IF(J812>0,J812*(1-Dźwignie!$D$9),J812)","v":101888.61321781538},{"$f":"K812/Dźwignie!$D$5","v":10.188861321781538},{"$f":"I812/Dźwignie!$D$2","v":0.72894205690009495},{"$f":"K812/Dźwignie!$D$3","v":1.0188861321781537},1.3429627878286405,1.1589971586458634,1.5564900552605219,null,{"$f":"C812*Dźwignie!$G$8","v":195788.41138001901},391576.82276003796,{"$f":"Dźwignie!$G$9","v":150000},241576.82276003796,{"$f":"V812-Dźwignie!$D$6","v":221576.82276003796},{"$f":"IF(W812>0,W812*(1-Dźwignie!$D$9),W812)","v":179477.22643563076},{"$f":"X812/Dźwignie!$D$5","v":17.947722643563075},{"$f":"V812/Dźwignie!$D$2","v":1.2078841138001899},{"$f":"X812/Dźwignie!$D$3","v":1.7947722643563075},1.6209204934738186,1.0902621481383885,1.7672282591763022]
[801,0.46224683523178101,{"$f":"NORMINV(B813,Dźwignie!$L$8,Dźwignie!$L$9)","v":345261.25792413758},{"$f":"Dźwignie!$L$7*C813","v":517891.88688620634},null,{"$f":"C813*Dźwignie!$G$5","v":345261.25792413758},172630.62896206876,{"$f":"Dźwignie!$G$6","v":50000},122630.62896206876,{"$f":"I813-Dźwignie!$D$6","v":102630.62896206876},{"$f":"IF(J813>0,J813*(1-Dźwignie!$D$9),J813)","v":83130.809459275697},{"$f":"K813/Dźwignie!$D$5","v":8.3130809459275703},{"$f":"I813/Dźwignie!$D$2","v":0.61315314481034378},{"$f":"K813/Dźwignie!$D$3","v":0.83130809459275701},1.4077284804228285,1.1948735986738599,1.6820575953585095,null,{"$f":"C813*Dźwignie!$G$8","v":172630.62896206879},345261.25792413752,{"$f":"Dźwignie!$G$9","v":150000},195261.25792413752,{"$f":"V813-Dźwignie!$D$6","v":175261.25792413752},{"$f":"IF(W813>0,W813*(1-Dźwignie!$D$9),W813)","v":141961.61891855139},{"$f":"X813/Dźwignie!$D$5","v":14.196161891855139},{"$f":"V813/Dźwignie!$D$2","v":0.97630628962068755},{"$f":"X813/Dźwignie!$D$3","v":1.4196161891855139},1.7682015449182329,1.1141153512013309,1.969980485211313]
[802,0.74452722072601318,{"$f":"NORMINV(B814,Dźwignie!$L$8,Dźwignie!$L$9)","v":382868.30384692916},{"$f":"Dźwignie!$L$7*C814","v":574302.45577039372},null,{"$f":"C814*Dźwignie!$G$5","v":382868.30384692916},191434.15192346455,{"$f":"Dźwignie!$G$6","v":50000},141434.15192346455,{"$f":"I814-Dźwignie!$D$6","v":121434.15192346455},{"$f":"IF(J814>0,J814*(1-Dźwignie!$D$9),J814)","v":98361.663058006292},{"$f":"K814/Dźwignie!$D$5","v":9.8361663058006297},{"$f":"I814/Dźwignie!$D$2","v":0.70717075961732279},{"$f":"K814/Dźwignie!$D$3","v":0.98361663058006288},1.3535214042719819,1.164698313309795,1.5764440965842825,null,{"$f":"C814*Dźwignie!$G$8","v":191434.15192346458},382868.30384692911,{"$f":"Dźwignie!$G$9","v":150000},232868.30384692911,{"$f":"V814-Dźwignie!$D$6","v":212868.30384692911},{"$f":"IF(W814>0,W814*(1-Dźwignie!$D$9),W814)","v":172423.32611601258},{"$f":"X814/Dźwignie!$D$5","v":17.24233261160126},{"$f":"V814/Dźwignie!$D$2","v":1.1643415192346456},{"$f":"X814/Dźwignie!$D$3","v":1.7242332611601259},1.6441409050610822,1.0939548051004424,1.7986158433537611]
[803,0.25260549783706665,{"$f":"NORMINV(B815,Dźwignie!$L$8,Dźwignie!$L$9)","v":316684.34512731974},{"$f":"Dźwignie!$L$7*C815","v":475026.51769097964},null,{"$f":"C815*Dźwignie!$G$5","v":316684.34512731974},158342.1725636599,{"$f":"Dźwignie!$G$6","v":50000},108342.1725636599,{"$f":"I815-Dźwignie!$D$6","v":88342.1725636599},{"$f":"IF(J815>0,J815*(1-Dźwignie!$D$9),J815)","v":71557.159776564527},{"$f":"K815/Dźwignie!$D$5","v":7.1557159776564525},{"$f":"I815/Dźwignie!$D$2","v":0.5417108628182995},{"$f":"K815/Dźwignie!$D$3","v":0.71557159776564527},1.4615008063514778,1.2263924399820243,1.7923735399370848,null,{"$f":"C815*Dźwignie!$G$8","v":158342.17256365987},316684.3451273198,{"$f":"Dźwignie!$G$9","v":150000},166684.3451273198,{"$f":"V815-Dźwignie!$D$6","v":146684.3451273198},{"$f":"IF(W815>0,W815*(1-Dźwignie!$D$9),W815)","v":118814.31955312904},{"$f":"X815/Dźwignie!$D$5","v":11.881431955312904},{"$f":"V815/Dźwignie!$D$2","v":0.833421725636599},{"$f":"X815/Dźwignie!$D$3","v":1.1881431955312904},1.8999045464373054,1.1363472017592626,2.1589512149537331]
[804,0.10111236572265625,{"$f":"NORMINV(B816,Dźwignie!$L$8,Dźwignie!$L$9)","v":286238.05992785434},{"$f":"Dźwignie!$L$7*C816","v":429357.08989178151},null,{"$f":"C816*Dźwignie!$G$5","v":286238.05992785434},143119.02996392717,{"$f":"Dźwignie!$G$6","v":50000},93119.029963927169,{"$f":"I816-Dźwignie!$D$6","v":73119.029963927169},{"$f":"IF(J816>0,J816*(1-Dźwignie!$D$9),J816)","v":59226.41427078101},{"$f":"K816/Dźwignie!$D$5","v":5.9226414270781014},{"$f":"I816/Dźwignie!$D$2","v":0.46559514981963585},{"$f":"K816/Dźwignie!$D$3","v":0.59226414270781014},1.5369471741637473,1.2735266046317475,1.9573431162111161,null,{"$f":"C816*Dźwignie!$G$8","v":143119.02996392717},286238.05992785434,{"$f":"Dźwignie!$G$9","v":150000},136238.05992785434,{"$f":"V816-Dźwignie!$D$6","v":116238.05992785434},{"$f":"IF(W816>0,W816*(1-Dźwignie!$D$9),W816)","v":94152.828541562019},{"$f":"X816/Dźwignie!$D$5","v":9.4152828541562013},{"$f":"V816/Dźwignie!$D$2","v":0.68119029963927169},{"$f":"X816/Dźwignie!$D$3","v":0.94152828541562017},2.101013916958546,1.172060683156734,2.462515806832239]
[805,0.12486666440963745,{"$f":"NORMINV(B817,Dźwignie!$L$8,Dźwignie!$L$9)","v":292450.13287299383},{"$f":"Dźwignie!$L$7*C817","v":438675.19930949074},null,{"$f":"C817*Dźwignie!$G$5","v":292450.13287299383},146225.06643649691,{"$f":"Dźwignie!$G$6","v":50000},96225.066436496913,{"$f":"I817-Dźwignie!$D$6","v":76225.066436496913},{"$f":"IF(J817>0,J817*(1-Dźwignie!$D$9),J817)","v":61742.303813562503},{"$f":"K817/Dźwignie!$D$5","v":6.1742303813562502},{"$f":"I817/Dźwignie!$D$2","v":0.48112533218248454},{"$f":"K817/Dźwignie!$D$3","v":0.61742303813562505},1.5196151257842692,1.2623808798731844,1.9183330795561455,null,{"$f":"C817*Dźwignie!$G$8","v":146225.06643649691},292450.13287299383,{"$f":"Dźwignie!$G$9","v":150000},142450.13287299383,{"$f":"V817-Dźwignie!$D$6","v":122450.13287299383},{"$f":"IF(W817>0,W817*(1-Dźwignie!$D$9),W817)","v":99184.607627125006},{"$f":"X817/Dźwignie!$D$5","v":9.9184607627125008},{"$f":"V817/Dźwignie!$D$2","v":0.71225066436496909},{"$f":"X817/Dźwignie!$D$3","v":0.9918460762712501},2.0530000707948619,1.1633317949989008,2.388320257490657]
[806,0.28327906131744385,{"$f":"NORMINV(B818,Dźwignie!$L$8,Dźwignie!$L$9)","v":321343.60683746135},{"$f":"Dźwignie!$L$7*C818","v":482015.41025619203},null,{"$f":"C818*Dźwignie!$G$5","v":321343.60683746135},160671.80341873068,{"$f":"Dźwignie!$G$6","v":50000},110671.80341873068,{"$f":"I818-Dźwignie!$D$6","v":90671.803418730677},{"$f":"IF(J818>0,J818*(1-Dźwignie!$D$9),J818)","v":73444.160769171853},{"$f":"K818/Dźwignie!$D$5","v":7.3444160769171853},{"$f":"I818/Dźwignie!$D$2","v":0.55335901709365343},{"$f":"K818/Dźwignie!$D$3","v":0.73444160769171851},1.4517862586084662,1.220575738497647,1.7720150847417646,null,{"$f":"C818*Dźwignie!$G$8","v":160671.80341873068},321343.60683746135,{"$f":"Dźwignie!$G$9","v":150000},171343.60683746135,{"$f":"V818-Dźwignie!$D$6","v":151343.60683746135},{"$f":"IF(W818>0,W818*(1-Dźwignie!$D$9),W818)","v":122588.32153834371},{"$f":"X818/Dźwignie!$D$5","v":12.258832153834371},{"$f":"V818/Dźwignie!$D$2","v":0.85671803418730674},{"$f":"X818/Dźwignie!$D$3","v":1.2258832153834371},1.8754338884805422,1.1321496191212055,2.1232717625302473]
[807,0.30651599168777466,{"$f":"NORMINV(B819,Dźwignie!$L$8,Dźwignie!$L$9)","v":324712.48721066985},{"$f":"Dźwignie!$L$7*C819","v":487068.7308160048},null,{"$f":"C819*Dźwignie!$G$5","v":324712.48721066985},162356.24360533495,{"$f":"Dźwignie!$G$6","v":50000},112356.24360533495,{"$f":"I819-Dźwignie!$D$6","v":92356.243605334952},{"$f":"IF(J819>0,J819*(1-Dźwignie!$D$9),J819)","v":74808.557320321313},{"$f":"K819/Dźwignie!$D$5","v":7.4808557320321309},{"$f":"I819/Dźwignie!$D$2","v":0.5617812180266748},{"$f":"K819/Dźwignie!$D$3","v":0.74808557320321312},1.445013097586558,1.2165527658905857,1.7579346806170499,null,{"$f":"C819*Dźwignie!$G$8","v":162356.24360533492},324712.4872106699,{"$f":"Dźwignie!$G$9","v":150000},174712.4872106699,{"$f":"V819-Dźwignie!$D$6","v":154712.4872106699},{"$f":"IF(W819>0,W819*(1-Dźwignie!$D$9),W819)","v":125317.11464064263},{"$f":"X819/Dźwignie!$D$5","v":12.531711464064262},{"$f":"V819/Dźwignie!$D$2","v":0.87356243605334949},{"$f":"X819/Dźwignie!$D$3","v":1.2531711464064264},1.8585534004740523,1.129272047528822,2.0988124039949878]
[808,0.17888283729553223,{"$f":"NORMINV(B820,Dźwignie!$L$8,Dźwignie!$L$9)","v":304018.45510203979},{"$f":"Dźwignie!$L$7*C820","v":456027.68265305972},null,{"$f":"C820*Dźwignie!$G$5","v":304018.45510203979},152009.22755101993,{"$f":"Dźwignie!$G$6","v":50000},102009.22755101993,{"$f":"I820-Dźwignie!$D$6","v":82009.227551019925},{"$f":"IF(J820>0,J820*(1-Dźwignie!$D$9),J820)","v":66427.474316326145},{"$f":"K820/Dźwignie!$D$5","v":6.6427474316326141},{"$f":"I820/Dźwignie!$D$2","v":0.51004613775509966},{"$f":"K820/Dźwignie!$D$3","v":0.66427474316326141},1.4901517362730003,1.2438749955004456,1.8535624842515595,null,{"$f":"C820*Dźwignie!$G$8","v":152009.2275510199},304018.45510203985,{"$f":"Dźwignie!$G$9","v":150000},154018.45510203985,{"$f":"V820-Dźwignie!$D$6","v":134018.45510203985},{"$f":"IF(W820>0,W820*(1-Dźwignie!$D$9),W820)","v":108554.94863265229},{"$f":"X820/Dźwignie!$D$5","v":10.855494863265228},{"$f":"V820/Dźwignie!$D$2","v":0.77009227551019921},{"$f":"X820/Dźwignie!$D$3","v":1.0855494863265229},1.9739092623713337,1.1492331782572205,2.2684820151863736]
[809,0.42304939031600952,{"$f":"NORMINV(B821,Dźwignie!$L$8,Dźwignie!$L$9)","v":340295.07656528597},{"$f":"Dźwignie!$L$7*C821","v":510442.61484792898},null,{"$f":"C821*Dźwignie!$G$5","v":340295.07656528597},170147.53828264301,{"$f":"Dźwignie!$G$6","v":50000},120147.53828264301,{"$f":"I821-Dźwignie!$D$6","v":100147.53828264301},{"$f":"IF(J821>0,J821*(1-Dźwignie!$D$9),J821)","v":81119.506008940851},{"$f":"K821/Dźwignie!$D$5","v":8.1119506008940849},{"$f":"I821/Dźwignie!$D$2","v":0.60073769141321509},{"$f":"K821/Dźwignie!$D$3","v":0.81119506008940856},1.4161550100375482,1.1997053581442478,1.6989687535048676,null,{"$f":"C821*Dźwignie!$G$8","v":170147.53828264298},340295.07656528603,{"$f":"Dźwignie!$G$9","v":150000},190295.07656528603,{"$f":"V821-Dźwignie!$D$6","v":170295.07656528603},{"$f":"IF(W821>0,W821*(1-Dźwignie!$D$9),W821)","v":137939.0120178817},{"$f":"X821/Dźwignie!$D$5","v":13.79390120178817},{"$f":"V821/Dźwignie!$D$2","v":0.95147538282643018},{"$f":"X821/Dźwignie!$D$3","v":1.379390120178817},1.7882495054912171,1.1174432074219867,1.9982672630868872]
[810,4.4248461723327637E-2,{"$f":"NORMINV(B822,Dźwignie!$L$8,Dźwignie!$L$9)","v":264830.98540484853},{"$f":"Dźwignie!$L$7*C822","v":397246.47810727276},null,{"$f":"C822*Dźwignie!$G$5","v":264830.98540484853},132415.49270242424,{"$f":"Dźwignie!$G$6","v":50000},82415.492702424235,{"$f":"I822-Dźwignie!$D$6","v":62415.492702424235},{"$f":"IF(J822>0,J822*(1-Dźwignie!$D$9),J822)","v":50556.549088963635},{"$f":"K822/Dźwignie!$D$5","v":5.0556549088963632},{"$f":"I822/Dźwignie!$D$2","v":0.41207746351212116},{"$f":"K822/Dźwignie!$D$3","v":0.50556549088963632},1.6066820492177833,1.3204332631860036,2.1215164211510129,null,{"$f":"C822*Dźwignie!$G$8","v":132415.49270242426},264830.98540484847,{"$f":"Dźwignie!$G$9","v":150000},114830.98540484847,{"$f":"V822-Dźwignie!$D$6","v":94830.98540484847},{"$f":"IF(W822>0,W822*(1-Dźwignie!$D$9),W822)","v":76813.09817792727},{"$f":"X822/Dźwignie!$D$5","v":7.6813098177927266},{"$f":"V822/Dźwignie!$D$2","v":0.57415492702424231},{"$f":"X822/Dźwignie!$D$3","v":0.76813098177927275},2.3062676373555409,1.2109015309143614,2.7926630127720715]
[811,0.30705505609512329,{"$f":"NORMINV(B823,Dźwignie!$L$8,Dźwignie!$L$9)","v":324789.23658126453},{"$f":"Dźwignie!$L$7*C823","v":487183.85487189679},null,{"$f":"C823*Dźwignie!$G$5","v":324789.23658126453},162394.61829063226,{"$f":"Dźwignie!$G$6","v":50000},112394.61829063226,{"$f":"I823-Dźwignie!$D$6","v":92394.618290632265},{"$f":"IF(J823>0,J823*(1-Dźwignie!$D$9),J823)","v":74839.640815412145},{"$f":"K823/Dźwignie!$D$5","v":7.483964081541215},{"$f":"I823/Dźwignie!$D$2","v":0.56197309145316132},{"$f":"K823/Dźwignie!$D$3","v":0.74839640815412145},1.444861157593053,1.2164628240260587,1.7576198840912054,null,{"$f":"C823*Dźwignie!$G$8","v":162394.61829063226},324789.23658126453,{"$f":"Dźwignie!$G$9","v":150000},174789.23658126453,{"$f":"V823-Dźwignie!$D$6","v":154789.23658126453},{"$f":"IF(W823>0,W823*(1-Dźwignie!$D$9),W823)","v":125379.28163082428},{"$f":"X823/Dźwignie!$D$5","v":12.537928163082428},{"$f":"V823/Dźwignie!$D$2","v":0.87394618290632264},{"$f":"X823/Dźwignie!$D$3","v":1.2537928163082428},1.8581764125404867,1.1292079503829064,2.0982675782547049]
[812,0.57692384719848633,{"$f":"NORMINV(B824,Dźwignie!$L$8,Dźwignie!$L$9)","v":359701.50549534336},{"$f":"Dźwignie!$L$7*C824","v":539552.25824301504},null,{"$f":"C824*Dźwignie!$G$5","v":359701.50549534336},179850.75274767168,{"$f":"Dźwignie!$G$6","v":50000},129850.75274767168,{"$f":"I824-Dźwignie!$D$6","v":109850.75274767168},{"$f":"IF(J824>0,J824*(1-Dźwignie!$D$9),J824)","v":88979.109725614064},{"$f":"K824/Dźwignie!$D$5","v":8.897910972561407},{"$f":"I824/Dźwignie!$D$2","v":0.64925376373835841},{"$f":"K824/Dźwignie!$D$3","v":0.88979109725614058},1.3850574520515941,1.1820652066530688,1.6372282232857405,null,{"$f":"C824*Dźwignie!$G$8","v":179850.75274767168},359701.50549534336,{"$f":"Dźwignie!$G$9","v":150000},209701.50549534336,{"$f":"V824-Dźwignie!$D$6","v":189701.50549534336},{"$f":"IF(W824>0,W824*(1-Dźwignie!$D$9),W824)","v":153658.21945122813},{"$f":"X824/Dźwignie!$D$5","v":15.365821945122812},{"$f":"V824/Dźwignie!$D$2","v":1.0485075274767168},{"$f":"X824/Dźwignie!$D$3","v":1.5365821945122813},1.7153024469027043,1.1054287890218717,1.8961447066859098]
[813,0.27995175123214722,{"$f":"NORMINV(B825,Dźwignie!$L$8,Dźwignie!$L$9)","v":320850.75775627507},{"$f":"Dźwignie!$L$7*C825","v":481276.13663441257},null,{"$f":"C825*Dźwignie!$G$5","v":320850.75775627507},160425.3788781375,{"$f":"Dźwignie!$G$6","v":50000},110425.3788781375,{"$f":"I825-Dźwignie!$D$6","v":90425.378878137504},{"$f":"IF(J825>0,J825*(1-Dźwignie!$D$9),J825)","v":73244.556891291388},{"$f":"K825/Dźwignie!$D$5","v":7.324455689129139},{"$f":"I825/Dźwignie!$D$2","v":0.55212689439068752},{"$f":"K825/Dźwignie!$D$3","v":0.7324455689129139},1.452794461816415,1.2211768449093607,1.7741189571827625,null,{"$f":"C825*Dźwignie!$G$8","v":160425.37887813753},320850.75775627501,{"$f":"Dźwignie!$G$9","v":150000},170850.75775627501,{"$f":"V825-Dźwignie!$D$6","v":150850.75775627501},{"$f":"IF(W825>0,W825*(1-Dźwignie!$D$9),W825)","v":122189.11378258276},{"$f":"X825/Dźwignie!$D$5","v":12.218911378258277},{"$f":"V825/Dźwignie!$D$2","v":0.85425378878137503},{"$f":"X825/Dźwignie!$D$3","v":1.2218911378258277},1.877959231611841,1.1325813691457447,2.1269416377388297]
[814,0.57046520709991455,{"$f":"NORMINV(B826,Dźwignie!$L$8,Dźwignie!$L$9)","v":358877.93346440716},{"$f":"Dźwignie!$L$7*C826","v":538316.90019661072},null,{"$f":"C826*Dźwignie!$G$5","v":358877.93346440716},179438.96673220355,{"$f":"Dźwignie!$G$6","v":50000},129438.96673220355,{"$f":"I826-Dźwignie!$D$6","v":109438.96673220355},{"$f":"IF(J826>0,J826*(1-Dźwignie!$D$9),J826)","v":88645.563053084887},{"$f":"K826/Dźwignie!$D$5","v":8.8645563053084881},{"$f":"I826/Dźwignie!$D$2","v":0.64719483366101771},{"$f":"K826/Dźwignie!$D$3","v":0.88645563053084886},1.3862824407695178,1.1827502634316702,1.639625922010846,null,{"$f":"C826*Dźwignie!$G$8","v":179438.96673220358},358877.93346440711,{"$f":"Dźwignie!$G$9","v":150000},208877.93346440711,{"$f":"V826-Dźwignie!$D$6","v":188877.93346440711},{"$f":"IF(W826>0,W826*(1-Dźwignie!$D$9),W826)","v":152991.12610616977},{"$f":"X826/Dźwignie!$D$5","v":15.299112610616977},{"$f":"V826/Dźwignie!$D$2","v":1.0443896673220354},{"$f":"X826/Dźwignie!$D$3","v":1.5299112610616978},1.7181227691797327,1.1058884944003735,1.9000522024031752]
[815,0.68763333559036255,{"$f":"NORMINV(B827,Dźwignie!$L$8,Dźwignie!$L$9)","v":374457.65370752284},{"$f":"Dźwignie!$L$7*C827","v":561686.48056128423},null,{"$f":"C827*Dźwignie!$G$5","v":374457.65370752284},187228.82685376139,{"$f":"Dźwignie!$G$6","v":50000},137228.82685376139,{"$f":"I827-Dźwignie!$D$6","v":117228.82685376139},{"$f":"IF(J827>0,J827*(1-Dźwignie!$D$9),J827)","v":94955.349751546732},{"$f":"K827/Dźwignie!$D$5","v":9.4955349751546727},{"$f":"I827/Dźwignie!$D$2","v":0.68614413426880694},{"$f":"K827/Dźwignie!$D$3","v":0.94955349751546736},1.3643549328981932,1.1706065012912674,1.597122754519436,null,{"$f":"C827*Dźwignie!$G$8","v":187228.82685376142},374457.65370752278,{"$f":"Dźwignie!$G$9","v":150000},224457.65370752278,{"$f":"V827-Dźwignie!$D$6","v":204457.65370752278},{"$f":"IF(W827>0,W827*(1-Dźwignie!$D$9),W827)","v":165610.69950309346},{"$f":"X827/Dźwignie!$D$5","v":16.561069950309346},{"$f":"V827/Dźwignie!$D$2","v":1.1222882685376139},{"$f":"X827/Dźwignie!$D$3","v":1.6561069950309346},1.6682775014455775,1.0978197667699447,1.8314680175445301]
[816,0.80750346183776855,{"$f":"NORMINV(B828,Dźwignie!$L$8,Dźwignie!$L$9)","v":393436.66012986453},{"$f":"Dźwignie!$L$7*C828","v":590154.99019479682},null,{"$f":"C828*Dźwignie!$G$5","v":393436.66012986453},196718.33006493229,{"$f":"Dźwignie!$G$6","v":50000},146718.33006493229,{"$f":"I828-Dźwignie!$D$6","v":126718.33006493229},{"$f":"IF(J828>0,J828*(1-Dźwignie!$D$9),J828)","v":102641.84735259517},{"$f":"K828/Dźwignie!$D$5","v":10.264184735259517},{"$f":"I828/Dźwignie!$D$2","v":0.73359165032466145},{"$f":"K828/Dźwignie!$D$3","v":1.0264184735259516},1.3407890478161235,1.1578303627403526,1.5524062695912342,null,{"$f":"C828*Dźwignie!$G$8","v":196718.33006493226},393436.66012986458,{"$f":"Dźwignie!$G$9","v":150000},243436.66012986458,{"$f":"V828-Dźwignie!$D$6","v":223436.66012986458},{"$f":"IF(W828>0,W828*(1-Dźwignie!$D$9),W828)","v":180983.69470519031},{"$f":"X828/Dźwignie!$D$5","v":18.098369470519032},{"$f":"V828/Dźwignie!$D$2","v":1.2171833006493229},{"$f":"X828/Dźwignie!$D$3","v":1.8098369470519031},1.6161767086353407,1.0895108259690944,1.7608420207373026]
[817,0.72126954793930054,{"$f":"NORMINV(B829,Dźwignie!$L$8,Dźwignie!$L$9)","v":379330.85435791791},{"$f":"Dźwignie!$L$7*C829","v":568996.28153687692},null,{"$f":"C829*Dźwignie!$G$5","v":379330.85435791791},189665.42717895901,{"$f":"Dźwignie!$G$6","v":50000},139665.42717895901,{"$f":"I829-Dźwignie!$D$6","v":119665.42717895901},{"$f":"IF(J829>0,J829*(1-Dźwignie!$D$9),J829)","v":96928.996014956807},{"$f":"K829/Dźwignie!$D$5","v":9.6928996014956805},{"$f":"I829/Dźwignie!$D$2","v":0.69832713589479511},{"$f":"K829/Dźwignie!$D$3","v":0.96928996014956803},1.3579984038278345,1.1671326503526378,1.5849642762342322,null,{"$f":"C829*Dźwignie!$G$8","v":189665.42717895895},379330.85435791797,{"$f":"Dźwignie!$G$9","v":150000},229330.85435791797,{"$f":"V829-Dźwignie!$D$6","v":209330.85435791797},{"$f":"IF(W829>0,W829*(1-Dźwignie!$D$9),W829)","v":169557.99202991356},{"$f":"X829/Dźwignie!$D$5","v":16.955799202991354},{"$f":"V829/Dźwignie!$D$2","v":1.1466542717895898},{"$f":"X829/Dźwignie!$D$3","v":1.6955799202991355},1.6540768376761643,1.0955425327114159,1.8121115280470346]
[818,9.734189510345459E-2,{"$f":"NORMINV(B830,Dźwignie!$L$8,Dźwignie!$L$9)","v":285157.64342168177},{"$f":"Dźwignie!$L$7*C830","v":427736.46513252263},null,{"$f":"C830*Dźwignie!$G$5","v":285157.64342168177},142578.82171084086,{"$f":"Dźwignie!$G$6","v":50000},92578.821710840857,{"$f":"I830-Dźwignie!$D$6","v":72578.821710840857},{"$f":"IF(J830>0,J830*(1-Dźwignie!$D$9),J830)","v":58788.845585781099},{"$f":"K830/Dźwignie!$D$5","v":5.8788845585781102},{"$f":"I830/Dźwignie!$D$2","v":0.46289410855420426},{"$f":"K830/Dźwignie!$D$3","v":0.58788845585781102},1.5400803237285647,1.2755624785379047,1.9644686748826667,null,{"$f":"C830*Dźwignie!$G$8","v":142578.82171084089},285157.64342168171,{"$f":"Dźwignie!$G$9","v":150000},135157.64342168171,{"$f":"V830-Dźwignie!$D$6","v":115157.64342168171},{"$f":"IF(W830>0,W830*(1-Dźwignie!$D$9),W830)","v":93277.691171562197},{"$f":"X830/Dźwignie!$D$5","v":9.3277691171562189},{"$f":"V830/Dźwignie!$D$2","v":0.67578821710840853},{"$f":"X830/Dźwignie!$D$3","v":0.93277691171562194},2.1098151477235456,1.1736749676855096,2.4762372253268312]
[819,0.80451303720474243,{"$f":"NORMINV(B831,Dźwignie!$L$8,Dźwignie!$L$9)","v":392892.62411083805},{"$f":"Dźwignie!$L$7*C831","v":589338.93616625713},null,{"$f":"C831*Dźwignie!$G$5","v":392892.62411083805},196446.31205541908,{"$f":"Dźwignie!$G$6","v":50000},146446.31205541908,{"$f":"I831-Dźwignie!$D$6","v":126446.31205541908},{"$f":"IF(J831>0,J831*(1-Dźwignie!$D$9),J831)","v":102421.51276488947},{"$f":"K831/Dźwignie!$D$5","v":10.242151276488947},{"$f":"I831/Dźwignie!$D$2","v":0.73223156027709546},{"$f":"K831/Dźwignie!$D$3","v":1.0242151276488947},1.3414220494748867,1.1581698957833928,1.5535946352418748,null,{"$f":"C831*Dźwignie!$G$8","v":196446.31205541902},392892.62411083811,{"$f":"Dźwignie!$G$9","v":150000},242892.62411083811,{"$f":"V831-Dźwignie!$D$6","v":222892.62411083811},{"$f":"IF(W831>0,W831*(1-Dźwignie!$D$9),W831)","v":180543.02552977888},{"$f":"X831/Dźwignie!$D$5","v":18.054302552977887},{"$f":"V831/Dźwignie!$D$2","v":1.2144631205541905},{"$f":"X831/Dźwignie!$D$3","v":1.8054302552977888},1.6175568342147399,1.0897293038734857,1.7626990829246278]
[820,0.61433506011962891,{"$f":"NORMINV(B832,Dźwignie!$L$8,Dźwignie!$L$9)","v":364531.78981602995},{"$f":"Dźwignie!$L$7*C832","v":546797.68472404499},null,{"$f":"C832*Dźwignie!$G$5","v":364531.78981602995},182265.89490801503,{"$f":"Dźwignie!$G$6","v":50000},132265.89490801503,{"$f":"I832-Dźwignie!$D$6","v":112265.89490801503},{"$f":"IF(J832>0,J832*(1-Dźwignie!$D$9),J832)","v":90935.374875492183},{"$f":"K832/Dźwignie!$D$5","v":9.0935374875492183},{"$f":"I832/Dźwignie!$D$2","v":0.66132947454007518},{"$f":"K832/Dźwignie!$D$3","v":0.90935374875492181},1.3780263992828441,1.1781484930609334,1.623519725713267,null,{"$f":"C832*Dźwignie!$G$8","v":182265.89490801498},364531.78981603001,{"$f":"Dźwignie!$G$9","v":150000},214531.78981603001,{"$f":"V832-Dźwignie!$D$6","v":194531.78981603001},{"$f":"IF(W832>0,W832*(1-Dźwignie!$D$9),W832)","v":157570.74975098431},{"$f":"X832/Dźwignie!$D$5","v":15.757074975098432},{"$f":"V832/Dźwignie!$D$2","v":1.0726589490801501},{"$f":"X832/Dźwignie!$D$3","v":1.5757074975098431},1.6991970753081922,1.1028109596838342,1.8738931573125919]
[821,7.8362643718719482E-2,{"$f":"NORMINV(B833,Dźwignie!$L$8,Dźwignie!$L$9)","v":279191.42318493075},{"$f":"Dźwignie!$L$7*C833","v":418787.1347773961},null,{"$f":"C833*Dźwignie!$G$5","v":279191.42318493075},139595.71159246535,{"$f":"Dźwignie!$G$6","v":50000},89595.711592465348,{"$f":"I833-Dźwignie!$D$6","v":69595.711592465348},{"$f":"IF(J833>0,J833*(1-Dźwignie!$D$9),J833)","v":56372.526389896935},{"$f":"K833/Dźwignie!$D$5","v":5.6372526389896933},{"$f":"I833/Dźwignie!$D$2","v":0.44797855796232672},{"$f":"K833/Dźwignie!$D$3","v":0.56372526389896938},1.5580624240971463,1.287374028404435,2.0058090994155227,null,{"$f":"C833*Dźwignie!$G$8","v":139595.71159246538},279191.4231849307,{"$f":"Dźwignie!$G$9","v":150000},129191.4231849307,{"$f":"V833-Dźwignie!$D$6","v":109191.4231849307},{"$f":"IF(W833>0,W833*(1-Dźwignie!$D$9),W833)","v":88445.05277979387},{"$f":"X833/Dźwignie!$D$5","v":8.8445052779793869},{"$f":"V833/Dźwignie!$D$2","v":0.64595711592465344},{"$f":"X833/Dźwignie!$D$3","v":0.88445052779793876},2.1610677884187632,1.1831645693098738,2.5568988391339276]
[822,0.94329893589019775,{"$f":"NORMINV(B834,Dźwignie!$L$8,Dźwignie!$L$9)","v":429154.24205643911},{"$f":"Dźwignie!$L$7*C834","v":643731.36308465863},null,{"$f":"C834*Dźwignie!$G$5","v":429154.24205643911},214577.12102821952,{"$f":"Dźwignie!$G$6","v":50000},164577.12102821952,{"$f":"I834-Dźwignie!$D$6","v":144577.12102821952},{"$f":"IF(J834>0,J834*(1-Dźwignie!$D$9),J834)","v":117107.46803285783},{"$f":"K834/Dźwignie!$D$5","v":11.710746803285783},{"$f":"I834/Dźwignie!$D$2","v":0.82288560514109765},{"$f":"K834/Dźwignie!$D$3","v":1.1710746803285783},1.3038089358205911,1.138334474070045,1.4841706592451576,null,{"$f":"C834*Dźwignie!$G$8","v":214577.12102821955},429154.24205643905,{"$f":"Dźwignie!$G$9","v":150000},279154.24205643905,{"$f":"V834-Dźwignie!$D$6","v":259154.24205643905},{"$f":"IF(W834>0,W834*(1-Dźwignie!$D$9),W834)","v":209914.93606571565},{"$f":"X834/Dźwignie!$D$5","v":20.991493606571566},{"$f":"V834/Dźwignie!$D$2","v":1.3957712102821953},{"$f":"X834/Dźwignie!$D$3","v":2.0991493606571563},1.5373373476075394,1.0771741177813496,1.6559800011414714]
[823,0.76493293046951294,{"$f":"NORMINV(B835,Dźwignie!$L$8,Dźwignie!$L$9)","v":386113.04079096316},{"$f":"Dźwignie!$L$7*C835","v":579169.56118644471},null,{"$f":"C835*Dźwignie!$G$5","v":386113.04079096316},193056.52039548155,{"$f":"Dźwignie!$G$6","v":50000},143056.52039548155,{"$f":"I835-Dźwignie!$D$6","v":123056.52039548155},{"$f":"IF(J835>0,J835*(1-Dźwignie!$D$9),J835)","v":99675.781520340068},{"$f":"K835/Dźwignie!$D$5","v":9.9675781520340063},{"$f":"I835/Dźwignie!$D$2","v":0.71528260197740778},{"$f":"K835/Dźwignie!$D$3","v":0.99675781520340068},1.3495122058174935,1.1625269423816276,1.5688442983356965,null,{"$f":"C835*Dźwignie!$G$8","v":193056.52039548158},386113.0407909631,{"$f":"Dźwignie!$G$9","v":150000},236113.0407909631,{"$f":"V835-Dźwignie!$D$6","v":216113.0407909631},{"$f":"IF(W835>0,W835*(1-Dźwignie!$D$9),W835)","v":175051.56304068014},{"$f":"X835/Dźwignie!$D$5","v":17.505156304068013},{"$f":"V835/Dźwignie!$D$2","v":1.1805652039548156},{"$f":"X835/Dźwignie!$D$3","v":1.7505156304068012},1.6352889255820429,1.0925441608095512,1.7866253668811856]
[824,0.48820233345031738,{"$f":"NORMINV(B836,Dźwignie!$L$8,Dźwignie!$L$9)","v":348521.16619189968},{"$f":"Dźwignie!$L$7*C836","v":522781.74928784952},null,{"$f":"C836*Dźwignie!$G$5","v":348521.16619189968},174260.58309594984,{"$f":"Dźwignie!$G$6","v":50000},124260.58309594984,{"$f":"I836-Dźwignie!$D$6","v":104260.58309594984},{"$f":"IF(J836>0,J836*(1-Dźwignie!$D$9),J836)","v":84451.072307719383},{"$f":"K836/Dźwignie!$D$5","v":8.4451072307719386},{"$f":"I836/Dźwignie!$D$2","v":0.62130291547974925},{"$f":"K836/Dźwignie!$D$3","v":0.84451072307719388},1.4023802138558426,1.1918270491696197,1.671394672093669,null,{"$f":"C836*Dźwignie!$G$8","v":174260.58309594984},348521.16619189968,{"$f":"Dźwignie!$G$9","v":150000},198521.16619189968,{"$f":"V836-Dźwignie!$D$6","v":178521.16619189968},{"$f":"IF(W836>0,W836*(1-Dźwignie!$D$9),W836)","v":144602.14461543877},{"$f":"X836/Dźwignie!$D$5","v":14.460214461543877},{"$f":"V836/Dźwignie!$D$2","v":0.99260583095949839},{"$f":"X836/Dźwignie!$D$3","v":1.4460214461543877},1.7555869375409729,1.1120315334401367,1.9522680342411616]
[825,0.44137996435165405,{"$f":"NORMINV(B837,Dźwignie!$L$8,Dźwignie!$L$9)","v":342626.42849958839},{"$f":"Dźwignie!$L$7*C837","v":513939.64274938259},null,{"$f":"C837*Dźwignie!$G$5","v":342626.42849958839},171313.2142497942,{"$f":"Dźwignie!$G$6","v":50000},121313.2142497942,{"$f":"I837-Dźwignie!$D$6","v":101313.2142497942},{"$f":"IF(J837>0,J837*(1-Dźwignie!$D$9),J837)","v":82063.7035423333},{"$f":"K837/Dźwignie!$D$5","v":8.2063703542333304},{"$f":"I837/Dźwignie!$D$2","v":0.60656607124897099},{"$f":"K837/Dźwignie!$D$3","v":0.82063703542333299},1.4121562544459976,1.1974076150687385,1.6909266527405846,null,{"$f":"C837*Dźwignie!$G$8","v":171313.2142497942},342626.42849958839,{"$f":"Dźwignie!$G$9","v":150000},192626.42849958839,{"$f":"V837-Dźwignie!$D$6","v":172626.42849958839},{"$f":"IF(W837>0,W837*(1-Dźwignie!$D$9),W837)","v":139827.4070846666},{"$f":"X837/Dźwignie!$D$5","v":13.982740708466659},{"$f":"V837/Dźwignie!$D$2","v":0.96313214249794199},{"$f":"X837/Dźwignie!$D$3","v":1.3982740708466661},1.7787093451733729,1.1158571151232946,1.9847854785480041]
[826,0.15038955211639404,{"$f":"NORMINV(B838,Dźwignie!$L$8,Dźwignie!$L$9)","v":298261.79626778036},{"$f":"Dźwignie!$L$7*C838","v":447392.69440167054},null,{"$f":"C838*Dźwignie!$G$5","v":298261.79626778036},149130.89813389018,{"$f":"Dźwignie!$G$6","v":50000},99130.898133890179,{"$f":"I838-Dźwignie!$D$6","v":79130.898133890179},{"$f":"IF(J838>0,J838*(1-Dźwignie!$D$9),J838)","v":64096.027488451051},{"$f":"K838/Dźwignie!$D$5","v":6.4096027488451055},{"$f":"I838/Dźwignie!$D$2","v":0.49565449066945089},{"$f":"K838/Dźwignie!$D$3","v":0.64096027488451046},1.5043836073437769,1.2527457727847322,1.8846102047465629,null,{"$f":"C838*Dźwignie!$G$8","v":149130.89813389018},298261.79626778036,{"$f":"Dźwignie!$G$9","v":150000},148261.79626778036,{"$f":"V838-Dźwignie!$D$6","v":128261.79626778036},{"$f":"IF(W838>0,W838*(1-Dźwignie!$D$9),W838)","v":103892.0549769021},{"$f":"X838/Dźwignie!$D$5","v":10.38920549769021},{"$f":"V838/Dźwignie!$D$2","v":0.74130898133890177},{"$f":"X838/Dźwignie!$D$3","v":1.038920549769021},2.0117238815121343,1.1559310767661848,2.32541415251257]
[827,0.50523334741592407,{"$f":"NORMINV(B839,Dźwignie!$L$8,Dźwignie!$L$9)","v":350655.92164298508},{"$f":"Dźwignie!$L$7*C839","v":525983.88246447756},null,{"$f":"C839*Dźwignie!$G$5","v":350655.92164298508},175327.96082149248,{"$f":"Dźwignie!$G$6","v":50000},125327.96082149248,{"$f":"I839-Dźwignie!$D$6","v":105327.96082149248},{"$f":"IF(J839>0,J839*(1-Dźwignie!$D$9),J839)","v":85315.64826540892},{"$f":"K839/Dźwignie!$D$5","v":8.5315648265408921},{"$f":"I839/Dźwignie!$D$2","v":0.62663980410746245},{"$f":"K839/Dźwignie!$D$3","v":0.85315648265408917},1.3989532716583186,1.189883102682445,1.6645908593885574,null,{"$f":"C839*Dźwignie!$G$8","v":175327.96082149254},350655.92164298502,{"$f":"Dźwignie!$G$9","v":150000},200655.92164298502,{"$f":"V839-Dźwignie!$D$6","v":180655.92164298502},{"$f":"IF(W839>0,W839*(1-Dźwignie!$D$9),W839)","v":146331.29653081787},{"$f":"X839/Dźwignie!$D$5","v":14.633129653081786},{"$f":"V839/Dźwignie!$D$2","v":1.0032796082149251},{"$f":"X839/Dźwignie!$D$3","v":1.4633129653081787},1.7475483343416396,1.110707691273604,1.9410153758256348]
[828,0.43258428573608398,{"$f":"NORMINV(B840,Dźwignie!$L$8,Dźwignie!$L$9)","v":341510.07276507793},{"$f":"Dźwignie!$L$7*C840","v":512265.10914761689},null,{"$f":"C840*Dźwignie!$G$5","v":341510.07276507793},170755.03638253896,{"$f":"Dźwignie!$G$6","v":50000},120755.03638253896,{"$f":"I840-Dźwignie!$D$6","v":100755.03638253896},{"$f":"IF(J840>0,J840*(1-Dźwignie!$D$9),J840)","v":81611.579469856573},{"$f":"K840/Dźwignie!$D$5","v":8.1611579469856572},{"$f":"I840/Dźwignie!$D$2","v":0.60377518191269486},{"$f":"K840/Dźwignie!$D$3","v":0.81611579469856577},1.4140614047898208,1.1985012433925937,1.694754351874078,null,{"$f":"C840*Dźwignie!$G$8","v":170755.03638253896},341510.07276507793,{"$f":"Dźwignie!$G$9","v":150000},191510.07276507793,{"$f":"V840-Dźwignie!$D$6","v":171510.07276507793},{"$f":"IF(W840>0,W840*(1-Dźwignie!$D$9),W840)","v":138923.15893971315},{"$f":"X840/Dźwignie!$D$5","v":13.892315893971315},{"$f":"V840/Dźwignie!$D$2","v":0.95755036382538961},{"$f":"X840/Dźwignie!$D$3","v":1.3892315893971314},1.7832486189068624,1.1166112268367734,1.9911954281125734]
[829,0.36238449811935425,{"$f":"NORMINV(B841,Dźwignie!$L$8,Dźwignie!$L$9)","v":332395.381892843},{"$f":"Dźwignie!$L$7*C841","v":498593.07283926453},null,{"$f":"C841*Dźwignie!$G$5","v":332395.381892843},166197.69094642153,{"$f":"Dźwignie!$G$6","v":50000},116197.69094642153,{"$f":"I841-Dźwignie!$D$6","v":96197.690946421528},{"$f":"IF(J841>0,J841*(1-Dźwignie!$D$9),J841)","v":77920.129666601439},{"$f":"K841/Dźwignie!$D$5","v":7.7920129666601436},{"$f":"I841/Dźwignie!$D$2","v":0.58098845473210758},{"$f":"K841/Dźwignie!$D$3","v":0.77920129666601434},1.4303011496420774,1.207905198172992,1.7276681936054719,null,{"$f":"C841*Dźwignie!$G$8","v":166197.6909464215},332395.38189284306,{"$f":"Dźwignie!$G$9","v":150000},182395.38189284306,{"$f":"V841-Dźwignie!$D$6","v":162395.38189284306},{"$f":"IF(W841>0,W841*(1-Dźwignie!$D$9),W841)","v":131540.25933320288},{"$f":"X841/Dźwignie!$D$5","v":13.154025933320288},{"$f":"V841/Dźwignie!$D$2","v":0.91197690946421528},{"$f":"X841/Dźwignie!$D$3","v":1.3154025933320288},1.8223892427721922,1.1231562115060454,2.0468277978013862]
[830,0.37492477893829346,{"$f":"NORMINV(B842,Dźwignie!$L$8,Dźwignie!$L$9)","v":334058.11297485314},{"$f":"Dźwignie!$L$7*C842","v":501087.16946227971},null,{"$f":"C842*Dźwignie!$G$5","v":334058.11297485314},167029.05648742657,{"$f":"Dźwignie!$G$6","v":50000},117029.05648742657,{"$f":"I842-Dźwignie!$D$6","v":97029.056487426569},{"$f":"IF(J842>0,J842*(1-Dźwignie!$D$9),J842)","v":78593.53575481553},{"$f":"K842/Dźwignie!$D$5","v":7.8593535754815527},{"$f":"I842/Dźwignie!$D$2","v":0.58514528243713282},{"$f":"K842/Dźwignie!$D$3","v":0.78593535754815524},1.4272443229119935,1.2061238223273014,1.7214333781455549,null,{"$f":"C842*Dźwignie!$G$8","v":167029.05648742657},334058.11297485314,{"$f":"Dźwignie!$G$9","v":150000},184058.11297485314,{"$f":"V842-Dźwignie!$D$6","v":164058.11297485314},{"$f":"IF(W842>0,W842*(1-Dźwignie!$D$9),W842)","v":132887.07150963106},{"$f":"X842/Dźwignie!$D$5","v":13.288707150963106},{"$f":"V842/Dźwignie!$D$2","v":0.92029056487426564},{"$f":"X842/Dźwignie!$D$3","v":1.3288707150963106},1.8149600013583411,1.1219080217207278,2.0362181846261858]
[831,0.11898118257522583,{"$f":"NORMINV(B843,Dźwignie!$L$8,Dźwignie!$L$9)","v":290995.24146490131},{"$f":"Dźwignie!$L$7*C843","v":436492.86219735199},null,{"$f":"C843*Dźwignie!$G$5","v":290995.24146490131},145497.62073245068,{"$f":"Dźwignie!$G$6","v":50000},95497.620732450683,{"$f":"I843-Dźwignie!$D$6","v":75497.620732450683},{"$f":"IF(J843>0,J843*(1-Dźwignie!$D$9),J843)","v":61153.072793285057},{"$f":"K843/Dźwignie!$D$5","v":6.1153072793285057},{"$f":"I843/Dźwignie!$D$2","v":0.47748810366225342},{"$f":"K843/Dźwignie!$D$3","v":0.61153072793285057},1.5235732536214872,1.2649090104557894,1.9271815365952629,null,{"$f":"C843*Dźwignie!$G$8","v":145497.62073245065},290995.24146490137,{"$f":"Dźwignie!$G$9","v":150000},140995.24146490137,{"$f":"V843-Dźwignie!$D$6","v":120995.24146490137},{"$f":"IF(W843>0,W843*(1-Dźwignie!$D$9),W843)","v":98006.145586570114},{"$f":"X843/Dźwignie!$D$5","v":9.8006145586570117},{"$f":"V843/Dźwignie!$D$2","v":0.70497620732450683},{"$f":"X843/Dźwignie!$D$3","v":0.98006145586570115},2.0638656910796542,1.1652957567409927,2.4050139322984374]
[832,0.97928023338317871,{"$f":"NORMINV(B844,Dźwignie!$L$8,Dźwignie!$L$9)","v":451955.25805307005},{"$f":"Dźwignie!$L$7*C844","v":677932.88707960513},null,{"$f":"C844*Dźwignie!$G$5","v":451955.25805307005},225977.62902653508,{"$f":"Dźwignie!$G$6","v":50000},175977.62902653508,{"$f":"I844-Dźwignie!$D$6","v":155977.62902653508},{"$f":"IF(J844>0,J844*(1-Dźwignie!$D$9),J844)","v":126341.87951149343},{"$f":"K844/Dźwignie!$D$5","v":12.634187951149343},{"$f":"I844/Dźwignie!$D$2","v":0.87988814513267544},{"$f":"K844/Dźwignie!$D$3","v":1.2634187951149343},1.284127023852905,1.1282235159286693,1.4487823057503426,null,{"$f":"C844*Dźwignie!$G$8","v":225977.62902653503},451955.25805307011,{"$f":"Dźwignie!$G$9","v":150000},301955.25805307011,{"$f":"V844-Dźwignie!$D$6","v":281955.25805307011},{"$f":"IF(W844>0,W844*(1-Dźwignie!$D$9),W844)","v":228383.75902298681},{"$f":"X844/Dźwignie!$D$5","v":22.838375902298679},{"$f":"V844/Dźwignie!$D$2","v":1.5097762902653507},{"$f":"X844/Dźwignie!$D$3","v":2.2838375902298682},1.4967623381263881,1.0709332400399341,1.6029325403394401]
[833,0.80847829580307007,{"$f":"NORMINV(B845,Dźwignie!$L$8,Dźwignie!$L$9)","v":393615.1218615832},{"$f":"Dźwignie!$L$7*C845","v":590422.68279237486},null,{"$f":"C845*Dźwignie!$G$5","v":393615.1218615832},{"$f":"$D845-F845","v":196807.56093079166},{"$f":"Dźwignie!$G$6","v":50000},{"$f":"G845-H845","v":146807.56093079166},{"$f":"I845-Dźwignie!$D$6","v":126807.56093079166},{"$f":"IF(J845>0,J845*(1-Dźwignie!$D$9),J845)","v":102714.12435394125},{"$f":"K845/Dźwignie!$D$5","v":10.271412435394126},{"$f":"I845/Dźwignie!$D$2","v":0.73403780465395829},{"$f":"K845/Dźwignie!$D$3","v":1.0271412435394125},{"$f":"IF(I845<>0,G845/I845,\"N   \")","v":1.3405819133768668},{"$f":"IF(J845<>0,I845/J845,\"N   \")","v":1.1577193020131937},{"$f":"IF(ISTEXT(O845),O845,IF(ISTEXT(P845),P845,O845*P845))","v":1.5520175570461781},null,{"$f":"C845*Dźwignie!$G$8","v":196807.5609307916},{"$f":"$D845-S845","v":393615.12186158326},{"$f":"Dźwignie!$G$9","v":150000},{"$f":"T845-U845","v":243615.12186158326},{"$f":"V845-Dźwignie!$D$6","v":223615.12186158326},{"$f":"IF(W845>0,W845*(1-Dźwignie!$D$9),W845)","v":181128.24870788245},{"$f":"X845/Dźwignie!$D$5","v":18.112824870788245},{"$f":"V845/Dźwignie!$D$2","v":1.2180756093079164},{"$f":"X845/Dźwignie!$D$3","v":1.8112824870788244},{"$f":"IF(V845<>0,T845/V845,\"N   \")","v":1.6157253246587324},{"$f":"IF(W845<>0,V845/W845,\"N   \")","v":1.0894393895792964},{"$f":"IF(ISTEXT(AB845),AB845,IF(ISTEXT(AC845),AC845,AB845*AC845))","v":1.7602348114240201}]
[834,2.8098464012145996E-2,{"$f":"NORMINV(B846,Dźwignie!$L$8,Dźwignie!$L$9)","v":254524.73086609197},{"$f":"Dźwignie!$L$7*C846","v":381787.09629913792},null,{"$f":"C846*Dźwignie!$G$5","v":254524.73086609197},127262.36543304595,{"$f":"Dźwignie!$G$6","v":50000},77262.365433045954,{"$f":"I846-Dźwignie!$D$6","v":57262.365433045954},{"$f":"IF(J846>0,J846*(1-Dźwignie!$D$9),J846)","v":46382.516000767224},{"$f":"K846/Dźwignie!$D$5","v":4.638251600076722},{"$f":"I846/Dźwignie!$D$2","v":0.38631182716522977},{"$f":"K846/Dźwignie!$D$3","v":0.46382516000767227},1.6471456021279729,1.3492695394042884,2.2224433879150092,null,{"$f":"C846*Dźwignie!$G$8","v":127262.36543304598},254524.73086609194,{"$f":"Dźwignie!$G$9","v":150000},104524.73086609194,{"$f":"V846-Dźwignie!$D$6","v":84524.730866091937},{"$f":"IF(W846>0,W846*(1-Dźwignie!$D$9),W846)","v":68465.032001534477},{"$f":"X846/Dźwignie!$D$5","v":6.8465032001534478},{"$f":"V846/Dźwignie!$D$2","v":0.52262365433045965},{"$f":"X846/Dźwignie!$D$3","v":0.68465032001534476},2.4350670770170848,1.2366171390913381,3.0112456822763742]
[835,0.43509489297866821,{"$f":"NORMINV(B847,Dźwignie!$L$8,Dźwignie!$L$9)","v":341829.12886573933},{"$f":"Dźwignie!$L$7*C847","v":512743.693298609},null,{"$f":"C847*Dźwignie!$G$5","v":341829.12886573933},170914.56443286967,{"$f":"Dźwignie!$G$6","v":50000},120914.56443286967,{"$f":"I847-Dźwignie!$D$6","v":100914.56443286967},{"$f":"IF(J847>0,J847*(1-Dźwignie!$D$9),J847)","v":81740.797190624435},{"$f":"K847/Dźwignie!$D$5","v":8.1740797190624441},{"$f":"I847/Dźwignie!$D$2","v":0.60457282216434838},{"$f":"K847/Dźwignie!$D$3","v":0.81740797190624437},1.4135151148624401,1.1981874480893626,1.6936560683127693,null,{"$f":"C847*Dźwignie!$G$8","v":170914.56443286967},341829.12886573933,{"$f":"Dźwignie!$G$9","v":150000},191829.12886573933,{"$f":"V847-Dźwignie!$D$6","v":171829.12886573933},{"$f":"IF(W847>0,W847*(1-Dźwignie!$D$9),W847)","v":139181.59438124887},{"$f":"X847/Dźwignie!$D$5","v":13.918159438124887},{"$f":"V847/Dźwignie!$D$2","v":0.95914564432869664},{"$f":"X847/Dźwignie!$D$3","v":1.3918159438124886},1.7819458957402896,1.1163947005494466,1.989354954670296]
[836,0.45403480529785156,{"$f":"NORMINV(B848,Dźwignie!$L$8,Dźwignie!$L$9)","v":344226.31154454191},{"$f":"Dźwignie!$L$7*C848","v":516339.46731681284},null,{"$f":"C848*Dźwignie!$G$5","v":344226.31154454191},172113.15577227093,{"$f":"Dźwignie!$G$6","v":50000},122113.15577227093,{"$f":"I848-Dźwignie!$D$6","v":102113.15577227093},{"$f":"IF(J848>0,J848*(1-Dźwignie!$D$9),J848)","v":82711.65617553945},{"$f":"K848/Dźwignie!$D$5","v":8.2711656175539456},{"$f":"I848/Dźwignie!$D$2","v":0.61056577886135466},{"$f":"K848/Dźwignie!$D$3","v":0.8271165617553945},1.4094562922707943,1.195861148827907,1.6855140208976742,null,{"$f":"C848*Dźwignie!$G$8","v":172113.15577227095},344226.31154454185,{"$f":"Dźwignie!$G$9","v":150000},194226.31154454185,{"$f":"V848-Dźwignie!$D$6","v":174226.31154454185},{"$f":"IF(W848>0,W848*(1-Dźwignie!$D$9),W848)","v":141123.3123510789},{"$f":"X848/Dźwignie!$D$5","v":14.11233123510789},{"$f":"V848/Dźwignie!$D$2","v":0.9711315577227092},{"$f":"X848/Dźwignie!$D$3","v":1.4112331235107891},1.7722949522500744,1.1147932239550793,1.9757424036181737]
[837,0.36492747068405151,{"$f":"NORMINV(B849,Dźwignie!$L$8,Dźwignie!$L$9)","v":332734.07508320542},{"$f":"Dźwignie!$L$7*C849","v":499101.1126248081},null,{"$f":"C849*Dźwignie!$G$5","v":332734.07508320542},166367.03754160268,{"$f":"Dźwignie!$G$6","v":50000},116367.03754160268,{"$f":"I849-Dźwignie!$D$6","v":96367.03754160268},{"$f":"IF(J849>0,J849*(1-Dźwignie!$D$9),J849)","v":78057.300408698182},{"$f":"K849/Dźwignie!$D$5","v":7.8057300408698183},{"$f":"I849/Dźwignie!$D$2","v":0.58183518770801335},{"$f":"K849/Dźwignie!$D$3","v":0.78057300408698183},1.4296749410856522,1.2075398446420622,1.726389456247218,null,{"$f":"C849*Dźwignie!$G$8","v":166367.03754160271},332734.07508320536,{"$f":"Dźwignie!$G$9","v":150000},182734.07508320536,{"$f":"V849-Dźwignie!$D$6","v":162734.07508320536},{"$f":"IF(W849>0,W849*(1-Dźwignie!$D$9),W849)","v":131814.60081739636},{"$f":"X849/Dźwignie!$D$5","v":13.181460081739637},{"$f":"V849/Dźwignie!$D$2","v":0.9136703754160268},{"$f":"X849/Dźwignie!$D$3","v":1.3181460081739635},1.8208649641929107,1.1228998904487217,2.044649068814135]
[838,0.66661226749420166,{"$f":"NORMINV(B850,Dźwignie!$L$8,Dźwignie!$L$9)","v":371528.88456685626},{"$f":"Dźwignie!$L$7*C850","v":557293.32685028436},null,{"$f":"C850*Dźwignie!$G$5","v":371528.88456685626},185764.4422834281,{"$f":"Dźwignie!$G$6","v":50000},135764.4422834281,{"$f":"I850-Dźwignie!$D$6","v":115764.4422834281},{"$f":"IF(J850>0,J850*(1-Dźwignie!$D$9),J850)","v":93769.198249576773},{"$f":"K850/Dźwignie!$D$5","v":9.3769198249576782},{"$f":"I850/Dźwignie!$D$2","v":0.6788222114171405},{"$f":"K850/Dźwignie!$D$3","v":0.93769198249576768},1.3682849438265854,1.1727646210313323,1.6046761736096631,null,{"$f":"C850*Dźwignie!$G$8","v":185764.44228342813},371528.8845668562,{"$f":"Dźwignie!$G$9","v":150000},221528.8845668562,{"$f":"V850-Dźwignie!$D$6","v":201528.8845668562},{"$f":"IF(W850>0,W850*(1-Dźwignie!$D$9),W850)","v":163238.39649915352},{"$f":"X850/Dźwignie!$D$5","v":16.323839649915353},{"$f":"V850/Dźwignie!$D$2","v":1.107644422834281},{"$f":"X850/Dźwignie!$D$3","v":1.6323839649915353},1.677112604495288,1.0992413571036519,1.8435515353810406]
[839,0.84596949815750122,{"$f":"NORMINV(B851,Dźwignie!$L$8,Dźwignie!$L$9)","v":400964.95367841207},{"$f":"Dźwignie!$L$7*C851","v":601447.43051761808},null,{"$f":"C851*Dźwignie!$G$5","v":400964.95367841207},200482.47683920601,{"$f":"Dźwignie!$G$6","v":50000},150482.47683920601,{"$f":"I851-Dźwignie!$D$6","v":130482.47683920601},{"$f":"IF(J851>0,J851*(1-Dźwignie!$D$9),J851)","v":105690.80623975687},{"$f":"K851/Dźwignie!$D$5","v":10.569080623975687},{"$f":"I851/Dźwignie!$D$2","v":0.75241238419603007},{"$f":"K851/Dźwignie!$D$3","v":1.0569080623975686},1.3322646001728571,1.1532772866094967,1.5364705031332386,null,{"$f":"C851*Dźwignie!$G$8","v":200482.47683920604},400964.95367841201,{"$f":"Dźwignie!$G$9","v":150000},250964.95367841201,{"$f":"V851-Dźwignie!$D$6","v":230964.95367841201},{"$f":"IF(W851>0,W851*(1-Dźwignie!$D$9),W851)","v":187081.61247951374},{"$f":"X851/Dźwignie!$D$5","v":18.708161247951374},{"$f":"V851/Dźwignie!$D$2","v":1.2548247683920601},{"$f":"X851/Dźwignie!$D$3","v":1.8708161247951374},1.5976930157037421,1.0865932241297844,1.7360424051031675]
[840,0.49216294288635254,{"$f":"NORMINV(B852,Dźwignie!$L$8,Dźwignie!$L$9)","v":349017.70736857667},{"$f":"Dźwignie!$L$7*C852","v":523526.561052865},null,{"$f":"C852*Dźwignie!$G$5","v":349017.70736857667},174508.85368428833,{"$f":"Dźwignie!$G$6","v":50000},124508.85368428833,{"$f":"I852-Dźwignie!$D$6","v":104508.85368428833},{"$f":"IF(J852>0,J852*(1-Dźwignie!$D$9),J852)","v":84652.171484273553},{"$f":"K852/Dźwignie!$D$5","v":8.4652171484273548},{"$f":"I852/Dźwignie!$D$2","v":0.62254426842144162},{"$f":"K852/Dźwignie!$D$3","v":0.84652171484273553},1.4015778679224116,1.1913713460145507,1.6697997110509277,null,{"$f":"C852*Dźwignie!$G$8","v":174508.85368428833},349017.70736857667,{"$f":"Dźwignie!$G$9","v":150000},199017.70736857667,{"$f":"V852-Dźwignie!$D$6","v":179017.70736857667},{"$f":"IF(W852>0,W852*(1-Dźwignie!$D$9),W852)","v":145004.34296854711},{"$f":"X852/Dźwignie!$D$5","v":14.50043429685471},{"$f":"V852/Dźwignie!$D$2","v":0.99508853684288334},{"$f":"X852/Dźwignie!$D$3","v":1.450043429685471},1.7537017785166378,1.1117207917249343,1.9496267296619421]
[841,0.68828719854354858,{"$f":"NORMINV(B853,Dźwignie!$L$8,Dźwignie!$L$9)","v":374550.05971054436},{"$f":"Dźwignie!$L$7*C853","v":561825.08956581657},null,{"$f":"C853*Dźwignie!$G$5","v":374550.05971054436},187275.02985527221,{"$f":"Dźwignie!$G$6","v":50000},137275.02985527221,{"$f":"I853-Dźwignie!$D$6","v":117275.02985527221},{"$f":"IF(J853>0,J853*(1-Dźwignie!$D$9),J853)","v":94992.774182770489},{"$f":"K853/Dźwignie!$D$5","v":9.4992774182770496},{"$f":"I853/Dźwignie!$D$2","v":0.68637514927636101},{"$f":"K853/Dźwignie!$D$3","v":0.9499277418277049},1.3642323010434931,1.1705392872181042,1.5968875052633646,null,{"$f":"C853*Dźwignie!$G$8","v":187275.02985527218},374550.05971054442,{"$f":"Dźwignie!$G$9","v":150000},224550.05971054442,{"$f":"V853-Dźwignie!$D$6","v":204550.05971054442},{"$f":"IF(W853>0,W853*(1-Dźwignie!$D$9),W853)","v":165685.54836554098},{"$f":"X853/Dźwignie!$D$5","v":16.568554836554096},{"$f":"V853/Dźwignie!$D$2","v":1.122750298552722},{"$f":"X853/Dźwignie!$D$3","v":1.6568554836554097},1.6680024943807945,1.0977755764447181,1.8310923997801043]
[842,0.63330066204071045,{"$f":"NORMINV(B854,Dźwignie!$L$8,Dźwignie!$L$9)","v":367030.40200359526},{"$f":"Dźwignie!$L$7*C854","v":550545.60300539294},null,{"$f":"C854*Dźwignie!$G$5","v":367030.40200359526},183515.20100179769,{"$f":"Dźwignie!$G$6","v":50000},133515.20100179769,{"$f":"I854-Dźwignie!$D$6","v":113515.20100179769},{"$f":"IF(J854>0,J854*(1-Dźwignie!$D$9),J854)","v":91947.312811456126},{"$f":"K854/Dźwignie!$D$5","v":9.1947312811456126},{"$f":"I854/Dźwignie!$D$2","v":0.66757600500898839},{"$f":"K854/Dźwignie!$D$3","v":0.91947312811456128},1.3744891939257673,1.1761878569873938,1.6166574994558787,null,{"$f":"C854*Dźwignie!$G$8","v":183515.20100179763},367030.40200359531,{"$f":"Dźwignie!$G$9","v":150000},217030.40200359531,{"$f":"V854-Dźwignie!$D$6","v":197030.40200359531},{"$f":"IF(W854>0,W854*(1-Dźwignie!$D$9),W854)","v":159594.62562291222},{"$f":"X854/Dźwignie!$D$5","v":15.959462562291222},{"$f":"V854/Dźwignie!$D$2","v":1.0851520100179766},{"$f":"X854/Dźwignie!$D$3","v":1.5959462562291222},1.6911474089123932,1.1015071775554468,1.8628110092212973]
[843,0.38560158014297485,{"$f":"NORMINV(B855,Dźwignie!$L$8,Dźwignie!$L$9)","v":335459.92645251635},{"$f":"Dźwignie!$L$7*C855","v":503189.88967877452},null,{"$f":"C855*Dźwignie!$G$5","v":335459.92645251635},167729.96322625817,{"$f":"Dźwignie!$G$6","v":50000},117729.96322625817,{"$f":"I855-Dźwignie!$D$6","v":97729.963226258173},{"$f":"IF(J855>0,J855*(1-Dźwignie!$D$9),J855)","v":79161.270213269119},{"$f":"K855/Dźwignie!$D$5","v":7.9161270213269121},{"$f":"I855/Dźwignie!$D$2","v":0.58864981613129086},{"$f":"K855/Dźwignie!$D$3","v":0.79161270213269119},1.4247007187448788,1.2046455287586395,1.7162593506552384,null,{"$f":"C855*Dźwignie!$G$8","v":167729.96322625817},335459.92645251635,{"$f":"Dźwignie!$G$9","v":150000},185459.92645251635,{"$f":"V855-Dźwignie!$D$6","v":165459.92645251635},{"$f":"IF(W855>0,W855*(1-Dźwignie!$D$9),W855)","v":134022.54042653824},{"$f":"X855/Dźwignie!$D$5","v":13.402254042653825},{"$f":"V855/Dźwignie!$D$2","v":0.92729963226258172},{"$f":"X855/Dźwignie!$D$3","v":1.3402254042653823},1.808800061928229,1.1208751897139251,2.0274391125683628]
[844,0.80417490005493164,{"$f":"NORMINV(B856,Dźwignie!$L$8,Dźwignie!$L$9)","v":392831.42770185735},{"$f":"Dźwignie!$L$7*C856","v":589247.14155278599},null,{"$f":"C856*Dźwignie!$G$5","v":392831.42770185735},196415.71385092865,{"$f":"Dźwignie!$G$6","v":50000},146415.71385092865,{"$f":"I856-Dźwignie!$D$6","v":126415.71385092865},{"$f":"IF(J856>0,J856*(1-Dźwignie!$D$9),J856)","v":102396.72821925221},{"$f":"K856/Dźwignie!$D$5","v":10.239672821925222},{"$f":"I856/Dźwignie!$D$2","v":0.73207856925464321},{"$f":"K856/Dźwignie!$D$3","v":1.0239672821925221},1.3414934004345114,1.1582081799070036,1.5537286296745125,null,{"$f":"C856*Dźwignie!$G$8","v":196415.71385092867},392831.42770185729,{"$f":"Dźwignie!$G$9","v":150000},242831.42770185729,{"$f":"V856-Dźwignie!$D$6","v":222831.42770185729},{"$f":"IF(W856>0,W856*(1-Dźwignie!$D$9),W856)","v":180493.45643850442},{"$f":"X856/Dźwignie!$D$5","v":18.049345643850444},{"$f":"V856/Dźwignie!$D$2","v":1.2141571385092864},{"$f":"X856/Dźwignie!$D$3","v":1.8049345643850443},1.617712465884632,1.0897539463183779,1.762908543706212]
[845,0.20952671766281128,{"$f":"NORMINV(B857,Dźwignie!$L$8,Dźwignie!$L$9)","v":309596.77350882062},{"$f":"Dźwignie!$L$7*C857","v":464395.16026323091},null,{"$f":"C857*Dźwignie!$G$5","v":309596.77350882062},154798.38675441028,{"$f":"Dźwignie!$G$6","v":50000},104798.38675441028,{"$f":"I857-Dźwignie!$D$6","v":84798.386754410283},{"$f":"IF(J857>0,J857*(1-Dźwignie!$D$9),J857)","v":68686.693271072334},{"$f":"K857/Dźwignie!$D$5","v":6.8686693271072334},{"$f":"I857/Dźwignie!$D$2","v":0.52399193377205144},{"$f":"K857/Dźwignie!$D$3","v":0.6868669327107233},1.4771065810122868,1.2358535435104823,1.8254874022866878,null,{"$f":"C857*Dźwignie!$G$8","v":154798.38675441031},309596.77350882057,{"$f":"Dźwignie!$G$9","v":150000},159596.77350882057,{"$f":"V857-Dźwignie!$D$6","v":139596.77350882057},{"$f":"IF(W857>0,W857*(1-Dźwignie!$D$9),W857)","v":113073.38654214467},{"$f":"X857/Dźwignie!$D$5","v":11.307338654214467},{"$f":"V857/Dźwignie!$D$2","v":0.79798386754410289},{"$f":"X857/Dźwignie!$D$3","v":1.1307338654214467},1.9398686245477879,1.1432697869534663,2.2177931891044631]
[846,0.94775593280792236,{"$f":"NORMINV(B858,Dźwignie!$L$8,Dźwignie!$L$9)","v":431173.69592681807},{"$f":"Dźwignie!$L$7*C858","v":646760.5438902271},null,{"$f":"C858*Dźwignie!$G$5","v":431173.69592681807},215586.84796340903,{"$f":"Dźwignie!$G$6","v":50000},165586.84796340903,{"$f":"I858-Dźwignie!$D$6","v":145586.84796340903},{"$f":"IF(J858>0,J858*(1-Dźwignie!$D$9),J858)","v":117925.34685036133},{"$f":"K858/Dźwignie!$D$5","v":11.792534685036133},{"$f":"I858/Dźwignie!$D$2","v":0.82793423981704517},{"$f":"K858/Dźwignie!$D$3","v":1.1792534685036133},1.3019563486772143,1.1373750464398178,1.4808126625393623,null,{"$f":"C858*Dźwignie!$G$8","v":215586.84796340903},431173.69592681807,{"$f":"Dźwignie!$G$9","v":150000},281173.69592681807,{"$f":"V858-Dźwignie!$D$6","v":261173.69592681807},{"$f":"IF(W858>0,W858*(1-Dźwignie!$D$9),W858)","v":211550.69370072265},{"$f":"X858/Dźwignie!$D$5","v":21.155069370072265},{"$f":"V858/Dźwignie!$D$2","v":1.4058684796340903},{"$f":"X858/Dźwignie!$D$3","v":2.1155069370072264},1.5334780677316309,1.0765773901120734,1.6509078159526245]
[847,5.7714283466339111E-2,{"$f":"NORMINV(B859,Dźwignie!$L$8,Dźwignie!$L$9)","v":271287.26261203858},{"$f":"Dźwignie!$L$7*C859","v":406930.8939180579},null,{"$f":"C859*Dźwignie!$G$5","v":271287.26261203858},135643.63130601932,{"$f":"Dźwignie!$G$6","v":50000},85643.631306019321,{"$f":"I859-Dźwignie!$D$6","v":65643.631306019321},{"$f":"IF(J859>0,J859*(1-Dźwignie!$D$9),J859)","v":53171.341357875652},{"$f":"K859/Dźwignie!$D$5","v":5.3171341357875654},{"$f":"I859/Dźwignie!$D$2","v":0.42821815653009659},{"$f":"K859/Dźwignie!$D$3","v":0.53171341357875657},1.5838145725201849,1.304675405703311,2.0663639199615882,null,{"$f":"C859*Dźwignie!$G$8","v":135643.63130601929},271287.26261203864,{"$f":"Dźwignie!$G$9","v":150000},121287.26261203864,{"$f":"V859-Dźwignie!$D$6","v":101287.26261203864},{"$f":"IF(W859>0,W859*(1-Dźwignie!$D$9),W859)","v":82042.682715751303},{"$f":"X859/Dźwignie!$D$5","v":8.2042682715751312},{"$f":"V859/Dźwignie!$D$2","v":0.60643631306019319},{"$f":"X859/Dźwignie!$D$3","v":0.82042682715751303},2.2367333285425426,1.1974581944879501,2.678394653147576]
[848,0.19140124320983887,{"$f":"NORMINV(B860,Dźwignie!$L$8,Dźwignie!$L$9)","v":306362.78690832673},{"$f":"Dźwignie!$L$7*C860","v":459544.18036249012},null,{"$f":"C860*Dźwignie!$G$5","v":306362.78690832673},153181.39345416339,{"$f":"Dźwignie!$G$6","v":50000},103181.39345416339,{"$f":"I860-Dźwignie!$D$6","v":83181.393454163393},{"$f":"IF(J860>0,J860*(1-Dźwignie!$D$9),J860)","v":67376.928697872354},{"$f":"K860/Dźwignie!$D$5","v":6.7376928697872351},{"$f":"I860/Dźwignie!$D$2","v":0.51590696727081697},{"$f":"K860/Dźwignie!$D$3","v":0.67376928697872351},1.4845834924899679,1.2404383861520771,1.8415343515322702,null,{"$f":"C860*Dźwignie!$G$8","v":153181.39345416336},306362.78690832679,{"$f":"Dźwignie!$G$9","v":150000},156362.78690832679,{"$f":"V860-Dźwignie!$D$6","v":136362.78690832679},{"$f":"IF(W860>0,W860*(1-Dźwignie!$D$9),W860)","v":110453.85739574471},{"$f":"X860/Dźwignie!$D$5","v":11.045385739574471},{"$f":"V860/Dźwignie!$D$2","v":0.78181393454163395},{"$f":"X860/Dźwignie!$D$3","v":1.1045385739574471},1.9593075370800521,1.1466675803087354,2.2466744326242511]
[849,8.71543288230896E-2,{"$f":"NORMINV(B861,Dźwignie!$L$8,Dźwignie!$L$9)","v":282075.5637158539},{"$f":"Dźwignie!$L$7*C861","v":423113.34557378083},null,{"$f":"C861*Dźwignie!$G$5","v":282075.5637158539},141037.78185792692,{"$f":"Dźwignie!$G$6","v":50000},91037.781857926922,{"$f":"I861-Dźwignie!$D$6","v":71037.781857926922},{"$f":"IF(J861>0,J861*(1-Dźwignie!$D$9),J861)","v":57540.603304920813},{"$f":"K861/Dźwignie!$D$5","v":5.7540603304920817},{"$f":"I861/Dźwignie!$D$2","v":0.45518890928963462},{"$f":"K861/Dźwignie!$D$3","v":0.57540603304920812},1.5492225203600603,1.281540322303409,1.9853911280619312,null,{"$f":"C861*Dźwignie!$G$8","v":141037.78185792695},282075.56371585384,{"$f":"Dźwignie!$G$9","v":150000},132075.56371585384,{"$f":"V861-Dźwignie!$D$6","v":112075.56371585384},{"$f":"IF(W861>0,W861*(1-Dźwignie!$D$9),W861)","v":90781.206609841625},{"$f":"X861/Dźwignie!$D$5","v":9.0781206609841618},{"$f":"V861/Dźwignie!$D$2","v":0.66037781857926925},{"$f":"X861/Dźwignie!$D$3","v":0.90781206609841625},2.1357134944561631,1.1784510319368651,2.5168337714633537]
[850,0.4469531774520874,{"$f":"NORMINV(B862,Dźwignie!$L$8,Dźwignie!$L$9)","v":343331.85311117087},{"$f":"Dźwignie!$L$7*C862","v":514997.77966675628},null,{"$f":"C862*Dźwignie!$G$5","v":343331.85311117087},171665.92655558541,{"$f":"Dźwignie!$G$6","v":50000},121665.92655558541,{"$f":"I862-Dźwignie!$D$6","v":101665.92655558541},{"$f":"IF(J862>0,J862*(1-Dźwignie!$D$9),J862)","v":82349.400510024192},{"$f":"K862/Dźwignie!$D$5","v":8.23494005100242},{"$f":"I862/Dźwignie!$D$2","v":0.60832963277792707},{"$f":"K862/Dźwignie!$D$3","v":0.82349400510024195},1.4109614040308693,1.1967227435739258,1.6885296025087404,null,{"$f":"C862*Dźwignie!$G$8","v":171665.92655558544},343331.85311117081,{"$f":"Dźwignie!$G$9","v":150000},193331.85311117081,{"$f":"V862-Dźwignie!$D$6","v":173331.85311117081},{"$f":"IF(W862>0,W862*(1-Dźwignie!$D$9),W862)","v":140398.80102004835},{"$f":"X862/Dźwignie!$D$5","v":14.039880102004835},{"$f":"V862/Dźwignie!$D$2","v":0.96665926555585402},{"$f":"X862/Dźwignie!$D$3","v":1.4039880102004836},1.7758680092604613,1.1153856007480201,1.9807776063581701]
[851,0.41388231515884399,{"$f":"NORMINV(B863,Dźwignie!$L$8,Dźwignie!$L$9)","v":339121.53011039121},{"$f":"Dźwignie!$L$7*C863","v":508682.29516558681},null,{"$f":"C863*Dźwignie!$G$5","v":339121.53011039121},169560.7650551956,{"$f":"Dźwignie!$G$6","v":50000},119560.7650551956,{"$f":"I863-Dźwignie!$D$6","v":99560.765055195603},{"$f":"IF(J863>0,J863*(1-Dźwignie!$D$9),J863)","v":80644.219694708445},{"$f":"K863/Dźwignie!$D$5","v":8.0644219694708443},{"$f":"I863/Dźwignie!$D$2","v":0.59780382527597797},{"$f":"K863/Dźwignie!$D$3","v":0.80644219694708441},1.4181973908992414,1.2008823454591995,1.7030882091071982,null,{"$f":"C863*Dźwignie!$G$8","v":169560.7650551956},339121.53011039121,{"$f":"Dźwignie!$G$9","v":150000},189121.53011039121,{"$f":"V863-Dźwignie!$D$6","v":169121.53011039121},{"$f":"IF(W863>0,W863*(1-Dźwignie!$D$9),W863)","v":136988.43938941689},{"$f":"X863/Dźwignie!$D$5","v":13.698843938941689},{"$f":"V863/Dźwignie!$D$2","v":0.94560765055195606},{"$f":"X863/Dźwignie!$D$3","v":1.3698843938941689},1.7931407910693418,1.1182581542808023,2.0051943113868198]
[852,0.81161785125732422,{"$f":"NORMINV(B864,Dźwignie!$L$8,Dźwignie!$L$9)","v":394193.69411634724},{"$f":"Dźwignie!$L$7*C864","v":591290.54117452085},null,{"$f":"C864*Dźwignie!$G$5","v":394193.69411634724},197096.84705817362,{"$f":"Dźwignie!$G$6","v":50000},147096.84705817362,{"$f":"I864-Dźwignie!$D$6","v":127096.84705817362},{"$f":"IF(J864>0,J864*(1-Dźwignie!$D$9),J864)","v":102948.44611712063},{"$f":"K864/Dźwignie!$D$5","v":10.294844611712064},{"$f":"I864/Dźwignie!$D$2","v":0.73548423529086804},{"$f":"K864/Dźwignie!$D$3","v":1.0294844611712064},1.3399121123257394,1.1573603158766463,1.5507611055682622,null,{"$f":"C864*Dźwignie!$G$8","v":197096.84705817362},394193.69411634724,{"$f":"Dźwignie!$G$9","v":150000},244193.69411634724,{"$f":"V864-Dźwignie!$D$6","v":224193.69411634724},{"$f":"IF(W864>0,W864*(1-Dźwignie!$D$9),W864)","v":181596.89223424127},{"$f":"X864/Dźwignie!$D$5","v":18.159689223424127},{"$f":"V864/Dźwignie!$D$2","v":1.2209684705817361},{"$f":"X864/Dźwignie!$D$3","v":1.8159689223424127},1.6142664762200281,1.089208575106581,1.7582728884059382]
[853,0.41034239530563354,{"$f":"NORMINV(B865,Dźwignie!$L$8,Dźwignie!$L$9)","v":338666.78509835346},{"$f":"Dźwignie!$L$7*C865","v":508000.17764753022},null,{"$f":"C865*Dźwignie!$G$5","v":338666.78509835346},169333.39254917676,{"$f":"Dźwignie!$G$6","v":50000},119333.39254917676,{"$f":"I865-Dźwignie!$D$6","v":99333.392549176759},{"$f":"IF(J865>0,J865*(1-Dźwignie!$D$9),J865)","v":80460.047964833182},{"$f":"K865/Dźwignie!$D$5","v":8.0460047964833183},{"$f":"I865/Dźwignie!$D$2","v":0.59666696274588382},{"$f":"K865/Dźwignie!$D$3","v":0.80460047964833181},1.4189942054936151,1.2013421618525577,1.7046975664839521,null,{"$f":"C865*Dźwignie!$G$8","v":169333.39254917673},338666.78509835352,{"$f":"Dźwignie!$G$9","v":150000},188666.78509835352,{"$f":"V865-Dźwignie!$D$6","v":168666.78509835352},{"$f":"IF(W865>0,W865*(1-Dźwignie!$D$9),W865)","v":136620.09592966636},{"$f":"X865/Dźwignie!$D$5","v":13.662009592966637},{"$f":"V865/Dźwignie!$D$2","v":0.94333392549176753},{"$f":"X865/Dźwignie!$D$3","v":1.3662009592966637},1.795052504455428,1.1185769918383013,2.0079044306255613]
[854,0.17587530612945557,{"$f":"NORMINV(B866,Dźwignie!$L$8,Dźwignie!$L$9)","v":303440.04779422696},{"$f":"Dźwignie!$L$7*C866","v":455160.07169134042},null,{"$f":"C866*Dźwignie!$G$5","v":303440.04779422696},151720.02389711345,{"$f":"Dźwignie!$G$6","v":50000},101720.02389711345,{"$f":"I866-Dźwignie!$D$6","v":81720.023897113453},{"$f":"IF(J866>0,J866*(1-Dźwignie!$D$9),J866)","v":66193.219356661895},{"$f":"K866/Dźwignie!$D$5","v":6.6193219356661892},{"$f":"I866/Dźwignie!$D$2","v":0.50860011948556727},{"$f":"K866/Dźwignie!$D$3","v":0.66193219356661892},1.4915453033177952,1.2447380586327319,1.8565832052145617,null,{"$f":"C866*Dźwignie!$G$8","v":151720.02389711348},303440.04779422691,{"$f":"Dźwignie!$G$9","v":150000},153440.04779422691,{"$f":"V866-Dźwignie!$D$6","v":133440.04779422691},{"$f":"IF(W866>0,W866*(1-Dźwignie!$D$9),W866)","v":108086.43871332381},{"$f":"X866/Dźwignie!$D$5","v":10.80864387133238},{"$f":"V866/Dźwignie!$D$2","v":0.76720023897113454},{"$f":"X866/Dźwignie!$D$3","v":1.080864387133238},1.9775805088457725,1.1498800422407018,2.2739803590459657]
[855,0.3816569447517395,{"$f":"NORMINV(B867,Dźwignie!$L$8,Dźwignie!$L$9)","v":334943.40322038875},{"$f":"Dźwignie!$L$7*C867","v":502415.10483058309},null,{"$f":"C867*Dźwignie!$G$5","v":334943.40322038875},167471.70161019434,{"$f":"Dźwignie!$G$6","v":50000},117471.70161019434,{"$f":"I867-Dźwignie!$D$6","v":97471.701610194345},{"$f":"IF(J867>0,J867*(1-Dźwignie!$D$9),J867)","v":78952.078304257418},{"$f":"K867/Dźwignie!$D$5","v":7.8952078304257416},{"$f":"I867/Dźwignie!$D$2","v":0.58735850805097167},{"$f":"K867/Dźwignie!$D$3","v":0.78952078304257423},1.425634423564534,1.2051877588018658,1.7181571558065305,null,{"$f":"C867*Dźwignie!$G$8","v":167471.70161019437},334943.40322038869,{"$f":"Dźwignie!$G$9","v":150000},184943.40322038869,{"$f":"V867-Dźwignie!$D$6","v":164943.40322038869},{"$f":"IF(W867>0,W867*(1-Dźwignie!$D$9),W867)","v":133604.15660851484},{"$f":"X867/Dźwignie!$D$5","v":13.360415660851483},{"$f":"V867/Dźwignie!$D$2","v":0.92471701610194346},{"$f":"X867/Dźwignie!$D$3","v":1.3360415660851483},1.8110589368859606,1.1212537125433082,2.0306565566181201]
[856,0.6946709156036377,{"$f":"NORMINV(B868,Dźwignie!$L$8,Dźwignie!$L$9)","v":375456.70944928058},{"$f":"Dźwignie!$L$7*C868","v":563185.06417392089},null,{"$f":"C868*Dźwignie!$G$5","v":375456.70944928058},187728.35472464032,{"$f":"Dźwignie!$G$6","v":50000},137728.35472464032,{"$f":"I868-Dźwignie!$D$6","v":117728.35472464032},{"$f":"IF(J868>0,J868*(1-Dźwignie!$D$9),J868)","v":95359.967326958664},{"$f":"K868/Dźwignie!$D$5","v":9.5359967326958657},{"$f":"I868/Dźwignie!$D$2","v":0.68864177362320156},{"$f":"K868/Dźwignie!$D$3","v":0.95359967326958661},1.3630334516081657,1.1698826085421716,1.5945891298976007,null,{"$f":"C868*Dźwignie!$G$8","v":187728.35472464029},375456.70944928064,{"$f":"Dźwignie!$G$9","v":150000},225456.70944928064,{"$f":"V868-Dźwignie!$D$6","v":205456.70944928064},{"$f":"IF(W868>0,W868*(1-Dźwignie!$D$9),W868)","v":166419.93465391733},{"$f":"X868/Dźwignie!$D$5","v":16.641993465391732},{"$f":"V868/Dźwignie!$D$2","v":1.1272835472464031},{"$f":"X868/Dźwignie!$D$3","v":1.6641993465391733},1.6653161946983193,1.0973441074453556,1.8274249132855231]
[857,0.65205234289169312,{"$f":"NORMINV(B869,Dźwignie!$L$8,Dźwignie!$L$9)","v":369543.36578480457},{"$f":"Dźwignie!$L$7*C869","v":554315.04867720685},null,{"$f":"C869*Dźwignie!$G$5","v":369543.36578480457},184771.68289240228,{"$f":"Dźwignie!$G$6","v":50000},134771.68289240228,{"$f":"I869-Dźwignie!$D$6","v":114771.68289240228},{"$f":"IF(J869>0,J869*(1-Dźwignie!$D$9),J869)","v":92965.063142845858},{"$f":"K869/Dźwignie!$D$5","v":9.296506314284585},{"$f":"I869/Dźwignie!$D$2","v":0.67385841446201145},{"$f":"K869/Dźwignie!$D$3","v":0.92965063142845861},1.370997815912995,1.1742590114213962,1.6099065399748869,null,{"$f":"C869*Dźwignie!$G$8","v":184771.68289240228},369543.36578480457,{"$f":"Dźwignie!$G$9","v":150000},219543.36578480457,{"$f":"V869-Dźwignie!$D$6","v":199543.36578480457},{"$f":"IF(W869>0,W869*(1-Dźwignie!$D$9),W869)","v":161630.12628569172},{"$f":"X869/Dźwignie!$D$5","v":16.16301262856917},{"$f":"V869/Dźwignie!$D$2","v":1.0977168289240229},{"$f":"X869/Dźwignie!$D$3","v":1.6163012628569171},1.683236313991056,1.100228839587525,1.8519451364939625]
[858,2.8138041496276855E-2,{"$f":"NORMINV(B870,Dźwignie!$L$8,Dźwignie!$L$9)","v":254555.42237355563},{"$f":"Dźwignie!$L$7*C870","v":381833.13356033346},null,{"$f":"C870*Dźwignie!$G$5","v":254555.42237355563},127277.71118677783,{"$f":"Dźwignie!$G$6","v":50000},77277.711186777829,{"$f":"I870-Dźwignie!$D$6","v":57277.711186777829},{"$f":"IF(J870>0,J870*(1-Dźwignie!$D$9),J870)","v":46394.946061290044},{"$f":"K870/Dźwignie!$D$5","v":4.6394946061290048},{"$f":"I870/Dźwignie!$D$2","v":0.38638855593388916},{"$f":"K870/Dźwignie!$D$3","v":0.46394946061290043},1.6470170924078167,1.3491759636620546,2.2221158728171915,null,{"$f":"C870*Dźwignie!$G$8","v":127277.71118677781},254555.42237355566,{"$f":"Dźwignie!$G$9","v":150000},104555.42237355566,{"$f":"V870-Dźwignie!$D$6","v":84555.422373555659},{"$f":"IF(W870>0,W870*(1-Dźwignie!$D$9),W870)","v":68489.892122580088},{"$f":"X870/Dźwignie!$D$5","v":6.8489892122580089},{"$f":"V870/Dźwignie!$D$2","v":0.52277711186777831},{"$f":"X870/Dźwignie!$D$3","v":0.68489892122580087},2.4346458231891592,1.236531252976804,3.0105156503028336]
[859,0.34269100427627563,{"$f":"NORMINV(B871,Dźwignie!$L$8,Dźwignie!$L$9)","v":329743.50359338959},{"$f":"Dźwignie!$L$7*C871","v":494615.25539008435},null,{"$f":"C871*Dźwignie!$G$5","v":329743.50359338959},164871.75179669476,{"$f":"Dźwignie!$G$6","v":50000},114871.75179669476,{"$f":"I871-Dźwignie!$D$6","v":94871.751796694763},{"$f":"IF(J871>0,J871*(1-Dźwignie!$D$9),J871)","v":76846.11895532276},{"$f":"K871/Dźwignie!$D$5","v":7.6846118955322762},{"$f":"I871/Dźwignie!$D$2","v":0.57435875898347377},{"$f":"K871/Dźwignie!$D$3","v":0.76846118955322762},1.4352680203614572,1.2108109065263069,1.7378381728420738,null,{"$f":"C871*Dźwignie!$G$8","v":164871.75179669479},329743.50359338953,{"$f":"Dźwignie!$G$9","v":150000},179743.50359338953,{"$f":"V871-Dźwignie!$D$6","v":159743.50359338953},{"$f":"IF(W871>0,W871*(1-Dźwignie!$D$9),W871)","v":129392.23791064552},{"$f":"X871/Dźwignie!$D$5","v":12.939223791064553},{"$f":"V871/Dźwignie!$D$2","v":0.89871751796694765},{"$f":"X871/Dźwignie!$D$3","v":1.2939223791064551},1.8345225112520651,1.1252007095756953,2.0642060313934101]
[860,0.5081019401550293,{"$f":"NORMINV(B872,Dźwignie!$L$8,Dźwignie!$L$9)","v":351015.49742371234},{"$f":"Dźwignie!$L$7*C872","v":526523.24613556848},null,{"$f":"C872*Dźwignie!$G$5","v":351015.49742371234},175507.74871185614,{"$f":"Dźwignie!$G$6","v":50000},125507.74871185614,{"$f":"I872-Dźwignie!$D$6","v":105507.74871185614},{"$f":"IF(J872>0,J872*(1-Dźwignie!$D$9),J872)","v":85461.276456603475},{"$f":"K872/Dźwignie!$D$5","v":8.5461276456603468},{"$f":"I872/Dźwignie!$D$2","v":0.62753874355928074},{"$f":"K872/Dźwignie!$D$3","v":0.85461276456603474},1.3983817773258866,1.1895595370404539,1.6634583796415889,null,{"$f":"C872*Dźwignie!$G$8","v":175507.74871185617},351015.49742371228,{"$f":"Dźwignie!$G$9","v":150000},201015.49742371228,{"$f":"V872-Dźwignie!$D$6","v":181015.49742371228},{"$f":"IF(W872>0,W872*(1-Dźwignie!$D$9),W872)","v":146622.55291320695},{"$f":"X872/Dźwignie!$D$5","v":14.662255291320696},{"$f":"V872/Dźwignie!$D$2","v":1.0050774871185615},{"$f":"X872/Dźwignie!$D$3","v":1.4662255291320696},1.7462111226370829,1.1104877774812008,1.9391461085902066]
[861,0.37215965986251831,{"$f":"NORMINV(B873,Dźwignie!$L$8,Dźwignie!$L$9)","v":333693.05850490078},{"$f":"Dźwignie!$L$7*C873","v":500539.58775735117},null,{"$f":"C873*Dźwignie!$G$5","v":333693.05850490078},166846.52925245039,{"$f":"Dźwignie!$G$6","v":50000},116846.52925245039,{"$f":"I873-Dźwignie!$D$6","v":96846.529252450389},{"$f":"IF(J873>0,J873*(1-Dźwignie!$D$9),J873)","v":78445.688694484823},{"$f":"K873/Dźwignie!$D$5","v":7.8445688694484819},{"$f":"I873/Dźwignie!$D$2","v":0.58423264626225191},{"$f":"K873/Dźwignie!$D$3","v":0.78445688694484828},1.4279117259184781,1.206512305132442,1.7227930679635468,null,{"$f":"C873*Dźwignie!$G$8","v":166846.52925245039},333693.05850490078,{"$f":"Dźwignie!$G$9","v":150000},183693.05850490078,{"$f":"V873-Dźwignie!$D$6","v":163693.05850490078},{"$f":"IF(W873>0,W873*(1-Dźwignie!$D$9),W873)","v":132591.37738896965},{"$f":"X873/Dźwignie!$D$5","v":13.259137738896964},{"$f":"V873/Dźwignie!$D$2","v":0.91846529252450393},{"$f":"X873/Dźwignie!$D$3","v":1.3259137738896964},1.8165795769359359,1.122179890721519,2.0385290711329116]
[862,0.63661491870880127,{"$f":"NORMINV(B874,Dźwignie!$L$8,Dźwignie!$L$9)","v":367471.25698523707},{"$f":"Dźwignie!$L$7*C874","v":551206.88547785557},null,{"$f":"C874*Dźwignie!$G$5","v":367471.25698523707},183735.6284926185,{"$f":"Dźwignie!$G$6","v":50000},133735.6284926185,{"$f":"I874-Dźwignie!$D$6","v":113735.6284926185},{"$f":"IF(J874>0,J874*(1-Dźwignie!$D$9),J874)","v":92125.859079021},{"$f":"K874/Dźwignie!$D$5","v":9.2125859079021009},{"$f":"I874/Dźwignie!$D$2","v":0.66867814246309254},{"$f":"K874/Dźwignie!$D$3","v":0.92125859079021},1.3738719484371342,1.1758463927712679,1.6154623746994377,null,{"$f":"C874*Dźwignie!$G$8","v":183735.62849261853},367471.25698523701,{"$f":"Dźwignie!$G$9","v":150000},217471.25698523701,{"$f":"V874-Dźwignie!$D$6","v":197471.25698523701},{"$f":"IF(W874>0,W874*(1-Dźwignie!$D$9),W874)","v":159951.718158042},{"$f":"X874/Dźwignie!$D$5","v":15.9951718158042},{"$f":"V874/Dźwignie!$D$2","v":1.0873562849261851},{"$f":"X874/Dźwignie!$D$3","v":1.5995171815804201},1.6897463236264954,1.1012805625757232,1.8608847818936467]
[863,0.46086388826370239,{"$f":"NORMINV(B875,Dźwignie!$L$8,Dźwignie!$L$9)","v":345087.12195354409},{"$f":"Dźwignie!$L$7*C875","v":517630.68293031614},null,{"$f":"C875*Dźwignie!$G$5","v":345087.12195354409},172543.56097677205,{"$f":"Dźwignie!$G$6","v":50000},122543.56097677205,{"$f":"I875-Dźwignie!$D$6","v":102543.56097677205},{"$f":"IF(J875>0,J875*(1-Dźwignie!$D$9),J875)","v":83060.284391185356},{"$f":"K875/Dźwignie!$D$5","v":8.3060284391185348},{"$f":"I875/Dźwignie!$D$2","v":0.61271780488386018},{"$f":"K875/Dźwignie!$D$3","v":0.83060284391185357},1.4080181741207718,1.1950390625163716,1.6826367188073004,null,{"$f":"C875*Dźwignie!$G$8","v":172543.56097677205},345087.12195354409,{"$f":"Dźwignie!$G$9","v":150000},195087.12195354409,{"$f":"V875-Dźwignie!$D$6","v":175087.12195354409},{"$f":"IF(W875>0,W875*(1-Dźwignie!$D$9),W875)","v":141820.56878237071},{"$f":"X875/Dźwignie!$D$5","v":14.182056878237072},{"$f":"V875/Dźwignie!$D$2","v":0.97543560976772048},{"$f":"X875/Dźwignie!$D$3","v":1.418205687823707},1.7688872463643159,1.1142288466270329,1.9709451963297799]
[864,0.57277274131774902,{"$f":"NORMINV(B876,Dźwignie!$L$8,Dźwignie!$L$9)","v":359171.8900988808},{"$f":"Dźwignie!$L$7*C876","v":538757.83514832123},null,{"$f":"C876*Dźwignie!$G$5","v":359171.8900988808},179585.94504944043,{"$f":"Dźwignie!$G$6","v":50000},129585.94504944043,{"$f":"I876-Dźwignie!$D$6","v":109585.94504944043},{"$f":"IF(J876>0,J876*(1-Dźwignie!$D$9),J876)","v":88764.615490046752},{"$f":"K876/Dźwignie!$D$5","v":8.8764615490046754},{"$f":"I876/Dźwignie!$D$2","v":0.64792972524720216},{"$f":"K876/Dźwignie!$D$3","v":0.8876461549004675},1.3858443134471388,1.1825051560305189,1.6387680461068161,null,{"$f":"C876*Dźwignie!$G$8","v":179585.9450494404},359171.89009888086,{"$f":"Dźwignie!$G$9","v":150000},209171.89009888086,{"$f":"V876-Dźwignie!$D$6","v":189171.89009888086},{"$f":"IF(W876>0,W876*(1-Dźwignie!$D$9),W876)","v":153229.2309800935},{"$f":"X876/Dźwignie!$D$5","v":15.322923098009351},{"$f":"V876/Dźwignie!$D$2","v":1.0458594504944043},{"$f":"X876/Dźwignie!$D$3","v":1.5322923098009351},1.7171135659246144,1.1057239529062479,1.8986535997031078]
[865,0.17057889699935913,{"$f":"NORMINV(B877,Dźwignie!$L$8,Dźwignie!$L$9)","v":302405.99510368274},{"$f":"Dźwignie!$L$7*C877","v":453608.99265552411},null,{"$f":"C877*Dźwignie!$G$5","v":302405.99510368274},151202.99755184137,{"$f":"Dźwignie!$G$6","v":50000},101202.99755184137,{"$f":"I877-Dźwignie!$D$6","v":81202.99755184137},{"$f":"IF(J877>0,J877*(1-Dźwignie!$D$9),J877)","v":65774.428016991515},{"$f":"K877/Dźwignie!$D$5","v":6.5774428016991511},{"$f":"I877/Dźwignie!$D$2","v":0.50601498775920684},{"$f":"K877/Dźwignie!$D$3","v":0.65774428016991515},1.4940565122528848,1.2462963265270062,1.8620371428445213,null,{"$f":"C877*Dźwignie!$G$8","v":151202.99755184137},302405.99510368274,{"$f":"Dźwignie!$G$9","v":150000},152405.99510368274,{"$f":"V877-Dźwignie!$D$6","v":132405.99510368274},{"$f":"IF(W877>0,W877*(1-Dźwignie!$D$9),W877)","v":107248.85603398303},{"$f":"X877/Dźwignie!$D$5","v":10.724885603398302},{"$f":"V877/Dźwignie!$D$2","v":0.76202997551841367},{"$f":"X877/Dźwignie!$D$3","v":1.0724885603398302},1.9842132515715938,1.1510505622070863,2.2839297787602337]
[866,0.51406228542327881,{"$f":"NORMINV(B878,Dźwignie!$L$8,Dźwignie!$L$9)","v":351762.81124045164},{"$f":"Dźwignie!$L$7*C878","v":527644.21686067746},null,{"$f":"C878*Dźwignie!$G$5","v":351762.81124045164},175881.40562022582,{"$f":"Dźwignie!$G$6","v":50000},125881.40562022582,{"$f":"I878-Dźwignie!$D$6","v":105881.40562022582},{"$f":"IF(J878>0,J878*(1-Dźwignie!$D$9),J878)","v":85763.938552382926},{"$f":"K878/Dźwignie!$D$5","v":8.5763938552382921},{"$f":"I878/Dźwignie!$D$2","v":0.62940702810112914},{"$f":"K878/Dźwignie!$D$3","v":0.85763938552382923},1.3971992507840754,1.1888905788778037,1.6611170260723129,null,{"$f":"C878*Dźwignie!$G$8","v":175881.40562022582},351762.81124045164,{"$f":"Dźwignie!$G$9","v":150000},201762.81124045164,{"$f":"V878-Dźwignie!$D$6","v":181762.81124045164},{"$f":"IF(W878>0,W878*(1-Dźwignie!$D$9),W878)","v":147227.87710476585},{"$f":"X878/Dźwignie!$D$5","v":14.722787710476585},{"$f":"V878/Dźwignie!$D$2","v":1.0088140562022583},{"$f":"X878/Dźwignie!$D$3","v":1.4722787710476586},1.7434472144682645,1.1100335094044198,1.9352848299375678]
[867,0.26040655374526978,{"$f":"NORMINV(B879,Dźwignie!$L$8,Dźwignie!$L$9)","v":317895.37362769729},{"$f":"Dźwignie!$L$7*C879","v":476843.06044154591},null,{"$f":"C879*Dźwignie!$G$5","v":317895.37362769729},158947.68681384862,{"$f":"Dźwignie!$G$6","v":50000},108947.68681384862,{"$f":"I879-Dźwignie!$D$6","v":88947.686813848617},{"$f":"IF(J879>0,J879*(1-Dźwignie!$D$9),J879)","v":72047.626319217379},{"$f":"K879/Dźwignie!$D$5","v":7.2047626319217377},{"$f":"I879/Dźwignie!$D$2","v":0.54473843406924305},{"$f":"K879/Dźwignie!$D$3","v":0.72047626319217384},1.4589358568523951,1.2248512661364244,1.7869794314774854,null,{"$f":"C879*Dźwignie!$G$8","v":158947.68681384865},317895.37362769723,{"$f":"Dźwignie!$G$9","v":150000},167895.37362769723,{"$f":"V879-Dźwignie!$D$6","v":147895.37362769723},{"$f":"IF(W879>0,W879*(1-Dźwignie!$D$9),W879)","v":119795.25263843477},{"$f":"X879/Dźwignie!$D$5","v":11.979525263843477},{"$f":"V879/Dźwignie!$D$2","v":0.83947686813848621},{"$f":"X879/Dźwignie!$D$3","v":1.1979525263843478},1.8934135393904321,1.1352307344673727,2.1494612429726678]
[868,0.12849044799804688,{"$f":"NORMINV(B880,Dźwignie!$L$8,Dźwignie!$L$9)","v":293322.20685682463},{"$f":"Dźwignie!$L$7*C880","v":439983.31028523692},null,{"$f":"C880*Dźwignie!$G$5","v":293322.20685682463},146661.10342841229,{"$f":"Dźwignie!$G$6","v":50000},96661.103428412287,{"$f":"I880-Dźwignie!$D$6","v":76661.103428412287},{"$f":"IF(J880>0,J880*(1-Dźwignie!$D$9),J880)","v":62095.493777013959},{"$f":"K880/Dźwignie!$D$5","v":6.2095493777013955},{"$f":"I880/Dźwignie!$D$2","v":0.48330551714206144},{"$f":"K880/Dźwignie!$D$3","v":0.62095493777013955},1.5172711486480213,1.2608884963242983,1.9131097371350445,null,{"$f":"C880*Dźwignie!$G$8","v":146661.10342841232},293322.20685682457,{"$f":"Dźwignie!$G$9","v":150000},143322.20685682457,{"$f":"V880-Dźwignie!$D$6","v":123322.20685682457},{"$f":"IF(W880>0,W880*(1-Dźwignie!$D$9),W880)","v":99890.987554027917},{"$f":"X880/Dźwignie!$D$5","v":9.9890987554027912},{"$f":"V880/Dźwignie!$D$2","v":0.71661103428412287},{"$f":"X880/Dźwignie!$D$3","v":0.99890987554027921},2.0465928713325381,1.162176792888727,2.3785027395541802]
[869,0.89038866758346558,{"$f":"NORMINV(B881,Dźwignie!$L$8,Dźwignie!$L$9)","v":411429.88679034472},{"$f":"Dźwignie!$L$7*C881","v":617144.83018551709},null,{"$f":"C881*Dźwignie!$G$5","v":411429.88679034472},205714.94339517236,{"$f":"Dźwignie!$G$6","v":50000},155714.94339517236,{"$f":"I881-Dźwignie!$D$6","v":135714.94339517236},{"$f":"IF(J881>0,J881*(1-Dźwignie!$D$9),J881)","v":109929.10415008962},{"$f":"K881/Dźwignie!$D$5","v":10.992910415008962},{"$f":"I881/Dźwignie!$D$2","v":0.77857471697586178},{"$f":"K881/Dźwignie!$D$3","v":1.0992910415008963},1.3210995612226524,1.1473677068984538,1.5157869741445882,null,{"$f":"C881*Dźwignie!$G$8","v":205714.94339517236},411429.88679034472,{"$f":"Dźwignie!$G$9","v":150000},261429.88679034472,{"$f":"V881-Dźwignie!$D$6","v":241429.88679034472},{"$f":"IF(W881>0,W881*(1-Dźwignie!$D$9),W881)","v":195558.20830017925},{"$f":"X881/Dźwignie!$D$5","v":19.555820830017925},{"$f":"V881/Dźwignie!$D$2","v":1.3071494339517236},{"$f":"X881/Dźwignie!$D$3","v":1.9555820830017925},1.5737676049268743,1.0828397853550245,1.7041381755177074]
[870,0.44374430179595947,{"$f":"NORMINV(B882,Dźwignie!$L$8,Dźwignie!$L$9)","v":342925.86358393077},{"$f":"Dźwignie!$L$7*C882","v":514388.79537589615},null,{"$f":"C882*Dźwignie!$G$5","v":342925.86358393077},171462.93179196538,{"$f":"Dźwignie!$G$6","v":50000},121462.93179196538,{"$f":"I882-Dźwignie!$D$6","v":101462.93179196538},{"$f":"IF(J882>0,J882*(1-Dźwignie!$D$9),J882)","v":82184.974751491973},{"$f":"K882/Dźwignie!$D$5","v":8.2184974751491975},{"$f":"I882/Dźwignie!$D$2","v":0.60731465895982695},{"$f":"K882/Dźwignie!$D$3","v":0.82184974751491968},1.411648222732159,1.1971163226488173,1.6899071292708607,null,{"$f":"C882*Dźwignie!$G$8","v":171462.93179196538},342925.86358393077,{"$f":"Dźwignie!$G$9","v":150000},192925.86358393077,{"$f":"V882-Dźwignie!$D$6","v":172925.86358393077},{"$f":"IF(W882>0,W882*(1-Dźwignie!$D$9),W882)","v":140069.94950298395},{"$f":"X882/Dźwignie!$D$5","v":14.006994950298395},{"$f":"V882/Dźwignie!$D$2","v":0.96462931791965389},{"$f":"X882/Dźwignie!$D$3","v":1.4006994950298395},1.7775007311797972,1.1156564991811815,1.9830802430400429]
[871,0.45402652025222778,{"$f":"NORMINV(B883,Dźwignie!$L$8,Dźwignie!$L$9)","v":344225.26622071449},{"$f":"Dźwignie!$L$7*C883","v":516337.89933107176},null,{"$f":"C883*Dźwignie!$G$5","v":344225.26622071449},172112.63311035727,{"$f":"Dźwignie!$G$6","v":50000},122112.63311035727,{"$f":"I883-Dźwignie!$D$6","v":102112.63311035727},{"$f":"IF(J883>0,J883*(1-Dźwignie!$D$9),J883)","v":82711.232819389392},{"$f":"K883/Dźwignie!$D$5","v":8.2711232819389391},{"$f":"I883/Dźwignie!$D$2","v":0.61056316555178636},{"$f":"K883/Dźwignie!$D$3","v":0.82711232819389391},1.409458044810264,1.1958621513401304,1.6855175296904563,null,{"$f":"C883*Dźwignie!$G$8","v":172112.63311035724},344225.26622071455,{"$f":"Dźwignie!$G$9","v":150000},194225.26622071455,{"$f":"V883-Dźwignie!$D$6","v":174225.26622071455},{"$f":"IF(W883>0,W883*(1-Dźwignie!$D$9),W883)","v":141122.46563877878},{"$f":"X883/Dźwignie!$D$5","v":14.112246563877878},{"$f":"V883/Dźwignie!$D$2","v":0.97112633110357272},{"$f":"X883/Dźwignie!$D$3","v":1.4112246563877879},1.7722991087552036,1.1147939126961259,1.9757482579170702]
[872,0.84963250160217285,{"$f":"NORMINV(B884,Dźwignie!$L$8,Dźwignie!$L$9)","v":401742.92512903525},{"$f":"Dźwignie!$L$7*C884","v":602614.38769355288},null,{"$f":"C884*Dźwignie!$G$5","v":401742.92512903525},200871.46256451763,{"$f":"Dźwignie!$G$6","v":50000},150871.46256451763,{"$f":"I884-Dźwignie!$D$6","v":130871.46256451763},{"$f":"IF(J884>0,J884*(1-Dźwignie!$D$9),J884)","v":106005.88467725928},{"$f":"K884/Dźwignie!$D$5","v":10.600588467725927},{"$f":"I884/Dźwignie!$D$2","v":0.75435731282258811},{"$f":"K884/Dźwignie!$D$3","v":1.0600588467725929},1.3314079359349906,1.1528217046565084,1.5348759662977791,null,{"$f":"C884*Dźwignie!$G$8","v":200871.46256451763},401742.92512903525,{"$f":"Dźwignie!$G$9","v":150000},251742.92512903525,{"$f":"V884-Dźwignie!$D$6","v":231742.92512903525},{"$f":"IF(W884>0,W884*(1-Dźwignie!$D$9),W884)","v":187711.76935451856},{"$f":"X884/Dźwignie!$D$5","v":18.771176935451855},{"$f":"V884/Dźwignie!$D$2","v":1.2587146256451762},{"$f":"X884/Dźwignie!$D$3","v":1.8771176935451857},1.5958459405487357,1.0863025267712658,1.7335714775557589]
[873,7.0956647396087646E-2,{"$f":"NORMINV(B885,Dźwignie!$L$8,Dźwignie!$L$9)","v":276564.83735494659},{"$f":"Dźwignie!$L$7*C885","v":414847.25603241986},null,{"$f":"C885*Dźwignie!$G$5","v":276564.83735494659},138282.41867747327,{"$f":"Dźwignie!$G$6","v":50000},88282.418677473266,{"$f":"I885-Dźwignie!$D$6","v":68282.418677473266},{"$f":"IF(J885>0,J885*(1-Dźwignie!$D$9),J885)","v":55308.759128753351},{"$f":"K885/Dźwignie!$D$5","v":5.5308759128753353},{"$f":"I885/Dźwignie!$D$2","v":0.44141209338736631},{"$f":"K885/Dźwignie!$D$3","v":0.55308759128753349},1.5663641838208759,1.2929011652980316,2.0251540785431108,null,{"$f":"C885*Dźwignie!$G$8","v":138282.4186774733},276564.83735494653,{"$f":"Dźwignie!$G$9","v":150000},126564.83735494653,{"$f":"V885-Dźwignie!$D$6","v":106564.83735494653},{"$f":"IF(W885>0,W885*(1-Dźwignie!$D$9),W885)","v":86317.518257506701},{"$f":"X885/Dźwignie!$D$5","v":8.6317518257506709},{"$f":"V885/Dźwignie!$D$2","v":0.63282418677473262},{"$f":"X885/Dźwignie!$D$3","v":0.86317518257506698},2.1851632976016111,1.1876791678795879,2.5952729269764978]
[874,0.12005794048309326,{"$f":"NORMINV(B886,Dźwignie!$L$8,Dźwignie!$L$9)","v":291265.14012241608},{"$f":"Dźwignie!$L$7*C886","v":436897.71018362412},null,{"$f":"C886*Dźwignie!$G$5","v":291265.14012241608},145632.57006120804,{"$f":"Dźwignie!$G$6","v":50000},95632.57006120804,{"$f":"I886-Dźwignie!$D$6","v":75632.57006120804},{"$f":"IF(J886>0,J886*(1-Dźwignie!$D$9),J886)","v":61262.381749578519},{"$f":"K886/Dźwignie!$D$5","v":6.1262381749578516},{"$f":"I886/Dźwignie!$D$2","v":0.47816285030604022},{"$f":"K886/Dźwignie!$D$3","v":0.61262381749578521},1.5228344273085868,1.2644363398442546,1.9255271894548911,null,{"$f":"C886*Dźwignie!$G$8","v":145632.57006120804},291265.14012241608,{"$f":"Dźwignie!$G$9","v":150000},141265.14012241608,{"$f":"V886-Dźwignie!$D$6","v":121265.14012241608},{"$f":"IF(W886>0,W886*(1-Dźwignie!$D$9),W886)","v":98224.763499157038},{"$f":"X886/Dźwignie!$D$5","v":9.8224763499157035},{"$f":"V886/Dźwignie!$D$2","v":0.70632570061208044},{"$f":"X886/Dźwignie!$D$3","v":0.98224763499157042},2.0618330882623592,1.1649278595630217,2.4018868062856851]
[875,2.1032869815826416E-2,{"$f":"NORMINV(B887,Dźwignie!$L$8,Dźwignie!$L$9)","v":248356.54006075987},{"$f":"Dźwignie!$L$7*C887","v":372534.81009113981},null,{"$f":"C887*Dźwignie!$G$5","v":248356.54006075987},124178.27003037994,{"$f":"Dźwignie!$G$6","v":50000},74178.270030379936,{"$f":"I887-Dźwignie!$D$6","v":54178.270030379936},{"$f":"IF(J887>0,J887*(1-Dźwignie!$D$9),J887)","v":43884.398724607752},{"$f":"K887/Dźwignie!$D$5","v":4.3884398724607756},{"$f":"I887/Dźwignie!$D$2","v":0.37089135015189967},{"$f":"K887/Dźwignie!$D$3","v":0.43884398724607754},1.6740518480617348,1.3691516910522465,2.2920309186828627,null,{"$f":"C887*Dźwignie!$G$8","v":124178.27003037994},248356.54006075987,{"$f":"Dźwignie!$G$9","v":150000},98356.540060759871,{"$f":"V887-Dźwignie!$D$6","v":78356.540060759871},{"$f":"IF(W887>0,W887*(1-Dźwignie!$D$9),W887)","v":63468.797449215497},{"$f":"X887/Dźwignie!$D$5","v":6.3468797449215497},{"$f":"V887/Dźwignie!$D$2","v":0.49178270030379934},{"$f":"X887/Dźwignie!$D$3","v":0.63468797449215497},2.5250638128114034,1.255243531484308,3.1695700176166177]
[876,0.61077165603637695,{"$f":"NORMINV(B888,Dźwignie!$L$8,Dźwignie!$L$9)","v":364066.54006241739},{"$f":"Dźwignie!$L$7*C888","v":546099.81009362615},null,{"$f":"C888*Dźwignie!$G$5","v":364066.54006241739},182033.27003120875,{"$f":"Dźwignie!$G$6","v":50000},132033.27003120875,{"$f":"I888-Dźwignie!$D$6","v":112033.27003120875},{"$f":"IF(J888>0,J888*(1-Dźwignie!$D$9),J888)","v":90746.9487252791},{"$f":"K888/Dźwignie!$D$5","v":9.0746948725279104},{"$f":"I888/Dźwignie!$D$2","v":0.66016635015604375},{"$f":"K888/Dźwignie!$D$3","v":0.90746948725279097},1.3786924309924422,1.1785183989936978,1.6248143964779422,null,{"$f":"C888*Dźwignie!$G$8","v":182033.2700312087},364066.54006241745,{"$f":"Dźwignie!$G$9","v":150000},214066.54006241745,{"$f":"V888-Dźwignie!$D$6","v":194066.54006241745},{"$f":"IF(W888>0,W888*(1-Dźwignie!$D$9),W888)","v":157193.89745055814},{"$f":"X888/Dźwignie!$D$5","v":15.719389745055814},{"$f":"V888/Dźwignie!$D$2","v":1.0703327003120873},{"$f":"X888/Dźwignie!$D$3","v":1.5719389745055814},1.7007167021817751,1.1030574358339538,1.8759882045886067]
[877,0.65106457471847534,{"$f":"NORMINV(B889,Dźwignie!$L$8,Dźwignie!$L$9)","v":369409.80962884414},{"$f":"Dźwignie!$L$7*C889","v":554114.71444326616},null,{"$f":"C889*Dźwignie!$G$5","v":369409.80962884414},184704.90481442201,{"$f":"Dźwignie!$G$6","v":50000},134704.90481442201,{"$f":"I889-Dźwignie!$D$6","v":114704.90481442201},{"$f":"IF(J889>0,J889*(1-Dźwignie!$D$9),J889)","v":92910.97289968183},{"$f":"K889/Dźwignie!$D$5","v":9.2910972899681834},{"$f":"I889/Dźwignie!$D$2","v":0.67352452407211005},{"$f":"K889/Dźwignie!$D$3","v":0.92910972899681832},1.3711817329063345,1.1743604602816022,1.610261610985608,null,{"$f":"C889*Dźwignie!$G$8","v":184704.90481442207},369409.80962884409,{"$f":"Dźwignie!$G$9","v":150000},219409.80962884409,{"$f":"V889-Dźwignie!$D$6","v":199409.80962884409},{"$f":"IF(W889>0,W889*(1-Dźwignie!$D$9),W889)","v":161521.94579936372},{"$f":"X889/Dźwignie!$D$5","v":16.152194579936371},{"$f":"V889/Dźwignie!$D$2","v":1.0970490481442203},{"$f":"X889/Dźwignie!$D$3","v":1.6152194579936372},1.6836522043100148,1.1002959685745923,1.8525157328840351]
[878,3.9157986640930176E-2,{"$f":"NORMINV(B890,Dźwignie!$L$8,Dźwignie!$L$9)","v":261972.90603943443},{"$f":"Dźwignie!$L$7*C890","v":392959.35905915161},null,{"$f":"C890*Dźwignie!$G$5","v":261972.90603943443},130986.45301971718,{"$f":"Dźwignie!$G$6","v":50000},80986.453019717184,{"$f":"I890-Dźwignie!$D$6","v":60986.453019717184},{"$f":"IF(J890>0,J890*(1-Dźwignie!$D$9),J890)","v":49399.026945970923},{"$f":"K890/Dźwignie!$D$5","v":4.9399026945970927},{"$f":"I890/Dźwignie!$D$2","v":0.40493226509858593},{"$f":"K890/Dźwignie!$D$3","v":0.49399026945970925},1.6173872065717814,1.3279416822869485,2.1477958880043198,null,{"$f":"C890*Dźwignie!$G$8","v":130986.45301971721},261972.9060394344,{"$f":"Dźwignie!$G$9","v":150000},111972.9060394344,{"$f":"V890-Dźwignie!$D$6","v":91972.906039434398},{"$f":"IF(W890>0,W890*(1-Dźwignie!$D$9),W890)","v":74498.053891941861},{"$f":"X890/Dźwignie!$D$5","v":7.4498053891941858},{"$f":"V890/Dźwignie!$D$2","v":0.55986453019717197},{"$f":"X890/Dźwignie!$D$3","v":0.74498053891941862},2.3396097797727364,1.2174553448536767,2.8483704312562512]
[879,0.53546124696731567,{"$f":"NORMINV(B891,Dźwignie!$L$8,Dźwignie!$L$9)","v":354450.27707853407},{"$f":"Dźwignie!$L$7*C891","v":531675.41561780113},null,{"$f":"C891*Dźwignie!$G$5","v":354450.27707853407},177225.13853926706,{"$f":"Dźwignie!$G$6","v":50000},127225.13853926706,{"$f":"I891-Dźwignie!$D$6","v":107225.13853926706},{"$f":"IF(J891>0,J891*(1-Dźwignie!$D$9),J891)","v":86852.36221680633},{"$f":"K891/Dźwignie!$D$5","v":8.6852362216806327},{"$f":"I891/Dźwignie!$D$2","v":0.63612569269633534},{"$f":"K891/Dźwignie!$D$3","v":0.86852362216806334},1.3930040915975728,1.1865234241938123,1.652831984678343,null,{"$f":"C891*Dźwignie!$G$8","v":177225.13853926703},354450.27707853413,{"$f":"Dźwignie!$G$9","v":150000},204450.27707853413,{"$f":"V891-Dźwignie!$D$6","v":184450.27707853413},{"$f":"IF(W891>0,W891*(1-Dźwignie!$D$9),W891)","v":149404.72443361266},{"$f":"X891/Dźwignie!$D$5","v":14.940472443361266},{"$f":"V891/Dźwignie!$D$2","v":1.0222513853926707},{"$f":"X891/Dźwignie!$D$3","v":1.4940472443361266},1.7336747210295123,1.1084303060790985,1.9216576016723381]
[880,0.50230097770690918,{"$f":"NORMINV(B892,Dźwignie!$L$8,Dźwignie!$L$9)","v":350288.38638790685},{"$f":"Dźwignie!$L$7*C892","v":525432.57958186022},null,{"$f":"C892*Dźwignie!$G$5","v":350288.38638790685},175144.19319395337,{"$f":"Dźwignie!$G$6","v":50000},125144.19319395337,{"$f":"I892-Dźwignie!$D$6","v":105144.19319395337},{"$f":"IF(J892>0,J892*(1-Dźwignie!$D$9),J892)","v":85166.796487102227},{"$f":"K892/Dźwignie!$D$5","v":8.5166796487102232},{"$f":"I892/Dźwignie!$D$2","v":0.62572096596976678},{"$f":"K892/Dźwignie!$D$3","v":0.85166796487102225},1.3995391134329984,1.1902149742412038,1.6657524098442134,null,{"$f":"C892*Dźwignie!$G$8","v":175144.19319395343},350288.38638790679,{"$f":"Dźwignie!$G$9","v":150000},200288.38638790679,{"$f":"V892-Dźwignie!$D$6","v":180288.38638790679},{"$f":"IF(W892>0,W892*(1-Dźwignie!$D$9),W892)","v":146033.59297420451},{"$f":"X892/Dźwignie!$D$5","v":14.603359297420452},{"$f":"V892/Dźwignie!$D$2","v":1.001441931939534},{"$f":"X892/Dźwignie!$D$3","v":1.4603359297420451},1.7489201081758621,1.1109333795742571,1.9429337263811857]
[881,0.92203325033187866,{"$f":"NORMINV(B893,Dźwignie!$L$8,Dźwignie!$L$9)","v":420944.08654640237},{"$f":"Dźwignie!$L$7*C893","v":631416.12981960352},null,{"$f":"C893*Dźwignie!$G$5","v":420944.08654640237},210472.04327320115,{"$f":"Dźwignie!$G$6","v":50000},160472.04327320115,{"$f":"I893-Dźwignie!$D$6","v":140472.04327320115},{"$f":"IF(J893>0,J893*(1-Dźwignie!$D$9),J893)","v":113782.35505129294},{"$f":"K893/Dźwignie!$D$5","v":11.378235505129293},{"$f":"I893/Dźwignie!$D$2","v":0.80236021636600574},{"$f":"K893/Dźwignie!$D$3","v":1.1378235505129293},1.3115807525107397,1.1423770846779984,1.4983197963729942,null,{"$f":"C893*Dźwignie!$G$8","v":210472.04327320118},420944.08654640231,{"$f":"Dźwignie!$G$9","v":150000},270944.08654640231,{"$f":"V893-Dźwignie!$D$6","v":250944.08654640231},{"$f":"IF(W893>0,W893*(1-Dźwignie!$D$9),W893)","v":203264.71010258587},{"$f":"X893/Dźwignie!$D$5","v":20.326471010258587},{"$f":"V893/Dźwignie!$D$2","v":1.3547204327320115},{"$f":"X893/Dźwignie!$D$3","v":2.0326471010258587},1.5536197593827565,1.0796990288763062,1.6774417454486028]
[882,0.63958203792572021,{"$f":"NORMINV(B894,Dźwignie!$L$8,Dźwignie!$L$9)","v":367867.09112627548},{"$f":"Dźwignie!$L$7*C894","v":551800.63668941322},null,{"$f":"C894*Dźwignie!$G$5","v":367867.09112627548},183933.54556313774,{"$f":"Dźwignie!$G$6","v":50000},133933.54556313774,{"$f":"I894-Dźwignie!$D$6","v":113933.54556313774},{"$f":"IF(J894>0,J894*(1-Dźwignie!$D$9),J894)","v":92286.171906141579},{"$f":"K894/Dźwignie!$D$5","v":9.2286171906141572},{"$f":"I894/Dźwignie!$D$2","v":0.66966772781568873},{"$f":"K894/Dźwignie!$D$3","v":0.92286171906141579},1.3733194681718439,1.1755409252046558,1.6143932382162953,null,{"$f":"C894*Dźwignie!$G$8","v":183933.54556313774},367867.09112627548,{"$f":"Dźwignie!$G$9","v":150000},217867.09112627548,{"$f":"V894-Dźwignie!$D$6","v":197867.09112627548},{"$f":"IF(W894>0,W894*(1-Dźwignie!$D$9),W894)","v":160272.34381228316},{"$f":"X894/Dźwignie!$D$5","v":16.027234381228315},{"$f":"V894/Dźwignie!$D$2","v":1.0893354556313775},{"$f":"X894/Dźwignie!$D$3","v":1.6027234381228315},1.6884931506845162,1.1010779502855093,1.8591625774268286]
[883,0.74419885873794556,{"$f":"NORMINV(B895,Dźwignie!$L$8,Dźwignie!$L$9)","v":382817.24124095344},{"$f":"Dźwignie!$L$7*C895","v":574225.86186143011},null,{"$f":"C895*Dźwignie!$G$5","v":382817.24124095344},191408.62062047666,{"$f":"Dźwignie!$G$6","v":50000},141408.62062047666,{"$f":"I895-Dźwignie!$D$6","v":121408.62062047666},{"$f":"IF(J895>0,J895*(1-Dźwignie!$D$9),J895)","v":98340.982702586101},{"$f":"K895/Dźwignie!$D$5","v":9.8340982702586093},{"$f":"I895/Dźwignie!$D$2","v":0.70704310310238327},{"$f":"K895/Dźwignie!$D$3","v":0.98340982702586099},1.3535852325028603,1.1647329481035782,1.5765653183625239,null,{"$f":"C895*Dźwignie!$G$8","v":191408.62062047672},382817.24124095339,{"$f":"Dźwignie!$G$9","v":150000},232817.24124095339,{"$f":"V895-Dźwignie!$D$6","v":212817.24124095339},{"$f":"IF(W895>0,W895*(1-Dźwignie!$D$9),W895)","v":172381.96540517226},{"$f":"X895/Dźwignie!$D$5","v":17.238196540517226},{"$f":"V895/Dźwignie!$D$2","v":1.164086206204767},{"$f":"X895/Dźwignie!$D$3","v":1.7238196540517225},1.6442821811669781,1.0939773482795778,1.798807460376411]
[884,9.6058845520019531E-2,{"$f":"NORMINV(B896,Dźwignie!$L$8,Dźwignie!$L$9)","v":284783.00121756981},{"$f":"Dźwignie!$L$7*C896","v":427174.50182635471},null,{"$f":"C896*Dźwignie!$G$5","v":284783.00121756981},142391.5006087849,{"$f":"Dźwignie!$G$6","v":50000},92391.500608784903,{"$f":"I896-Dźwignie!$D$6","v":72391.500608784903},{"$f":"IF(J896>0,J896*(1-Dźwignie!$D$9),J896)","v":58637.115493115773},{"$f":"K896/Dźwignie!$D$5","v":5.863711549311577},{"$f":"I896/Dźwignie!$D$2","v":0.46195750304392452},{"$f":"K896/Dźwignie!$D$3","v":0.58637115493115777},1.5411753210039953,1.2762755272622839,1.9669643454179937,null,{"$f":"C896*Dźwignie!$G$8","v":142391.5006087849},284783.00121756981,{"$f":"Dźwignie!$G$9","v":150000},134783.00121756981,{"$f":"V896-Dźwignie!$D$6","v":114783.00121756981},{"$f":"IF(W896>0,W896*(1-Dźwignie!$D$9),W896)","v":92974.230986231545},{"$f":"X896/Dźwignie!$D$5","v":9.2974230986231543},{"$f":"V896/Dźwignie!$D$2","v":0.67391500608784904},{"$f":"X896/Dźwignie!$D$3","v":0.92974230986231543},2.1128999847530223,1.1742418283879008,2.4810555412971569]
[885,0.73084753751754761,{"$f":"NORMINV(B897,Dźwignie!$L$8,Dźwignie!$L$9)","v":380768.9145288929},{"$f":"Dźwignie!$L$7*C897","v":571153.37179333938},null,{"$f":"C897*Dźwignie!$G$5","v":380768.9145288929},190384.45726444648,{"$f":"Dźwignie!$G$6","v":50000},140384.45726444648,{"$f":"I897-Dźwignie!$D$6","v":120384.45726444648},{"$f":"IF(J897>0,J897*(1-Dźwignie!$D$9),J897)","v":97511.410384201648},{"$f":"K897/Dźwignie!$D$5","v":9.7511410384201653},{"$f":"I897/Dźwignie!$D$2","v":0.70192228632223241},{"$f":"K897/Dźwignie!$D$3","v":0.97511410384201647},1.3561647847226668,1.166134403514121,1.5814704122994234,null,{"$f":"C897*Dźwignie!$G$8","v":190384.45726444645},380768.91452889296,{"$f":"Dźwignie!$G$9","v":150000},230768.91452889296,{"$f":"V897-Dźwignie!$D$6","v":210768.91452889296},{"$f":"IF(W897>0,W897*(1-Dźwignie!$D$9),W897)","v":170722.8207684033},{"$f":"X897/Dźwignie!$D$5","v":17.072282076840331},{"$f":"V897/Dźwignie!$D$2","v":1.1538445726444648},{"$f":"X897/Dźwignie!$D$3","v":1.7072282076840331},1.6500008907448389,1.0948906533238245,1.8065705532525091]
[886,0.69287550449371338,{"$f":"NORMINV(B898,Dźwignie!$L$8,Dźwignie!$L$9)","v":375200.88129395369},{"$f":"Dźwignie!$L$7*C898","v":562801.32194093056},null,{"$f":"C898*Dźwignie!$G$5","v":375200.88129395369},187600.44064697687,{"$f":"Dźwignie!$G$6","v":50000},137600.44064697687,{"$f":"I898-Dźwignie!$D$6","v":117600.44064697687},{"$f":"IF(J898>0,J898*(1-Dźwignie!$D$9),J898)","v":95256.356924051273},{"$f":"K898/Dźwignie!$D$5","v":9.5256356924051282},{"$f":"I898/Dźwignie!$D$2","v":0.68800220323488437},{"$f":"K898/Dźwignie!$D$3","v":0.95256356924051278},1.3633709293728087,1.1700673899686969,1.5952358648904388,null,{"$f":"C898*Dźwignie!$G$8","v":187600.44064697684},375200.88129395375,{"$f":"Dźwignie!$G$9","v":150000},225200.88129395375,{"$f":"V898-Dźwignie!$D$6","v":205200.88129395375},{"$f":"IF(W898>0,W898*(1-Dźwignie!$D$9),W898)","v":166212.71384810255},{"$f":"X898/Dźwignie!$D$5","v":16.621271384810253},{"$f":"V898/Dźwignie!$D$2","v":1.1260044064697687},{"$f":"X898/Dźwignie!$D$3","v":1.6621271384810254},1.6660719937601205,1.0974654683444056,1.8284564809274482]
[887,0.39510947465896606,{"$f":"NORMINV(B899,Dźwignie!$L$8,Dźwignie!$L$9)","v":336698.68468720926},{"$f":"Dźwignie!$L$7*C899","v":505048.02703081386},null,{"$f":"C899*Dźwignie!$G$5","v":336698.68468720926},168349.3423436046,{"$f":"Dźwignie!$G$6","v":50000},118349.3423436046,{"$f":"I899-Dźwignie!$D$6","v":98349.3423436046},{"$f":"IF(J899>0,J899*(1-Dźwignie!$D$9),J899)","v":79662.967298319738},{"$f":"K899/Dźwignie!$D$5","v":7.9662967298319742},{"$f":"I899/Dźwignie!$D$2","v":0.59174671171802296},{"$f":"K899/Dźwignie!$D$3","v":0.79662967298319742},1.4224780553054075,1.2033567233233313,1.7117485316316596,null,{"$f":"C899*Dźwignie!$G$8","v":168349.34234360463},336698.6846872092,{"$f":"Dźwignie!$G$9","v":150000},186698.6846872092,{"$f":"V899-Dźwignie!$D$6","v":166698.6846872092},{"$f":"IF(W899>0,W899*(1-Dźwignie!$D$9),W899)","v":135025.93459663945},{"$f":"X899/Dźwignie!$D$5","v":13.502593459663945},{"$f":"V899/Dźwignie!$D$2","v":0.93349342343604602},{"$f":"X899/Dźwignie!$D$3","v":1.3502593459663945},1.8034336195314211,1.1199769514530225,2.0198040873506908]
[888,0.96095395088195801,{"$f":"NORMINV(B900,Dźwignie!$L$8,Dźwignie!$L$9)","v":438093.25328412128},{"$f":"Dźwignie!$L$7*C900","v":657139.87992618186},null,{"$f":"C900*Dźwignie!$G$5","v":438093.25328412128},219046.62664206058,{"$f":"Dźwignie!$G$6","v":50000},169046.62664206058,{"$f":"I900-Dźwignie!$D$6","v":149046.62664206058},{"$f":"IF(J900>0,J900*(1-Dźwignie!$D$9),J900)","v":120727.76758006908},{"$f":"K900/Dźwignie!$D$5","v":12.072776758006908},{"$f":"I900/Dźwignie!$D$2","v":0.84523313321030291},{"$f":"K900/Dźwignie!$D$3","v":1.2072776758006907},1.2957763842627279,1.1341861969679496,1.469651689387824,null,{"$f":"C900*Dźwignie!$G$8","v":219046.62664206064},438093.25328412122,{"$f":"Dźwignie!$G$9","v":150000},288093.25328412122,{"$f":"V900-Dźwignie!$D$6","v":268093.25328412122},{"$f":"IF(W900>0,W900*(1-Dźwignie!$D$9),W900)","v":217155.53516013821},{"$f":"X900/Dźwignie!$D$5","v":21.71555351601382},{"$f":"V900/Dźwignie!$D$2","v":1.440466266420606},{"$f":"X900/Dźwignie!$D$3","v":2.1715553516013824},1.5206647441065484,1.0746009075387075,1.6341077140790132]
[889,0.93328136205673218,{"$f":"NORMINV(B901,Dźwignie!$L$8,Dźwignie!$L$9)","v":425034.20723740978},{"$f":"Dźwignie!$L$7*C901","v":637551.31085611461},null,{"$f":"C901*Dźwignie!$G$5","v":425034.20723740978},212517.10361870483,{"$f":"Dźwignie!$G$6","v":50000},162517.10361870483,{"$f":"I901-Dźwignie!$D$6","v":142517.10361870483},{"$f":"IF(J901>0,J901*(1-Dźwignie!$D$9),J901)","v":115438.85393115092},{"$f":"K901/Dźwignie!$D$5","v":11.543885393115092},{"$f":"I901/Dźwignie!$D$2","v":0.8125855180935242},{"$f":"K901/Dźwignie!$D$3","v":1.1543885393115092},1.3076599255504162,1.1403340335452556,1.4911691174083948,null,{"$f":"C901*Dźwignie!$G$8","v":212517.10361870489},425034.20723740972,{"$f":"Dźwignie!$G$9","v":150000},275034.20723740972,{"$f":"V901-Dźwignie!$D$6","v":255034.20723740972},{"$f":"IF(W901>0,W901*(1-Dźwignie!$D$9),W901)","v":206577.70786230188},{"$f":"X901/Dźwignie!$D$5","v":20.657770786230188},{"$f":"V901/Dźwignie!$D$2","v":1.3751710361870486},{"$f":"X901/Dźwignie!$D$3","v":2.065777078623019},1.5453867048273013,1.0784208527030341,1.6665772479757903]
[890,0.94421660900115967,{"$f":"NORMINV(B902,Dźwignie!$L$8,Dźwignie!$L$9)","v":429559.50904461421},{"$f":"Dźwignie!$L$7*C902","v":644339.26356692135},null,{"$f":"C902*Dźwignie!$G$5","v":429559.50904461421},214779.75452230714,{"$f":"Dźwignie!$G$6","v":50000},164779.75452230714,{"$f":"I902-Dźwignie!$D$6","v":144779.75452230714},{"$f":"IF(J902>0,J902*(1-Dźwignie!$D$9),J902)","v":117271.60116306879},{"$f":"K902/Dźwignie!$D$5","v":11.727160116306878},{"$f":"I902/Dźwignie!$D$2","v":0.82389877261153566},{"$f":"K902/Dźwignie!$D$3","v":1.1727160116306878},1.3034353349108263,1.1381408613793338,1.4834930148276684,null,{"$f":"C902*Dźwignie!$G$8","v":214779.75452230711},429559.50904461427,{"$f":"Dźwignie!$G$9","v":150000},279559.50904461427,{"$f":"V902-Dźwignie!$D$6","v":259559.50904461427},{"$f":"IF(W902>0,W902*(1-Dźwignie!$D$9),W902)","v":210243.20232613757},{"$f":"X902/Dźwignie!$D$5","v":21.024320232613757},{"$f":"V902/Dźwignie!$D$2","v":1.3977975452230713},{"$f":"X902/Dźwignie!$D$3","v":2.1024320232613758},1.5365583897060782,1.0770536208579524,1.6549557772925962]
[891,0.3151584267616272,{"$f":"NORMINV(B903,Dźwignie!$L$8,Dźwignie!$L$9)","v":325935.95384153636},{"$f":"Dźwignie!$L$7*C903","v":488903.93076230458},null,{"$f":"C903*Dźwignie!$G$5","v":325935.95384153636},162967.97692076821,{"$f":"Dźwignie!$G$6","v":50000},112967.97692076821,{"$f":"I903-Dźwignie!$D$6","v":92967.976920768211},{"$f":"IF(J903>0,J903*(1-Dźwignie!$D$9),J903)","v":75304.061305822252},{"$f":"K903/Dźwignie!$D$5","v":7.5304061305822252},{"$f":"I903/Dźwignie!$D$2","v":0.56483988460384105},{"$f":"K903/Dźwignie!$D$3","v":0.75304061305822256},1.4426033054930978,1.2151278393101419,1.7529474375854965,null,{"$f":"C903*Dźwignie!$G$8","v":162967.97692076818},325935.95384153642,{"$f":"Dźwignie!$G$9","v":150000},175935.95384153642,{"$f":"V903-Dźwignie!$D$6","v":155935.95384153642},{"$f":"IF(W903>0,W903*(1-Dźwignie!$D$9),W903)","v":126308.1226116445},{"$f":"X903/Dźwignie!$D$5","v":12.630812261164451},{"$f":"V903/Dźwignie!$D$2","v":0.87967976920768209},{"$f":"X903/Dźwignie!$D$3","v":1.263081226116445},1.8525829810494752,1.1282577847333668,2.0901911702336178]
[892,0.42859029769897461,{"$f":"NORMINV(B904,Dźwignie!$L$8,Dźwignie!$L$9)","v":341001.78502304334},{"$f":"Dźwignie!$L$7*C904","v":511502.67753456498},null,{"$f":"C904*Dźwignie!$G$5","v":341001.78502304334},170500.89251152164,{"$f":"Dźwignie!$G$6","v":50000},120500.89251152164,{"$f":"I904-Dźwignie!$D$6","v":100500.89251152164},{"$f":"IF(J904>0,J904*(1-Dźwignie!$D$9),J904)","v":81405.722934332531},{"$f":"K904/Dźwignie!$D$5","v":8.1405722934332534},{"$f":"I904/Dźwignie!$D$2","v":0.60250446255760826},{"$f":"K904/Dźwignie!$D$3","v":0.81405722934332536},1.4149346860249958,1.1990032078342703,1.6965112274199461,null,{"$f":"C904*Dźwignie!$G$8","v":170500.89251152167},341001.78502304328,{"$f":"Dźwignie!$G$9","v":150000},191001.78502304328,{"$f":"V904-Dźwignie!$D$6","v":171001.78502304328},{"$f":"IF(W904>0,W904*(1-Dźwignie!$D$9),W904)","v":138511.44586866506},{"$f":"X904/Dźwignie!$D$5","v":13.851144586866505},{"$f":"V904/Dźwignie!$D$2","v":0.9550089251152164},{"$f":"X904/Dźwignie!$D$3","v":1.3851144586866506},1.7853329746730029,1.1169578434359906,1.9941416692059193]
[893,9.7022712230682373E-2,{"$f":"NORMINV(B905,Dźwignie!$L$8,Dźwignie!$L$9)","v":285064.7845084389},{"$f":"Dźwignie!$L$7*C905","v":427597.17676265835},null,{"$f":"C905*Dźwignie!$G$5","v":285064.7845084389},142532.39225421945,{"$f":"Dźwignie!$G$6","v":50000},92532.392254219449,{"$f":"I905-Dźwignie!$D$6","v":72532.392254219449},{"$f":"IF(J905>0,J905*(1-Dźwignie!$D$9),J905)","v":58751.237725917759},{"$f":"K905/Dźwignie!$D$5","v":5.8751237725917758},{"$f":"I905/Dźwignie!$D$2","v":0.46266196127109727},{"$f":"K905/Dźwignie!$D$3","v":0.5875123772591776},1.5403513167867982,1.2757388716740765,1.9650860508592678,null,{"$f":"C905*Dźwignie!$G$8","v":142532.39225421945},285064.7845084389,{"$f":"Dźwignie!$G$9","v":150000},135064.7845084389,{"$f":"V905-Dźwignie!$D$6","v":115064.7845084389},{"$f":"IF(W905>0,W905*(1-Dźwignie!$D$9),W905)","v":93202.475451835518},{"$f":"X905/Dźwignie!$D$5","v":9.3202475451835518},{"$f":"V905/Dźwignie!$D$2","v":0.67532392254219453},{"$f":"X905/Dźwignie!$D$3","v":0.9320247545183552},2.1105781610352174,1.1738151258479366,2.4774285697074605]
[894,3.041386604309082E-3,{"$f":"NORMINV(B906,Dźwignie!$L$8,Dźwignie!$L$9)","v":212835.7136773979},{"$f":"Dźwignie!$L$7*C906","v":319253.57051609684},null,{"$f":"C906*Dźwignie!$G$5","v":212835.7136773979},106417.85683869894,{"$f":"Dźwignie!$G$6","v":50000},56417.856838698935,{"$f":"I906-Dźwignie!$D$6","v":36417.856838698935},{"$f":"IF(J906>0,J906*(1-Dźwignie!$D$9),J906)","v":29498.464039346141},{"$f":"K906/Dźwignie!$D$5","v":2.9498464039346142},{"$f":"I906/Dźwignie!$D$2","v":0.28208928419349466},{"$f":"K906/Dźwignie!$D$3","v":0.29498464039346139},1.8862442283646494,1.549181136292108,2.9221339770223782,null,{"$f":"C906*Dźwignie!$G$8","v":106417.85683869895},212835.71367739787,{"$f":"Dźwignie!$G$9","v":150000},62835.713677397871,{"$f":"V906-Dźwignie!$D$6","v":42835.713677397871},{"$f":"IF(W906>0,W906*(1-Dźwignie!$D$9),W906)","v":34696.928078692275},{"$f":"X906/Dźwignie!$D$5","v":3.4696928078692277},{"$f":"V906/Dźwignie!$D$2","v":0.31417856838698938},{"$f":"X906/Dźwignie!$D$3","v":0.34696928078692274},3.3871774699672947,1.4669001233555481,4.9686510485221582]
[895,0.73853760957717896,{"$f":"NORMINV(B907,Dźwignie!$L$8,Dźwignie!$L$9)","v":381942.17236472864},{"$f":"Dźwignie!$L$7*C907","v":572913.25854709302},null,{"$f":"C907*Dźwignie!$G$5","v":381942.17236472864},190971.08618236438,{"$f":"Dźwignie!$G$6","v":50000},140971.08618236438,{"$f":"I907-Dźwignie!$D$6","v":120971.08618236438},{"$f":"IF(J907>0,J907*(1-Dźwignie!$D$9),J907)","v":97986.579807715156},{"$f":"K907/Dźwignie!$D$5","v":9.798657980771516},{"$f":"I907/Dźwignie!$D$2","v":0.7048554309118219},{"$f":"K907/Dźwignie!$D$3","v":0.97986579807715157},1.3546826612041458,1.1653287626916893,1.5786506694209121,null,{"$f":"C907*Dźwignie!$G$8","v":190971.08618236432},381942.1723647287,{"$f":"Dźwignie!$G$9","v":150000},231942.1723647287,{"$f":"V907-Dźwignie!$D$6","v":211942.1723647287},{"$f":"IF(W907>0,W907*(1-Dźwignie!$D$9),W907)","v":171673.15961543025},{"$f":"X907/Dźwignie!$D$5","v":17.167315961543025},{"$f":"V907/Dźwignie!$D$2","v":1.1597108618236436},{"$f":"X907/Dźwignie!$D$3","v":1.7167315961543026},1.6467129218921224,1.094365362857479,1.802105584288572]
[896,0.60889220237731934,{"$f":"NORMINV(B908,Dźwignie!$L$8,Dźwignie!$L$9)","v":363821.64467466983},{"$f":"Dźwignie!$L$7*C908","v":545732.46701200469},null,{"$f":"C908*Dźwignie!$G$5","v":363821.64467466983},181910.82233733486,{"$f":"Dźwignie!$G$6","v":50000},131910.82233733486,{"$f":"I908-Dźwignie!$D$6","v":111910.82233733486},{"$f":"IF(J908>0,J908*(1-Dźwignie!$D$9),J908)","v":90647.76609324124},{"$f":"K908/Dźwignie!$D$5","v":9.0647766093241238},{"$f":"I908/Dźwignie!$D$2","v":0.65955411168667433},{"$f":"K908/Dźwignie!$D$3","v":0.90647766093241244},1.3790439564703438,1.1787137256458864,1.6254980397606025,null,{"$f":"C908*Dźwignie!$G$8","v":181910.82233733492},363821.64467466978,{"$f":"Dźwignie!$G$9","v":150000},213821.64467466978,{"$f":"V908-Dźwignie!$D$6","v":193821.64467466978},{"$f":"IF(W908>0,W908*(1-Dźwignie!$D$9),W908)","v":156995.53218648254},{"$f":"X908/Dźwignie!$D$5","v":15.699553218648253},{"$f":"V908/Dźwignie!$D$2","v":1.0691082233733489},{"$f":"X908/Dźwignie!$D$3","v":1.5699553218648254},1.7015192509075749,1.1031876498291513,1.8770950235477857]
[897,0.45479863882064819,{"$f":"NORMINV(B909,Dźwignie!$L$8,Dźwignie!$L$9)","v":344322.67360522394},{"$f":"Dźwignie!$L$7*C909","v":516484.01040783594},null,{"$f":"C909*Dźwignie!$G$5","v":344322.67360522394},{"$f":"$D909-F909","v":172161.336802612},{"$f":"Dźwignie!$G$6","v":50000},{"$f":"G909-H909","v":122161.336802612},{"$f":"I909-Dźwignie!$D$6","v":102161.336802612},{"$f":"IF(J909>0,J909*(1-Dźwignie!$D$9),J909)","v":82750.68281011573},{"$f":"K909/Dźwignie!$D$5","v":8.2750682810115723},{"$f":"I909/Dźwignie!$D$2","v":0.61080668401306004},{"$f":"K909/Dźwignie!$D$3","v":0.82750682810115728},{"$f":"IF(I909<>0,G909/I909,\"N   \")","v":1.4092948007010588},{"$f":"IF(J909<>0,I909/J909,\"N   \")","v":1.1957687773667489},{"$f":"IF(ISTEXT(O909),O909,IF(ISTEXT(P909),P909,O909*P909))","v":1.6851907207836212},null,{"$f":"C909*Dźwignie!$G$8","v":172161.33680261197},{"$f":"$D909-S909","v":344322.673605224},{"$f":"Dźwignie!$G$9","v":150000},{"$f":"T909-U909","v":194322.673605224},{"$f":"V909-Dźwignie!$D$6","v":174322.673605224},{"$f":"IF(W909>0,W909*(1-Dźwignie!$D$9),W909)","v":141201.36562023146},{"$f":"X909/Dźwignie!$D$5","v":14.120136562023147},{"$f":"V909/Dźwignie!$D$2","v":0.97161336802611997},{"$f":"X909/Dźwignie!$D$3","v":1.4120136562023147},{"$f":"IF(V909<>0,T909/V909,\"N   \")","v":1.7719119813302504},{"$f":"IF(W909<>0,V909/W909,\"N   \")","v":1.1147297685744113},{"$f":"IF(ISTEXT(AB909),AB909,IF(ISTEXT(AC909),AC909,AB909*AC909))","v":1.9752030328824965}]
[898,0.48366868495941162,{"$f":"NORMINV(B910,Dźwignie!$L$8,Dźwignie!$L$9)","v":347952.60118359799},{"$f":"Dźwignie!$L$7*C910","v":521928.90177539701},null,{"$f":"C910*Dźwignie!$G$5","v":347952.60118359799},173976.30059179902,{"$f":"Dźwignie!$G$6","v":50000},123976.30059179902,{"$f":"I910-Dźwignie!$D$6","v":103976.30059179902},{"$f":"IF(J910>0,J910*(1-Dźwignie!$D$9),J910)","v":84220.803479357215},{"$f":"K910/Dźwignie!$D$5","v":8.4220803479357222},{"$f":"I910/Dźwignie!$D$2","v":0.61988150295899513},{"$f":"K910/Dźwignie!$D$3","v":0.8422080347935722},1.4033028874173994,1.1923515251664711,1.673230338082649,null,{"$f":"C910*Dźwignie!$G$8","v":173976.30059179899},347952.60118359805,{"$f":"Dźwignie!$G$9","v":150000},197952.60118359805,{"$f":"V910-Dźwignie!$D$6","v":177952.60118359805},{"$f":"IF(W910>0,W910*(1-Dźwignie!$D$9),W910)","v":144141.60695871443},{"$f":"X910/Dźwignie!$D$5","v":14.414160695871443},{"$f":"V910/Dźwignie!$D$2","v":0.98976300591799027},{"$f":"X910/Dźwignie!$D$3","v":1.4414160695871443},1.7577571555166243,1.1123894782485675,1.9553105651128238]
[899,0.88479048013687134,{"$f":"NORMINV(B911,Dźwignie!$L$8,Dźwignie!$L$9)","v":409964.00636033469},{"$f":"Dźwignie!$L$7*C911","v":614946.00954050198},null,{"$f":"C911*Dźwignie!$G$5","v":409964.00636033469},204982.00318016729,{"$f":"Dźwignie!$G$6","v":50000},154982.00318016729,{"$f":"I911-Dźwignie!$D$6","v":134982.00318016729},{"$f":"IF(J911>0,J911*(1-Dźwignie!$D$9),J911)","v":109335.42257593552},{"$f":"K911/Dźwignie!$D$5","v":10.933542257593551},{"$f":"I911/Dźwignie!$D$2","v":0.77491001590083641},{"$f":"K911/Dźwignie!$D$3","v":1.0933542257593551},1.3226181038702589,1.1481679003778378,1.5185876513224321,null,{"$f":"C911*Dźwignie!$G$8","v":204982.00318016735},409964.00636033464,{"$f":"Dźwignie!$G$9","v":150000},259964.00636033464,{"$f":"V911-Dźwignie!$D$6","v":239964.00636033464},{"$f":"IF(W911>0,W911*(1-Dźwignie!$D$9),W911)","v":194370.84515187106},{"$f":"X911/Dźwignie!$D$5","v":19.437084515187106},{"$f":"V911/Dźwignie!$D$2","v":1.2998200318016733},{"$f":"X911/Dźwignie!$D$3","v":1.9437084515187106},1.577002955524873,1.0833458329995025,1.7084395804957708]
[900,0.65572929382324219,{"$f":"NORMINV(B912,Dźwignie!$L$8,Dźwignie!$L$9)","v":370041.76331386634},{"$f":"Dźwignie!$L$7*C912","v":555062.64497079956},null,{"$f":"C912*Dźwignie!$G$5","v":370041.76331386634},185020.88165693323,{"$f":"Dźwignie!$G$6","v":50000},135020.88165693323,{"$f":"I912-Dźwignie!$D$6","v":115020.88165693323},{"$f":"IF(J912>0,J912*(1-Dźwignie!$D$9),J912)","v":93166.914142115915},{"$f":"K912/Dźwignie!$D$5","v":9.3166914142115917},{"$f":"I912/Dźwignie!$D$2","v":0.67510440828466611},{"$f":"K912/Dźwignie!$D$3","v":0.9316691414211592},1.3703130907339365,1.1738814701460292,1.6085851455111024,null,{"$f":"C912*Dźwignie!$G$8","v":185020.88165693317},370041.7633138664,{"$f":"Dźwignie!$G$9","v":150000},220041.7633138664,{"$f":"V912-Dźwignie!$D$6","v":200041.7633138664},{"$f":"IF(W912>0,W912*(1-Dźwignie!$D$9),W912)","v":162033.8282842318},{"$f":"X912/Dźwignie!$D$5","v":16.20338282842318},{"$f":"V912/Dźwignie!$D$2","v":1.100208816569332},{"$f":"X912/Dźwignie!$D$3","v":1.6203382828423181},1.6816887746261187,1.0999791227025923,1.8498225429720356]
[901,0.10750025510787964,{"$f":"NORMINV(B913,Dźwignie!$L$8,Dźwignie!$L$9)","v":288003.39507117361},{"$f":"Dźwignie!$L$7*C913","v":432005.09260676045},null,{"$f":"C913*Dźwignie!$G$5","v":288003.39507117361},144001.69753558683,{"$f":"Dźwignie!$G$6","v":50000},94001.697535586834,{"$f":"I913-Dźwignie!$D$6","v":74001.697535586834},{"$f":"IF(J913>0,J913*(1-Dźwignie!$D$9),J913)","v":59941.375003825342},{"$f":"K913/Dźwignie!$D$5","v":5.9941375003825339},{"$f":"I913/Dźwignie!$D$2","v":0.47000848767793418},{"$f":"K913/Dźwignie!$D$3","v":0.59941375003825337},1.531905287998349,1.2702640705016552,1.9459242467557933,null,{"$f":"C913*Dźwignie!$G$8","v":144001.69753558681},288003.39507117367,{"$f":"Dźwignie!$G$9","v":150000},138003.39507117367,{"$f":"V913-Dźwignie!$D$6","v":118003.39507117367},{"$f":"IF(W913>0,W913*(1-Dźwignie!$D$9),W913)","v":95582.750007650684},{"$f":"X913/Dźwignie!$D$5","v":9.5582750007650681},{"$f":"V913/Dźwignie!$D$2","v":0.69001697535586837},{"$f":"X913/Dźwignie!$D$3","v":0.95582750007650685},2.0869297811306686,1.1694866489895228,2.4406365164109438]
[902,0.39592516422271729,{"$f":"NORMINV(B914,Dźwignie!$L$8,Dźwignie!$L$9)","v":336804.56868754944},{"$f":"Dźwignie!$L$7*C914","v":505206.85303132416},null,{"$f":"C914*Dźwignie!$G$5","v":336804.56868754944},168402.28434377472,{"$f":"Dźwignie!$G$6","v":50000},118402.28434377472,{"$f":"I914-Dźwignie!$D$6","v":98402.284343774721},{"$f":"IF(J914>0,J914*(1-Dźwignie!$D$9),J914)","v":79705.850318457524},{"$f":"K914/Dźwignie!$D$5","v":7.9705850318457525},{"$f":"I914/Dźwignie!$D$2","v":0.59201142171887355},{"$f":"K914/Dźwignie!$D$3","v":0.79705850318457527},1.4222891498852139,1.2032473141591786,1.7113655995571251,null,{"$f":"C914*Dźwignie!$G$8","v":168402.28434377472},336804.56868754944,{"$f":"Dźwignie!$G$9","v":150000},186804.56868754944,{"$f":"V914-Dźwignie!$D$6","v":166804.56868754944},{"$f":"IF(W914>0,W914*(1-Dźwignie!$D$9),W914)","v":135111.70063691505},{"$f":"X914/Dźwignie!$D$5","v":13.511170063691505},{"$f":"V914/Dźwignie!$D$2","v":0.93402284343774722},{"$f":"X914/Dźwignie!$D$3","v":1.3511170063691504},1.8029782197184427,1.119900792630345,2.0191567373579322]
[903,0.78693705797195435,{"$f":"NORMINV(B915,Dźwignie!$L$8,Dźwignie!$L$9)","v":389791.92731434398},{"$f":"Dźwignie!$L$7*C915","v":584687.89097151603},null,{"$f":"C915*Dźwignie!$G$5","v":389791.92731434398},194895.96365717205,{"$f":"Dźwignie!$G$6","v":50000},144895.96365717205,{"$f":"I915-Dźwignie!$D$6","v":124895.96365717205},{"$f":"IF(J915>0,J915*(1-Dźwignie!$D$9),J915)","v":101165.73056230937},{"$f":"K915/Dźwignie!$D$5","v":10.116573056230937},{"$f":"I915/Dźwignie!$D$2","v":0.72447981828586028},{"$f":"K915/Dźwignie!$D$3","v":1.0116573056230937},1.3450751748910095,1.1601332774444029,1.5604664710554101,null,{"$f":"C915*Dźwignie!$G$8","v":194895.96365717199},389791.92731434404,{"$f":"Dźwignie!$G$9","v":150000},239791.92731434404,{"$f":"V915-Dźwignie!$D$6","v":219791.92731434404},{"$f":"IF(W915>0,W915*(1-Dźwignie!$D$9),W915)","v":178031.46112461868},{"$f":"X915/Dźwignie!$D$5","v":17.803146112461867},{"$f":"V915/Dźwignie!$D$2","v":1.1989596365717201},{"$f":"X915/Dźwignie!$D$3","v":1.7803146112461867},1.6255423261324577,1.0909951527537052,1.773458798406494]
[904,0.28254151344299316,{"$f":"NORMINV(B916,Dźwignie!$L$8,Dźwignie!$L$9)","v":321234.6011016267},{"$f":"Dźwignie!$L$7*C916","v":481851.90165244008},null,{"$f":"C916*Dźwignie!$G$5","v":321234.6011016267},160617.30055081338,{"$f":"Dźwignie!$G$6","v":50000},110617.30055081338,{"$f":"I916-Dźwignie!$D$6","v":90617.300550813379},{"$f":"IF(J916>0,J916*(1-Dźwignie!$D$9),J916)","v":73400.013446158846},{"$f":"K916/Dźwignie!$D$5","v":7.3400013446158843},{"$f":"I916/Dźwignie!$D$2","v":0.5530865027540669},{"$f":"K916/Dźwignie!$D$3","v":0.7340001344615884},1.4520088607390298,1.2207084064348734,1.772479422522057,null,{"$f":"C916*Dźwignie!$G$8","v":160617.30055081335},321234.60110162676,{"$f":"Dźwignie!$G$9","v":150000},171234.60110162676,{"$f":"V916-Dźwignie!$D$6","v":151234.60110162676},{"$f":"IF(W916>0,W916*(1-Dźwignie!$D$9),W916)","v":122500.02689231768},{"$f":"X916/Dźwignie!$D$5","v":12.250002689231767},{"$f":"V916/Dźwignie!$D$2","v":0.8561730055081338},{"$f":"X916/Dźwignie!$D$3","v":1.2250002689231767},1.8759911783890912,1.1322448689275835,2.1240813858844594]
[905,0.47730773687362671,{"$f":"NORMINV(B917,Dźwignie!$L$8,Dźwignie!$L$9)","v":347154.41120754898},{"$f":"Dźwignie!$L$7*C917","v":520731.61681132345},null,{"$f":"C917*Dźwignie!$G$5","v":347154.41120754898},173577.20560377446,{"$f":"Dźwignie!$G$6","v":50000},123577.20560377446,{"$f":"I917-Dźwignie!$D$6","v":103577.20560377446},{"$f":"IF(J917>0,J917*(1-Dźwignie!$D$9),J917)","v":83897.536539057313},{"$f":"K917/Dźwignie!$D$5","v":8.389753653905732},{"$f":"I917/Dźwignie!$D$2","v":0.61788602801887227},{"$f":"K917/Dźwignie!$D$3","v":0.83897536539057316},1.40460536193313,1.1930926779054867,1.6758243726692035,null,{"$f":"C917*Dźwignie!$G$8","v":173577.20560377449},347154.41120754892,{"$f":"Dźwignie!$G$9","v":150000},197154.41120754892,{"$f":"V917-Dźwignie!$D$6","v":177154.41120754892},{"$f":"IF(W917>0,W917*(1-Dźwignie!$D$9),W917)","v":143495.07307811463},{"$f":"X917/Dźwignie!$D$5","v":14.349507307811463},{"$f":"V917/Dźwignie!$D$2","v":0.98577205603774465},{"$f":"X917/Dźwignie!$D$3","v":1.4349507307811462},1.760824975110963,1.112895862223654,1.9596148289010593]
[906,0.78577029705047607,{"$f":"NORMINV(B918,Dźwignie!$L$8,Dźwignie!$L$9)","v":389591.53441175981},{"$f":"Dźwignie!$L$7*C918","v":584387.30161763972},null,{"$f":"C918*Dźwignie!$G$5","v":389591.53441175981},194795.76720587991,{"$f":"Dźwignie!$G$6","v":50000},144795.76720587991,{"$f":"I918-Dźwignie!$D$6","v":124795.76720587991},{"$f":"IF(J918>0,J918*(1-Dźwignie!$D$9),J918)","v":101084.57143676274},{"$f":"K918/Dźwignie!$D$5","v":10.108457143676274},{"$f":"I918/Dźwignie!$D$2","v":0.7239788360293995},{"$f":"K918/Dźwignie!$D$3","v":1.0108457143676273},1.3453139616222813,1.1602618457964629,1.56091646028762,null,{"$f":"C918*Dźwignie!$G$8","v":194795.76720587991},389591.53441175981,{"$f":"Dźwignie!$G$9","v":150000},239591.53441175981,{"$f":"V918-Dźwignie!$D$6","v":219591.53441175981},{"$f":"IF(W918>0,W918*(1-Dźwignie!$D$9),W918)","v":177869.14287352547},{"$f":"X918/Dźwignie!$D$5","v":17.786914287352548},{"$f":"V918/Dźwignie!$D$2","v":1.197957672058799},{"$f":"X918/Dźwignie!$D$3","v":1.7786914287352547},1.6260655259305254,1.0910781923063466,1.7741646346039466]
[907,0.36959892511367798,{"$f":"NORMINV(B919,Dźwignie!$L$8,Dźwignie!$L$9)","v":333354.2105158302},{"$f":"Dźwignie!$L$7*C919","v":500031.3157737453},null,{"$f":"C919*Dźwignie!$G$5","v":333354.2105158302},166677.1052579151,{"$f":"Dźwignie!$G$6","v":50000},116677.1052579151,{"$f":"I919-Dźwignie!$D$6","v":96677.1052579151},{"$f":"IF(J919>0,J919*(1-Dźwignie!$D$9),J919)","v":78308.455258911243},{"$f":"K919/Dźwignie!$D$5","v":7.8308455258911245},{"$f":"I919/Dźwignie!$D$2","v":0.58338552628957552},{"$f":"K919/Dźwignie!$D$3","v":0.78308455258911247},1.4285330861566616,1.2068742123240452,1.7240597431341584,null,{"$f":"C919*Dźwignie!$G$8","v":166677.1052579151},333354.2105158302,{"$f":"Dźwignie!$G$9","v":150000},183354.2105158302,{"$f":"V919-Dźwignie!$D$6","v":163354.2105158302},{"$f":"IF(W919>0,W919*(1-Dźwignie!$D$9),W919)","v":132316.91051782246},{"$f":"X919/Dźwignie!$D$5","v":13.231691051782246},{"$f":"V919/Dźwignie!$D$2","v":0.91677105257915104},{"$f":"X919/Dźwignie!$D$3","v":1.3231691051782246},1.818088657893403,1.1224333302266603,2.0406833069266117]
[908,0.52796411514282227,{"$f":"NORMINV(B920,Dźwignie!$L$8,Dźwignie!$L$9)","v":353507.65709617961},{"$f":"Dźwignie!$L$7*C920","v":530261.48564426939},null,{"$f":"C920*Dźwignie!$G$5","v":353507.65709617961},176753.82854808978,{"$f":"Dźwignie!$G$6","v":50000},126753.82854808978,{"$f":"I920-Dźwignie!$D$6","v":106753.82854808978},{"$f":"IF(J920>0,J920*(1-Dźwignie!$D$9),J920)","v":86470.601123952729},{"$f":"K920/Dźwignie!$D$5","v":8.6470601123952733},{"$f":"I920/Dźwignie!$D$2","v":0.63376914274044893},{"$f":"K920/Dźwignie!$D$3","v":0.86470601123952728},1.3944654025265222,1.187346910850982,1.6557141879784372,null,{"$f":"C920*Dźwignie!$G$8","v":176753.8285480898},353507.65709617955,{"$f":"Dźwignie!$G$9","v":150000},203507.65709617955,{"$f":"V920-Dźwignie!$D$6","v":183507.65709617955},{"$f":"IF(W920>0,W920*(1-Dźwignie!$D$9),W920)","v":148641.20224790546},{"$f":"X920/Dźwignie!$D$5","v":14.864120224790545},{"$f":"V920/Dźwignie!$D$2","v":1.0175382854808979},{"$f":"X920/Dźwignie!$D$3","v":1.4864120224790547},1.7370730032487605,1.1089872777870935,1.9263918611902939]
[909,1.0815322399139404E-2,{"$f":"NORMINV(B921,Dźwignie!$L$8,Dźwignie!$L$9)","v":235160.40582037886},{"$f":"Dźwignie!$L$7*C921","v":352740.60873056832},null,{"$f":"C921*Dźwignie!$G$5","v":235160.40582037886},117580.20291018946,{"$f":"Dźwignie!$G$6","v":50000},67580.202910189459,{"$f":"I921-Dźwignie!$D$6","v":47580.202910189459},{"$f":"IF(J921>0,J921*(1-Dźwignie!$D$9),J921)","v":38539.964357253462},{"$f":"K921/Dźwignie!$D$5","v":3.8539964357253464},{"$f":"I921/Dźwignie!$D$2","v":0.33790101455094729},{"$f":"K921/Dźwignie!$D$3","v":0.38539964357253464},1.7398616436006766,1.420342890040869,2.4712001151430414,null,{"$f":"C921*Dźwignie!$G$8","v":117580.20291018943},235160.40582037889,{"$f":"Dźwignie!$G$9","v":150000},85160.405820378888,{"$f":"V921-Dźwignie!$D$6","v":65160.405820378888},{"$f":"IF(W921>0,W921*(1-Dźwignie!$D$9),W921)","v":52779.928714506903},{"$f":"X921/Dźwignie!$D$5","v":5.2779928714506905},{"$f":"V921/Dźwignie!$D$2","v":0.42580202910189446},{"$f":"X921/Dźwignie!$D$3","v":0.52779928714506907},2.7613819304288119,1.3069348594164987,3.6089463050402388]
[910,0.62592136859893799,{"$f":"NORMINV(B922,Dźwignie!$L$8,Dźwignie!$L$9)","v":366053.50537270366},{"$f":"Dźwignie!$L$7*C922","v":549080.25805905554},null,{"$f":"C922*Dźwignie!$G$5","v":366053.50537270366},183026.75268635189,{"$f":"Dźwignie!$G$6","v":50000},133026.75268635189,{"$f":"I922-Dźwignie!$D$6","v":113026.75268635189},{"$f":"IF(J922>0,J922*(1-Dźwignie!$D$9),J922)","v":91551.669675945028},{"$f":"K922/Dźwignie!$D$5","v":9.1551669675945035},{"$f":"I922/Dźwignie!$D$2","v":0.66513376343175945},{"$f":"K922/Dźwignie!$D$3","v":0.91551669675945024},1.3758642452762049,1.1769492578053604,1.6193224023187618,null,{"$f":"C922*Dźwignie!$G$8","v":183026.75268635183},366053.50537270372,{"$f":"Dźwignie!$G$9","v":150000},216053.50537270372,{"$f":"V922-Dźwignie!$D$6","v":196053.50537270372},{"$f":"IF(W922>0,W922*(1-Dźwignie!$D$9),W922)","v":158803.33935189003},{"$f":"X922/Dźwignie!$D$5","v":15.880333935189002},{"$f":"V922/Dźwignie!$D$2","v":1.0802675268635187},{"$f":"X922/Dźwignie!$D$3","v":1.5880333935189002},1.6942724661710167,1.102012968153665,1.8671102293061521]
[911,0.77712422609329224,{"$f":"NORMINV(B923,Dźwignie!$L$8,Dźwignie!$L$9)","v":388125.84606579511},{"$f":"Dźwignie!$L$7*C923","v":582188.76909869269},null,{"$f":"C923*Dźwignie!$G$5","v":388125.84606579511},194062.92303289758,{"$f":"Dźwignie!$G$6","v":50000},144062.92303289758,{"$f":"I923-Dźwignie!$D$6","v":124062.92303289758},{"$f":"IF(J923>0,J923*(1-Dźwignie!$D$9),J923)","v":100490.96765664704},{"$f":"K923/Dźwignie!$D$5","v":10.049096765664704},{"$f":"I923/Dźwignie!$D$2","v":0.72031461516448791},{"$f":"K923/Dźwignie!$D$3","v":1.0049096765664705},1.347070564357369,1.1612085183153118,1.5642298141035913,null,{"$f":"C923*Dźwignie!$G$8","v":194062.92303289755},388125.84606579517,{"$f":"Dźwignie!$G$9","v":150000},238125.84606579517,{"$f":"V923-Dźwignie!$D$6","v":218125.84606579517},{"$f":"IF(W923>0,W923*(1-Dźwignie!$D$9),W923)","v":176681.93531329409},{"$f":"X923/Dźwignie!$D$5","v":17.668193531329408},{"$f":"V923/Dźwignie!$D$2","v":1.1906292303289758},{"$f":"X923/Dźwignie!$D$3","v":1.7668193531329408},1.6299190217199453,1.0916901887636334,1.7793666044908838]
[912,0.77145266532897949,{"$f":"NORMINV(B924,Dźwignie!$L$8,Dźwignie!$L$9)","v":387181.96925041283},{"$f":"Dźwignie!$L$7*C924","v":580772.95387561922},null,{"$f":"C924*Dźwignie!$G$5","v":387181.96925041283},193590.98462520639,{"$f":"Dźwignie!$G$6","v":50000},143590.98462520639,{"$f":"I924-Dźwignie!$D$6","v":123590.98462520639},{"$f":"IF(J924>0,J924*(1-Dźwignie!$D$9),J924)","v":100108.69754641718},{"$f":"K924/Dźwignie!$D$5","v":10.010869754641718},{"$f":"I924/Dźwignie!$D$2","v":0.71795492312603193},{"$f":"K924/Dźwignie!$D$3","v":1.0010869754641718},1.3482112761501521,1.1618241011725139,1.5663843541037985,null,{"$f":"C924*Dźwignie!$G$8","v":193590.98462520642},387181.96925041277,{"$f":"Dźwignie!$G$9","v":150000},237181.96925041277,{"$f":"V924-Dźwignie!$D$6","v":217181.96925041277},{"$f":"IF(W924>0,W924*(1-Dźwignie!$D$9),W924)","v":175917.39509283437},{"$f":"X924/Dźwignie!$D$5","v":17.591739509283435},{"$f":"V924/Dźwignie!$D$2","v":1.1859098462520639},{"$f":"X924/Dźwignie!$D$3","v":1.7591739509283437},1.6324258141293722,1.0920886760030242,1.7827537460257048]
[913,0.13215631246566772,{"$f":"NORMINV(B925,Dźwignie!$L$8,Dźwignie!$L$9)","v":294187.20642919885},{"$f":"Dźwignie!$L$7*C925","v":441280.80964379827},null,{"$f":"C925*Dźwignie!$G$5","v":294187.20642919885},147093.60321459942,{"$f":"Dźwignie!$G$6","v":50000},97093.603214599425,{"$f":"I925-Dźwignie!$D$6","v":77093.603214599425},{"$f":"IF(J925>0,J925*(1-Dźwignie!$D$9),J925)","v":62445.818603825537},{"$f":"K925/Dźwignie!$D$5","v":6.2445818603825538},{"$f":"I925/Dźwignie!$D$2","v":0.48546801607299711},{"$f":"K925/Dźwignie!$D$3","v":0.62445818603825543},1.5149669838649245,1.2594248960491257,1.9079871361719398,null,{"$f":"C925*Dźwignie!$G$8","v":147093.60321459942},294187.20642919885,{"$f":"Dźwignie!$G$9","v":150000},144187.20642919885,{"$f":"V925-Dźwignie!$D$6","v":124187.20642919885},{"$f":"IF(W925>0,W925*(1-Dźwignie!$D$9),W925)","v":100591.63720765107},{"$f":"X925/Dźwignie!$D$5","v":10.059163720765108},{"$f":"V925/Dźwignie!$D$2","v":0.72093603214599422},{"$f":"X925/Dźwignie!$D$3","v":1.0059163720765107},2.0403142117442674,1.1610471849320672,2.3689010719225712]
[914,0.95647847652435303,{"$f":"NORMINV(B926,Dźwignie!$L$8,Dźwignie!$L$9)","v":435560.3120617388},{"$f":"Dźwignie!$L$7*C926","v":653340.46809260827},null,{"$f":"C926*Dźwignie!$G$5","v":435560.3120617388},217780.15603086946,{"$f":"Dźwignie!$G$6","v":50000},167780.15603086946,{"$f":"I926-Dźwignie!$D$6","v":147780.15603086946},{"$f":"IF(J926>0,J926*(1-Dźwignie!$D$9),J926)","v":119701.92638500428},{"$f":"K926/Dźwignie!$D$5","v":11.970192638500428},{"$f":"I926/Dźwignie!$D$2","v":0.83890078015434733},{"$f":"K926/Dźwignie!$D$3","v":1.1970192638500428},1.2980090207497519,1.1353361678398977,1.4736765874396416,null,{"$f":"C926*Dźwignie!$G$8","v":217780.1560308694},435560.31206173886,{"$f":"Dźwignie!$G$9","v":150000},285560.31206173886,{"$f":"V926-Dźwignie!$D$6","v":265560.31206173886},{"$f":"IF(W926>0,W926*(1-Dźwignie!$D$9),W926)","v":215103.8527700085},{"$f":"X926/Dźwignie!$D$5","v":21.51038527700085},{"$f":"V926/Dźwignie!$D$2","v":1.4278015603086942},{"$f":"X926/Dźwignie!$D$3","v":2.1510385277000847},1.5252830791401069,1.0753124585700529,1.6401558978454489]
[915,0.95171266794204712,{"$f":"NORMINV(B927,Dźwignie!$L$8,Dźwignie!$L$9)","v":433084.5705604598},{"$f":"Dźwignie!$L$7*C927","v":649626.85584068974},null,{"$f":"C927*Dźwignie!$G$5","v":433084.5705604598},216542.28528022993,{"$f":"Dźwignie!$G$6","v":50000},166542.28528022993,{"$f":"I927-Dźwignie!$D$6","v":146542.28528022993},{"$f":"IF(J927>0,J927*(1-Dźwignie!$D$9),J927)","v":118699.25107698626},{"$f":"K927/Dźwignie!$D$5","v":11.869925107698625},{"$f":"I927/Dźwignie!$D$2","v":0.8327114264011497},{"$f":"K927/Dźwignie!$D$3","v":1.1869925107698627},1.3002240537042484,1.1364793783702389,1.4776778242958364,null,{"$f":"C927*Dźwignie!$G$8","v":216542.2852802299},433084.57056045986,{"$f":"Dźwignie!$G$9","v":150000},283084.57056045986,{"$f":"V927-Dźwignie!$D$6","v":263084.57056045986},{"$f":"IF(W927>0,W927*(1-Dźwignie!$D$9),W927)","v":213098.50215397251},{"$f":"X927/Dźwignie!$D$5","v":21.309850215397251},{"$f":"V927/Dźwignie!$D$2","v":1.4154228528022994},{"$f":"X927/Dźwignie!$D$3","v":2.130985021539725},1.5298769894206004,1.0760211819240983,1.6461800463548357]
[916,0.99890804290771484,{"$f":"NORMINV(B928,Dźwignie!$L$8,Dźwignie!$L$9)","v":503200.51311271463},{"$f":"Dźwignie!$L$7*C928","v":754800.769669072},null,{"$f":"C928*Dźwignie!$G$5","v":503200.51311271463},251600.25655635737,{"$f":"Dźwignie!$G$6","v":50000},201600.25655635737,{"$f":"I928-Dźwignie!$D$6","v":181600.25655635737},{"$f":"IF(J928>0,J928*(1-Dźwignie!$D$9),J928)","v":147096.20781064947},{"$f":"K928/Dźwignie!$D$5","v":14.709620781064947},{"$f":"I928/Dźwignie!$D$2","v":1.0080012827817868},{"$f":"K928/Dźwignie!$D$3","v":1.4709620781064947},1.2480155573910319,1.1101320030007404,1.3854620105025917,null,{"$f":"C928*Dźwignie!$G$8","v":251600.25655635732},503200.51311271469,{"$f":"Dźwignie!$G$9","v":150000},353200.51311271469,{"$f":"V928-Dźwignie!$D$6","v":333200.51311271469},{"$f":"IF(W928>0,W928*(1-Dźwignie!$D$9),W928)","v":269892.41562129889},{"$f":"X928/Dźwignie!$D$5","v":26.989241562129887},{"$f":"V928/Dźwignie!$D$2","v":1.7660025655635734},{"$f":"X928/Dźwignie!$D$3","v":2.6989241562129891},1.4246879447542915,1.0600239171697627,1.5102032959429825]
[917,0.44612807035446167,{"$f":"NORMINV(B929,Dźwignie!$L$8,Dźwignie!$L$9)","v":343227.50295015669},{"$f":"Dźwignie!$L$7*C929","v":514841.25442523503},null,{"$f":"C929*Dźwignie!$G$5","v":343227.50295015669},171613.75147507834,{"$f":"Dźwignie!$G$6","v":50000},121613.75147507834,{"$f":"I929-Dźwignie!$D$6","v":101613.75147507834},{"$f":"IF(J929>0,J929*(1-Dźwignie!$D$9),J929)","v":82307.13869481346},{"$f":"K929/Dźwignie!$D$5","v":8.2307138694813453},{"$f":"I929/Dźwignie!$D$2","v":0.60806875737539168},{"$f":"K929/Dźwignie!$D$3","v":0.82307138694813464},1.4111377158712699,1.1968237537702284,1.6888831381957994,null,{"$f":"C929*Dźwignie!$G$8","v":171613.75147507834},343227.50295015669,{"$f":"Dźwignie!$G$9","v":150000},193227.50295015669,{"$f":"V929-Dźwignie!$D$6","v":173227.50295015669},{"$f":"IF(W929>0,W929*(1-Dźwignie!$D$9),W929)","v":140314.27738962692},{"$f":"X929/Dźwignie!$D$5","v":14.031427738962693},{"$f":"V929/Dźwignie!$D$2","v":0.96613751475078347},{"$f":"X929/Dźwignie!$D$3","v":1.4031427738962692},1.7762870073350412,1.1154551076439327,1.9813684149734274]
[918,0.27554953098297119,{"$f":"NORMINV(B930,Dźwignie!$L$8,Dźwignie!$L$9)","v":320194.29923800309},{"$f":"Dźwignie!$L$7*C930","v":480291.44885700464},null,{"$f":"C930*Dźwignie!$G$5","v":320194.29923800309},160097.14961900155,{"$f":"Dźwignie!$G$6","v":50000},110097.14961900155,{"$f":"I930-Dźwignie!$D$6","v":90097.149619001546},{"$f":"IF(J930>0,J930*(1-Dźwignie!$D$9),J930)","v":72978.691191391263},{"$f":"K930/Dźwignie!$D$5","v":7.2978691191391265},{"$f":"I930/Dźwignie!$D$2","v":0.55048574809500772},{"$f":"K930/Dźwignie!$D$3","v":0.72978691191391265},1.4541443640732599,1.2219826052719207,1.7769391184517225,null,{"$f":"C930*Dźwignie!$G$8","v":160097.14961900155},320194.29923800309,{"$f":"Dźwignie!$G$9","v":150000},170194.29923800309,{"$f":"V930-Dźwignie!$D$6","v":150194.29923800309},{"$f":"IF(W930>0,W930*(1-Dźwignie!$D$9),W930)","v":121657.38238278251},{"$f":"X930/Dźwignie!$D$5","v":12.165738238278252},{"$f":"V930/Dźwignie!$D$2","v":0.85097149619001544},{"$f":"X930/Dźwignie!$D$3","v":1.2165738238278252},1.8813456189283815,1.1331608463268457,2.1318671937781879]
[919,0.46154052019119263,{"$f":"NORMINV(B931,Dźwignie!$L$8,Dźwignie!$L$9)","v":345172.32845492294},{"$f":"Dźwignie!$L$7*C931","v":517758.49268238444},null,{"$f":"C931*Dźwignie!$G$5","v":345172.32845492294},172586.1642274615,{"$f":"Dźwignie!$G$6","v":50000},122586.1642274615,{"$f":"I931-Dźwignie!$D$6","v":102586.1642274615},{"$f":"IF(J931>0,J931*(1-Dźwignie!$D$9),J931)","v":83094.793024243816},{"$f":"K931/Dźwignie!$D$5","v":8.309479302424382},{"$f":"I931/Dźwignie!$D$2","v":0.61293082113730746},{"$f":"K931/Dźwignie!$D$3","v":0.83094793024243818},1.4078763726322641,1.1949580642829627,1.6823532249903694,null,{"$f":"C931*Dźwignie!$G$8","v":172586.16422746147},345172.328454923,{"$f":"Dźwignie!$G$9","v":150000},195172.328454923,{"$f":"V931-Dźwignie!$D$6","v":175172.328454923},{"$f":"IF(W931>0,W931*(1-Dźwignie!$D$9),W931)","v":141889.58604848763},{"$f":"X931/Dźwignie!$D$5","v":14.188958604848763},{"$f":"V931/Dźwignie!$D$2","v":0.97586164227461503},{"$f":"X931/Dźwignie!$D$3","v":1.4188958604848763},1.7685515727945214,1.1141732839678875,1.9704729137270443]
[920,0.31830143928527832,{"$f":"NORMINV(B932,Dźwignie!$L$8,Dźwignie!$L$9)","v":326377.30773820035},{"$f":"Dźwignie!$L$7*C932","v":489565.96160730056},null,{"$f":"C932*Dźwignie!$G$5","v":326377.30773820035},163188.65386910021,{"$f":"Dźwignie!$G$6","v":50000},113188.65386910021,{"$f":"I932-Dźwignie!$D$6","v":93188.653869100206},{"$f":"IF(J932>0,J932*(1-Dźwignie!$D$9),J932)","v":75482.809633971177},{"$f":"K932/Dźwignie!$D$5","v":7.5482809633971177},{"$f":"I932/Dźwignie!$D$2","v":0.56594326934550099},{"$f":"K932/Dźwignie!$D$3","v":0.75482809633971182},1.4417403890837304,1.2146184022369666,1.7511644078293831,null,{"$f":"C932*Dźwignie!$G$8","v":163188.65386910018},326377.30773820041,{"$f":"Dźwignie!$G$9","v":150000},176377.30773820041,{"$f":"V932-Dźwignie!$D$6","v":156377.30773820041},{"$f":"IF(W932>0,W932*(1-Dźwignie!$D$9),W932)","v":126665.61926794234},{"$f":"X932/Dźwignie!$D$5","v":12.666561926794234},{"$f":"V932/Dźwignie!$D$2","v":0.88188653869100209},{"$f":"X932/Dźwignie!$D$3","v":1.2666561926794233},1.8504495386824213,1.1278957944044097,2.0871142524374831]
[921,0.19131702184677124,{"$f":"NORMINV(B933,Dźwignie!$L$8,Dźwignie!$L$9)","v":306347.3365685523},{"$f":"Dźwignie!$L$7*C933","v":459521.00485282845},null,{"$f":"C933*Dźwignie!$G$5","v":306347.3365685523},153173.66828427615,{"$f":"Dźwignie!$G$6","v":50000},103173.66828427615,{"$f":"I933-Dźwignie!$D$6","v":83173.668284276151},{"$f":"IF(J933>0,J933*(1-Dźwignie!$D$9),J933)","v":67370.671310263686},{"$f":"K933/Dźwignie!$D$5","v":6.737067131026369},{"$f":"I933/Dźwignie!$D$2","v":0.51586834142138072},{"$f":"K933/Dźwignie!$D$3","v":0.67370671310263686},1.4846197758737643,1.2404607180681602,1.8416125132385606,null,{"$f":"C933*Dźwignie!$G$8","v":153173.66828427615},306347.3365685523,{"$f":"Dźwignie!$G$9","v":150000},156347.3365685523,{"$f":"V933-Dźwignie!$D$6","v":136347.3365685523},{"$f":"IF(W933>0,W933*(1-Dźwignie!$D$9),W933)","v":110441.34262052737},{"$f":"X933/Dźwignie!$D$5","v":11.044134262052737},{"$f":"V933/Dźwignie!$D$2","v":0.78173668284276154},{"$f":"X933/Dźwignie!$D$3","v":1.1044134262052736},1.9594023364397433,1.1466842000976269,2.2468157008298282]
[922,0.17987525463104248,{"$f":"NORMINV(B934,Dźwignie!$L$8,Dźwignie!$L$9)","v":304207.97035715706},{"$f":"Dźwignie!$L$7*C934","v":456311.95553573559},null,{"$f":"C934*Dźwignie!$G$5","v":304207.97035715706},152103.98517857853,{"$f":"Dźwignie!$G$6","v":50000},102103.98517857853,{"$f":"I934-Dźwignie!$D$6","v":82103.985178578529},{"$f":"IF(J934>0,J934*(1-Dźwignie!$D$9),J934)","v":66504.227994648609},{"$f":"K934/Dźwignie!$D$5","v":6.6504227994648613},{"$f":"I934/Dźwignie!$D$2","v":0.51051992589289263},{"$f":"K934/Dźwignie!$D$3","v":0.66504227994648613},1.4896968508383943,1.2435935351554426,1.8525773730440489,null,{"$f":"C934*Dźwignie!$G$8","v":152103.98517857853},304207.97035715706,{"$f":"Dźwignie!$G$9","v":150000},154207.97035715706,{"$f":"V934-Dźwignie!$D$6","v":134207.97035715706},{"$f":"IF(W934>0,W934*(1-Dźwignie!$D$9),W934)","v":108708.45598929722},{"$f":"X934/Dźwignie!$D$5","v":10.870845598929721},{"$f":"V934/Dźwignie!$D$2","v":0.77103985178578527},{"$f":"X934/Dźwignie!$D$3","v":1.0870845598929721},1.9727123679313652,1.149022445885856,2.2666907900297759]
[923,0.57888561487197876,{"$f":"NORMINV(B935,Dźwignie!$L$8,Dźwignie!$L$9)","v":359952.17161113158},{"$f":"Dźwignie!$L$7*C935","v":539928.25741669734},null,{"$f":"C935*Dźwignie!$G$5","v":359952.17161113158},179976.08580556576,{"$f":"Dźwignie!$G$6","v":50000},129976.08580556576,{"$f":"I935-Dźwignie!$D$6","v":109976.08580556576},{"$f":"IF(J935>0,J935*(1-Dźwignie!$D$9),J935)","v":89080.629502508265},{"$f":"K935/Dźwignie!$D$5","v":8.9080629502508266},{"$f":"I935/Dźwignie!$D$2","v":0.64988042902782883},{"$f":"K935/Dźwignie!$D$3","v":0.89080629502508268},1.3846861496875369,1.1818577180075254,1.636502013026339,null,{"$f":"C935*Dźwignie!$G$8","v":179976.08580556579},359952.17161113152,{"$f":"Dźwignie!$G$9","v":150000},209952.17161113152,{"$f":"V935-Dźwignie!$D$6","v":189952.17161113152},{"$f":"IF(W935>0,W935*(1-Dźwignie!$D$9),W935)","v":153861.25900501653},{"$f":"X935/Dźwignie!$D$5","v":15.386125900501654},{"$f":"V935/Dźwignie!$D$2","v":1.0497608580556577},{"$f":"X935/Dźwignie!$D$3","v":1.5386125900501653},1.7144484329403673,1.1052896622890094,1.8949621294565799]
[924,0.72529935836791992,{"$f":"NORMINV(B936,Dźwignie!$L$8,Dźwignie!$L$9)","v":379932.8765342366},{"$f":"Dźwignie!$L$7*C936","v":569899.31480135489},null,{"$f":"C936*Dźwignie!$G$5","v":379932.8765342366},189966.4382671183,{"$f":"Dźwignie!$G$6","v":50000},139966.4382671183,{"$f":"I936-Dźwignie!$D$6","v":119966.4382671183},{"$f":"IF(J936>0,J936*(1-Dźwignie!$D$9),J936)","v":97172.814996365822},{"$f":"K936/Dźwignie!$D$5","v":9.7172814996365826},{"$f":"I936/Dźwignie!$D$2","v":0.69983219133559149},{"$f":"K936/Dźwignie!$D$3","v":0.97172814996365819},1.3572284943378907,1.1667132932251254,1.583496526287939,null,{"$f":"C936*Dźwignie!$G$8","v":189966.4382671183},379932.8765342366,{"$f":"Dźwignie!$G$9","v":150000},229932.8765342366,{"$f":"V936-Dźwignie!$D$6","v":209932.8765342366},{"$f":"IF(W936>0,W936*(1-Dźwignie!$D$9),W936)","v":170045.62999273164},{"$f":"X936/Dźwignie!$D$5","v":17.004562999273166},{"$f":"V936/Dźwignie!$D$2","v":1.149664382671183},{"$f":"X936/Dźwignie!$D$3","v":1.7004562999273165},1.6523642997945327,1.0952685464524579,1.8097826448458911]
[925,0.94322365522384644,{"$f":"NORMINV(B937,Dźwignie!$L$8,Dźwignie!$L$9)","v":429121.22627168766},{"$f":"Dźwignie!$L$7*C937","v":643681.83940753154},null,{"$f":"C937*Dźwignie!$G$5","v":429121.22627168766},214560.61313584389,{"$f":"Dźwignie!$G$6","v":50000},164560.61313584389,{"$f":"I937-Dźwignie!$D$6","v":144560.61313584389},{"$f":"IF(J937>0,J937*(1-Dźwignie!$D$9),J937)","v":117094.09664003356},{"$f":"K937/Dźwignie!$D$5","v":11.709409664003356},{"$f":"I937/Dźwignie!$D$2","v":0.82280306567921946},{"$f":"K937/Dźwignie!$D$3","v":1.1709409664003356},1.3038394124037767,1.1383502709773785,1.4842259484208251,null,{"$f":"C937*Dźwignie!$G$8","v":214560.61313584383},429121.22627168772,{"$f":"Dźwignie!$G$9","v":150000},279121.22627168772,{"$f":"V937-Dźwignie!$D$6","v":259121.22627168772},{"$f":"IF(W937>0,W937*(1-Dźwignie!$D$9),W937)","v":209888.19328006706},{"$f":"X937/Dźwignie!$D$5","v":20.988819328006706},{"$f":"V937/Dźwignie!$D$2","v":1.3956061313584385},{"$f":"X937/Dźwignie!$D$3","v":2.0988819328006705},1.5374009064219099,1.0771839508779959,1.6560635824629648]
[926,0.25545418262481689,{"$f":"NORMINV(B938,Dźwignie!$L$8,Dźwignie!$L$9)","v":317128.80321745895},{"$f":"Dźwignie!$L$7*C938","v":475693.20482618839},null,{"$f":"C938*Dźwignie!$G$5","v":317128.80321745895},158564.40160872944,{"$f":"Dźwignie!$G$6","v":50000},108564.40160872944,{"$f":"I938-Dźwignie!$D$6","v":88564.401608729444},{"$f":"IF(J938>0,J938*(1-Dźwignie!$D$9),J938)","v":71737.165303070855},{"$f":"K938/Dźwignie!$D$5","v":7.1737165303070851},{"$f":"I938/Dźwignie!$D$2","v":0.54282200804364722},{"$f":"K938/Dźwignie!$D$3","v":0.7173716530307086},1.4605561239143752,1.2258243677675194,1.7903852871863175,null,{"$f":"C938*Dźwignie!$G$8","v":158564.40160872947},317128.80321745889,{"$f":"Dźwignie!$G$9","v":150000},167128.80321745889,{"$f":"V938-Dźwignie!$D$6","v":147128.80321745889},{"$f":"IF(W938>0,W938*(1-Dźwignie!$D$9),W938)","v":119174.33060614171},{"$f":"X938/Dźwignie!$D$5","v":11.917433060614171},{"$f":"V938/Dźwignie!$D$2","v":0.83564401608729444},{"$f":"X938/Dźwignie!$D$3","v":1.1917433060614171},1.8975113631659779,1.135935313566302,2.155450165313566]
[927,0.60825234651565552,{"$f":"NORMINV(B939,Dźwignie!$L$8,Dźwignie!$L$9)","v":363738.34647328238},{"$f":"Dźwignie!$L$7*C939","v":545607.51970992354},null,{"$f":"C939*Dźwignie!$G$5","v":363738.34647328238},181869.17323664116,{"$f":"Dźwignie!$G$6","v":50000},131869.17323664116,{"$f":"I939-Dźwignie!$D$6","v":111869.17323664116},{"$f":"IF(J939>0,J939*(1-Dźwignie!$D$9),J939)","v":90614.03032167934},{"$f":"K939/Dźwignie!$D$5","v":9.0614030321679344},{"$f":"I939/Dźwignie!$D$2","v":0.65934586618320579},{"$f":"K939/Dźwignie!$D$3","v":0.9061403032167934},1.379163672394262,1.178780261097427,1.6257309138409943,null,{"$f":"C939*Dźwignie!$G$8","v":181869.17323664119},363738.34647328232,{"$f":"Dźwignie!$G$9","v":150000},213738.34647328232,{"$f":"V939-Dźwignie!$D$6","v":193738.34647328232},{"$f":"IF(W939>0,W939*(1-Dźwignie!$D$9),W939)","v":156928.06064335868},{"$f":"X939/Dźwignie!$D$5","v":15.692806064335867},{"$f":"V939/Dźwignie!$D$2","v":1.0686917323664116},{"$f":"X939/Dźwignie!$D$3","v":1.5692806064335867},1.7017926472952773,1.1032320155718791,1.8774721323609729]
[928,0.11888861656188965,{"$f":"NORMINV(B940,Dźwignie!$L$8,Dźwignie!$L$9)","v":290971.95865312894},{"$f":"Dźwignie!$L$7*C940","v":436457.93797969341},null,{"$f":"C940*Dźwignie!$G$5","v":290971.95865312894},145485.97932656447,{"$f":"Dźwignie!$G$6","v":50000},95485.979326564469,{"$f":"I940-Dźwignie!$D$6","v":75485.979326564469},{"$f":"IF(J940>0,J940*(1-Dźwignie!$D$9),J940)","v":61143.643254517221},{"$f":"K940/Dźwignie!$D$5","v":6.1143643254517217},{"$f":"I940/Dźwignie!$D$2","v":0.47742989663282237},{"$f":"K940/Dźwignie!$D$3","v":0.61143643254517221},1.5236370863307453,1.26494986457653,1.9273245260178551,null,{"$f":"C940*Dźwignie!$G$8","v":145485.97932656447},290971.95865312894,{"$f":"Dźwignie!$G$9","v":150000},140971.95865312894,{"$f":"V940-Dźwignie!$D$6","v":120971.95865312894},{"$f":"IF(W940>0,W940*(1-Dźwignie!$D$9),W940)","v":97987.286509034442},{"$f":"X940/Dźwignie!$D$5","v":9.7987286509034437},{"$f":"V940/Dźwignie!$D$2","v":0.70485979326564474},{"$f":"X940/Dźwignie!$D$3","v":0.97987286509034444},2.0640413982548487,1.1653275703119543,2.4052843476516115]
[929,0.56738752126693726,{"$f":"NORMINV(B941,Dźwignie!$L$8,Dźwignie!$L$9)","v":358486.34248197207},{"$f":"Dźwignie!$L$7*C941","v":537729.51372295804},null,{"$f":"C941*Dźwignie!$G$5","v":358486.34248197207},179243.17124098598,{"$f":"Dźwignie!$G$6","v":50000},129243.17124098598,{"$f":"I941-Dźwignie!$D$6","v":109243.17124098598},{"$f":"IF(J941>0,J941*(1-Dźwignie!$D$9),J941)","v":88486.96870519864},{"$f":"K941/Dźwignie!$D$5","v":8.8486968705198645},{"$f":"I941/Dźwignie!$D$2","v":0.64621585620492983},{"$f":"K941/Dźwignie!$D$3","v":0.88486968705198643},1.3868676350162463,1.1830778049813366,1.6407723174346782,null,{"$f":"C941*Dźwignie!$G$8","v":179243.17124098603},358486.34248197201,{"$f":"Dźwignie!$G$9","v":150000},208486.34248197201,{"$f":"V941-Dźwignie!$D$6","v":188486.34248197201},{"$f":"IF(W941>0,W941*(1-Dźwignie!$D$9),W941)","v":152673.93741039734},{"$f":"X941/Dźwignie!$D$5","v":15.267393741039735},{"$f":"V941/Dźwignie!$D$2","v":1.0424317124098601},{"$f":"X941/Dźwignie!$D$3","v":1.5267393741039734},1.719471588470936,1.1061084837057249,1.9019221114986611]
[930,0.21816766262054443,{"$f":"NORMINV(B942,Dźwignie!$L$8,Dźwignie!$L$9)","v":311080.17701542389},{"$f":"Dźwignie!$L$7*C942","v":466620.26552313584},null,{"$f":"C942*Dźwignie!$G$5","v":311080.17701542389},155540.08850771195,{"$f":"Dźwignie!$G$6","v":50000},105540.08850771195,{"$f":"I942-Dźwignie!$D$6","v":85540.088507711946},{"$f":"IF(J942>0,J942*(1-Dźwignie!$D$9),J942)","v":69287.471691246683},{"$f":"K942/Dźwignie!$D$5","v":6.9287471691246685},{"$f":"I942/Dźwignie!$D$2","v":0.52770044253855974},{"$f":"K942/Dźwignie!$D$3","v":0.69287471691246683},1.4737536296110501,1.2338085025268226,1.8183297588438792,null,{"$f":"C942*Dźwignie!$G$8","v":155540.08850771195},311080.17701542389,{"$f":"Dźwignie!$G$9","v":150000},161080.17701542389,{"$f":"V942-Dźwignie!$D$6","v":141080.17701542389},{"$f":"IF(W942>0,W942*(1-Dźwignie!$D$9),W942)","v":114274.94338249337},{"$f":"X942/Dźwignie!$D$5","v":11.427494338249337},{"$f":"V942/Dźwignie!$D$2","v":0.80540088507711949},{"$f":"X942/Dźwignie!$D$3","v":1.1427494338249335},1.9312132801147659,1.1417633605450712,2.2049885646331049]
[931,0.4644966721534729,{"$f":"NORMINV(B943,Dźwignie!$L$8,Dźwignie!$L$9)","v":345544.4279084903},{"$f":"Dźwignie!$L$7*C943","v":518316.64186273544},null,{"$f":"C943*Dźwignie!$G$5","v":345544.4279084903},172772.21395424515,{"$f":"Dźwignie!$G$6","v":50000},122772.21395424515,{"$f":"I943-Dźwignie!$D$6","v":102772.21395424515},{"$f":"IF(J943>0,J943*(1-Dźwignie!$D$9),J943)","v":83245.493302938572},{"$f":"K943/Dźwignie!$D$5","v":8.3245493302938574},{"$f":"I943/Dźwignie!$D$2","v":0.61386106977122579},{"$f":"K943/Dźwignie!$D$3","v":0.83245493302938567},1.4072582744059177,1.194605129445826,1.681117953060391,null,{"$f":"C943*Dźwignie!$G$8","v":172772.21395424515},345544.4279084903,{"$f":"Dźwignie!$G$9","v":150000},195544.4279084903,{"$f":"V943-Dźwignie!$D$6","v":175544.4279084903},{"$f":"IF(W943>0,W943*(1-Dźwignie!$D$9),W943)","v":142190.98660587714},{"$f":"X943/Dźwignie!$D$5","v":14.219098660587715},{"$f":"V943/Dźwignie!$D$2","v":0.97772213954245146},{"$f":"X943/Dźwignie!$D$3","v":1.4219098660587715},1.7670891040178147,1.1139312722043551,1.9684158137370182]
[932,0.5670013427734375,{"$f":"NORMINV(B944,Dźwignie!$L$8,Dźwignie!$L$9)","v":358437.24408584804},{"$f":"Dźwignie!$L$7*C944","v":537655.86612877203},null,{"$f":"C944*Dźwignie!$G$5","v":358437.24408584804},179218.62204292399,{"$f":"Dźwignie!$G$6","v":50000},129218.62204292399,{"$f":"I944-Dźwignie!$D$6","v":109218.62204292399},{"$f":"IF(J944>0,J944*(1-Dźwignie!$D$9),J944)","v":88467.08385476844},{"$f":"K944/Dźwignie!$D$5","v":8.8467083854768447},{"$f":"I944/Dźwignie!$D$2","v":0.6460931102146199},{"$f":"K944/Dźwignie!$D$3","v":0.88467083854768436},1.3869411328607957,1.1831189555947685,1.6409163445816897,null,{"$f":"C944*Dźwignie!$G$8","v":179218.62204292402},358437.24408584798,{"$f":"Dźwignie!$G$9","v":150000},208437.24408584798,{"$f":"V944-Dźwignie!$D$6","v":188437.24408584798},{"$f":"IF(W944>0,W944*(1-Dźwignie!$D$9),W944)","v":152634.16770953688},{"$f":"X944/Dźwignie!$D$5","v":15.263416770953688},{"$f":"V944/Dźwignie!$D$2","v":1.0421862204292398},{"$f":"X944/Dźwignie!$D$3","v":1.5263416770953688},1.7196410634666628,1.1061361308748945,1.9021571124366032]
[933,0.4225122332572937,{"$f":"NORMINV(B945,Dźwignie!$L$8,Dźwignie!$L$9)","v":340226.46456990688},{"$f":"Dźwignie!$L$7*C945","v":510339.69685486029},null,{"$f":"C945*Dźwignie!$G$5","v":340226.46456990688},170113.23228495341,{"$f":"Dźwignie!$G$6","v":50000},120113.23228495341,{"$f":"I945-Dźwignie!$D$6","v":100113.23228495341},{"$f":"IF(J945>0,J945*(1-Dźwignie!$D$9),J945)","v":81091.718150812274},{"$f":"K945/Dźwignie!$D$5","v":8.1091718150812273},{"$f":"I945/Dźwignie!$D$2","v":0.60056616142476704},{"$f":"K945/Dźwignie!$D$3","v":0.81091718150812275},1.4162738696547716,1.199773791571066,1.699208270498731,null,{"$f":"C945*Dźwignie!$G$8","v":170113.23228495344},340226.46456990682,{"$f":"Dźwignie!$G$9","v":150000},190226.46456990682,{"$f":"V945-Dźwignie!$D$6","v":170226.46456990682},{"$f":"IF(W945>0,W945*(1-Dźwignie!$D$9),W945)","v":137883.43630162455},{"$f":"X945/Dźwignie!$D$5","v":13.788343630162455},{"$f":"V945/Dźwignie!$D$2","v":0.95113232284953408},{"$f":"X945/Dźwignie!$D$3","v":1.3788343630162454},1.7885338159395592,1.1174905444375638,1.9986696277192915]
[934,0.3044048547744751,{"$f":"NORMINV(B946,Dźwignie!$L$8,Dźwignie!$L$9)","v":324411.337190961},{"$f":"Dźwignie!$L$7*C946","v":486617.0057864415},null,{"$f":"C946*Dźwignie!$G$5","v":324411.337190961},162205.6685954805,{"$f":"Dźwignie!$G$6","v":50000},112205.6685954805,{"$f":"I946-Dźwignie!$D$6","v":92205.6685954805},{"$f":"IF(J946>0,J946*(1-Dźwignie!$D$9),J946)","v":74686.591562339207},{"$f":"K946/Dźwignie!$D$5","v":7.4686591562339206},{"$f":"I946/Dźwignie!$D$2","v":0.56102834297740245},{"$f":"K946/Dźwignie!$D$3","v":0.74686591562339211},1.4456102853435868,1.21690640396246,1.7591724138686098,null,{"$f":"C946*Dźwignie!$G$8","v":162205.6685954805},324411.337190961,{"$f":"Dźwignie!$G$9","v":150000},174411.337190961,{"$f":"V946-Dźwignie!$D$6","v":154411.337190961},{"$f":"IF(W946>0,W946*(1-Dźwignie!$D$9),W946)","v":125073.18312467841},{"$f":"X946/Dźwignie!$D$5","v":12.507318312467842},{"$f":"V946/Dźwignie!$D$2","v":0.87205668595480501},{"$f":"X946/Dźwignie!$D$3","v":1.2507318312467841},1.8600358349168935,1.1295241681332371,2.1009554291325152]
[935,0.50095111131668091,{"$f":"NORMINV(B947,Dźwignie!$L$8,Dźwignie!$L$9)","v":350119.20423885895},{"$f":"Dźwignie!$L$7*C947","v":525178.80635828839},null,{"$f":"C947*Dźwignie!$G$5","v":350119.20423885895},175059.60211942944,{"$f":"Dźwignie!$G$6","v":50000},125059.60211942944,{"$f":"I947-Dźwignie!$D$6","v":105059.60211942944},{"$f":"IF(J947>0,J947*(1-Dźwignie!$D$9),J947)","v":85098.277716737852},{"$f":"K947/Dźwignie!$D$5","v":8.5098277716737858},{"$f":"I947/Dźwignie!$D$2","v":0.62529801059714718},{"$f":"K947/Dźwignie!$D$3","v":0.85098277716737847},1.3998093641162475,1.1903681300569218,1.6662884551992263,null,{"$f":"C947*Dźwignie!$G$8","v":175059.60211942947},350119.20423885889,{"$f":"Dźwignie!$G$9","v":150000},200119.20423885889,{"$f":"V947-Dźwignie!$D$6","v":180119.20423885889},{"$f":"IF(W947>0,W947*(1-Dźwignie!$D$9),W947)","v":145896.5554334757},{"$f":"X947/Dźwignie!$D$5","v":14.58965554334757},{"$f":"V947/Dźwignie!$D$2","v":1.0005960211942944},{"$f":"X947/Dźwignie!$D$3","v":1.4589655543347571},1.7495532503765232,1.1110375769453082,1.9438194040351207]
[936,0.82213997840881348,{"$f":"NORMINV(B948,Dźwignie!$L$8,Dźwignie!$L$9)","v":396177.5588761777},{"$f":"Dźwignie!$L$7*C948","v":594266.33831426653},null,{"$f":"C948*Dźwignie!$G$5","v":396177.5588761777},198088.77943808882,{"$f":"Dźwignie!$G$6","v":50000},148088.77943808882,{"$f":"I948-Dźwignie!$D$6","v":128088.77943808882},{"$f":"IF(J948>0,J948*(1-Dźwignie!$D$9),J948)","v":103751.91134485195},{"$f":"K948/Dźwignie!$D$5","v":10.375191134485195},{"$f":"I948/Dźwignie!$D$2","v":0.74044389719044412},{"$f":"K948/Dźwignie!$D$3","v":1.0375191134485195},1.3376353035639907,1.1561417017769844,1.5464959562194454,null,{"$f":"C948*Dźwignie!$G$8","v":198088.77943808885},396177.55887617765,{"$f":"Dźwignie!$G$9","v":150000},246177.55887617765,{"$f":"V948-Dźwignie!$D$6","v":226177.55887617765},{"$f":"IF(W948>0,W948*(1-Dźwignie!$D$9),W948)","v":183203.8226897039},{"$f":"X948/Dźwignie!$D$5","v":18.320382268970391},{"$f":"V948/Dźwignie!$D$2","v":1.2308877943808882},{"$f":"X948/Dźwignie!$D$3","v":1.832038226897039},1.6093163027725326,1.0884261024806141,1.7516218710852196]
[937,0.81359046697616577,{"$f":"NORMINV(B949,Dźwignie!$L$8,Dźwignie!$L$9)","v":394560.2627218634},{"$f":"Dźwignie!$L$7*C949","v":591840.39408279513},null,{"$f":"C949*Dźwignie!$G$5","v":394560.2627218634},197280.13136093173,{"$f":"Dźwignie!$G$6","v":50000},147280.13136093173,{"$f":"I949-Dźwignie!$D$6","v":127280.13136093173},{"$f":"IF(J949>0,J949*(1-Dźwignie!$D$9),J949)","v":103096.90640235471},{"$f":"K949/Dźwignie!$D$5","v":10.309690640235472},{"$f":"I949/Dźwignie!$D$2","v":0.7364006568046586},{"$f":"K949/Dźwignie!$D$3","v":1.0309690640235472},1.3394891051357607,1.1571337158922743,1.5499680056229601,null,{"$f":"C949*Dźwignie!$G$8","v":197280.1313609317},394560.26272186346,{"$f":"Dźwignie!$G$9","v":150000},244560.26272186346,{"$f":"V949-Dźwignie!$D$6","v":224560.26272186346},{"$f":"IF(W949>0,W949*(1-Dźwignie!$D$9),W949)","v":181893.81280470942},{"$f":"X949/Dźwignie!$D$5","v":18.189381280470943},{"$f":"V949/Dźwignie!$D$2","v":1.2228013136093172},{"$f":"X949/Dźwignie!$D$3","v":1.8189381280470942},1.613345759162002,1.0890629524457391,1.7570350957887821]
[938,0.91168773174285889,{"$f":"NORMINV(B950,Dźwignie!$L$8,Dźwignie!$L$9)","v":417561.06764128612},{"$f":"Dźwignie!$L$7*C950","v":626341.60146192915},null,{"$f":"C950*Dźwignie!$G$5","v":417561.06764128612},208780.53382064303,{"$f":"Dźwignie!$G$6","v":50000},158780.53382064303,{"$f":"I950-Dźwignie!$D$6","v":138780.53382064303},{"$f":"IF(J950>0,J950*(1-Dźwignie!$D$9),J950)","v":112412.23239472086},{"$f":"K950/Dźwignie!$D$5","v":11.241223239472086},{"$f":"I950/Dźwignie!$D$2","v":0.79390266910321516},{"$f":"K950/Dźwignie!$D$3","v":1.1241223239472087},1.3149000623494536,1.1441124302479451,1.5043935058678077,null,{"$f":"C950*Dźwignie!$G$8","v":208780.53382064306},417561.06764128606,{"$f":"Dźwignie!$G$9","v":150000},267561.06764128606,{"$f":"V950-Dźwignie!$D$6","v":247561.06764128606},{"$f":"IF(W950>0,W950*(1-Dźwignie!$D$9),W950)","v":200524.46478944173},{"$f":"X950/Dźwignie!$D$5","v":20.052446478944173},{"$f":"V950/Dźwignie!$D$2","v":1.3378053382064303},{"$f":"X950/Dźwignie!$D$3","v":2.0052446478944175},1.5606196795458378,1.0807881473066672,1.6866992521066706]
[939,0.58754974603652954,{"$f":"NORMINV(B951,Dźwignie!$L$8,Dźwignie!$L$9)","v":361062.32477870496},{"$f":"Dźwignie!$L$7*C951","v":541593.48716805747},null,{"$f":"C951*Dźwignie!$G$5","v":361062.32477870496},180531.16238935251,{"$f":"Dźwignie!$G$6","v":50000},130531.16238935251,{"$f":"I951-Dźwignie!$D$6","v":110531.16238935251},{"$f":"IF(J951>0,J951*(1-Dźwignie!$D$9),J951)","v":89530.241535375535},{"$f":"K951/Dźwignie!$D$5","v":8.9530241535375534},{"$f":"I951/Dźwignie!$D$2","v":0.65265581194676259},{"$f":"K951/Dźwignie!$D$3","v":0.89530241535375532},1.3830502930086412,1.1809444465041345,1.633305562764471,null,{"$f":"C951*Dźwignie!$G$8","v":180531.16238935248},361062.32477870502,{"$f":"Dźwignie!$G$9","v":150000},211062.32477870502,{"$f":"V951-Dźwignie!$D$6","v":191062.32477870502},{"$f":"IF(W951>0,W951*(1-Dźwignie!$D$9),W951)","v":154760.48307075107},{"$f":"X951/Dźwignie!$D$5","v":15.476048307075107},{"$f":"V951/Dźwignie!$D$2","v":1.0553116238935252},{"$f":"X951/Dźwignie!$D$3","v":1.5476048307075108},1.7106905515101867,1.1046778846806387,1.8897620197854281]
[940,8.7002277374267578E-2,{"$f":"NORMINV(B952,Dźwignie!$L$8,Dźwignie!$L$9)","v":282027.5818606941},{"$f":"Dźwignie!$L$7*C952","v":423041.37279104115},null,{"$f":"C952*Dźwignie!$G$5","v":282027.5818606941},141013.79093034705,{"$f":"Dźwignie!$G$6","v":50000},91013.790930347051,{"$f":"I952-Dźwignie!$D$6","v":71013.790930347051},{"$f":"IF(J952>0,J952*(1-Dźwignie!$D$9),J952)","v":57521.170653581117},{"$f":"K952/Dźwignie!$D$5","v":5.752117065358112},{"$f":"I952/Dźwignie!$D$2","v":0.45506895465173525},{"$f":"K952/Dźwignie!$D$3","v":0.57521170653581122},1.5493672935595557,1.2816354364128615,1.9857240274450152,null,{"$f":"C952*Dźwignie!$G$8","v":141013.79093034705},282027.5818606941,{"$f":"Dźwignie!$G$9","v":150000},132027.5818606941,{"$f":"V952-Dźwignie!$D$6","v":112027.5818606941},{"$f":"IF(W952>0,W952*(1-Dźwignie!$D$9),W952)","v":90742.341307162234},{"$f":"X952/Dźwignie!$D$5","v":9.0742341307162242},{"$f":"V952/Dźwignie!$D$2","v":0.66013790930347049},{"$f":"X952/Dźwignie!$D$3","v":0.90742341307162233},2.1361262388208329,1.1785274632176737,2.5174834373502266]
[941,0.69502896070480347,{"$f":"NORMINV(B953,Dźwignie!$L$8,Dźwignie!$L$9)","v":375507.80688669503},{"$f":"Dźwignie!$L$7*C953","v":563261.71033004252},null,{"$f":"C953*Dźwignie!$G$5","v":375507.80688669503},187753.90344334749,{"$f":"Dźwignie!$G$6","v":50000},137753.90344334749,{"$f":"I953-Dźwignie!$D$6","v":117753.90344334749},{"$f":"IF(J953>0,J953*(1-Dźwignie!$D$9),J953)","v":95380.661789111473},{"$f":"K953/Dźwignie!$D$5","v":9.5380661789111478},{"$f":"I953/Dźwignie!$D$2","v":0.6887695172167374},{"$f":"K953/Dźwignie!$D$3","v":0.95380661789111476},1.3629661211056929,1.1698457496113679,1.5944601236397877,null,{"$f":"C953*Dźwignie!$G$8","v":187753.90344334752},375507.80688669498,{"$f":"Dźwignie!$G$9","v":150000},225507.80688669498,{"$f":"V953-Dźwignie!$D$6","v":205507.80688669498},{"$f":"IF(W953>0,W953*(1-Dźwignie!$D$9),W953)","v":166461.32357822295},{"$f":"X953/Dźwignie!$D$5","v":16.646132357822296},{"$f":"V953/Dźwignie!$D$2","v":1.1275390344334748},{"$f":"X953/Dźwignie!$D$3","v":1.6646132357822294},1.6651654418126933,1.0973199038177019,1.8272191824504658]
[942,0.4892960786819458,{"$f":"NORMINV(B954,Dźwignie!$L$8,Dźwignie!$L$9)","v":348658.30140842183},{"$f":"Dźwignie!$L$7*C954","v":522987.45211263275},null,{"$f":"C954*Dźwignie!$G$5","v":348658.30140842183},174329.15070421092,{"$f":"Dźwignie!$G$6","v":50000},124329.15070421092,{"$f":"I954-Dźwignie!$D$6","v":104329.15070421092},{"$f":"IF(J954>0,J954*(1-Dźwignie!$D$9),J954)","v":84506.612070410847},{"$f":"K954/Dźwignie!$D$5","v":8.4506612070410849},{"$f":"I954/Dźwignie!$D$2","v":0.62164575352105456},{"$f":"K954/Dźwignie!$D$3","v":0.84506612070410847},1.4021583009036556,1.1917009758538442,1.6709534154884544,null,{"$f":"C954*Dźwignie!$G$8","v":174329.15070421092},348658.30140842183,{"$f":"Dźwignie!$G$9","v":150000},198658.30140842183,{"$f":"V954-Dźwignie!$D$6","v":178658.30140842183},{"$f":"IF(W954>0,W954*(1-Dźwignie!$D$9),W954)","v":144713.22414082169},{"$f":"X954/Dźwignie!$D$5","v":14.47132241408217},{"$f":"V954/Dźwignie!$D$2","v":0.99329150704210911},{"$f":"X954/Dźwignie!$D$3","v":1.4471322414082168},1.7550653505871614,1.1119455398508407,1.9515370887321462]
[943,0.4389532208442688,{"$f":"NORMINV(B955,Dźwignie!$L$8,Dźwignie!$L$9)","v":342318.81454472657},{"$f":"Dźwignie!$L$7*C955","v":513478.22181708983},null,{"$f":"C955*Dźwignie!$G$5","v":342318.81454472657},171159.40727236326,{"$f":"Dźwignie!$G$6","v":50000},121159.40727236326,{"$f":"I955-Dźwignie!$D$6","v":101159.40727236326},{"$f":"IF(J955>0,J955*(1-Dźwignie!$D$9),J955)","v":81939.119890614238},{"$f":"K955/Dźwignie!$D$5","v":8.1939119890614229},{"$f":"I955/Dźwignie!$D$2","v":0.60579703636181625},{"$f":"K955/Dźwignie!$D$3","v":0.81939119890614243},1.4126794701760241,1.1977077618313012,1.6919771664095544,null,{"$f":"C955*Dźwignie!$G$8","v":171159.40727236329},342318.81454472651,{"$f":"Dźwignie!$G$9","v":150000},192318.81454472651,{"$f":"V955-Dźwignie!$D$6","v":172318.81454472651},{"$f":"IF(W955>0,W955*(1-Dźwignie!$D$9),W955)","v":139578.23978122848},{"$f":"X955/Dźwignie!$D$5","v":13.957823978122848},{"$f":"V955/Dźwignie!$D$2","v":0.96159407272363251},{"$f":"X955/Dźwignie!$D$3","v":1.3957823978122847},1.7799548908155074,1.1160639367955312,1.9865434627620151]
[944,3.0106306076049805E-2,{"$f":"NORMINV(B956,Dźwignie!$L$8,Dźwignie!$L$9)","v":256038.3231131513},{"$f":"Dźwignie!$L$7*C956","v":384057.48466972692},null,{"$f":"C956*Dźwignie!$G$5","v":256038.3231131513},128019.16155657562,{"$f":"Dźwignie!$G$6","v":50000},78019.161556575622,{"$f":"I956-Dźwignie!$D$6","v":58019.161556575622},{"$f":"IF(J956>0,J956*(1-Dźwignie!$D$9),J956)","v":46995.520860826255},{"$f":"K956/Dźwignie!$D$5","v":4.6995520860826252},{"$f":"I956/Dźwignie!$D$2","v":0.39009580778287811},{"$f":"K956/Dźwignie!$D$3","v":0.46995520860826256},1.6408682047133061,1.3447137025669977,2.2064979589844924,null,{"$f":"C956*Dźwignie!$G$8","v":128019.16155657565},256038.32311315127,{"$f":"Dźwignie!$G$9","v":150000},106038.32311315127,{"$f":"V956-Dźwignie!$D$6","v":86038.323113151273},{"$f":"IF(W956>0,W956*(1-Dźwignie!$D$9),W956)","v":69691.041721652538},{"$f":"X956/Dźwignie!$D$5","v":6.9691041721652542},{"$f":"V956/Dźwignie!$D$2","v":0.53019161556575634},{"$f":"X956/Dźwignie!$D$3","v":0.69691041721652536},2.4145829130090841,1.2324545536957696,2.9758637064140423]
[945,0.62377351522445679,{"$f":"NORMINV(B957,Dźwignie!$L$8,Dźwignie!$L$9)","v":365770.32912851707},{"$f":"Dźwignie!$L$7*C957","v":548655.49369277561},null,{"$f":"C957*Dźwignie!$G$5","v":365770.32912851707},182885.16456425854,{"$f":"Dźwignie!$G$6","v":50000},132885.16456425854,{"$f":"I957-Dźwignie!$D$6","v":112885.16456425854},{"$f":"IF(J957>0,J957*(1-Dźwignie!$D$9),J957)","v":91436.983297049417},{"$f":"K957/Dźwignie!$D$5","v":9.1436983297049412},{"$f":"I957/Dźwignie!$D$2","v":0.6644258228212927},{"$f":"K957/Dźwignie!$D$3","v":0.91436983297049412},1.3762647257423666,1.1771711993972001,1.6200991978902002,null,{"$f":"C957*Dźwignie!$G$8","v":182885.16456425854},365770.32912851707,{"$f":"Dźwignie!$G$9","v":150000},215770.32912851707,{"$f":"V957-Dźwignie!$D$6","v":195770.32912851707},{"$f":"IF(W957>0,W957*(1-Dźwignie!$D$9),W957)","v":158573.96659409883},{"$f":"X957/Dźwignie!$D$5","v":15.857396659409883},{"$f":"V957/Dźwignie!$D$2","v":1.0788516456425854},{"$f":"X957/Dźwignie!$D$3","v":1.5857396659409884},1.6951836269881992,1.1021605270269053,1.8683644797286945]
[946,0.67889249324798584,{"$f":"NORMINV(B958,Dźwignie!$L$8,Dźwignie!$L$9)","v":373230.20375260455},{"$f":"Dźwignie!$L$7*C958","v":559845.30562890682},null,{"$f":"C958*Dźwignie!$G$5","v":373230.20375260455},186615.10187630227,{"$f":"Dźwignie!$G$6","v":50000},136615.10187630227,{"$f":"I958-Dźwignie!$D$6","v":116615.10187630227},{"$f":"IF(J958>0,J958*(1-Dźwignie!$D$9),J958)","v":94458.232519804849},{"$f":"K958/Dźwignie!$D$5","v":9.4458232519804852},{"$f":"I958/Dźwignie!$D$2","v":0.6830755093815114},{"$f":"K958/Dźwignie!$D$3","v":0.94458232519804852},1.3659917484471984,1.1715043736034694,1.6002653076121431,null,{"$f":"C958*Dźwignie!$G$8","v":186615.10187630227},373230.20375260455,{"$f":"Dźwignie!$G$9","v":150000},223230.20375260455,{"$f":"V958-Dźwignie!$D$6","v":203230.20375260455},{"$f":"IF(W958>0,W958*(1-Dźwignie!$D$9),W958)","v":164616.4650396097},{"$f":"X958/Dźwignie!$D$5","v":16.461646503960971},{"$f":"V958/Dźwignie!$D$2","v":1.1161510187630228},{"$f":"X958/Dźwignie!$D$3","v":1.6461646503960969},1.6719520812077826,1.0984105690527493,1.8364898369483689]
[947,0.19267374277114868,{"$f":"NORMINV(B959,Dźwignie!$L$8,Dźwignie!$L$9)","v":306595.72109405312},{"$f":"Dźwignie!$L$7*C959","v":459893.58164107968},null,{"$f":"C959*Dźwignie!$G$5","v":306595.72109405312},153297.86054702656,{"$f":"Dźwignie!$G$6","v":50000},103297.86054702656,{"$f":"I959-Dźwignie!$D$6","v":83297.860547026561},{"$f":"IF(J959>0,J959*(1-Dźwignie!$D$9),J959)","v":67471.267043091517},{"$f":"K959/Dźwignie!$D$5","v":6.7471267043091521},{"$f":"I959/Dźwignie!$D$2","v":0.51648930273513283},{"$f":"K959/Dźwignie!$D$3","v":0.67471267043091521},1.4840371304421875,1.2401022051305726,1.8403577179570039,null,{"$f":"C959*Dźwignie!$G$8","v":153297.86054702656},306595.72109405312,{"$f":"Dźwignie!$G$9","v":150000},156595.72109405312,{"$f":"V959-Dźwignie!$D$6","v":136595.72109405312},{"$f":"IF(W959>0,W959*(1-Dźwignie!$D$9),W959)","v":110642.53408618303},{"$f":"X959/Dźwignie!$D$5","v":11.064253408618303},{"$f":"V959/Dźwignie!$D$2","v":0.78297860547026565},{"$f":"X959/Dźwignie!$D$3","v":1.1064253408618303},1.9578805790607032,1.1464174707656398,2.2445485015079378]
[948,5.1415443420410156E-2,{"$f":"NORMINV(B960,Dźwignie!$L$8,Dźwignie!$L$9)","v":268435.91354924033},{"$f":"Dźwignie!$L$7*C960","v":402653.87032386049},null,{"$f":"C960*Dźwignie!$G$5","v":268435.91354924033},134217.95677462016,{"$f":"Dźwignie!$G$6","v":50000},84217.956774620165,{"$f":"I960-Dźwignie!$D$6","v":64217.956774620165},{"$f":"IF(J960>0,J960*(1-Dźwignie!$D$9),J960)","v":52016.544987442336},{"$f":"K960/Dźwignie!$D$5","v":5.2016544987442339},{"$f":"I960/Dźwignie!$D$2","v":0.42108978387310081},{"$f":"K960/Dźwignie!$D$3","v":0.52016544987442337},1.5936976140825581,1.3114393699910472,2.0900377949686648,null,{"$f":"C960*Dźwignie!$G$8","v":134217.95677462016},268435.91354924033,{"$f":"Dźwignie!$G$9","v":150000},118435.91354924033,{"$f":"V960-Dźwignie!$D$6","v":98435.913549240329},{"$f":"IF(W960>0,W960*(1-Dźwignie!$D$9),W960)","v":79733.089974884671},{"$f":"X960/Dźwignie!$D$5","v":7.9733089974884672},{"$f":"V960/Dźwignie!$D$2","v":0.59217956774620162},{"$f":"X960/Dźwignie!$D$3","v":0.79733089974884674},2.2665077298334575,1.2031778776553483,2.727011960070461]
[949,0.96243399381637573,{"$f":"NORMINV(B961,Dźwignie!$L$8,Dźwignie!$L$9)","v":438982.88032647548},{"$f":"Dźwignie!$L$7*C961","v":658474.32048971322},null,{"$f":"C961*Dźwignie!$G$5","v":438982.88032647548},219491.44016323774,{"$f":"Dźwignie!$G$6","v":50000},169491.44016323774,{"$f":"I961-Dźwignie!$D$6","v":149491.44016323774},{"$f":"IF(J961>0,J961*(1-Dźwignie!$D$9),J961)","v":121088.06653222258},{"$f":"K961/Dźwignie!$D$5","v":12.108806653222258},{"$f":"I961/Dźwignie!$D$2","v":0.84745720081618869},{"$f":"K961/Dźwignie!$D$3","v":1.2108806653222259},1.2950001483959594,1.1337869243761445,1.4682542353165056,null,{"$f":"C961*Dźwignie!$G$8","v":219491.44016323774},438982.88032647548,{"$f":"Dźwignie!$G$9","v":150000},288982.88032647548,{"$f":"V961-Dźwignie!$D$6","v":268982.88032647548},{"$f":"IF(W961>0,W961*(1-Dźwignie!$D$9),W961)","v":217876.13306444517},{"$f":"X961/Dźwignie!$D$5","v":21.787613306444516},{"$f":"V961/Dźwignie!$D$2","v":1.4449144016323774},{"$f":"X961/Dźwignie!$D$3","v":2.1787613306444515},1.519061889861915,1.0743541744207854,1.6320104825766757]
[950,0.705147385597229,{"$f":"NORMINV(B962,Dźwignie!$L$8,Dźwignie!$L$9)","v":376963.1620643491},{"$f":"Dźwignie!$L$7*C962","v":565444.74309652369},null,{"$f":"C962*Dźwignie!$G$5","v":376963.1620643491},188481.58103217458,{"$f":"Dźwignie!$G$6","v":50000},138481.58103217458,{"$f":"I962-Dźwignie!$D$6","v":118481.58103217458},{"$f":"IF(J962>0,J962*(1-Dźwignie!$D$9),J962)","v":95970.080636061422},{"$f":"K962/Dźwignie!$D$5","v":9.5970080636061414},{"$f":"I962/Dźwignie!$D$2","v":0.69240790516087292},{"$f":"K962/Dźwignie!$D$3","v":0.95970080636061428},1.3610588471573204,1.1688026090280552,1.5908091315981931,null,{"$f":"C962*Dźwignie!$G$8","v":188481.58103217455},376963.16206434916,{"$f":"Dźwignie!$G$9","v":150000},226963.16206434916,{"$f":"V962-Dźwignie!$D$6","v":206963.16206434916},{"$f":"IF(W962>0,W962*(1-Dźwignie!$D$9),W962)","v":167640.16127212284},{"$f":"X962/Dźwignie!$D$5","v":16.764016127212283},{"$f":"V962/Dźwignie!$D$2","v":1.1348158103217458},{"$f":"X962/Dźwignie!$D$3","v":1.6764016127212285},1.660900203520568,1.0966355548519382,1.8214022162414751]
[951,0.23720008134841919,{"$f":"NORMINV(B963,Dźwignie!$L$8,Dźwignie!$L$9)","v":314233.09591726557},{"$f":"Dźwignie!$L$7*C963","v":471349.64387589833},null,{"$f":"C963*Dźwignie!$G$5","v":314233.09591726557},157116.54795863276,{"$f":"Dźwignie!$G$6","v":50000},107116.54795863276,{"$f":"I963-Dźwignie!$D$6","v":87116.547958632756},{"$f":"IF(J963>0,J963*(1-Dźwignie!$D$9),J963)","v":70564.40384649254},{"$f":"K963/Dźwignie!$D$5","v":7.056440384649254},{"$f":"I963/Dźwignie!$D$2","v":0.53558273979316373},{"$f":"K963/Dźwignie!$D$3","v":0.7056440384649254},1.4667812859252098,1.2295775081617901,1.8035212785662658,null,{"$f":"C963*Dźwignie!$G$8","v":157116.54795863279},314233.09591726551,{"$f":"Dźwignie!$G$9","v":150000},164233.09591726551,{"$f":"V963-Dźwignie!$D$6","v":144233.09591726551},{"$f":"IF(W963>0,W963*(1-Dźwignie!$D$9),W963)","v":116828.80769298508},{"$f":"X963/Dźwignie!$D$5","v":11.682880769298508},{"$f":"V963/Dźwignie!$D$2","v":0.82116547958632757},{"$f":"X963/Dźwignie!$D$3","v":1.1682880769298507},1.9133360067422975,1.1386644297746498,2.1786476530845236]
[952,0.79796338081359863,{"$f":"NORMINV(B964,Dźwignie!$L$8,Dźwignie!$L$9)","v":391718.43598576612},{"$f":"Dźwignie!$L$7*C964","v":587577.65397864918},null,{"$f":"C964*Dźwignie!$G$5","v":391718.43598576612},195859.21799288306,{"$f":"Dźwignie!$G$6","v":50000},145859.21799288306,{"$f":"I964-Dźwignie!$D$6","v":125859.21799288306},{"$f":"IF(J964>0,J964*(1-Dźwignie!$D$9),J964)","v":101945.96657423528},{"$f":"K964/Dźwignie!$D$5","v":10.194596657423528},{"$f":"I964/Dźwignie!$D$2","v":0.72929608996441531},{"$f":"K964/Dźwignie!$D$3","v":1.0194596657423529},1.3427962982938773,1.1589077090970876,1.5561769818398068,null,{"$f":"C964*Dźwignie!$G$8","v":195859.21799288306},391718.43598576612,{"$f":"Dźwignie!$G$9","v":150000},241718.43598576612,{"$f":"V964-Dźwignie!$D$6","v":221718.43598576612},{"$f":"IF(W964>0,W964*(1-Dźwignie!$D$9),W964)","v":179591.93314847056},{"$f":"X964/Dźwignie!$D$5","v":17.959193314847056},{"$f":"V964/Dźwignie!$D$2","v":1.2085921799288306},{"$f":"X964/Dźwignie!$D$3","v":1.7959193314847057},1.6205567208321376,1.0902044970283118,1.7667382247406509]
[953,0.3324093222618103,{"$f":"NORMINV(B965,Dźwignie!$L$8,Dźwignie!$L$9)","v":328336.50099752983},{"$f":"Dźwignie!$L$7*C965","v":492504.75149629475},null,{"$f":"C965*Dźwignie!$G$5","v":328336.50099752983},164168.25049876492,{"$f":"Dźwignie!$G$6","v":50000},114168.25049876492,{"$f":"I965-Dźwignie!$D$6","v":94168.250498764915},{"$f":"IF(J965>0,J965*(1-Dźwignie!$D$9),J965)","v":76276.282903999585},{"$f":"K965/Dźwignie!$D$5","v":7.6276282903999588},{"$f":"I965/Dźwignie!$D$2","v":0.57084125249382456},{"$f":"K965/Dźwignie!$D$3","v":0.76276282903999582},1.4379501287053611,1.2123858083172345,1.7433503291103207,null,{"$f":"C965*Dźwignie!$G$8","v":164168.25049876492},328336.50099752983,{"$f":"Dźwignie!$G$9","v":150000},178336.50099752983,{"$f":"V965-Dźwignie!$D$6","v":158336.50099752983},{"$f":"IF(W965>0,W965*(1-Dźwignie!$D$9),W965)","v":128252.56580799917},{"$f":"X965/Dźwignie!$D$5","v":12.825256580799916},{"$f":"V965/Dźwignie!$D$2","v":0.89168250498764912},{"$f":"X965/Dźwignie!$D$3","v":1.2825256580799917},1.8411065550853085,1.1263132624126386,2.073662730507428]
[954,1.6363978385925293E-2,{"$f":"NORMINV(B966,Dźwignie!$L$8,Dźwignie!$L$9)","v":243229.75866820244},{"$f":"Dźwignie!$L$7*C966","v":364844.63800230366},null,{"$f":"C966*Dźwignie!$G$5","v":243229.75866820244},121614.87933410122,{"$f":"Dźwignie!$G$6","v":50000},71614.879334101221,{"$f":"I966-Dźwignie!$D$6","v":51614.879334101221},{"$f":"IF(J966>0,J966*(1-Dźwignie!$D$9),J966)","v":41808.052260621989},{"$f":"K966/Dźwignie!$D$5","v":4.1808052260621986},{"$f":"I966/Dźwignie!$D$2","v":0.35807439667050611},{"$f":"K966/Dźwignie!$D$3","v":0.41808052260621992},1.6981789324357801,1.3874851643174584,2.3561980751111045,null,{"$f":"C966*Dźwignie!$G$8","v":121614.87933410122},243229.75866820244,{"$f":"Dźwignie!$G$9","v":150000},93229.758668202441,{"$f":"V966-Dźwignie!$D$6","v":73229.758668202441},{"$f":"IF(W966>0,W966*(1-Dźwignie!$D$9),W966)","v":59316.104521243979},{"$f":"X966/Dźwignie!$D$5","v":5.9316104521243975},{"$f":"V966/Dźwignie!$D$2","v":0.46614879334101222},{"$f":"X966/Dźwignie!$D$3","v":0.59316104521243973},2.6089283308545128,1.2731130125748227,3.3214606068859927]
[955,0.29012256860733032,{"$f":"NORMINV(B967,Dźwignie!$L$8,Dźwignie!$L$9)","v":322348.66571846942},{"$f":"Dźwignie!$L$7*C967","v":483522.99857770413},null,{"$f":"C967*Dźwignie!$G$5","v":322348.66571846942},161174.33285923471,{"$f":"Dźwignie!$G$6","v":50000},111174.33285923471,{"$f":"I967-Dźwignie!$D$6","v":91174.33285923471},{"$f":"IF(J967>0,J967*(1-Dźwignie!$D$9),J967)","v":73851.209615980115},{"$f":"K967/Dźwignie!$D$5","v":7.3851209615980116},{"$f":"I967/Dźwignie!$D$2","v":0.55587166429617352},{"$f":"K967/Dźwignie!$D$3","v":0.73851209615980118},1.4497440975275144,1.2193599818369745,1.767759936429411,null,{"$f":"C967*Dźwignie!$G$8","v":161174.33285923471},322348.66571846942,{"$f":"Dźwignie!$G$9","v":150000},172348.66571846942,{"$f":"V967-Dźwignie!$D$6","v":152348.66571846942},{"$f":"IF(W967>0,W967*(1-Dźwignie!$D$9),W967)","v":123402.41923196024},{"$f":"X967/Dźwignie!$D$5","v":12.340241923196025},{"$f":"V967/Dźwignie!$D$2","v":0.86174332859234715},{"$f":"X967/Dźwignie!$D$3","v":1.2340241923196025},1.8703287569688771,1.1312778153039995,2.1158614300839962]
[956,0.92947912216186523,{"$f":"NORMINV(B968,Dźwignie!$L$8,Dźwignie!$L$9)","v":423596.13448483625},{"$f":"Dźwignie!$L$7*C968","v":635394.20172725432},null,{"$f":"C968*Dźwignie!$G$5","v":423596.13448483625},211798.06724241807,{"$f":"Dźwignie!$G$6","v":50000},161798.06724241807,{"$f":"I968-Dźwignie!$D$6","v":141798.06724241807},{"$f":"IF(J968>0,J968*(1-Dźwignie!$D$9),J968)","v":114856.43446635864},{"$f":"K968/Dźwignie!$D$5","v":11.485643446635864},{"$f":"I968/Dźwignie!$D$2","v":0.80899033621209038},{"$f":"K968/Dźwignie!$D$3","v":1.1485643446635865},1.3090271772226192,1.1410456460299137,1.4936597611046978,null,{"$f":"C968*Dźwignie!$G$8","v":211798.06724241812},423596.13448483619,{"$f":"Dźwignie!$G$9","v":150000},273596.13448483619,{"$f":"V968-Dźwignie!$D$6","v":253596.13448483619},{"$f":"IF(W968>0,W968*(1-Dźwignie!$D$9),W968)","v":205412.86893271733},{"$f":"X968/Dźwignie!$D$5","v":20.541286893271735},{"$f":"V968/Dźwignie!$D$2","v":1.367980672424181},{"$f":"X968/Dźwignie!$D$3","v":2.0541286893271735},1.548253359947648,1.078865555425869,1.6703572211198872]
[957,0.3170124888420105,{"$f":"NORMINV(B969,Dźwignie!$L$8,Dźwignie!$L$9)","v":326196.53290023672},{"$f":"Dźwignie!$L$7*C969","v":489294.79935035505},null,{"$f":"C969*Dźwignie!$G$5","v":326196.53290023672},163098.26645011833,{"$f":"Dźwignie!$G$6","v":50000},113098.26645011833,{"$f":"I969-Dźwignie!$D$6","v":93098.266450118332},{"$f":"IF(J969>0,J969*(1-Dźwignie!$D$9),J969)","v":75409.595824595861},{"$f":"K969/Dźwignie!$D$5","v":7.5409595824595863},{"$f":"I969/Dźwignie!$D$2","v":0.56549133225059167},{"$f":"K969/Dźwignie!$D$3","v":0.75409595824595865},1.4420934252078246,1.2148267713525678,1.7518936997339871,null,{"$f":"C969*Dźwignie!$G$8","v":163098.26645011836},326196.53290023666,{"$f":"Dźwignie!$G$9","v":150000},176196.53290023666,{"$f":"V969-Dźwignie!$D$6","v":156196.53290023666},{"$f":"IF(W969>0,W969*(1-Dźwignie!$D$9),W969)","v":126519.19164919171},{"$f":"X969/Dźwignie!$D$5","v":12.651919164919171},{"$f":"V969/Dźwignie!$D$2","v":0.88098266450118334},{"$f":"X969/Dźwignie!$D$3","v":1.265191916491917},1.8513220863711928,1.1280438152412389,2.0883724295505308]
[958,0.17510330677032471,{"$f":"NORMINV(B970,Dźwignie!$L$8,Dźwignie!$L$9)","v":303290.56984093873},{"$f":"Dźwignie!$L$7*C970","v":454935.85476140806},null,{"$f":"C970*Dźwignie!$G$5","v":303290.56984093873},151645.28492046933,{"$f":"Dźwignie!$G$6","v":50000},101645.28492046933,{"$f":"I970-Dźwignie!$D$6","v":81645.284920469334},{"$f":"IF(J970>0,J970*(1-Dźwignie!$D$9),J970)","v":66132.68078558016},{"$f":"K970/Dźwignie!$D$5","v":6.6132680785580158},{"$f":"I970/Dźwignie!$D$2","v":0.50822642460234668},{"$f":"K970/Dźwignie!$D$3","v":0.66132680785580156},1.4919067327040469,1.2449620944979491,1.8573673307428222,null,{"$f":"C970*Dźwignie!$G$8","v":151645.28492046936},303290.56984093867,{"$f":"Dźwignie!$G$9","v":150000},153290.56984093867,{"$f":"V970-Dźwignie!$D$6","v":133290.56984093867},{"$f":"IF(W970>0,W970*(1-Dźwignie!$D$9),W970)","v":107965.36157116033},{"$f":"X970/Dźwignie!$D$5","v":10.796536157116034},{"$f":"V970/Dźwignie!$D$2","v":0.76645284920469336},{"$f":"X970/Dźwignie!$D$3","v":1.0796536157116035},1.9785337751412033,1.150048124363688,2.2754090570913474]
[959,0.72625809907913208,{"$f":"NORMINV(B971,Dźwignie!$L$8,Dźwignie!$L$9)","v":380076.74290182063},{"$f":"Dźwignie!$L$7*C971","v":570115.11435273092},null,{"$f":"C971*Dźwignie!$G$5","v":380076.74290182063},190038.37145091029,{"$f":"Dźwignie!$G$6","v":50000},140038.37145091029,{"$f":"I971-Dźwignie!$D$6","v":120038.37145091029},{"$f":"IF(J971>0,J971*(1-Dźwignie!$D$9),J971)","v":97231.080875237341},{"$f":"K971/Dźwignie!$D$5","v":9.7231080875237339},{"$f":"I971/Dźwignie!$D$2","v":0.70019185725455146},{"$f":"K971/Dźwignie!$D$3","v":0.97231080875237341},1.3570449976100103,1.1666133900206985,1.5831468650724447,null,{"$f":"C971*Dźwignie!$G$8","v":190038.37145091032},380076.74290182057,{"$f":"Dźwignie!$G$9","v":150000},230076.74290182057,{"$f":"V971-Dźwignie!$D$6","v":210076.74290182057},{"$f":"IF(W971>0,W971*(1-Dźwignie!$D$9),W971)","v":170162.16175047468},{"$f":"X971/Dźwignie!$D$5","v":17.016216175047468},{"$f":"V971/Dźwignie!$D$2","v":1.1503837145091029},{"$f":"X971/Dźwignie!$D$3","v":1.7016216175047467},1.6519563781551303,1.0952033039152125,1.8092280832793068]
[960,0.13401198387145996,{"$f":"NORMINV(B972,Dźwignie!$L$8,Dźwignie!$L$9)","v":294618.76918320142},{"$f":"Dźwignie!$L$7*C972","v":441928.15377480211},null,{"$f":"C972*Dźwignie!$G$5","v":294618.76918320142},147309.38459160068,{"$f":"Dźwignie!$G$6","v":50000},97309.384591600683,{"$f":"I972-Dźwignie!$D$6","v":77309.384591600683},{"$f":"IF(J972>0,J972*(1-Dźwignie!$D$9),J972)","v":62620.601519196556},{"$f":"K972/Dźwignie!$D$5","v":6.2620601519196555},{"$f":"I972/Dźwignie!$D$2","v":0.48654692295800339},{"$f":"K972/Dźwignie!$D$3","v":0.62620601519196561},1.5138250561325179,1.2587008046390904,1.9054528162368165,null,{"$f":"C972*Dźwignie!$G$8","v":147309.38459160071},294618.76918320137,{"$f":"Dźwignie!$G$9","v":150000},144618.76918320137,{"$f":"V972-Dźwignie!$D$6","v":124618.76918320137},{"$f":"IF(W972>0,W972*(1-Dźwignie!$D$9),W972)","v":100941.20303839311},{"$f":"X972/Dźwignie!$D$5","v":10.094120303839311},{"$f":"V972/Dźwignie!$D$2","v":0.72309384591600678},{"$f":"X972/Dźwignie!$D$3","v":1.0094120303839311},2.0372097677721333,1.1604894682485438,2.3641604801126221]
[961,0.41459554433822632,{"$f":"NORMINV(B973,Dźwignie!$L$8,Dźwignie!$L$9)","v":339213.04289888602},{"$f":"Dźwignie!$L$7*C973","v":508819.56434832903},null,{"$f":"C973*Dźwignie!$G$5","v":339213.04289888602},{"$f":"$D973-F973","v":169606.52144944301},{"$f":"Dźwignie!$G$6","v":50000},{"$f":"G973-H973","v":119606.52144944301},{"$f":"I973-Dźwignie!$D$6","v":99606.521449443011},{"$f":"IF(J973>0,J973*(1-Dźwignie!$D$9),J973)","v":80681.282374048838},{"$f":"K973/Dźwignie!$D$5","v":8.0681282374048831},{"$f":"I973/Dźwignie!$D$2","v":0.59803260724721508},{"$f":"K973/Dźwignie!$D$3","v":0.80681282374048835},{"$f":"IF(I973<>0,G973/I973,\"N   \")","v":1.4180374062724892},{"$f":"IF(J973<>0,I973/J973,\"N   \")","v":1.2007900658407324},{"$f":"IF(ISTEXT(O973),O973,IF(ISTEXT(P973),P973,O973*P973))","v":1.7027652304425638},null,{"$f":"C973*Dźwignie!$G$8","v":169606.52144944301},{"$f":"$D973-S973","v":339213.04289888602},{"$f":"Dźwignie!$G$9","v":150000},{"$f":"T973-U973","v":189213.04289888602},{"$f":"V973-Dźwignie!$D$6","v":169213.04289888602},{"$f":"IF(W973>0,W973*(1-Dźwignie!$D$9),W973)","v":137062.56474809768},{"$f":"X973/Dźwignie!$D$5","v":13.706256474809768},{"$f":"V973/Dźwignie!$D$2","v":0.94606521449443015},{"$f":"X973/Dźwignie!$D$3","v":1.3706256474809768},{"$f":"IF(V973<>0,T973/V973,\"N   \")","v":1.7927571889436758},{"$f":"IF(W973<>0,V973/W973,\"N   \")","v":1.1181941986112209},{"$f":"IF(ISTEXT(AB973),AB973,IF(ISTEXT(AC973),AC973,AB973*AC973))","v":2.0046506881953787}]
[962,0.99880921840667725,{"$f":"NORMINV(B974,Dźwignie!$L$8,Dźwignie!$L$9)","v":501899.85043429187},{"$f":"Dźwignie!$L$7*C974","v":752849.77565143781},null,{"$f":"C974*Dźwignie!$G$5","v":501899.85043429187},250949.92521714594,{"$f":"Dźwignie!$G$6","v":50000},200949.92521714594,{"$f":"I974-Dźwignie!$D$6","v":180949.92521714594},{"$f":"IF(J974>0,J974*(1-Dźwignie!$D$9),J974)","v":146569.43942588821},{"$f":"K974/Dźwignie!$D$5","v":14.656943942588821},{"$f":"I974/Dźwignie!$D$2","v":1.0047496260857296},{"$f":"K974/Dźwignie!$D$3","v":1.465694394258882},1.2488182065555393,1.110527815781075,1.3868473552337623,null,{"$f":"C974*Dźwignie!$G$8","v":250949.92521714594},501899.85043429187,{"$f":"Dźwignie!$G$9","v":150000},351899.85043429187,{"$f":"V974-Dźwignie!$D$6","v":331899.85043429187},{"$f":"IF(W974>0,W974*(1-Dźwignie!$D$9),W974)","v":268838.87885177642},{"$f":"X974/Dźwignie!$D$5","v":26.883887885177643},{"$f":"V974/Dźwignie!$D$2","v":1.7594992521714594},{"$f":"X974/Dźwignie!$D$3","v":2.6883887885177642},1.4262576406749812,1.0602591413458908,1.5122027014400716]
[963,0.15577512979507446,{"$f":"NORMINV(B975,Dźwignie!$L$8,Dźwignie!$L$9)","v":299401.27642009978},{"$f":"Dźwignie!$L$7*C975","v":449101.91463014967},null,{"$f":"C975*Dźwignie!$G$5","v":299401.27642009978},149700.63821004989,{"$f":"Dźwignie!$G$6","v":50000},99700.638210049889,{"$f":"I975-Dźwignie!$D$6","v":79700.638210049889},{"$f":"IF(J975>0,J975*(1-Dźwignie!$D$9),J975)","v":64557.516950140416},{"$f":"K975/Dźwignie!$D$5","v":6.4557516950140412},{"$f":"I975/Dźwignie!$D$2","v":0.49850319105024943},{"$f":"K975/Dźwignie!$D$3","v":0.64557516950140414},1.5015013032781166,1.2509390194252936,1.8782865679885277,null,{"$f":"C975*Dźwignie!$G$8","v":149700.63821004989},299401.27642009978,{"$f":"Dźwignie!$G$9","v":150000},149401.27642009978,{"$f":"V975-Dźwignie!$D$6","v":129401.27642009978},{"$f":"IF(W975>0,W975*(1-Dźwignie!$D$9),W975)","v":104815.03390028083},{"$f":"X975/Dźwignie!$D$5","v":10.481503390028083},{"$f":"V975/Dźwignie!$D$2","v":0.74700638210049886},{"$f":"X975/Dźwignie!$D$3","v":1.0481503390028084},2.0040074863766,1.1545579808275632,2.3137428370342876]
[964,0.39355659484863281,{"$f":"NORMINV(B976,Dźwignie!$L$8,Dźwignie!$L$9)","v":336496.94119678676},{"$f":"Dźwignie!$L$7*C976","v":504745.41179518017},null,{"$f":"C976*Dźwignie!$G$5","v":336496.94119678676},168248.47059839341,{"$f":"Dźwignie!$G$6","v":50000},118248.47059839341,{"$f":"I976-Dźwignie!$D$6","v":98248.470598393411},{"$f":"IF(J976>0,J976*(1-Dźwignie!$D$9),J976)","v":79581.261184698669},{"$f":"K976/Dźwignie!$D$5","v":7.9581261184698668},{"$f":"I976/Dźwignie!$D$2","v":0.59124235299196704},{"$f":"K976/Dźwignie!$D$3","v":0.79581261184698671},1.4228384498080715,1.2035655097548872,1.712479284142105,null,{"$f":"C976*Dźwignie!$G$8","v":168248.47059839338},336496.94119678682,{"$f":"Dźwignie!$G$9","v":150000},186496.94119678682,{"$f":"V976-Dźwignie!$D$6","v":166496.94119678682},{"$f":"IF(W976>0,W976*(1-Dźwignie!$D$9),W976)","v":134862.52236939734},{"$f":"X976/Dźwignie!$D$5","v":13.486252236939734},{"$f":"V976/Dźwignie!$D$2","v":0.93248470598393407},{"$f":"X976/Dźwignie!$D$3","v":1.3486252236939733},1.8043027356771704,1.1201223269102674,2.0210397787372734]
[965,0.24167460203170776,{"$f":"NORMINV(B977,Dźwignie!$L$8,Dźwignie!$L$9)","v":314953.70051550562},{"$f":"Dźwignie!$L$7*C977","v":472430.55077325844},null,{"$f":"C977*Dźwignie!$G$5","v":314953.70051550562},157476.85025775281,{"$f":"Dźwignie!$G$6","v":50000},107476.85025775281,{"$f":"I977-Dźwignie!$D$6","v":87476.850257752812},{"$f":"IF(J977>0,J977*(1-Dźwignie!$D$9),J977)","v":70856.248708779778},{"$f":"K977/Dźwignie!$D$5","v":7.0856248708779779},{"$f":"I977/Dźwignie!$D$2","v":0.5373842512887641},{"$f":"K977/Dźwignie!$D$3","v":0.70856248708779779},1.4652164617784122,1.2286319173709328,1.8002117107982647,null,{"$f":"C977*Dźwignie!$G$8","v":157476.85025775281},314953.70051550562,{"$f":"Dźwignie!$G$9","v":150000},164953.70051550562,{"$f":"V977-Dźwignie!$D$6","v":144953.70051550562},{"$f":"IF(W977>0,W977*(1-Dźwignie!$D$9),W977)","v":117412.49741755957},{"$f":"X977/Dźwignie!$D$5","v":11.741249741755958},{"$f":"V977/Dźwignie!$D$2","v":0.8247685025775281},{"$f":"X977/Dźwignie!$D$3","v":1.1741249741755957},1.9093460742694888,1.1379750908660702,2.1727882723615957]
[966,0.95043337345123291,{"$f":"NORMINV(B978,Dźwignie!$L$8,Dźwignie!$L$9)","v":432453.51018273772},{"$f":"Dźwignie!$L$7*C978","v":648680.26527410652},null,{"$f":"C978*Dźwignie!$G$5","v":432453.51018273772},216226.7550913688,{"$f":"Dźwignie!$G$6","v":50000},166226.7550913688,{"$f":"I978-Dźwignie!$D$6","v":146226.7550913688},{"$f":"IF(J978>0,J978*(1-Dźwignie!$D$9),J978)","v":118443.67162400874},{"$f":"K978/Dźwignie!$D$5","v":11.844367162400873},{"$f":"I978/Dźwignie!$D$2","v":0.83113377545684397},{"$f":"K978/Dźwignie!$D$3","v":1.1844367162400875},1.3007939364064276,1.1367738755298449,1.4787085643544573,null,{"$f":"C978*Dźwignie!$G$8","v":216226.75509136886},432453.51018273766,{"$f":"Dźwignie!$G$9","v":150000},282453.51018273766,{"$f":"V978-Dźwignie!$D$6","v":262453.51018273766},{"$f":"IF(W978>0,W978*(1-Dźwignie!$D$9),W978)","v":212587.34324801751},{"$f":"X978/Dźwignie!$D$5","v":21.25873432480175},{"$f":"V978/Dźwignie!$D$2","v":1.4122675509136884},{"$f":"X978/Dźwignie!$D$3","v":2.1258734324801751},1.5310608457404378,1.0762039722237842,1.6477337639021656]
[967,0.25231868028640747,{"$f":"NORMINV(B979,Dźwignie!$L$8,Dźwignie!$L$9)","v":316639.44959003554},{"$f":"Dźwignie!$L$7*C979","v":474959.17438505334},null,{"$f":"C979*Dźwignie!$G$5","v":316639.44959003554},158319.7247950178,{"$f":"Dźwignie!$G$6","v":50000},108319.7247950178,{"$f":"I979-Dźwignie!$D$6","v":88319.724795017799},{"$f":"IF(J979>0,J979*(1-Dźwignie!$D$9),J979)","v":71538.977083964419},{"$f":"K979/Dźwignie!$D$5","v":7.1538977083964417},{"$f":"I979/Dźwignie!$D$2","v":0.54159862397508896},{"$f":"K979/Dźwignie!$D$3","v":0.71538977083964417},1.461596446026973,1.2264499809801062,1.7925749334303718,null,{"$f":"C979*Dźwignie!$G$8","v":158319.72479501777},316639.4495900356,{"$f":"Dźwignie!$G$9","v":150000},166639.4495900356,{"$f":"V979-Dźwignie!$D$6","v":146639.4495900356},{"$f":"IF(W979>0,W979*(1-Dźwignie!$D$9),W979)","v":118777.95416792884},{"$f":"X979/Dźwignie!$D$5","v":11.877795416792884},{"$f":"V979/Dźwignie!$D$2","v":0.83319724795017802},{"$f":"X979/Dźwignie!$D$3","v":1.1877795416792885},1.9001469962186519,1.1363889461936376,2.1593060426459196]
[968,0.49967789649963379,{"$f":"NORMINV(B980,Dźwignie!$L$8,Dźwignie!$L$9)","v":349959.63030854514},{"$f":"Dźwignie!$L$7*C980","v":524939.44546281768},null,{"$f":"C980*Dźwignie!$G$5","v":349959.63030854514},174979.81515427254,{"$f":"Dźwignie!$G$6","v":50000},124979.81515427254,{"$f":"I980-Dźwignie!$D$6","v":104979.81515427254},{"$f":"IF(J980>0,J980*(1-Dźwignie!$D$9),J980)","v":85033.650274960761},{"$f":"K980/Dźwignie!$D$5","v":8.5033650274960753},{"$f":"I980/Dźwignie!$D$2","v":0.62489907577136272},{"$f":"K980/Dźwignie!$D$3","v":0.85033650274960759},1.4000646019381691,1.1905128140167622,1.6667948490586677,null,{"$f":"C980*Dźwignie!$G$8","v":174979.81515427257},349959.63030854508,{"$f":"Dźwignie!$G$9","v":150000},199959.63030854508,{"$f":"V980-Dźwignie!$D$6","v":179959.63030854508},{"$f":"IF(W980>0,W980*(1-Dźwignie!$D$9),W980)","v":145767.30054992152},{"$f":"X980/Dźwignie!$D$5","v":14.576730054992153},{"$f":"V980/Dźwignie!$D$2","v":0.99979815154272544},{"$f":"X980/Dźwignie!$D$3","v":1.4576730054992153},1.7501514169062249,1.1111360362638527,1.9446563082427484]
[969,0.98605483770370483,{"$f":"NORMINV(B981,Dźwignie!$L$8,Dźwignie!$L$9)","v":459941.28061243508},{"$f":"Dźwignie!$L$7*C981","v":689911.92091865255},null,{"$f":"C981*Dźwignie!$G$5","v":459941.28061243508},229970.64030621748,{"$f":"Dźwignie!$G$6","v":50000},179970.64030621748,{"$f":"I981-Dźwignie!$D$6","v":159970.64030621748},{"$f":"IF(J981>0,J981*(1-Dźwignie!$D$9),J981)","v":129576.21864803617},{"$f":"K981/Dźwignie!$D$5","v":12.957621864803617},{"$f":"I981/Dźwignie!$D$2","v":0.89985320153108739},{"$f":"K981/Dźwignie!$D$3","v":1.2957621864803617},1.2778230933385897,1.1250229414704835,1.4375802951466925,null,{"$f":"C981*Dźwignie!$G$8","v":229970.64030621754},459941.28061243502,{"$f":"Dźwignie!$G$9","v":150000},309941.28061243502,{"$f":"V981-Dźwignie!$D$6","v":289941.28061243502},{"$f":"IF(W981>0,W981*(1-Dźwignie!$D$9),W981)","v":234852.43729607237},{"$f":"X981/Dźwignie!$D$5","v":23.485243729607237},{"$f":"V981/Dźwignie!$D$2","v":1.549706403062175},{"$f":"X981/Dźwignie!$D$3","v":2.3485243729607239},1.4839626386766045,1.0689794842519649,1.5863256161417016]
[970,0.7790602445602417,{"$f":"NORMINV(B982,Dźwignie!$L$8,Dźwignie!$L$9)","v":388451.16228976619},{"$f":"Dźwignie!$L$7*C982","v":582676.74343464931},null,{"$f":"C982*Dźwignie!$G$5","v":388451.16228976619},194225.58114488312,{"$f":"Dźwignie!$G$6","v":50000},144225.58114488312,{"$f":"I982-Dźwignie!$D$6","v":124225.58114488312},{"$f":"IF(J982>0,J982*(1-Dźwignie!$D$9),J982)","v":100622.72072735534},{"$f":"K982/Dźwignie!$D$5","v":10.062272072735533},{"$f":"I982/Dźwignie!$D$2","v":0.72112790572441565},{"$f":"K982/Dźwignie!$D$3","v":1.0062272072735534},1.3466791369678868,1.1609974355980206,1.563491024593072,null,{"$f":"C982*Dźwignie!$G$8","v":194225.58114488309},388451.16228976625,{"$f":"Dźwignie!$G$9","v":150000},238451.16228976625,{"$f":"V982-Dźwignie!$D$6","v":218451.16228976625},{"$f":"IF(W982>0,W982*(1-Dźwignie!$D$9),W982)","v":176945.44145471067},{"$f":"X982/Dźwignie!$D$5","v":17.694544145471067},{"$f":"V982/Dźwignie!$D$2","v":1.1922558114488313},{"$f":"X982/Dźwignie!$D$3","v":1.7694544145471067},1.6290596303226224,1.0915536442578906,1.7782059761920705]
[971,0.8311353325843811,{"$f":"NORMINV(B983,Dźwignie!$L$8,Dźwignie!$L$9)","v":397933.07150704478},{"$f":"Dźwignie!$L$7*C983","v":596899.60726056714},null,{"$f":"C983*Dźwignie!$G$5","v":397933.07150704478},198966.53575352236,{"$f":"Dźwignie!$G$6","v":50000},148966.53575352236,{"$f":"I983-Dźwignie!$D$6","v":128966.53575352236},{"$f":"IF(J983>0,J983*(1-Dźwignie!$D$9),J983)","v":104462.89396035312},{"$f":"K983/Dźwignie!$D$5","v":10.446289396035311},{"$f":"I983/Dźwignie!$D$2","v":0.74483267876761183},{"$f":"K983/Dźwignie!$D$3","v":1.0446289396035311},1.3356458532588098,1.1550789891590443,1.5427764620566553,null,{"$f":"C983*Dźwignie!$G$8","v":198966.53575352239},397933.07150704472,{"$f":"Dźwignie!$G$9","v":150000},247933.07150704472,{"$f":"V983-Dźwignie!$D$6","v":227933.07150704472},{"$f":"IF(W983>0,W983*(1-Dźwignie!$D$9),W983)","v":184625.78792070624},{"$f":"X983/Dźwignie!$D$5","v":18.462578792070623},{"$f":"V983/Dźwignie!$D$2","v":1.2396653575352237},{"$f":"X983/Dźwignie!$D$3","v":1.8462578792070623},1.6050019833507283,1.0877450554575705,1.7458329713893486]
[972,0.81913614273071289,{"$f":"NORMINV(B984,Dźwignie!$L$8,Dźwignie!$L$9)","v":395603.89468324155},{"$f":"Dźwignie!$L$7*C984","v":593405.8420248623},null,{"$f":"C984*Dźwignie!$G$5","v":395603.89468324155},197801.94734162075,{"$f":"Dźwignie!$G$6","v":50000},147801.94734162075,{"$f":"I984-Dźwignie!$D$6","v":127801.94734162075},{"$f":"IF(J984>0,J984*(1-Dźwignie!$D$9),J984)","v":103519.57734671282},{"$f":"K984/Dźwignie!$D$5","v":10.351957734671281},{"$f":"I984/Dźwignie!$D$2","v":0.73900973670810377},{"$f":"K984/Dźwignie!$D$3","v":1.0351957734671282},1.3382905360809147,1.1564921381560724,1.5477224835462535,null,{"$f":"C984*Dźwignie!$G$8","v":197801.94734162078},395603.89468324149,{"$f":"Dźwignie!$G$9","v":150000},245603.89468324149,{"$f":"V984-Dźwignie!$D$6","v":225603.89468324149},{"$f":"IF(W984>0,W984*(1-Dźwignie!$D$9),W984)","v":182739.15469342563},{"$f":"X984/Dźwignie!$D$5","v":18.273915469342562},{"$f":"V984/Dźwignie!$D$2","v":1.2280194734162075},{"$f":"X984/Dźwignie!$D$3","v":1.8273915469342563},1.6107395006640954,1.0886509518290053,1.7535330905465443]
[973,0.10995548963546753,{"$f":"NORMINV(B985,Dźwignie!$L$8,Dźwignie!$L$9)","v":288661.75665581063},{"$f":"Dźwignie!$L$7*C985","v":432992.63498371595},null,{"$f":"C985*Dźwignie!$G$5","v":288661.75665581063},144330.87832790532,{"$f":"Dźwignie!$G$6","v":50000},94330.878327905317,{"$f":"I985-Dźwignie!$D$6","v":74330.878327905317},{"$f":"IF(J985>0,J985*(1-Dźwignie!$D$9),J985)","v":60208.011445603312},{"$f":"K985/Dźwignie!$D$5","v":6.0208011445603313},{"$f":"I985/Dźwignie!$D$2","v":0.4716543916395266},{"$f":"K985/Dźwignie!$D$3","v":0.60208011445603316},1.530049130107684,1.2690671824402699,1.9417351385409445,null,{"$f":"C985*Dźwignie!$G$8","v":144330.87832790532},288661.75665581063,{"$f":"Dźwignie!$G$9","v":150000},138661.75665581063,{"$f":"V985-Dźwignie!$D$6","v":118661.75665581063},{"$f":"IF(W985>0,W985*(1-Dźwignie!$D$9),W985)","v":96116.022891206623},{"$f":"X985/Dźwignie!$D$5","v":9.6116022891206629},{"$f":"V985/Dźwignie!$D$2","v":0.69330878327905321},{"$f":"X985/Dźwignie!$D$3","v":0.96116022891206621},2.0817690733021177,1.1685462996979881,2.4326435474328991]
[974,0.41053211688995361,{"$f":"NORMINV(B986,Dźwignie!$L$8,Dźwignie!$L$9)","v":338691.18055731466},{"$f":"Dźwignie!$L$7*C986","v":508036.77083597198},null,{"$f":"C986*Dźwignie!$G$5","v":338691.18055731466},169345.59027865733,{"$f":"Dźwignie!$G$6","v":50000},119345.59027865733,{"$f":"I986-Dźwignie!$D$6","v":99345.590278657328},{"$f":"IF(J986>0,J986*(1-Dźwignie!$D$9),J986)","v":80469.928125712438},{"$f":"K986/Dźwignie!$D$5","v":8.0469928125712435},{"$f":"I986/Dźwignie!$D$2","v":0.5967279513932866},{"$f":"K986/Dźwignie!$D$3","v":0.80469928125712442},1.4189513821437065,1.2013174409040344,1.7046110431641202,null,{"$f":"C986*Dźwignie!$G$8","v":169345.59027865733},338691.18055731466,{"$f":"Dźwignie!$G$9","v":150000},188691.18055731466,{"$f":"V986-Dźwignie!$D$6","v":168691.18055731466},{"$f":"IF(W986>0,W986*(1-Dźwignie!$D$9),W986)","v":136639.85625142488},{"$f":"X986/Dźwignie!$D$5","v":13.663985625142487},{"$f":"V986/Dźwignie!$D$2","v":0.94345590278657332},{"$f":"X986/Dźwignie!$D$3","v":1.3663985625142487},1.7949497139027,1.1185598436973698,2.0077586714276427]
[975,0.17719823122024536,{"$f":"NORMINV(B987,Dźwignie!$L$8,Dźwignie!$L$9)","v":303695.23559058289},{"$f":"Dźwignie!$L$7*C987","v":455542.8533858743},null,{"$f":"C987*Dźwignie!$G$5","v":303695.23559058289},151847.61779529141,{"$f":"Dźwignie!$G$6","v":50000},101847.61779529141,{"$f":"I987-Dźwignie!$D$6","v":81847.617795291415},{"$f":"IF(J987>0,J987*(1-Dźwignie!$D$9),J987)","v":66296.570414186048},{"$f":"K987/Dźwignie!$D$5","v":6.6296570414186045},{"$f":"I987/Dźwignie!$D$2","v":0.50923808897645706},{"$f":"K987/Dźwignie!$D$3","v":0.66296570414186051},1.4909294992102562,1.2443565315489313,1.8552478604212594,null,{"$f":"C987*Dźwignie!$G$8","v":151847.61779529144},303695.23559058283,{"$f":"Dźwignie!$G$9","v":150000},153695.23559058283,{"$f":"V987-Dźwignie!$D$6","v":133695.23559058283},{"$f":"IF(W987>0,W987*(1-Dźwignie!$D$9),W987)","v":108293.1408283721},{"$f":"X987/Dźwignie!$D$5","v":10.829314082837209},{"$f":"V987/Dźwignie!$D$2","v":0.76847617795291412},{"$f":"X987/Dźwignie!$D$3","v":1.0829314082837209},1.9759573836079976,1.1495939620559579,2.2715486774756419]
[976,0.30951189994812012,{"$f":"NORMINV(B988,Dźwignie!$L$8,Dźwignie!$L$9)","v":325138.28242373053},{"$f":"Dźwignie!$L$7*C988","v":487707.42363559583},null,{"$f":"C988*Dźwignie!$G$5","v":325138.28242373053},162569.1412118653,{"$f":"Dźwignie!$G$6","v":50000},112569.1412118653,{"$f":"I988-Dźwignie!$D$6","v":92569.141211865295},{"$f":"IF(J988>0,J988*(1-Dźwignie!$D$9),J988)","v":74981.004381610896},{"$f":"K988/Dźwignie!$D$5","v":7.4981004381610896},{"$f":"I988/Dźwignie!$D$2","v":0.56284570605932649},{"$f":"K988/Dźwignie!$D$3","v":0.74981004381610894},1.4441714617498544,1.216054721240478,1.7561915243416728,null,{"$f":"C988*Dźwignie!$G$8","v":162569.14121186527},325138.28242373059,{"$f":"Dźwignie!$G$9","v":150000},175138.28242373059,{"$f":"V988-Dźwignie!$D$6","v":155138.28242373059},{"$f":"IF(W988>0,W988*(1-Dźwignie!$D$9),W988)","v":125662.00876322179},{"$f":"X988/Dźwignie!$D$5","v":12.56620087632218},{"$f":"V988/Dźwignie!$D$2","v":0.87569141211865298},{"$f":"X988/Dźwignie!$D$3","v":1.256620087632218},1.8564660902468435,1.1289172452314111,2.0957965844669948]
[977,0.30313485860824585,{"$f":"NORMINV(B989,Dźwignie!$L$8,Dźwignie!$L$9)","v":324229.72695323883},{"$f":"Dźwignie!$L$7*C989","v":486344.59042985825},null,{"$f":"C989*Dźwignie!$G$5","v":324229.72695323883},162114.86347661942,{"$f":"Dźwignie!$G$6","v":50000},112114.86347661942,{"$f":"I989-Dźwignie!$D$6","v":92114.863476619415},{"$f":"IF(J989>0,J989*(1-Dźwignie!$D$9),J989)","v":74613.039416061729},{"$f":"K989/Dźwignie!$D$5","v":7.4613039416061726},{"$f":"I989/Dźwignie!$D$2","v":0.56057431738309704},{"$f":"K989/Dźwignie!$D$3","v":0.74613039416061733},1.4459711981937797,1.2171202262605143,1.7599207919118001,null,{"$f":"C989*Dźwignie!$G$8","v":162114.86347661942},324229.72695323883,{"$f":"Dźwignie!$G$9","v":150000},174229.72695323883,{"$f":"V989-Dźwignie!$D$6","v":154229.72695323883},{"$f":"IF(W989>0,W989*(1-Dźwignie!$D$9),W989)","v":124926.07883212346},{"$f":"X989/Dźwignie!$D$5","v":12.492607883212345},{"$f":"V989/Dźwignie!$D$2","v":0.8711486347661942},{"$f":"X989/Dźwignie!$D$3","v":1.2492607883212345},1.8609323025585536,1.1296766868170871,2.1022518379452397]
[978,8.8074088096618652E-2,{"$f":"NORMINV(B990,Dźwignie!$L$8,Dźwignie!$L$9)","v":282364.48149258352},{"$f":"Dźwignie!$L$7*C990","v":423546.72223887529},null,{"$f":"C990*Dźwignie!$G$5","v":282364.48149258352},141182.24074629176,{"$f":"Dźwignie!$G$6","v":50000},91182.240746291762,{"$f":"I990-Dźwignie!$D$6","v":71182.240746291762},{"$f":"IF(J990>0,J990*(1-Dźwignie!$D$9),J990)","v":57657.615004496329},{"$f":"K990/Dźwignie!$D$5","v":5.7657615004496332},{"$f":"I990/Dźwignie!$D$2","v":0.45591120373145883},{"$f":"K990/Dźwignie!$D$3","v":0.57657615004496332},1.5483523939614681,1.2809689578512164,1.9833913524792579,null,{"$f":"C990*Dźwignie!$G$8","v":141182.24074629176},282364.48149258352,{"$f":"Dźwignie!$G$9","v":150000},132364.48149258352,{"$f":"V990-Dźwignie!$D$6","v":112364.48149258352},{"$f":"IF(W990>0,W990*(1-Dźwignie!$D$9),W990)","v":91015.230008992658},{"$f":"X990/Dźwignie!$D$5","v":9.1015230008992649},{"$f":"V990/Dźwignie!$D$2","v":0.66182240746291765},{"$f":"X990/Dźwignie!$D$3","v":0.91015230008992654},2.1332345226495266,1.1779921887622475,2.512933604479104]
[979,0.62333208322525024,{"$f":"NORMINV(B991,Dźwignie!$L$8,Dźwignie!$L$9)","v":365712.19297370198},{"$f":"Dźwignie!$L$7*C991","v":548568.28946055297},null,{"$f":"C991*Dźwignie!$G$5","v":365712.19297370198},182856.09648685099,{"$f":"Dźwignie!$G$6","v":50000},132856.09648685099,{"$f":"I991-Dźwignie!$D$6","v":112856.09648685099},{"$f":"IF(J991>0,J991*(1-Dźwignie!$D$9),J991)","v":91413.438154349307},{"$f":"K991/Dźwignie!$D$5","v":9.1413438154349311},{"$f":"I991/Dźwignie!$D$2","v":0.66428048243425497},{"$f":"K991/Dźwignie!$D$3","v":0.91413438154349302},1.3763470500952779,1.177216832963297,1.6202589153715394,null,{"$f":"C991*Dźwignie!$G$8","v":182856.09648685099},365712.19297370198,{"$f":"Dźwignie!$G$9","v":150000},215712.19297370198,{"$f":"V991-Dźwignie!$D$6","v":195712.19297370198},{"$f":"IF(W991>0,W991*(1-Dźwignie!$D$9),W991)","v":158526.87630869861},{"$f":"X991/Dźwignie!$D$5","v":15.852687630869861},{"$f":"V991/Dźwignie!$D$2","v":1.0785609648685099},{"$f":"X991/Dźwignie!$D$3","v":1.5852687630869862},1.6953709845149405,1.1021908737320594,1.868622426722504]
[980,0.78483104705810547,{"$f":"NORMINV(B992,Dźwignie!$L$8,Dźwignie!$L$9)","v":389430.67776126502},{"$f":"Dźwignie!$L$7*C992","v":584146.0166418975},null,{"$f":"C992*Dźwignie!$G$5","v":389430.67776126502},194715.33888063248,{"$f":"Dźwignie!$G$6","v":50000},144715.33888063248,{"$f":"I992-Dźwignie!$D$6","v":124715.33888063248},{"$f":"IF(J992>0,J992*(1-Dźwignie!$D$9),J992)","v":101019.42449331231},{"$f":"K992/Dźwignie!$D$5","v":10.101942449331231},{"$f":"I992/Dźwignie!$D$2","v":0.72357669440316241},{"$f":"K992/Dźwignie!$D$3","v":1.0101942449331232},1.3455058764796328,1.1603651978939207,1.5612781926287223,null,{"$f":"C992*Dźwignie!$G$8","v":194715.33888063251},389430.67776126496,{"$f":"Dźwignie!$G$9","v":150000},239430.67776126496,{"$f":"V992-Dźwignie!$D$6","v":219430.67776126496},{"$f":"IF(W992>0,W992*(1-Dźwignie!$D$9),W992)","v":177738.84898662462},{"$f":"X992/Dźwignie!$D$5","v":17.773884898662462},{"$f":"V992/Dźwignie!$D$2","v":1.1971533888063248},{"$f":"X992/Dźwignie!$D$3","v":1.7773884898662462},1.6264861353713587,1.0911449584171613,1.7747321465458705]
[981,0.68601530790328979,{"$f":"NORMINV(B993,Dźwignie!$L$8,Dźwignie!$L$9)","v":374229.34668064979},{"$f":"Dźwignie!$L$7*C993","v":561344.02002097468},null,{"$f":"C993*Dźwignie!$G$5","v":374229.34668064979},187114.67334032489,{"$f":"Dźwignie!$G$6","v":50000},137114.67334032489,{"$f":"I993-Dźwignie!$D$6","v":117114.67334032489},{"$f":"IF(J993>0,J993*(1-Dźwignie!$D$9),J993)","v":94862.885405663168},{"$f":"K993/Dźwignie!$D$5","v":9.4862885405663171},{"$f":"I993/Dźwignie!$D$2","v":0.6855733667016245},{"$f":"K993/Dźwignie!$D$3","v":0.94862885405663167},1.3646582731222188,1.1707727941304311,1.5977047794565091,null,{"$f":"C993*Dźwignie!$G$8","v":187114.67334032489},374229.34668064979,{"$f":"Dźwignie!$G$9","v":150000},224229.34668064979,{"$f":"V993-Dźwignie!$D$6","v":204229.34668064979},{"$f":"IF(W993>0,W993*(1-Dźwignie!$D$9),W993)","v":165425.77081132634},{"$f":"X993/Dźwignie!$D$5","v":16.542577081132634},{"$f":"V993/Dźwignie!$D$2","v":1.121146733403249},{"$f":"X993/Dźwignie!$D$3","v":1.6542577081132634},1.6689579317805883,1.0979291190275102,1.8323975117338367]
[982,0.76291906833648682,{"$f":"NORMINV(B994,Dźwignie!$L$8,Dźwignie!$L$9)","v":385786.19393394305},{"$f":"Dźwignie!$L$7*C994","v":578679.29090091458},null,{"$f":"C994*Dźwignie!$G$5","v":385786.19393394305},192893.09696697153,{"$f":"Dźwignie!$G$6","v":50000},142893.09696697153,{"$f":"I994-Dźwignie!$D$6","v":122893.09696697153},{"$f":"IF(J994>0,J994*(1-Dźwignie!$D$9),J994)","v":99543.408543246944},{"$f":"K994/Dźwignie!$D$5","v":9.9543408543246947},{"$f":"I994/Dźwignie!$D$2","v":0.71446548483485761},{"$f":"K994/Dźwignie!$D$3","v":0.99543408543246947},1.3499119345951125,1.1627430709584539,1.5696007483545886,null,{"$f":"C994*Dźwignie!$G$8","v":192893.09696697153},385786.19393394305,{"$f":"Dźwignie!$G$9","v":150000},235786.19393394305,{"$f":"V994-Dźwignie!$D$6","v":215786.19393394305},{"$f":"IF(W994>0,W994*(1-Dźwignie!$D$9),W994)","v":174786.81708649389},{"$f":"X994/Dźwignie!$D$5","v":17.47868170864939},{"$f":"V994/Dźwignie!$D$2","v":1.1789309696697152},{"$f":"X994/Dźwignie!$D$3","v":1.7478681708649388},1.6361695631849564,1.0926843355239049,1.7878168519531918]
[983,0.37833815813064575,{"$f":"NORMINV(B995,Dźwignie!$L$8,Dźwignie!$L$9)","v":334507.58477101329},{"$f":"Dźwignie!$L$7*C995","v":501761.37715651991},null,{"$f":"C995*Dźwignie!$G$5","v":334507.58477101329},167253.79238550662,{"$f":"Dźwignie!$G$6","v":50000},117253.79238550662,{"$f":"I995-Dźwignie!$D$6","v":97253.792385506618},{"$f":"IF(J995>0,J995*(1-Dźwignie!$D$9),J995)","v":78775.571832260364},{"$f":"K995/Dźwignie!$D$5","v":7.8775571832260365},{"$f":"I995/Dźwignie!$D$2","v":0.58626896192753308},{"$f":"K995/Dźwignie!$D$3","v":0.7877557183226036},1.426425439917629,1.2056475075102626,1.7197662762859194,null,{"$f":"C995*Dźwignie!$G$8","v":167253.79238550665},334507.58477101324,{"$f":"Dźwignie!$G$9","v":150000},184507.58477101324,{"$f":"V995-Dźwignie!$D$6","v":164507.58477101324},{"$f":"IF(W995>0,W995*(1-Dźwignie!$D$9),W995)","v":133251.14366452073},{"$f":"X995/Dźwignie!$D$5","v":13.325114366452073},{"$f":"V995/Dźwignie!$D$2","v":0.92253792385506617},{"$f":"X995/Dźwignie!$D$3","v":1.3325114366452073},1.8129747087967167,1.1215749415313527,2.0333870030164989]
[984,0.43118977546691895,{"$f":"NORMINV(B996,Dźwignie!$L$8,Dźwignie!$L$9)","v":341332.70526478993},{"$f":"Dźwignie!$L$7*C996","v":511999.05789718486},null,{"$f":"C996*Dźwignie!$G$5","v":341332.70526478993},170666.35263239493,{"$f":"Dźwignie!$G$6","v":50000},120666.35263239493,{"$f":"I996-Dźwignie!$D$6","v":100666.35263239493},{"$f":"IF(J996>0,J996*(1-Dźwignie!$D$9),J996)","v":81539.745632239908},{"$f":"K996/Dźwignie!$D$5","v":8.1539745632239917},{"$f":"I996/Dźwignie!$D$2","v":0.60333176316197468},{"$f":"K996/Dźwignie!$D$3","v":0.81539745632239913},1.4143657192682615,1.1986761164679756,1.6953664076379147,null,{"$f":"C996*Dźwignie!$G$8","v":170666.35263239496},341332.70526478987,{"$f":"Dźwignie!$G$9","v":150000},191332.70526478987,{"$f":"V996-Dźwignie!$D$6","v":171332.70526478987},{"$f":"IF(W996>0,W996*(1-Dźwignie!$D$9),W996)","v":138779.49126447979},{"$f":"X996/Dźwignie!$D$5","v":13.877949126447978},{"$f":"V996/Dźwignie!$D$2","v":0.95666352632394935},{"$f":"X996/Dźwignie!$D$3","v":1.3877949126447979},1.7839746989016407,1.1167319454221571,1.9922215360883362]
[985,0.26280826330184937,{"$f":"NORMINV(B997,Dźwignie!$L$8,Dźwignie!$L$9)","v":318264.4199902768},{"$f":"Dźwignie!$L$7*C997","v":477396.6299854152},null,{"$f":"C997*Dźwignie!$G$5","v":318264.4199902768},159132.2099951384,{"$f":"Dźwignie!$G$6","v":50000},109132.2099951384,{"$f":"I997-Dźwignie!$D$6","v":89132.209995138401},{"$f":"IF(J997>0,J997*(1-Dźwignie!$D$9),J997)","v":72197.090096062107},{"$f":"K997/Dźwignie!$D$5","v":7.2197090096062109},{"$f":"I997/Dźwignie!$D$2","v":0.54566104997569198},{"$f":"K997/Dźwignie!$D$3","v":0.72197090096062111},1.4581598778419991,1.2243857748067828,1.7853502118237399,null,{"$f":"C997*Dźwignie!$G$8","v":159132.2099951384},318264.4199902768,{"$f":"Dźwignie!$G$9","v":150000},168264.4199902768,{"$f":"V997-Dźwignie!$D$6","v":148264.4199902768},{"$f":"IF(W997>0,W997*(1-Dźwignie!$D$9),W997)","v":120094.18019212421},{"$f":"X997/Dźwignie!$D$5","v":12.009418019212422},{"$f":"V997/Dźwignie!$D$2","v":0.84132209995138396},{"$f":"X997/Dźwignie!$D$3","v":1.2009418019212421},1.891454057896897,1.1348941303740412,2.1466001081793502]
[986,0.73493278026580811,{"$f":"NORMINV(B998,Dźwignie!$L$8,Dźwignie!$L$9)","v":381390.04019209417},{"$f":"Dźwignie!$L$7*C998","v":572085.06028814125},null,{"$f":"C998*Dźwignie!$G$5","v":381390.04019209417},190695.02009604708,{"$f":"Dźwignie!$G$6","v":50000},140695.02009604708,{"$f":"I998-Dźwignie!$D$6","v":120695.02009604708},{"$f":"IF(J998>0,J998*(1-Dźwignie!$D$9),J998)","v":97762.966277798143},{"$f":"K998/Dźwignie!$D$5","v":9.7762966277798142},{"$f":"I998/Dźwignie!$D$2","v":0.70347510048023543},{"$f":"K998/Dźwignie!$D$3","v":0.97762966277798147},1.3553786051977315,1.1657069196731094,1.579974218855883,null,{"$f":"C998*Dźwignie!$G$8","v":190695.02009604708},381390.04019209417,{"$f":"Dźwignie!$G$9","v":150000},231390.04019209417,{"$f":"V998-Dźwignie!$D$6","v":211390.04019209417},{"$f":"IF(W998>0,W998*(1-Dźwignie!$D$9),W998)","v":171225.93255559629},{"$f":"X998/Dźwignie!$D$5","v":17.122593255559629},{"$f":"V998/Dźwignie!$D$2","v":1.1569502009604709},{"$f":"X998/Dźwignie!$D$3","v":1.7122593255559628},1.6482560782455191,1.0946118368766362,1.8042006134514084]
[987,0.60511928796768188,{"$f":"NORMINV(B999,Dźwignie!$L$8,Dźwignie!$L$9)","v":363331.02149687934},{"$f":"Dźwignie!$L$7*C999","v":544996.53224531899},null,{"$f":"C999*Dźwignie!$G$5","v":363331.02149687934},181665.51074843964,{"$f":"Dźwignie!$G$6","v":50000},131665.51074843964,{"$f":"I999-Dźwignie!$D$6","v":111665.51074843964},{"$f":"IF(J999>0,J999*(1-Dźwignie!$D$9),J999)","v":90449.06370623612},{"$f":"K999/Dźwignie!$D$5","v":9.0449063706236128},{"$f":"I999/Dźwignie!$D$2","v":0.6583275537421982},{"$f":"K999/Dźwignie!$D$3","v":0.90449063706236121},1.3797501693175374,1.1791063316322983,1.6268721607130439,null,{"$f":"C999*Dźwignie!$G$8","v":181665.51074843967},363331.02149687929,{"$f":"Dźwignie!$G$9","v":150000},213331.02149687929,{"$f":"V999-Dźwignie!$D$6","v":193331.02149687929},{"$f":"IF(W999>0,W999*(1-Dźwignie!$D$9),W999)","v":156598.12741247224},{"$f":"X999/Dźwignie!$D$5","v":15.659812741247224},{"$f":"V999/Dźwignie!$D$2","v":1.0666551074843964},{"$f":"X999/Dźwignie!$D$3","v":1.5659812741247223},1.7031326196607288,1.1034495128880433,1.8793208595483684]
[988,0.57237958908081055,{"$f":"NORMINV(B1000,Dźwignie!$L$8,Dźwignie!$L$9)","v":359121.78433071543},{"$f":"Dźwignie!$L$7*C1000","v":538682.67649607314},null,{"$f":"C1000*Dźwignie!$G$5","v":359121.78433071543},179560.89216535771,{"$f":"Dźwignie!$G$6","v":50000},129560.89216535771,{"$f":"I1000-Dźwignie!$D$6","v":109560.89216535771},{"$f":"IF(J1000>0,J1000*(1-Dźwignie!$D$9),J1000)","v":88744.322653939758},{"$f":"K1000/Dźwignie!$D$5","v":8.8744322653939758},{"$f":"I1000/Dźwignie!$D$2","v":0.64780446082678855},{"$f":"K1000/Dźwignie!$D$3","v":0.88744322653939756},1.3859189232518199,1.1825468888096902,1.6389141108339154,null,{"$f":"C1000*Dźwignie!$G$8","v":179560.89216535771},359121.78433071543,{"$f":"Dźwignie!$G$9","v":150000},209121.78433071543,{"$f":"V1000-Dźwignie!$D$6","v":189121.78433071543},{"$f":"IF(W1000>0,W1000*(1-Dźwignie!$D$9),W1000)","v":153188.64530787952},{"$f":"X1000/Dźwignie!$D$5","v":15.318864530787952},{"$f":"V1000/Dźwignie!$D$2","v":1.0456089216535771},{"$f":"X1000/Dźwignie!$D$3","v":1.5318864530787952},1.7172853869818874,1.1057519633223543,1.8988916882400109]
[989,0.62463921308517456,{"$f":"NORMINV(B1001,Dźwignie!$L$8,Dźwignie!$L$9)","v":365884.40268974029},{"$f":"Dźwignie!$L$7*C1001","v":548826.60403461044},null,{"$f":"C1001*Dźwignie!$G$5","v":365884.40268974029},182942.20134487015,{"$f":"Dźwignie!$G$6","v":50000},132942.20134487015,{"$f":"I1001-Dźwignie!$D$6","v":112942.20134487015},{"$f":"IF(J1001>0,J1001*(1-Dźwignie!$D$9),J1001)","v":91483.18308934482},{"$f":"K1001/Dźwignie!$D$5","v":9.1483183089344813},{"$f":"I1001/Dźwignie!$D$2","v":0.66471100672435068},{"$f":"K1001/Dźwignie!$D$3","v":0.91483183089344822},1.3761032952229608,1.1770817264215507,1.6197860424754276,null,{"$f":"C1001*Dźwignie!$G$8","v":182942.20134487015},365884.40268974029,{"$f":"Dźwignie!$G$9","v":150000},215884.40268974029,{"$f":"V1001-Dźwignie!$D$6","v":195884.40268974029},{"$f":"IF(W1001>0,W1001*(1-Dźwignie!$D$9),W1001)","v":158666.36617868964},{"$f":"X1001/Dźwignie!$D$5","v":15.866636617868965},{"$f":"V1001/Dźwignie!$D$2","v":1.0794220134487014},{"$f":"X1001/Dźwignie!$D$3","v":1.5866636617868963},1.6948162911777072,1.1021010336983177,1.8678587864357001]
[990,0.54323875904083252,{"$f":"NORMINV(B1002,Dźwignie!$L$8,Dźwignie!$L$9)","v":355429.82846786903},{"$f":"Dźwignie!$L$7*C1002","v":533144.74270180357},null,{"$f":"C1002*Dźwignie!$G$5","v":355429.82846786903},177714.91423393454,{"$f":"Dźwignie!$G$6","v":50000},127714.91423393454,{"$f":"I1002-Dźwignie!$D$6","v":107714.91423393454},{"$f":"IF(J1002>0,J1002*(1-Dźwignie!$D$9),J1002)","v":87249.080529486979},{"$f":"K1002/Dźwignie!$D$5","v":8.7249080529486971},{"$f":"I1002/Dźwignie!$D$2","v":0.63857457116967276},{"$f":"K1002/Dźwignie!$D$3","v":0.87249080529486978},1.3914969547598437,1.1856753091458081,1.6498635820103282,null,{"$f":"C1002*Dźwignie!$G$8","v":177714.91423393451},355429.82846786908,{"$f":"Dźwignie!$G$9","v":150000},205429.82846786908,{"$f":"V1002-Dźwignie!$D$6","v":185429.82846786908},{"$f":"IF(W1002>0,W1002*(1-Dźwignie!$D$9),W1002)","v":150198.16105897396},{"$f":"X1002/Dźwignie!$D$5","v":15.019816105897396},{"$f":"V1002/Dźwignie!$D$2","v":1.0271491423393455},{"$f":"X1002/Dźwignie!$D$3","v":1.5019816105897397},1.7301763386491911,1.1078575122743295,1.9167888543318006]
[991,0.74880486726760864,{"$f":"NORMINV(B1003,Dźwignie!$L$8,Dźwignie!$L$9)","v":383536.67910128192},{"$f":"Dźwignie!$L$7*C1003","v":575305.01865192293},null,{"$f":"C1003*Dźwignie!$G$5","v":383536.67910128192},191768.33955064102,{"$f":"Dźwignie!$G$6","v":50000},141768.33955064102,{"$f":"I1003-Dźwignie!$D$6","v":121768.33955064102},{"$f":"IF(J1003>0,J1003*(1-Dźwignie!$D$9),J1003)","v":98632.355036019231},{"$f":"K1003/Dźwignie!$D$5","v":9.8632355036019224},{"$f":"I1003/Dźwignie!$D$2","v":0.70884169775320505},{"$f":"K1003/Dźwignie!$D$3","v":0.98632355036019226},1.3526880554465373,1.1642463063371444,1.5748620721800055,null,{"$f":"C1003*Dźwignie!$G$8","v":191768.33955064096},383536.67910128197,{"$f":"Dźwignie!$G$9","v":150000},233536.67910128197,{"$f":"V1003-Dźwignie!$D$6","v":213536.67910128197},{"$f":"IF(W1003>0,W1003*(1-Dźwignie!$D$9),W1003)","v":172964.7100720384},{"$f":"X1003/Dźwignie!$D$5","v":17.296471007203841},{"$f":"V1003/Dźwignie!$D$2","v":1.1676833955064099},{"$f":"X1003/Dźwignie!$D$3","v":1.729647100720384},1.6422973923293087,1.0936607241630552,1.7961161553859688]
[992,0.68551230430603027,{"$f":"NORMINV(B1004,Dźwignie!$L$8,Dźwignie!$L$9)","v":374158.47487369942},{"$f":"Dźwignie!$L$7*C1004","v":561237.7123105491},null,{"$f":"C1004*Dźwignie!$G$5","v":374158.47487369942},187079.23743684968,{"$f":"Dźwignie!$G$6","v":50000},137079.23743684968,{"$f":"I1004-Dźwignie!$D$6","v":117079.23743684968},{"$f":"IF(J1004>0,J1004*(1-Dźwignie!$D$9),J1004)","v":94834.182323848247},{"$f":"K1004/Dźwignie!$D$5","v":9.4834182323848246},{"$f":"I1004/Dźwignie!$D$2","v":0.68539618718424844},{"$f":"K1004/Dźwignie!$D$3","v":0.94834182323848248},1.3647525397347957,1.1708244812474766,1.5978856843661684,null,{"$f":"C1004*Dźwignie!$G$8","v":187079.23743684971},374158.47487369936,{"$f":"Dźwignie!$G$9","v":150000},224158.47487369936,{"$f":"V1004-Dźwignie!$D$6","v":204158.47487369936},{"$f":"IF(W1004>0,W1004*(1-Dźwignie!$D$9),W1004)","v":165368.36464769649},{"$f":"X1004/Dźwignie!$D$5","v":16.53683646476965},{"$f":"V1004/Dźwignie!$D$2","v":1.1207923743684969},{"$f":"X1004/Dźwignie!$D$3","v":1.6536836464769649},1.6691694350816606,1.0979631142541244,1.8326864711600577]
[993,0.90267270803451538,{"$f":"NORMINV(B1005,Dźwignie!$L$8,Dźwignie!$L$9)","v":414846.60014438536},{"$f":"Dźwignie!$L$7*C1005","v":622269.90021657804},null,{"$f":"C1005*Dźwignie!$G$5","v":414846.60014438536},207423.30007219268,{"$f":"Dźwignie!$G$6","v":50000},157423.30007219268,{"$f":"I1005-Dźwignie!$D$6","v":137423.30007219268},{"$f":"IF(J1005>0,J1005*(1-Dźwignie!$D$9),J1005)","v":111312.87305847608},{"$f":"K1005/Dźwignie!$D$5","v":11.131287305847607},{"$f":"I1005/Dźwignie!$D$2","v":0.78711650036096337},{"$f":"K1005/Dźwignie!$D$3","v":1.1131287305847608},1.3176149907737325,1.1455357278532343,1.5093750474863201,null,{"$f":"C1005*Dźwignie!$G$8","v":207423.30007219268},414846.60014438536,{"$f":"Dźwignie!$G$9","v":150000},264846.60014438536,{"$f":"V1005-Dźwignie!$D$6","v":244846.60014438536},{"$f":"IF(W1005>0,W1005*(1-Dźwignie!$D$9),W1005)","v":198325.74611695216},{"$f":"X1005/Dźwignie!$D$5","v":19.832574611695215},{"$f":"V1005/Dźwignie!$D$2","v":1.3242330007219267},{"$f":"X1005/Dźwignie!$D$3","v":1.9832574611695215},1.5663655864120027,1.0816837970721507,1.6943122751132811]
[994,0.10684335231781006,{"$f":"NORMINV(B1006,Dźwignie!$L$8,Dźwignie!$L$9)","v":287825.41595306998},{"$f":"Dźwignie!$L$7*C1006","v":431738.123929605},null,{"$f":"C1006*Dźwignie!$G$5","v":287825.41595306998},143912.70797653502,{"$f":"Dźwignie!$G$6","v":50000},93912.707976535021,{"$f":"I1006-Dźwignie!$D$6","v":73912.707976535021},{"$f":"IF(J1006>0,J1006*(1-Dźwignie!$D$9),J1006)","v":59869.293460993373},{"$f":"K1006/Dźwignie!$D$5","v":5.9869293460993376},{"$f":"I1006/Dźwignie!$D$2","v":0.46956353988267513},{"$f":"K1006/Dźwignie!$D$3","v":0.59869293460993378},1.5324093094248008,1.270589463537845,1.947063122382457,null,{"$f":"C1006*Dźwignie!$G$8","v":143912.70797653499},287825.41595307004,{"$f":"Dźwignie!$G$9","v":150000},137825.41595307004,{"$f":"V1006-Dźwignie!$D$6","v":117825.41595307004},{"$f":"IF(W1006>0,W1006*(1-Dźwignie!$D$9),W1006)","v":95438.586921986745},{"$f":"X1006/Dźwignie!$D$5","v":9.5438586921986737},{"$f":"V1006/Dźwignie!$D$2","v":0.68912707976535026},{"$f":"X1006/Dźwignie!$D$3","v":0.95438586921986746},2.0883333742382861,1.1697426640782327,2.4428126446649778]
[995,0.11487585306167603,{"$f":"NORMINV(B1007,Dźwignie!$L$8,Dźwignie!$L$9)","v":289950.06506660872},{"$f":"Dźwignie!$L$7*C1007","v":434925.09759991308},null,{"$f":"C1007*Dźwignie!$G$5","v":289950.06506660872},144975.03253330436,{"$f":"Dźwignie!$G$6","v":50000},94975.032533304358,{"$f":"I1007-Dźwignie!$D$6","v":74975.032533304358},{"$f":"IF(J1007>0,J1007*(1-Dźwignie!$D$9),J1007)","v":60729.776351976536},{"$f":"K1007/Dźwignie!$D$5","v":6.0729776351976534},{"$f":"I1007/Dźwignie!$D$2","v":0.4748751626665218},{"$f":"K1007/Dźwignie!$D$3","v":0.60729776351976539},1.5264541497521129,1.2667554694439895,1.9336441430539637,null,{"$f":"C1007*Dźwignie!$G$8","v":144975.03253330436},289950.06506660872,{"$f":"Dźwignie!$G$9","v":150000},139950.06506660872,{"$f":"V1007-Dźwignie!$D$6","v":119950.06506660872},{"$f":"IF(W1007>0,W1007*(1-Dźwignie!$D$9),W1007)","v":97159.552703953072},{"$f":"X1007/Dźwignie!$D$5","v":9.7159552703953072},{"$f":"V1007/Dźwignie!$D$2","v":0.6997503253330436},{"$f":"X1007/Dźwignie!$D$3","v":0.97159552703953067},2.071810862886045,1.1667360496127612,2.4172564217084704]
[996,0.66664505004882813,{"$f":"NORMINV(B1008,Dźwignie!$L$8,Dźwignie!$L$9)","v":371533.39241877751},{"$f":"Dźwignie!$L$7*C1008","v":557300.08862816624},null,{"$f":"C1008*Dźwignie!$G$5","v":371533.39241877751},185766.69620938873,{"$f":"Dźwignie!$G$6","v":50000},135766.69620938873,{"$f":"I1008-Dźwignie!$D$6","v":115766.69620938873},{"$f":"IF(J1008>0,J1008*(1-Dźwignie!$D$9),J1008)","v":93771.023929604882},{"$f":"K1008/Dźwignie!$D$5","v":9.377102392960488},{"$f":"I1008/Dźwignie!$D$2","v":0.67883348104694363},{"$f":"K1008/Dźwignie!$D$3","v":0.9377102392960488},1.368278829757237,1.1727612573811879,1.6046644008341575,null,{"$f":"C1008*Dźwignie!$G$8","v":185766.69620938876},371533.39241877745,{"$f":"Dźwignie!$G$9","v":150000},221533.39241877745,{"$f":"V1008-Dźwignie!$D$6","v":201533.39241877745},{"$f":"IF(W1008>0,W1008*(1-Dźwignie!$D$9),W1008)","v":163242.04785920974},{"$f":"X1008/Dźwignie!$D$5","v":16.324204785920973},{"$f":"V1008/Dźwignie!$D$2","v":1.1076669620938873},{"$f":"X1008/Dźwignie!$D$3","v":1.6324204785920973},1.6770988263315458,1.0992391372961205,1.8435326670170247]
[997,0.97123736143112183,{"$f":"NORMINV(B1009,Dźwignie!$L$8,Dźwignie!$L$9)","v":444964.91086544079},{"$f":"Dźwignie!$L$7*C1009","v":667447.36629816121},null,{"$f":"C1009*Dźwignie!$G$5","v":444964.91086544079},222482.45543272042,{"$f":"Dźwignie!$G$6","v":50000},172482.45543272042,{"$f":"I1009-Dźwignie!$D$6","v":152482.45543272042},{"$f":"IF(J1009>0,J1009*(1-Dźwignie!$D$9),J1009)","v":123510.78890050355},{"$f":"K1009/Dźwignie!$D$5","v":12.351078890050355},{"$f":"I1009/Dźwignie!$D$2","v":0.86241227716360214},{"$f":"K1009/Dźwignie!$D$3","v":1.2351078890050355},1.2898845559367822,1.1311626307645903,1.4590692076760658,null,{"$f":"C1009*Dźwignie!$G$8","v":222482.4554327204},444964.91086544085,{"$f":"Dźwignie!$G$9","v":150000},294964.91086544085,{"$f":"V1009-Dźwignie!$D$6","v":274964.91086544085},{"$f":"IF(W1009>0,W1009*(1-Dźwignie!$D$9),W1009)","v":222721.57780100711},{"$f":"X1009/Dźwignie!$D$5","v":22.272157780100709},{"$f":"V1009/Dźwignie!$D$2","v":1.4748245543272043},{"$f":"X1009/Dźwignie!$D$3","v":2.2272157780100712},1.5085350645942699,1.0727365536826166,1.6182607063022405]
[998,0.11526072025299072,{"$f":"NORMINV(B1010,Dźwignie!$L$8,Dźwignie!$L$9)","v":290049.16351278481},{"$f":"Dźwignie!$L$7*C1010","v":435073.74526917725},null,{"$f":"C1010*Dźwignie!$G$5","v":290049.16351278481},145024.58175639244,{"$f":"Dźwignie!$G$6","v":50000},95024.581756392436,{"$f":"I1010-Dźwignie!$D$6","v":75024.581756392436},{"$f":"IF(J1010>0,J1010*(1-Dźwignie!$D$9),J1010)","v":60769.911222677874},{"$f":"K1010/Dźwignie!$D$5","v":6.0769911222677875},{"$f":"I1010/Dźwignie!$D$2","v":0.47512290878196217},{"$f":"K1010/Dźwignie!$D$3","v":0.60769911222677875},1.52617963768766,1.2665792935033044,1.9330275272615656,null,{"$f":"C1010*Dźwignie!$G$8","v":145024.58175639241},290049.16351278487,{"$f":"Dźwignie!$G$9","v":150000},140049.16351278487,{"$f":"V1010-Dźwignie!$D$6","v":120049.16351278487},{"$f":"IF(W1010>0,W1010*(1-Dźwignie!$D$9),W1010)","v":97239.822445355749},{"$f":"X1010/Dźwignie!$D$5","v":9.7239822445355752},{"$f":"V1010/Dźwignie!$D$2","v":0.70024581756392434},{"$f":"X1010/Dźwignie!$D$3","v":0.9723982244535575},2.0710524521362581,1.1665984119736916,2.4160865017763786]
[999,0.69728976488113403,{"$f":"NORMINV(B1011,Dźwignie!$L$8,Dźwignie!$L$9)","v":375831.07026926277},{"$f":"Dźwignie!$L$7*C1011","v":563746.60540389409},null,{"$f":"C1011*Dźwignie!$G$5","v":375831.07026926277},187915.53513463133,{"$f":"Dźwignie!$G$6","v":50000},137915.53513463133,{"$f":"I1011-Dźwignie!$D$6","v":117915.53513463133},{"$f":"IF(J1011>0,J1011*(1-Dźwignie!$D$9),J1011)","v":95511.583459051384},{"$f":"K1011/Dźwignie!$D$5","v":9.5511583459051383},{"$f":"I1011/Dźwignie!$D$2","v":0.68957767567315664},{"$f":"K1011/Dźwignie!$D$3","v":0.95511583459051386},1.3625407388021273,1.1696129350315443,1.5936452726104049,null,{"$f":"C1011*Dźwignie!$G$8","v":187915.53513463138},375831.07026926271,{"$f":"Dźwignie!$G$9","v":150000},225831.07026926271,{"$f":"V1011-Dźwignie!$D$6","v":205831.07026926271},{"$f":"IF(W1011>0,W1011*(1-Dźwignie!$D$9),W1011)","v":166723.1669181028},{"$f":"X1011/Dźwignie!$D$5","v":16.672316691810281},{"$f":"V1011/Dźwignie!$D$2","v":1.1291553513463135},{"$f":"X1011/Dźwignie!$D$3","v":1.6672316691810281},1.6642132981132849,1.0971670602199977,1.8259200118699794]
[1000,0.3464052677154541,{"$f":"NORMINV(B1012,Dźwignie!$L$8,Dźwignie!$L$9)","v":330247.80809106643},{"$f":"Dźwignie!$L$7*C1012","v":495371.71213659964},null,{"$f":"C1012*Dźwignie!$G$5","v":330247.80809106643},165123.90404553321,{"$f":"Dźwignie!$G$6","v":50000},115123.90404553321,{"$f":"I1012-Dźwignie!$D$6","v":95123.904045533214},{"$f":"IF(J1012>0,J1012*(1-Dźwignie!$D$9),J1012)","v":77050.362276881904},{"$f":"K1012/Dźwignie!$D$5","v":7.7050362276881907},{"$f":"I1012/Dźwignie!$D$2","v":0.57561952022766605},{"$f":"K1012/Dźwignie!$D$3","v":0.77050362276881901},1.4343146665719768,1.210252093842012,1.7358823284470424,null,{"$f":"C1012*Dźwignie!$G$8","v":165123.90404553321},330247.80809106643,{"$f":"Dźwignie!$G$9","v":150000},180247.80809106643,{"$f":"V1012-Dźwignie!$D$6","v":160247.80809106643},{"$f":"IF(W1012>0,W1012*(1-Dźwignie!$D$9),W1012)","v":129800.72455376382},{"$f":"X1012/Dźwignie!$D$5","v":12.980072455376382},{"$f":"V1012/Dźwignie!$D$2","v":0.9012390404553321},{"$f":"X1012/Dźwignie!$D$3","v":1.2980072455376381},1.8321876509267487,1.1248066993130683,2.0608569441610802]